{"text_format":"1","workbook":"xlsx","n_sheets":38,"sheets":["Mode d'emploi","Pairing List calcul","Pairing Officielle","Général","Classement final","Analyse","Eq.1","Eq.2","Eq.3","Eq.4","Eq.5","Eq.6","Eq.7","Eq.8","Eq.9","Eq.10","Eq.11","Eq.12","Eq.13","Eq.14","Eq.15","Eq.16","Eq.17","Eq.18","Eq.19","Eq.20","Eq.21","Eq.22","Eq.23","Eq.24","Eq.25","Eq.26","Eq.27","Eq.28","Eq.29","Eq.30","Eq.31","Eq.32"],"not_rendered":{"charts":0,"images":0,"macros":1,"external_links":0,"defined_names":2,"comments":0,"pivot_tables":0},"unopened":[],"bounds":{"document_bytes":16777216,"sheet_cells":100000,"rows_first":2000,"rows_last":500,"rows_between":2000,"halvings":0,"cell_chars":16384,"cell_head_chars":4096},"cells_cut":0,"cells_raw":0,"read":"whole","date_system":"1900"}

{"sheet":"Mode d'emploi","index":0,"n_rows":4,"n_cols":1,"rows_kept":4,"cut":false,"hidden":false,"merged":[]}
[]
["Onglet Général : Compléter les cellules B3 à B32 avec les noms des équipes (si le nom n'est pas rentré la cellule restera rouge, sinon elle deviendra orange)"]
["Onglet Général : Compléter les résultats des courses. Par exemple pour la course 1 compléter les celulles de B39 à K39 avec les résultats de la course 1"]
["Onglet Classement finale : Effectuer un tri de A à Z, sur la colonne A, pour obtenir le classement général dans l'ordre (attention les égalités ne sont pas gérées !)"]

{"sheet":"Pairing List calcul","index":1,"n_rows":72,"n_cols":12,"rows_kept":72,"cut":false,"hidden":false,"merged":[[69,0,72,0],[25,0,28,0],[29,0,32,0],[33,0,36,0],[37,0,40,0],[41,0,44,0],[45,0,48,0],[49,0,52,0],[53,0,56,0],[57,0,60,0],[61,0,64,0],[65,0,68,0],[21,0,24,0],[1,0,4,0],[5,0,8,0],[9,0,12,0],[13,0,16,0],[17,0,20,0]]}
["Flight","Race","Boat 1","Boat 2","Boat 3","Boat 4","Boat 5","Boat 6","Boat 11","Boat 8","Boat 9","Boat 10"]
[1,1,25,11,16,29,1,12,14,4,9,24]
[null,2,22,28,23,13,7,17,10,5,15,2]
[null,3,20,3,30,19,18,6,8,26,21,27]
[]
[2,4,12,3,2,25,17,6,8,13,24,14]
[null,5,16,4,28,18,22,20,7,23,19,15]
[null,6,30,27,10,5,1,29,9,21,26,11]
[]
[3,7,13,28,10,2,8,29,24,21,26,23]
[null,8,4,25,18,5,1,15,17,11,19,30]
[null,9,22,20,16,6,3,14,27,7,12,9]
[]
[4,10,22,20,21,6,3,14,10,30,12,13]
[null,11,4,5,7,8,29,18,28,26,11,17]
[null,12,15,16,9,23,27,2,24,19,25,1]
[]
[5,13,15,17,9,23,22,30,14,19,12,1]
[null,14,6,4,2,16,26,21,29,27,28,3]
[null,15,18,10,11,20,13,5,8,25,7,24]
[]
[6,16,18,19,30,20,13,5,17,25,21,12]
[null,17,8,29,23,9,6,15,24,11,27,4]
[null,18,7,2,28,3,14,10,22,1,26,16]
[]
[7,19,27,24,28,23,14,8,22,1,5,16]
[null,20,11,20,19,9,3,4,6,25,12,13]
[null,21,29,18,17,2,21,7,10,26,30,15]
[]
[8,22,29,18,1,2,22,27,16,5,30,4]
[null,23,21,15,26,8,25,9,7,11,13,6]
[null,24,23,3,14,28,24,12,17,19,20,10]
[]
[9,25,23,3,15,28,21,16,13,8,20,4]
[null,26,17,5,7,30,12,29,25,6,2,1]
[null,27,26,18,19,14,10,11,24,9,27,22]
[]
[10,28,1,4,13,14,8,11,30,7,27,20]
[null,29,6,15,12,5,29,24,25,28,22,19]
[null,30,10,23,3,9,2,18,21,17,16,26]
[]
[11,31,10,23,3,13,5,11,21,17,16,14]
[null,32,6,9,2,1,18,4,8,22,20,28]
[null,33,12,24,29,15,30,19,27,7,25,26]
[]
[12,34,16,21,11,13,5,19,14,7,25,2]
[null,35,28,30,27,3,22,8,15,4,18,12]
[null,36,20,24,10,1,26,17,29,23,6,9]
[]
[13,37,20,14,25,22,11,17,29,13,3,2]
[null,38,15,1,18,30,26,6,5,27,24,10]
[null,39,16,9,12,8,23,7,4,28,19,21]
[]
[14,40,16,2,12,8,11,5,13,20,14,25]
[null,41,15,4,24,26,18,22,23,27,19,1]
[null,42,6,29,9,30,17,28,3,7,10,21]
[]
[15,43,6,23,8,30,26,28,1,19,10,11]
[null,44,29,7,3,16,18,15,9,13,25,2]
[null,45,5,12,20,21,17,27,14,4,24,22]
[]
[16,46,10,25,20,16,17,7,11,4,19,2]
[null,47,9,22,13,5,15,14,21,28,3,30]
[null,48,12,26,24,8,18,29,1,6,23,27]
[]
[17,49,12,26,24,16,25,29,11,6,23,22]
[null,50,18,19,5,15,7,3,30,14,17,4]
[null,51,28,2,10,27,21,13,20,1,9,8]
[]
[18,52,28,7,10,25,22,13,16,1,9,12]
[null,53,30,2,15,4,3,26,8,23,27,5]
[null,54,14,17,29,6,20,19,11,21,24,18]

{"sheet":"Pairing Officielle","index":2,"n_rows":91,"n_cols":11,"rows_kept":91,"cut":false,"hidden":false,"merged":[[6,0,6,10],[1,0,1,10],[11,0,11,10],[16,0,16,10],[21,0,21,10],[76,0,76,10],[81,0,81,10],[86,0,86,10],[26,0,26,10],[56,0,56,10],[61,0,61,10],[66,0,66,10],[71,0,71,10],[31,0,31,10],[36,0,36,10],[41,0,41,10],[46,0,46,10],[51,0,51,10]]}
[]
["Flight 1"]
[{"$f":"Général!A37","v":"Race"},"Boat 1","Boat 2","Boat 3","Boat 4","Boat 5","Boat 6","Boat 11","Boat 8","Boat 9","Boat 10"]
[{"$f":"Général!A38","v":1},{"$f":"Général!B38","v":"IMT Nantes"},{"$f":"Général!C38","v":"Unicaen 1"},{"$f":"Général!D38","v":"St Brieuc 1"},{"$f":"Général!E38","v":"La Rochelle 2"},{"$f":"Général!F38","v":"UBO 2"},{"$f":"Général!G38","v":"ENSTA 1"},{"$f":"Général!H38","v":"IMT Brest 1"},{"$f":"Général!I38","v":"Univ Nantes 3"},{"$f":"Général!J38","v":"Karlsruhe"},{"$f":"Général!K38","v":"Intechmer"}]
[{"$f":"Général!A40","v":2},{"$f":"Général!B40","v":"ST Brieuc 2"},{"$f":"Général!C40","v":"UBS Lorient 2"},{"$f":"Général!D40","v":"UNIV Nantes 1"},{"$f":"Général!E40","v":"Orléans"},{"$f":"Général!F40","v":"Unicaen 2"},{"$f":"Général!G40","v":"Hannover"},{"$f":"Général!H40","v":"IMT Brest 2"},{"$f":"Général!I40","v":"Paris Cité"},{"$f":"Général!J40","v":"ENSMAC"},{"$f":"Général!K40","v":"Paris Sorbone"}]
[{"$f":"Général!A42","v":3},{"$f":"Général!B42","v":"La Rochelle 1"},{"$f":"Général!C42","v":"UBS Lorient 1"},{"$f":"Général!D42","v":"UBO 1"},{"$f":"Général!E42","v":"Southampton"},{"$f":"Général!F42","v":"ENSTA 2"},{"$f":"Général!G42","v":"Plymouth"},{"$f":"Général!H42","v":"Univ Nantes 2"},{"$f":"Général!I42","v":"INSA Lyon"},{"$f":"Général!J42","v":"Centrale Nantes 1"},{"$f":"Général!K42","v":"Centrale Nantes 2"}]
["Flight 2"]
[{"$f":"Général!A42","v":3},"Boat 1","Boat 2","Boat 3","Boat 4","Boat 5","Boat 6","Boat 11","Boat 8","Boat 9","Boat 10"]
[{"$f":"Général!A48","v":4},{"$f":"Général!B48","v":"ENSTA 1"},{"$f":"Général!C48","v":"UBS Lorient 1"},{"$f":"Général!D48","v":"Paris Sorbone"},{"$f":"Général!E48","v":"IMT Nantes"},{"$f":"Général!F48","v":"Hannover"},{"$f":"Général!G48","v":"Plymouth"},{"$f":"Général!H48","v":"Univ Nantes 2"},{"$f":"Général!I48","v":"Orléans"},{"$f":"Général!J48","v":"Intechmer"},{"$f":"Général!K48","v":"IMT Brest 1"}]
[{"$f":"Général!A50","v":5},{"$f":"Général!B50","v":"St Brieuc 1"},{"$f":"Général!C50","v":"Univ Nantes 3"},{"$f":"Général!D50","v":"UBS Lorient 2"},{"$f":"Général!E50","v":"ENSTA 2"},{"$f":"Général!F50","v":"ST Brieuc 2"},{"$f":"Général!G50","v":"La Rochelle 1"},{"$f":"Général!H50","v":"Unicaen 2"},{"$f":"Général!I50","v":"UNIV Nantes 1"},{"$f":"Général!J50","v":"Southampton"},{"$f":"Général!K50","v":"ENSMAC"}]
[{"$f":"Général!A52","v":6},{"$f":"Général!B52","v":"UBO 1"},{"$f":"Général!C52","v":"Centrale Nantes 2"},{"$f":"Général!D52","v":"IMT Brest 2"},{"$f":"Général!E52","v":"Paris Cité"},{"$f":"Général!F52","v":"UBO 2"},{"$f":"Général!G52","v":"La Rochelle 2"},{"$f":"Général!H52","v":"Karlsruhe"},{"$f":"Général!I52","v":"Centrale Nantes 1"},{"$f":"Général!J52","v":"INSA Lyon"},{"$f":"Général!K52","v":"Unicaen 1"}]
["Flight 3"]
[{"$f":"Général!A47","v":"Race"},"Boat 1","Boat 2","Boat 3","Boat 4","Boat 5","Boat 6","Boat 11","Boat 8","Boat 9","Boat 10"]
[{"$f":"Général!A58","v":7},{"$f":"Général!B58","v":"Orléans"},{"$f":"Général!C58","v":"UBS Lorient 2"},{"$f":"Général!D58","v":"IMT Brest 2"},{"$f":"Général!E58","v":"Paris Sorbone"},{"$f":"Général!F58","v":"Univ Nantes 2"},{"$f":"Général!G58","v":"La Rochelle 2"},{"$f":"Général!H58","v":"Intechmer"},{"$f":"Général!I58","v":"Centrale Nantes 1"},{"$f":"Général!J58","v":"INSA Lyon"},{"$f":"Général!K58","v":"UNIV Nantes 1"}]
[{"$f":"Général!A60","v":8},{"$f":"Général!B60","v":"Univ Nantes 3"},{"$f":"Général!C60","v":"IMT Nantes"},{"$f":"Général!D60","v":"ENSTA 2"},{"$f":"Général!E60","v":"Paris Cité"},{"$f":"Général!F60","v":"UBO 2"},{"$f":"Général!G60","v":"ENSMAC"},{"$f":"Général!H60","v":"Hannover"},{"$f":"Général!I60","v":"Unicaen 1"},{"$f":"Général!J60","v":"Southampton"},{"$f":"Général!K60","v":"UBO 1"}]
[{"$f":"Général!A62","v":9},{"$f":"Général!B62","v":"ST Brieuc 2"},{"$f":"Général!C62","v":"La Rochelle 1"},{"$f":"Général!D62","v":"St Brieuc 1"},{"$f":"Général!E62","v":"Plymouth"},{"$f":"Général!F62","v":"UBS Lorient 1"},{"$f":"Général!G62","v":"IMT Brest 1"},{"$f":"Général!H62","v":"Centrale Nantes 2"},{"$f":"Général!I62","v":"Unicaen 2"},{"$f":"Général!J62","v":"ENSTA 1"},{"$f":"Général!K62","v":"Karlsruhe"}]
["Flight 4"]
[{"$f":"Général!A52","v":6},"Boat 1","Boat 2","Boat 3","Boat 4","Boat 5","Boat 6","Boat 11","Boat 8","Boat 9","Boat 10"]
[{"$f":"Général!A68","v":10},{"$f":"Général!B68","v":"ST Brieuc 2"},{"$f":"Général!C68","v":"La Rochelle 1"},{"$f":"Général!D68","v":"Centrale Nantes 1"},{"$f":"Général!E68","v":"Plymouth"},{"$f":"Général!F68","v":"UBS Lorient 1"},{"$f":"Général!G68","v":"IMT Brest 1"},{"$f":"Général!H68","v":"IMT Brest 2"},{"$f":"Général!I68","v":"UBO 1"},{"$f":"Général!J68","v":"ENSTA 1"},{"$f":"Général!K68","v":"Orléans"}]
[{"$f":"Général!A70","v":11},{"$f":"Général!B70","v":"Univ Nantes 3"},{"$f":"Général!C70","v":"Paris Cité"},{"$f":"Général!D70","v":"Unicaen 2"},{"$f":"Général!E70","v":"Univ Nantes 2"},{"$f":"Général!F70","v":"La Rochelle 2"},{"$f":"Général!G70","v":"ENSTA 2"},{"$f":"Général!H70","v":"UBS Lorient 2"},{"$f":"Général!I70","v":"INSA Lyon"},{"$f":"Général!J70","v":"Unicaen 1"},{"$f":"Général!K70","v":"Hannover"}]
[{"$f":"Général!A72","v":12},{"$f":"Général!B72","v":"ENSMAC"},{"$f":"Général!C72","v":"St Brieuc 1"},{"$f":"Général!D72","v":"Karlsruhe"},{"$f":"Général!E72","v":"UNIV Nantes 1"},{"$f":"Général!F72","v":"Centrale Nantes 2"},{"$f":"Général!G72","v":"Paris Sorbone"},{"$f":"Général!H72","v":"Intechmer"},{"$f":"Général!I72","v":"Southampton"},{"$f":"Général!J72","v":"IMT Nantes"},{"$f":"Général!K72","v":"UBO 2"}]
["Flight 5"]
[{"$f":"Général!A57","v":"Race"},"Boat 1","Boat 2","Boat 3","Boat 4","Boat 5","Boat 6","Boat 11","Boat 8","Boat 9","Boat 10"]
[{"$f":"Général!A78","v":13},{"$f":"Général!B78","v":"ENSMAC"},{"$f":"Général!C78","v":"Hannover"},{"$f":"Général!D78","v":"Karlsruhe"},{"$f":"Général!E78","v":"UNIV Nantes 1"},{"$f":"Général!F78","v":"ST Brieuc 2"},{"$f":"Général!G78","v":"UBO 1"},{"$f":"Général!H78","v":"IMT Brest 1"},{"$f":"Général!I78","v":"Southampton"},{"$f":"Général!J78","v":"ENSTA 1"},{"$f":"Général!K78","v":"UBO 2"}]
[{"$f":"Général!A80","v":14},{"$f":"Général!B80","v":"Plymouth"},{"$f":"Général!C80","v":"Univ Nantes 3"},{"$f":"Général!D80","v":"Paris Sorbone"},{"$f":"Général!E80","v":"St Brieuc 1"},{"$f":"Général!F80","v":"INSA Lyon"},{"$f":"Général!G80","v":"Centrale Nantes 1"},{"$f":"Général!H80","v":"La Rochelle 2"},{"$f":"Général!I80","v":"Centrale Nantes 2"},{"$f":"Général!J80","v":"UBS Lorient 2"},{"$f":"Général!K80","v":"UBS Lorient 1"}]
[{"$f":"Général!A82","v":15},{"$f":"Général!B82","v":"ENSTA 2"},{"$f":"Général!C82","v":"IMT Brest 2"},{"$f":"Général!D82","v":"Unicaen 1"},{"$f":"Général!E82","v":"La Rochelle 1"},{"$f":"Général!F82","v":"Orléans"},{"$f":"Général!G82","v":"Paris Cité"},{"$f":"Général!H82","v":"Univ Nantes 2"},{"$f":"Général!I82","v":"IMT Nantes"},{"$f":"Général!J82","v":"Unicaen 2"},{"$f":"Général!K82","v":"Intechmer"}]
["Flight 6"]
[{"$f":"Général!A62","v":9},"Boat 1","Boat 2","Boat 3","Boat 4","Boat 5","Boat 6","Boat 11","Boat 8","Boat 9","Boat 10"]
[{"$f":"Général!A88","v":16},{"$f":"Général!B88","v":"ENSTA 2"},{"$f":"Général!C88","v":"Southampton"},{"$f":"Général!D88","v":"UBO 1"},{"$f":"Général!E88","v":"La Rochelle 1"},{"$f":"Général!F88","v":"Orléans"},{"$f":"Général!G88","v":"Paris Cité"},{"$f":"Général!H88","v":"Hannover"},{"$f":"Général!I88","v":"IMT Nantes"},{"$f":"Général!J88","v":"Centrale Nantes 1"},{"$f":"Général!K88","v":"ENSTA 1"}]
[{"$f":"Général!A90","v":17},{"$f":"Général!B90","v":"Univ Nantes 2"},{"$f":"Général!C90","v":"La Rochelle 2"},{"$f":"Général!D90","v":"UNIV Nantes 1"},{"$f":"Général!E90","v":"Karlsruhe"},{"$f":"Général!F90","v":"Plymouth"},{"$f":"Général!G90","v":"ENSMAC"},{"$f":"Général!H90","v":"Intechmer"},{"$f":"Général!I90","v":"Unicaen 1"},{"$f":"Général!J90","v":"Centrale Nantes 2"},{"$f":"Général!K90","v":"Univ Nantes 3"}]
[{"$f":"Général!A92","v":18},{"$f":"Général!B92","v":"Unicaen 2"},{"$f":"Général!C92","v":"Paris Sorbone"},{"$f":"Général!D92","v":"UBS Lorient 2"},{"$f":"Général!E92","v":"UBS Lorient 1"},{"$f":"Général!F92","v":"IMT Brest 1"},{"$f":"Général!G92","v":"IMT Brest 2"},{"$f":"Général!H92","v":"ST Brieuc 2"},{"$f":"Général!I92","v":"UBO 2"},{"$f":"Général!J92","v":"INSA Lyon"},{"$f":"Général!K92","v":"St Brieuc 1"}]
["Flight 7"]
[{"$f":"Général!A67","v":"Race"},"Boat 1","Boat 2","Boat 3","Boat 4","Boat 5","Boat 6","Boat 11","Boat 8","Boat 9","Boat 10"]
[{"$f":"Général!A98","v":19},{"$f":"Général!B98","v":"Centrale Nantes 2"},{"$f":"Général!C98","v":"Intechmer"},{"$f":"Général!D98","v":"UBS Lorient 2"},{"$f":"Général!E98","v":"UNIV Nantes 1"},{"$f":"Général!F98","v":"IMT Brest 1"},{"$f":"Général!G98","v":"Univ Nantes 2"},{"$f":"Général!H98","v":"ST Brieuc 2"},{"$f":"Général!I98","v":"UBO 2"},{"$f":"Général!J98","v":"Paris Cité"},{"$f":"Général!K98","v":"St Brieuc 1"}]
[{"$f":"Général!A100","v":20},{"$f":"Général!B100","v":"Unicaen 1"},{"$f":"Général!C100","v":"La Rochelle 1"},{"$f":"Général!D100","v":"Southampton"},{"$f":"Général!E100","v":"Karlsruhe"},{"$f":"Général!F100","v":"UBS Lorient 1"},{"$f":"Général!G100","v":"Univ Nantes 3"},{"$f":"Général!H100","v":"Plymouth"},{"$f":"Général!I100","v":"IMT Nantes"},{"$f":"Général!J100","v":"ENSTA 1"},{"$f":"Général!K100","v":"Orléans"}]
[{"$f":"Général!A102","v":21},{"$f":"Général!B102","v":"La Rochelle 2"},{"$f":"Général!C102","v":"ENSTA 2"},{"$f":"Général!D102","v":"Hannover"},{"$f":"Général!E102","v":"Paris Sorbone"},{"$f":"Général!F102","v":"Centrale Nantes 1"},{"$f":"Général!G102","v":"Unicaen 2"},{"$f":"Général!H102","v":"IMT Brest 2"},{"$f":"Général!I102","v":"INSA Lyon"},{"$f":"Général!J102","v":"UBO 1"},{"$f":"Général!K102","v":"ENSMAC"}]
["Flight 8"]
[{"$f":"Général!A72","v":12},"Boat 1","Boat 2","Boat 3","Boat 4","Boat 5","Boat 6","Boat 11","Boat 8","Boat 9","Boat 10"]
[{"$f":"Général!A108","v":22},{"$f":"Général!B108","v":"La Rochelle 2"},{"$f":"Général!C108","v":"ENSTA 2"},{"$f":"Général!D108","v":"UBO 2"},{"$f":"Général!E108","v":"Paris Sorbone"},{"$f":"Général!F108","v":"ST Brieuc 2"},{"$f":"Général!G108","v":"Centrale Nantes 2"},{"$f":"Général!H108","v":"St Brieuc 1"},{"$f":"Général!I108","v":"Paris Cité"},{"$f":"Général!J108","v":"UBO 1"},{"$f":"Général!K108","v":"Univ Nantes 3"}]
[{"$f":"Général!A110","v":23},{"$f":"Général!B110","v":"Centrale Nantes 1"},{"$f":"Général!C110","v":"ENSMAC"},{"$f":"Général!D110","v":"INSA Lyon"},{"$f":"Général!E110","v":"Univ Nantes 2"},{"$f":"Général!F110","v":"IMT Nantes"},{"$f":"Général!G110","v":"Karlsruhe"},{"$f":"Général!H110","v":"Unicaen 2"},{"$f":"Général!I110","v":"Unicaen 1"},{"$f":"Général!J110","v":"Orléans"},{"$f":"Général!K110","v":"Plymouth"}]
[{"$f":"Général!A112","v":24},{"$f":"Général!B112","v":"UNIV Nantes 1"},{"$f":"Général!C112","v":"UBS Lorient 1"},{"$f":"Général!D112","v":"IMT Brest 1"},{"$f":"Général!E112","v":"UBS Lorient 2"},{"$f":"Général!F112","v":"Intechmer"},{"$f":"Général!G112","v":"ENSTA 1"},{"$f":"Général!H112","v":"Hannover"},{"$f":"Général!I112","v":"Southampton"},{"$f":"Général!J112","v":"La Rochelle 1"},{"$f":"Général!K112","v":"IMT Brest 2"}]
["Flight 9"]
[{"$f":"Général!A77","v":"Race"},"Boat 1","Boat 2","Boat 3","Boat 4","Boat 5","Boat 6","Boat 11","Boat 8","Boat 9","Boat 10"]
[{"$f":"Général!A118","v":25},{"$f":"Général!B118","v":"UNIV Nantes 1"},{"$f":"Général!C118","v":"UBS Lorient 1"},{"$f":"Général!D118","v":"ENSMAC"},{"$f":"Général!E118","v":"UBS Lorient 2"},{"$f":"Général!F118","v":"Centrale Nantes 1"},{"$f":"Général!G118","v":"St Brieuc 1"},{"$f":"Général!H118","v":"Orléans"},{"$f":"Général!I118","v":"Univ Nantes 2"},{"$f":"Général!J118","v":"La Rochelle 1"},{"$f":"Général!K118","v":"Univ Nantes 3"}]
[{"$f":"Général!A120","v":26},{"$f":"Général!B120","v":"Hannover"},{"$f":"Général!C120","v":"Paris Cité"},{"$f":"Général!D120","v":"Unicaen 2"},{"$f":"Général!E120","v":"UBO 1"},{"$f":"Général!F120","v":"ENSTA 1"},{"$f":"Général!G120","v":"La Rochelle 2"},{"$f":"Général!H120","v":"IMT Nantes"},{"$f":"Général!I120","v":"Plymouth"},{"$f":"Général!J120","v":"Paris Sorbone"},{"$f":"Général!K120","v":"UBO 2"}]
[{"$f":"Général!A122","v":27},{"$f":"Général!B122","v":"INSA Lyon"},{"$f":"Général!C122","v":"ENSTA 2"},{"$f":"Général!D122","v":"Southampton"},{"$f":"Général!E122","v":"IMT Brest 1"},{"$f":"Général!F122","v":"IMT Brest 2"},{"$f":"Général!G122","v":"Unicaen 1"},{"$f":"Général!H122","v":"Intechmer"},{"$f":"Général!I122","v":"Karlsruhe"},{"$f":"Général!J122","v":"Centrale Nantes 2"},{"$f":"Général!K122","v":"ST Brieuc 2"}]
["Flight 10"]
[{"$f":"Général!A82","v":15},"Boat 1","Boat 2","Boat 3","Boat 4","Boat 5","Boat 6","Boat 11","Boat 8","Boat 9","Boat 10"]
[{"$f":"Général!A128","v":28},{"$f":"Général!B128","v":"UBO 2"},{"$f":"Général!C128","v":"Univ Nantes 3"},{"$f":"Général!D128","v":"Orléans"},{"$f":"Général!E128","v":"IMT Brest 1"},{"$f":"Général!F128","v":"Univ Nantes 2"},{"$f":"Général!G128","v":"Unicaen 1"},{"$f":"Général!H128","v":"UBO 1"},{"$f":"Général!I128","v":"Unicaen 2"},{"$f":"Général!J128","v":"Centrale Nantes 2"},{"$f":"Général!K128","v":"La Rochelle 1"}]
[{"$f":"Général!A130","v":29},{"$f":"Général!B130","v":"Plymouth"},{"$f":"Général!C130","v":"ENSMAC"},{"$f":"Général!D130","v":"ENSTA 1"},{"$f":"Général!E130","v":"Paris Cité"},{"$f":"Général!F130","v":"La Rochelle 2"},{"$f":"Général!G130","v":"Intechmer"},{"$f":"Général!H130","v":"IMT Nantes"},{"$f":"Général!I130","v":"UBS Lorient 2"},{"$f":"Général!J130","v":"ST Brieuc 2"},{"$f":"Général!K130","v":"Southampton"}]
[{"$f":"Général!A132","v":30},{"$f":"Général!B132","v":"IMT Brest 2"},{"$f":"Général!C132","v":"UNIV Nantes 1"},{"$f":"Général!D132","v":"UBS Lorient 1"},{"$f":"Général!E132","v":"Karlsruhe"},{"$f":"Général!F132","v":"Paris Sorbone"},{"$f":"Général!G132","v":"ENSTA 2"},{"$f":"Général!H132","v":"Centrale Nantes 1"},{"$f":"Général!I132","v":"Hannover"},{"$f":"Général!J132","v":"St Brieuc 1"},{"$f":"Général!K132","v":"INSA Lyon"}]
["Flight 11"]
[{"$f":"Général!A87","v":"Race"},"Boat 1","Boat 2","Boat 3","Boat 4","Boat 5","Boat 6","Boat 11","Boat 8","Boat 9","Boat 10"]
[{"$f":"Général!A138","v":31},{"$f":"Général!B138","v":"IMT Brest 2"},{"$f":"Général!C138","v":"UNIV Nantes 1"},{"$f":"Général!D138","v":"UBS Lorient 1"},{"$f":"Général!E138","v":"Orléans"},{"$f":"Général!F138","v":"Paris Cité"},{"$f":"Général!G138","v":"Unicaen 1"},{"$f":"Général!H138","v":"Centrale Nantes 1"},{"$f":"Général!I138","v":"Hannover"},{"$f":"Général!J138","v":"St Brieuc 1"},{"$f":"Général!K138","v":"IMT Brest 1"}]
[{"$f":"Général!A140","v":32},{"$f":"Général!B140","v":"Plymouth"},{"$f":"Général!C140","v":"Karlsruhe"},{"$f":"Général!D140","v":"Paris Sorbone"},{"$f":"Général!E140","v":"UBO 2"},{"$f":"Général!F140","v":"ENSTA 2"},{"$f":"Général!G140","v":"Univ Nantes 3"},{"$f":"Général!H140","v":"Univ Nantes 2"},{"$f":"Général!I140","v":"ST Brieuc 2"},{"$f":"Général!J140","v":"La Rochelle 1"},{"$f":"Général!K140","v":"UBS Lorient 2"}]
[{"$f":"Général!A142","v":33},{"$f":"Général!B142","v":"ENSTA 1"},{"$f":"Général!C142","v":"Intechmer"},{"$f":"Général!D142","v":"La Rochelle 2"},{"$f":"Général!E142","v":"ENSMAC"},{"$f":"Général!F142","v":"UBO 1"},{"$f":"Général!G142","v":"Southampton"},{"$f":"Général!H142","v":"Centrale Nantes 2"},{"$f":"Général!I142","v":"Unicaen 2"},{"$f":"Général!J142","v":"IMT Nantes"},{"$f":"Général!K142","v":"INSA Lyon"}]
["Flight 12"]
[{"$f":"Général!A92","v":18},"Boat 1","Boat 2","Boat 3","Boat 4","Boat 5","Boat 6","Boat 11","Boat 8","Boat 9","Boat 10"]
[{"$f":"Général!A148","v":34},{"$f":"Général!B148","v":"St Brieuc 1"},{"$f":"Général!C148","v":"Centrale Nantes 1"},{"$f":"Général!D148","v":"Unicaen 1"},{"$f":"Général!E148","v":"Orléans"},{"$f":"Général!F148","v":"Paris Cité"},{"$f":"Général!G148","v":"Southampton"},{"$f":"Général!H148","v":"IMT Brest 1"},{"$f":"Général!I148","v":"Unicaen 2"},{"$f":"Général!J148","v":"IMT Nantes"},{"$f":"Général!K148","v":"Paris Sorbone"}]
[{"$f":"Général!A150","v":35},{"$f":"Général!B150","v":"UBS Lorient 2"},{"$f":"Général!C150","v":"UBO 1"},{"$f":"Général!D150","v":"Centrale Nantes 2"},{"$f":"Général!E150","v":"UBS Lorient 1"},{"$f":"Général!F150","v":"ST Brieuc 2"},{"$f":"Général!G150","v":"Univ Nantes 2"},{"$f":"Général!H150","v":"ENSMAC"},{"$f":"Général!I150","v":"Univ Nantes 3"},{"$f":"Général!J150","v":"ENSTA 2"},{"$f":"Général!K150","v":"ENSTA 1"}]
[{"$f":"Général!A152","v":36},{"$f":"Général!B152","v":"La Rochelle 1"},{"$f":"Général!C152","v":"Intechmer"},{"$f":"Général!D152","v":"IMT Brest 2"},{"$f":"Général!E152","v":"UBO 2"},{"$f":"Général!F152","v":"INSA Lyon"},{"$f":"Général!G152","v":"Hannover"},{"$f":"Général!H152","v":"La Rochelle 2"},{"$f":"Général!I152","v":"UNIV Nantes 1"},{"$f":"Général!J152","v":"Plymouth"},{"$f":"Général!K152","v":"Karlsruhe"}]
["Flight 13"]
[{"$f":"Général!A97","v":"Race"},"Boat 1","Boat 2","Boat 3","Boat 4","Boat 5","Boat 6","Boat 11","Boat 8","Boat 9","Boat 10"]
[{"$f":"Général!A158","v":37},{"$f":"Général!B158","v":"La Rochelle 1"},{"$f":"Général!C158","v":"IMT Brest 1"},{"$f":"Général!D158","v":"IMT Nantes"},{"$f":"Général!E158","v":"ST Brieuc 2"},{"$f":"Général!F158","v":"Unicaen 1"},{"$f":"Général!G158","v":"Hannover"},{"$f":"Général!H158","v":"La Rochelle 2"},{"$f":"Général!I158","v":"Orléans"},{"$f":"Général!J158","v":"UBS Lorient 1"},{"$f":"Général!K158","v":"Paris Sorbone"}]
[{"$f":"Général!A160","v":38},{"$f":"Général!B160","v":"ENSMAC"},{"$f":"Général!C160","v":"UBO 2"},{"$f":"Général!D160","v":"ENSTA 2"},{"$f":"Général!E160","v":"UBO 1"},{"$f":"Général!F160","v":"INSA Lyon"},{"$f":"Général!G160","v":"Plymouth"},{"$f":"Général!H160","v":"Paris Cité"},{"$f":"Général!I160","v":"Centrale Nantes 2"},{"$f":"Général!J160","v":"Intechmer"},{"$f":"Général!K160","v":"IMT Brest 2"}]
[{"$f":"Général!A162","v":39},{"$f":"Général!B162","v":"St Brieuc 1"},{"$f":"Général!C162","v":"Karlsruhe"},{"$f":"Général!D162","v":"ENSTA 1"},{"$f":"Général!E162","v":"Univ Nantes 2"},{"$f":"Général!F162","v":"UNIV Nantes 1"},{"$f":"Général!G162","v":"Unicaen 2"},{"$f":"Général!H162","v":"Univ Nantes 3"},{"$f":"Général!I162","v":"UBS Lorient 2"},{"$f":"Général!J162","v":"Southampton"},{"$f":"Général!K162","v":"Centrale Nantes 1"}]
["Flight 14"]
[{"$f":"Général!A102","v":21},"Boat 1","Boat 2","Boat 3","Boat 4","Boat 5","Boat 6","Boat 11","Boat 8","Boat 9","Boat 10"]
[{"$f":"Général!A168","v":40},{"$f":"Général!B168","v":"St Brieuc 1"},{"$f":"Général!C168","v":"Paris Sorbone"},{"$f":"Général!D168","v":"ENSTA 1"},{"$f":"Général!E168","v":"Univ Nantes 2"},{"$f":"Général!F168","v":"Unicaen 1"},{"$f":"Général!G168","v":"Paris Cité"},{"$f":"Général!H168","v":"Orléans"},{"$f":"Général!I168","v":"La Rochelle 1"},{"$f":"Général!J168","v":"IMT Brest 1"},{"$f":"Général!K168","v":"IMT Nantes"}]
[{"$f":"Général!A170","v":41},{"$f":"Général!B170","v":"ENSMAC"},{"$f":"Général!C170","v":"Univ Nantes 3"},{"$f":"Général!D170","v":"Intechmer"},{"$f":"Général!E170","v":"INSA Lyon"},{"$f":"Général!F170","v":"ENSTA 2"},{"$f":"Général!G170","v":"ST Brieuc 2"},{"$f":"Général!H170","v":"UNIV Nantes 1"},{"$f":"Général!I170","v":"Centrale Nantes 2"},{"$f":"Général!J170","v":"Southampton"},{"$f":"Général!K170","v":"UBO 2"}]
[{"$f":"Général!A172","v":42},{"$f":"Général!B172","v":"Plymouth"},{"$f":"Général!C172","v":"La Rochelle 2"},{"$f":"Général!D172","v":"Karlsruhe"},{"$f":"Général!E172","v":"UBO 1"},{"$f":"Général!F172","v":"Hannover"},{"$f":"Général!G172","v":"UBS Lorient 2"},{"$f":"Général!H172","v":"UBS Lorient 1"},{"$f":"Général!I172","v":"Unicaen 2"},{"$f":"Général!J172","v":"IMT Brest 2"},{"$f":"Général!K172","v":"Centrale Nantes 1"}]
["Flight 15"]
[{"$f":"Général!A107","v":"Race"},"Boat 1","Boat 2","Boat 3","Boat 4","Boat 5","Boat 6","Boat 11","Boat 8","Boat 9","Boat 10"]
[{"$f":"Général!A178","v":43},{"$f":"Général!B178","v":"Plymouth"},{"$f":"Général!C178","v":"UNIV Nantes 1"},{"$f":"Général!D178","v":"Univ Nantes 2"},{"$f":"Général!E178","v":"UBO 1"},{"$f":"Général!F178","v":"INSA Lyon"},{"$f":"Général!G178","v":"UBS Lorient 2"},{"$f":"Général!H178","v":"UBO 2"},{"$f":"Général!I178","v":"Southampton"},{"$f":"Général!J178","v":"IMT Brest 2"},{"$f":"Général!K178","v":"Unicaen 1"}]
[{"$f":"Général!A180","v":44},{"$f":"Général!B180","v":"La Rochelle 2"},{"$f":"Général!C180","v":"Unicaen 2"},{"$f":"Général!D180","v":"UBS Lorient 1"},{"$f":"Général!E180","v":"St Brieuc 1"},{"$f":"Général!F180","v":"ENSTA 2"},{"$f":"Général!G180","v":"ENSMAC"},{"$f":"Général!H180","v":"Karlsruhe"},{"$f":"Général!I180","v":"Orléans"},{"$f":"Général!J180","v":"IMT Nantes"},{"$f":"Général!K180","v":"Paris Sorbone"}]
[{"$f":"Général!A182","v":45},{"$f":"Général!B182","v":"Paris Cité"},{"$f":"Général!C182","v":"ENSTA 1"},{"$f":"Général!D182","v":"La Rochelle 1"},{"$f":"Général!E182","v":"Centrale Nantes 1"},{"$f":"Général!F182","v":"Hannover"},{"$f":"Général!G182","v":"Centrale Nantes 2"},{"$f":"Général!H182","v":"IMT Brest 1"},{"$f":"Général!I182","v":"Univ Nantes 3"},{"$f":"Général!J182","v":"Intechmer"},{"$f":"Général!K182","v":"ST Brieuc 2"}]
["Flight 16"]
[{"$f":"Général!A112","v":24},"Boat 1","Boat 2","Boat 3","Boat 4","Boat 5","Boat 6","Boat 11","Boat 8","Boat 9","Boat 10"]
[{"$f":"Général!A188","v":46},{"$f":"Général!B188","v":"IMT Brest 2"},{"$f":"Général!C188","v":"IMT Nantes"},{"$f":"Général!D188","v":"La Rochelle 1"},{"$f":"Général!E188","v":"St Brieuc 1"},{"$f":"Général!F188","v":"Hannover"},{"$f":"Général!G188","v":"Unicaen 2"},{"$f":"Général!H188","v":"Unicaen 1"},{"$f":"Général!I188","v":"Univ Nantes 3"},{"$f":"Général!J188","v":"Southampton"},{"$f":"Général!K188","v":"Paris Sorbone"}]
[{"$f":"Général!A190","v":47},{"$f":"Général!B190","v":"Karlsruhe"},{"$f":"Général!C190","v":"ST Brieuc 2"},{"$f":"Général!D190","v":"Orléans"},{"$f":"Général!E190","v":"Paris Cité"},{"$f":"Général!F190","v":"ENSMAC"},{"$f":"Général!G190","v":"IMT Brest 1"},{"$f":"Général!H190","v":"Centrale Nantes 1"},{"$f":"Général!I190","v":"UBS Lorient 2"},{"$f":"Général!J190","v":"UBS Lorient 1"},{"$f":"Général!K190","v":"UBO 1"}]
[{"$f":"Général!A192","v":48},{"$f":"Général!B192","v":"ENSTA 1"},{"$f":"Général!C192","v":"INSA Lyon"},{"$f":"Général!D192","v":"Intechmer"},{"$f":"Général!E192","v":"Univ Nantes 2"},{"$f":"Général!F192","v":"ENSTA 2"},{"$f":"Général!G192","v":"La Rochelle 2"},{"$f":"Général!H192","v":"UBO 2"},{"$f":"Général!I192","v":"Plymouth"},{"$f":"Général!J192","v":"UNIV Nantes 1"},{"$f":"Général!K192","v":"Centrale Nantes 2"}]
["Flight 17"]
[{"$f":"Général!A117","v":"Race"},"Boat 1","Boat 2","Boat 3","Boat 4","Boat 5","Boat 6","Boat 11","Boat 8","Boat 9","Boat 10"]
[{"$f":"Général!A198","v":49},{"$f":"Général!B198","v":"ENSTA 1"},{"$f":"Général!C198","v":"INSA Lyon"},{"$f":"Général!D198","v":"Intechmer"},{"$f":"Général!E198","v":"St Brieuc 1"},{"$f":"Général!F198","v":"IMT Nantes"},{"$f":"Général!G198","v":"La Rochelle 2"},{"$f":"Général!H198","v":"Unicaen 1"},{"$f":"Général!I198","v":"Plymouth"},{"$f":"Général!J198","v":"UNIV Nantes 1"},{"$f":"Général!K198","v":"ST Brieuc 2"}]
[{"$f":"Général!A200","v":50},{"$f":"Général!B200","v":"ENSTA 2"},{"$f":"Général!C200","v":"Southampton"},{"$f":"Général!D200","v":"Paris Cité"},{"$f":"Général!E200","v":"ENSMAC"},{"$f":"Général!F200","v":"Unicaen 2"},{"$f":"Général!G200","v":"UBS Lorient 1"},{"$f":"Général!H200","v":"UBO 1"},{"$f":"Général!I200","v":"IMT Brest 1"},{"$f":"Général!J200","v":"Hannover"},{"$f":"Général!K200","v":"Univ Nantes 3"}]
[{"$f":"Général!A202","v":51},{"$f":"Général!B202","v":"UBS Lorient 2"},{"$f":"Général!C202","v":"Paris Sorbone"},{"$f":"Général!D202","v":"IMT Brest 2"},{"$f":"Général!E202","v":"Centrale Nantes 2"},{"$f":"Général!F202","v":"Centrale Nantes 1"},{"$f":"Général!G202","v":"Orléans"},{"$f":"Général!H202","v":"La Rochelle 1"},{"$f":"Général!I202","v":"UBO 2"},{"$f":"Général!J202","v":"Karlsruhe"},{"$f":"Général!K202","v":"Univ Nantes 2"}]
["Flight 18"]
[{"$f":"Général!A122","v":27},"Boat 1","Boat 2","Boat 3","Boat 4","Boat 5","Boat 6","Boat 11","Boat 8","Boat 9","Boat 10"]
[{"$f":"Général!A208","v":52},{"$f":"Général!B208","v":"UBS Lorient 2"},{"$f":"Général!C208","v":"Unicaen 2"},{"$f":"Général!D208","v":"IMT Brest 2"},{"$f":"Général!E208","v":"IMT Nantes"},{"$f":"Général!F208","v":"ST Brieuc 2"},{"$f":"Général!G208","v":"Orléans"},{"$f":"Général!H208","v":"St Brieuc 1"},{"$f":"Général!I208","v":"UBO 2"},{"$f":"Général!J208","v":"Karlsruhe"},{"$f":"Général!K208","v":"ENSTA 1"}]
[{"$f":"Général!A210","v":53},{"$f":"Général!B210","v":"UBO 1"},{"$f":"Général!C210","v":"Paris Sorbone"},{"$f":"Général!D210","v":"ENSMAC"},{"$f":"Général!E210","v":"Univ Nantes 3"},{"$f":"Général!F210","v":"UBS Lorient 1"},{"$f":"Général!G210","v":"INSA Lyon"},{"$f":"Général!H210","v":"Univ Nantes 2"},{"$f":"Général!I210","v":"UNIV Nantes 1"},{"$f":"Général!J210","v":"Centrale Nantes 2"},{"$f":"Général!K210","v":"Paris Cité"}]
[{"$f":"Général!A212","v":54},{"$f":"Général!B212","v":"IMT Brest 1"},{"$f":"Général!C212","v":"Hannover"},{"$f":"Général!D212","v":"La Rochelle 2"},{"$f":"Général!E212","v":"Plymouth"},{"$f":"Général!F212","v":"La Rochelle 1"},{"$f":"Général!G212","v":"Southampton"},{"$f":"Général!H212","v":"Unicaen 1"},{"$f":"Général!I212","v":"Centrale Nantes 1"},{"$f":"Général!J212","v":"Intechmer"},{"$f":"Général!K212","v":"ENSTA 2"}]

{"sheet":"Général","index":3,"n_rows":215,"n_cols":26,"rows_kept":215,"cut":false,"hidden":false,"merged":[[4,21,4,22],[4,25,4,26],[5,21,5,22],[5,25,5,26],[6,21,6,22],[6,25,6,26],[1,0,1,1],[1,21,1,22],[1,25,1,26],[2,21,2,22],[2,25,2,26],[3,21,3,22],[3,25,3,26],[10,21,10,22],[10,25,10,26],[11,21,11,22],[11,25,11,26],[12,21,12,22],[13,21,13,22],[7,21,7,22],[7,25,7,26],[8,21,8,22],[8,25,8,26],[9,21,9,22],[9,25,9,26],[221,0,221,2],[221,4,221,6],[186,12,186,14],[186,20,186,22],[214,12,218,12],[214,20,218,20],[17,21,17,22],[22,21,22,22],[21,21,21,22],[20,21,20,22],[19,21,19,22],[18,21,18,22],[27,21,27,22],[26,21,26,22],[25,21,25,22],[24,21,24,22],[23,21,23,22],[33,21,33,22],[32,21,32,22],[31,21,31,22],[185,0,185,10],[195,0,195,10],[205,0,205,10],[95,0,95,10],[222,4,226,4],[222,8,226,8],[187,12,195,12],[187,20,195,20],[230,4,234,4],[230,8,234,8],[201,12,207,12],[201,20,207,20],[14,21,14,22],[15,21,15,22],[16,21,16,22],[34,21,34,22],[105,0,105,10],[115,0,115,10],[125,0,125,10],[135,0,135,10],[145,0,145,10],[155,0,155,10],[165,0,165,10],[175,0,175,10],[258,0,262,0],[258,4,262,4],[258,8,262,8],[234,12,238,12],[234,20,238,20],[222,0,229,0],[230,0,237,0],[248,0,252,0],[248,4,252,4],[248,8,252,8],[224,12,228,12],[224,20,228,20],[253,0,257,0],[253,4,257,4],[253,8,257,8],[229,12,233,12],[229,20,233,20],[238,0,242,0],[238,4,242,4],[238,8,242,8],[247,0,247,2],[247,4,247,6],[223,12,223,14],[223,20,223,22],[30,21,30,22],[29,21,29,22],[28,21,28,22],[35,0,35,10],[45,0,45,10],[55,0,55,10],[65,0,65,10],[75,0,75,10],[85,0,85,10]]}
[]
["EQUIPAGE",null,"FLIGHT 1","FLIGHT 2","FLIGHT 3","FLIGHT 4","FLIGHT 5","FLIGHT 6","FLIGHT 7","FLIGHT 8","FLIGHT 9","FLIGHT 10","FLIGHT 11","FLIGHT 12","FLIGHT 13","FLIGHT 14","FLIGHT 15","FLIGHT 16","FLIGHT 17","FLIGHT 18","TOTAL","Classement",null,null,"Intitulé","Désignation"]
[1,"UBO 2",{"$f":"IF(COUNTIF($B$38:$K$39,B3)=1,HLOOKUP(B3,$B$38:$K$39,2,FALSE),IF(COUNTIF($B$40:$K$41,B3)=1,HLOOKUP(B3,$B$40:$K$41,2,FALSE),HLOOKUP(B3,$B$42:$K$43,2,FALSE)))","v":0},{"$f":"IF(COUNTIF($B$48:$K$49,B3)=1,HLOOKUP(B3,$B$48:$K$49,2,FALSE),IF(COUNTIF($B$50:$K$51,B3)=1,HLOOKUP(B3,$B$50:$K$51,2,FALSE),HLOOKUP(B3,$B$52:$K$53,2,FALSE)))","v":0},{"$f":"IF(COUNTIF($B$58:$K$59,B3)=1,HLOOKUP(B3,$B$58:$K$59,2,FALSE),IF(COUNTIF($B$60:$K$61,B3)=1,HLOOKUP(B3,$B$60:$K$61,2,FALSE),HLOOKUP(B3,$B$62:$K$63,2,FALSE)))","v":0},{"$f":"IF(COUNTIF($B$68:$K$69,B3)=1,HLOOKUP(B3,$B$68:$K$69,2,FALSE),IF(COUNTIF($B$70:$K$71,B3)=1,HLOOKUP(B3,$B$70:$K$71,2,FALSE),HLOOKUP(B3,$B$72:$K$73,2,FALSE)))","v":0},{"$f":"IF(COUNTIF($B$78:$K$79,B3)=1,HLOOKUP(B3,$B$78:$K$79,2,FALSE),IF(COUNTIF($B$80:$K$81,B3)=1,HLOOKUP(B3,$B$80:$K$81,2,FALSE),HLOOKUP(B3,$B$82:$K$83,2,FALSE)))","v":0},{"$f":"IF(COUNTIF($B$88:$K$89,B3)=1,HLOOKUP(B3,$B$88:$K$89,2,FALSE),IF(COUNTIF($B$90:$K$91,B3)=1,HLOOKUP(B3,$B$90:$K$91,2,FALSE),HLOOKUP(B3,$B$92:$K$93,2,FALSE)))","v":0},{"$f":"IF(COUNTIF($B$98:$K$99,B3)=1,HLOOKUP(B3,$B$98:$K$99,2,FALSE),IF(COUNTIF($B$100:$K$101,B3)=1,HLOOKUP(B3,$B$100:$K$101,2,FALSE),HLOOKUP(B3,$B$102:$K$103,2,FALSE)))","v":0},{"$f":"IF(COUNTIF($B$108:$K$109,B3)=1,HLOOKUP(B3,$B$108:$K$109,2,FALSE),IF(COUNTIF($B$110:$K$111,B3)=1,HLOOKUP(B3,$B$110:$K$111,2,FALSE),HLOOKUP(B3,$B$112:$K$113,2,FALSE)))","v":0},{"$f":"IF(COUNTIF($B$118:$K$119,B3)=1,HLOOKUP(B3,$B$118:$K$119,2,FALSE),IF(COUNTIF($B$120:$K$121,B3)=1,HLOOKUP(B3,$B$120:$K$121,2,FALSE),HLOOKUP(B3,$B$122:$K$123,2,FALSE)))","v":0},{"$f":"IF(COUNTIF($B$128:$K$129,B3)=1,HLOOKUP(B3,$B$128:$K$129,2,FALSE),IF(COUNTIF($B$130:$K$131,B3)=1,HLOOKUP(B3,$B$130:$K$131,2,FALSE),HLOOKUP(B3,$B$132:$K$133,2,FALSE)))","v":0},{"$f":"IF(COUNTIF($B$138:$K$139,B3)=1,HLOOKUP(B3,$B$138:$K$139,2,FALSE),IF(COUNTIF($B$140:$K$141,B3)=1,HLOOKUP(B3,$B$140:$K$141,2,FALSE),HLOOKUP(B3,$B$142:$K$143,2,FALSE)))","v":0},{"$f":"IF(COUNTIF($B$148:$K$149,B3)=1,HLOOKUP(B3,$B$148:$K$149,2,FALSE),IF(COUNTIF($B$150:$K$151,B3)=1,HLOOKUP(B3,$B$150:$K$151,2,FALSE),HLOOKUP(B3,$B$152:$K$153,2,FALSE)))","v":0},{"$f":"IF(COUNTIF($B$158:$K$159,B3)=1,HLOOKUP(B3,$B$158:$K$159,2,FALSE),IF(COUNTIF($B$160:$K$161,B3)=1,HLOOKUP(B3,$B$160:$K$161,2,FALSE),HLOOKUP(B3,$B$162:$K$163,2,FALSE)))","v":0},{"$f":"IF(COUNTIF($B$168:$K$169,B3)=1,HLOOKUP(B3,$B$168:$K$169,2,FALSE),IF(COUNTIF($B$170:$K$171,B3)=1,HLOOKUP(B3,$B$170:$K$171,2,FALSE),HLOOKUP(B3,$B$172:$K$173,2,FALSE)))","v":0},{"$f":"IF(COUNTIF($B$178:$K$179,B3)=1,HLOOKUP(B3,$B$178:$K$179,2,FALSE),IF(COUNTIF($B$180:$K$181,B3)=1,HLOOKUP(B3,$B$180:$K$181,2,FALSE),HLOOKUP(B3,$B$182:$K$183,2,FALSE)))","v":0},{"$f":"IF(COUNTIF($B$188:$K$189,B3)=1,HLOOKUP(B3,$B$188:$K$189,2,FALSE),IF(COUNTIF($B$190:$K$191,B3)=1,HLOOKUP(B3,$B$190:$K$191,2,FALSE),HLOOKUP(B3,$B$192:$K$193,2,FALSE)))","v":0},{"$f":"IF(COUNTIF($B$198:$K$199,B3)=1,HLOOKUP(B3,$B$198:$K$199,2,FALSE),IF(COUNTIF($B$200:$K$201,B3)=1,HLOOKUP(B3,$B$200:$K$201,2,FALSE),HLOOKUP(B3,$B$202:$K$203,2,FALSE)))","v":0},{"$f":"IF(COUNTIF($B$208:$K$209,B3)=1,HLOOKUP(B3,$B$208:$K$209,2,FALSE),IF(COUNTIF($B$210:$K$211,B3)=1,HLOOKUP(B3,$B$210:$K$211,2,FALSE),HLOOKUP(B3,$B$212:$K$213,2,FALSE)))","v":0},{"$f":"SUM(C3:T3)","v":0},{"$f":"IF(U3=SMALL(U$3:U$32,1),\"1\",IF(U3=SMALL(U$3:U$32,2),\"2\",IF(U3=SMALL(U$3:U$32,3),\"3\",IF(U3=SMALL(U$3:U$32,4),\"4\",IF(U3=SMALL(U$3:U$32,5),\"5\",IF(U3=SMALL(U$3:U$32,6),\"6\",IF(U3=SMALL(U$3:U$32,7),\"7\",IF(U3=SMALL(U$3:U$32,8),\"8\",IF(U3=SMALL(U$3:U$32,9),\"9\",IF(U3=SMALL(U$3:U$32,10),\"10\",IF(U3=SMALL(U$3:U$32,11),\"11\",IF(U3=SMALL(U$3:U$32,12),\"12\",IF(U3=SMALL(U$3:U$32,13),\"13\",IF(U3=SMALL(U$3:U$34,14),\"14\",IF(U3=SMALL(U$3:U$34,15),\"15\",IF(U3=SMALL(U$3:U$34,16),\"16\",IF(U3=SMALL(U$3:U$34,17),\"17\",IF(U3=SMALL(U$3:U$34,18),\"18\",IF(U3=SMALL(U$3:U$34,19),\"19\",IF(U3=SMALL(U$3:U$34,20),\"20\",IF(U3=SMALL(U$3:U$34,21),\"21\",IF(U3=SMALL(U$3:U$34,22),\"22\",IF(U3=SMALL(U$3:U$34,23),\"23\",IF(U3=SMALL(U$3:U$34,24),\"24\",IF(U3=SMALL(U$3:U$34,25),\"25\",IF(U3=SMALL(U$3:U$34,26),\"26\",IF(U3=SMALL(U$3:U$34,27),\"27\",IF(U3=SMALL(U$3:U$34,28),\"28\",IF(U3=SMALL(U$3:U$34,29),\"29\",IF(U3=SMALL(U$3:U$34,30),\"30\",IF(U3=SMALL(U$3:U$34,31),\"31\",IF(U3=SMALL(U$3:U$34,32),\"32\",IF(U3=SMALL(U$3:U$34,33),\"33\",IF(U3=SMALL(U$3:U$34,34),\"34\"))))))))))))))))))))))))))))))))))","v":"1"},null,null,"Boat 1"]
[2,"Paris Sorbone",{"$f":"IF(COUNTIF($B$38:$K$39,B4)=1,HLOOKUP(B4,$B$38:$K$39,2,FALSE),IF(COUNTIF($B$40:$K$41,B4)=1,HLOOKUP(B4,$B$40:$K$41,2,FALSE),HLOOKUP(B4,$B$42:$K$43,2,FALSE)))","v":0},{"$f":"IF(COUNTIF($B$48:$K$49,B4)=1,HLOOKUP(B4,$B$48:$K$49,2,FALSE),IF(COUNTIF($B$50:$K$51,B4)=1,HLOOKUP(B4,$B$50:$K$51,2,FALSE),HLOOKUP(B4,$B$52:$K$53,2,FALSE)))","v":0},{"$f":"IF(COUNTIF($B$58:$K$59,B4)=1,HLOOKUP(B4,$B$58:$K$59,2,FALSE),IF(COUNTIF($B$60:$K$61,B4)=1,HLOOKUP(B4,$B$60:$K$61,2,FALSE),HLOOKUP(B4,$B$62:$K$63,2,FALSE)))","v":0},{"$f":"IF(COUNTIF($B$68:$K$69,B4)=1,HLOOKUP(B4,$B$68:$K$69,2,FALSE),IF(COUNTIF($B$70:$K$71,B4)=1,HLOOKUP(B4,$B$70:$K$71,2,FALSE),HLOOKUP(B4,$B$72:$K$73,2,FALSE)))","v":0},{"$f":"IF(COUNTIF($B$78:$K$79,B4)=1,HLOOKUP(B4,$B$78:$K$79,2,FALSE),IF(COUNTIF($B$80:$K$81,B4)=1,HLOOKUP(B4,$B$80:$K$81,2,FALSE),HLOOKUP(B4,$B$82:$K$83,2,FALSE)))","v":0},{"$f":"IF(COUNTIF($B$88:$K$89,B4)=1,HLOOKUP(B4,$B$88:$K$89,2,FALSE),IF(COUNTIF($B$90:$K$91,B4)=1,HLOOKUP(B4,$B$90:$K$91,2,FALSE),HLOOKUP(B4,$B$92:$K$93,2,FALSE)))","v":0},{"$f":"IF(COUNTIF($B$98:$K$99,B4)=1,HLOOKUP(B4,$B$98:$K$99,2,FALSE),IF(COUNTIF($B$100:$K$101,B4)=1,HLOOKUP(B4,$B$100:$K$101,2,FALSE),HLOOKUP(B4,$B$102:$K$103,2,FALSE)))","v":0},{"$f":"IF(COUNTIF($B$108:$K$109,B4)=1,HLOOKUP(B4,$B$108:$K$109,2,FALSE),IF(COUNTIF($B$110:$K$111,B4)=1,HLOOKUP(B4,$B$110:$K$111,2,FALSE),HLOOKUP(B4,$B$112:$K$113,2,FALSE)))","v":0},{"$f":"IF(COUNTIF($B$118:$K$119,B4)=1,HLOOKUP(B4,$B$118:$K$119,2,FALSE),IF(COUNTIF($B$120:$K$121,B4)=1,HLOOKUP(B4,$B$120:$K$121,2,FALSE),HLOOKUP(B4,$B$122:$K$123,2,FALSE)))","v":0},{"$f":"IF(COUNTIF($B$128:$K$129,B4)=1,HLOOKUP(B4,$B$128:$K$129,2,FALSE),IF(COUNTIF($B$130:$K$131,B4)=1,HLOOKUP(B4,$B$130:$K$131,2,FALSE),HLOOKUP(B4,$B$132:$K$133,2,FALSE)))","v":0},{"$f":"IF(COUNTIF($B$138:$K$139,B4)=1,HLOOKUP(B4,$B$138:$K$139,2,FALSE),IF(COUNTIF($B$140:$K$141,B4)=1,HLOOKUP(B4,$B$140:$K$141,2,FALSE),HLOOKUP(B4,$B$142:$K$143,2,FALSE)))","v":0},{"$f":"IF(COUNTIF($B$148:$K$149,B4)=1,HLOOKUP(B4,$B$148:$K$149,2,FALSE),IF(COUNTIF($B$150:$K$151,B4)=1,HLOOKUP(B4,$B$150:$K$151,2,FALSE),HLOOKUP(B4,$B$152:$K$153,2,FALSE)))","v":0},{"$f":"IF(COUNTIF($B$158:$K$159,B4)=1,HLOOKUP(B4,$B$158:$K$159,2,FALSE),IF(COUNTIF($B$160:$K$161,B4)=1,HLOOKUP(B4,$B$160:$K$161,2,FALSE),HLOOKUP(B4,$B$162:$K$163,2,FALSE)))","v":0},{"$f":"IF(COUNTIF($B$168:$K$169,B4)=1,HLOOKUP(B4,$B$168:$K$169,2,FALSE),IF(COUNTIF($B$170:$K$171,B4)=1,HLOOKUP(B4,$B$170:$K$171,2,FALSE),HLOOKUP(B4,$B$172:$K$173,2,FALSE)))","v":0},{"$f":"IF(COUNTIF($B$178:$K$179,B4)=1,HLOOKUP(B4,$B$178:$K$179,2,FALSE),IF(COUNTIF($B$180:$K$181,B4)=1,HLOOKUP(B4,$B$180:$K$181,2,FALSE),HLOOKUP(B4,$B$182:$K$183,2,FALSE)))","v":0},{"$f":"IF(COUNTIF($B$188:$K$189,B4)=1,HLOOKUP(B4,$B$188:$K$189,2,FALSE),IF(COUNTIF($B$190:$K$191,B4)=1,HLOOKUP(B4,$B$190:$K$191,2,FALSE),HLOOKUP(B4,$B$192:$K$193,2,FALSE)))","v":0},{"$f":"IF(COUNTIF($B$198:$K$199,B4)=1,HLOOKUP(B4,$B$198:$K$199,2,FALSE),IF(COUNTIF($B$200:$K$201,B4)=1,HLOOKUP(B4,$B$200:$K$201,2,FALSE),HLOOKUP(B4,$B$202:$K$203,2,FALSE)))","v":0},{"$f":"IF(COUNTIF($B$208:$K$209,B4)=1,HLOOKUP(B4,$B$208:$K$209,2,FALSE),IF(COUNTIF($B$210:$K$211,B4)=1,HLOOKUP(B4,$B$210:$K$211,2,FALSE),HLOOKUP(B4,$B$212:$K$213,2,FALSE)))","v":0},{"$f":"SUM(C4:T4)","v":0},{"$f":"IF(U4=SMALL(U$3:U$32,1),\"1\",IF(U4=SMALL(U$3:U$32,2),\"2\",IF(U4=SMALL(U$3:U$34,3),\"3\",IF(U4=SMALL(U$3:U$34,4),\"4\",IF(U4=SMALL(U$3:U$34,5),\"5\",IF(U4=SMALL(U$3:U$34,6),\"6\",IF(U4=SMALL(U$3:U$34,7),\"7\",IF(U4=SMALL(U$3:U$34,8),\"8\",IF(U4=SMALL(U$3:U$34,9),\"9\",IF(U4=SMALL(U$3:U$34,10),\"10\",IF(U4=SMALL(U$3:U$34,11),\"11\",IF(U4=SMALL(U$3:U$34,12),\"12\",IF(U4=SMALL(U$3:U$34,13),\"13\",IF(U4=SMALL(U$3:U$34,14),\"14\",IF(U4=SMALL(U$3:U$34,15),\"15\",IF(U4=SMALL(U$3:U$34,16),\"16\",IF(U4=SMALL(U$3:U$34,17),\"17\",IF(U4=SMALL(U$3:U$34,18),\"18\",IF(U4=SMALL(U$3:U$34,19),\"19\",IF(U4=SMALL(U$3:U$34,20),\"20\",IF(U4=SMALL(U$3:U$34,21),\"21\",IF(U4=SMALL(U$3:U$34,22),\"22\",IF(U4=SMALL(U$3:U$34,23),\"23\",IF(U4=SMALL(U$3:U$34,24),\"24\",IF(U4=SMALL(U$3:U$34,25),\"25\",IF(U4=SMALL(U$3:U$34,26),\"26\",IF(U4=SMALL(U$3:U$34,27),\"27\",IF(U4=SMALL(U$3:U$34,28),\"28\",IF(U4=SMALL(U$3:U$34,29),\"29\",IF(U4=SMALL(U$3:U$34,30),\"30\",IF(U4=SMALL(U$3:U$34,31),\"31\",IF(U4=SMALL(U$3:U$34,32),\"32\",IF(U4=SMALL(U$3:U$34,33),\"33\",IF(U4=SMALL(U$3:U$34,34),\"34\"))))))))))))))))))))))))))))))))))","v":"1"},null,null,"Boat 2"]
[3,"UBS Lorient 1",0,0,0,0,0,0,0,0,0,0,0,0,0,0,0,0,0,0,0,{"$f":"IF(U5=SMALL(U$3:U$34,1),\"1\",IF(U5=SMALL(U$3:U$34,2),\"2\",IF(U5=SMALL(U$3:U$34,3),\"3\",IF(U5=SMALL(U$3:U$34,4),\"4\",IF(U5=SMALL(U$3:U$34,5),\"5\",IF(U5=SMALL(U$3:U$34,6),\"6\",IF(U5=SMALL(U$3:U$34,7),\"7\",IF(U5=SMALL(U$3:U$34,8),\"8\",IF(U5=SMALL(U$3:U$34,9),\"9\",IF(U5=SMALL(U$3:U$34,10),\"10\",IF(U5=SMALL(U$3:U$34,11),\"11\",IF(U5=SMALL(U$3:U$34,12),\"12\",IF(U5=SMALL(U$3:U$34,13),\"13\",IF(U5=SMALL(U$3:U$34,14),\"14\",IF(U5=SMALL(U$3:U$34,15),\"15\",IF(U5=SMALL(U$3:U$34,16),\"16\",IF(U5=SMALL(U$3:U$34,17),\"17\",IF(U5=SMALL(U$3:U$34,18),\"18\",IF(U5=SMALL(U$3:U$34,19),\"19\",IF(U5=SMALL(U$3:U$34,20),\"20\",IF(U5=SMALL(U$3:U$34,21),\"21\",IF(U5=SMALL(U$3:U$34,22),\"22\",IF(U5=SMALL(U$3:U$34,23),\"23\",IF(U5=SMALL(U$3:U$34,24),\"24\",IF(U5=SMALL(U$3:U$34,25),\"25\",IF(U5=SMALL(U$3:U$34,26),\"26\",IF(U5=SMALL(U$3:U$34,27),\"27\",IF(U5=SMALL(U$3:U$34,28),\"28\",IF(U5=SMALL(U$3:U$34,29),\"29\",IF(U5=SMALL(U$3:U$34,30),\"30\",IF(U5=SMALL(U$3:U$34,31),\"31\",IF(U5=SMALL(U$3:U$34,32),\"32\",IF(U5=SMALL(U$3:U$34,33),\"33\",IF(U5=SMALL(U$3:U$34,34),\"34\"))))))))))))))))))))))))))))))))))","v":"1"},null,null,"Boat 3"]
[4,"Univ Nantes 3",0,0,0,0,0,0,0,0,0,0,0,0,0,0,0,0,0,0,0,"1",null,null,"Boat 4"]
[5,"Paris Cité",0,0,0,0,0,0,0,0,0,0,0,0,0,0,0,0,0,0,0,"1",null,null,"Boat 5"]
[6,"Plymouth",0,0,0,0,0,0,0,0,0,0,0,0,0,0,0,0,0,0,0,"1",null,null,"Boat 6"]
[7,"Unicaen 2",0,0,0,0,0,0,0,0,0,0,0,0,0,0,0,0,0,0,0,"1",null,null,"Boat 11"]
[8,"Univ Nantes 2",0,0,0,0,0,0,0,0,0,0,0,0,0,0,0,0,0,0,0,"1",null,null,"Boat 8"]
[9,"Karlsruhe",0,0,0,0,0,0,0,0,0,0,0,0,0,0,0,0,0,0,0,"1",null,null,"Boat 9"]
[10,"IMT Brest 2",0,0,0,0,0,0,0,0,0,0,0,0,0,0,0,0,0,0,0,"1",null,null,"Boat 10"]
[11,"Unicaen 1",0,0,0,0,0,0,0,0,0,0,0,0,0,0,0,0,0,0,0,"1"]
[12,"ENSTA 1",0,0,0,0,0,0,0,0,0,0,0,0,0,0,0,0,0,0,0,"1"]
[13,"Orléans",0,0,0,0,0,0,0,0,0,0,0,0,0,0,0,0,0,0,0,"1"]
[14,"IMT Brest 1",0,0,0,0,0,0,0,0,0,0,0,0,0,0,0,0,0,0,0,"1"]
[15,"ENSMAC",0,0,0,0,0,0,0,0,0,0,0,0,0,0,0,0,0,0,0,"1"]
[16,"St Brieuc 1",0,0,0,0,0,0,0,0,0,0,0,0,0,0,0,0,0,0,0,"1"]
[17,"Hannover",0,0,0,0,0,0,0,0,0,0,0,0,0,0,0,0,0,0,0,"1"]
[18,"ENSTA 2",0,0,0,0,0,0,0,0,0,0,0,0,0,0,0,0,0,0,0,"1"]
[19,"Southampton",0,0,0,0,0,0,0,0,0,0,0,0,0,0,0,0,0,0,0,"1"]
[20,"La Rochelle 1",0,0,0,0,0,0,0,0,0,0,0,0,0,0,0,0,0,0,0,"1"]
[21,"Centrale Nantes 1",0,0,0,0,0,0,0,0,0,0,0,0,0,0,0,0,0,0,0,"1"]
[22,"ST Brieuc 2",0,0,0,0,0,0,0,0,0,0,0,0,0,0,0,0,0,0,0,"1"]
[23,"UNIV Nantes 1",0,0,0,0,0,0,0,0,0,0,0,0,0,0,0,0,0,0,0,"1"]
[24,"Intechmer",0,0,0,0,0,0,0,0,0,0,0,0,0,0,0,0,0,0,0,"1"]
[25,"IMT Nantes",0,0,0,0,0,0,0,0,0,0,0,0,0,0,0,0,0,0,0,"1"]
[26,"INSA Lyon",0,0,0,0,0,0,0,0,0,0,0,0,0,0,0,0,0,0,0,"1"]
[27,"Centrale Nantes 2",0,0,0,0,0,0,0,0,0,0,0,0,0,0,0,0,0,0,0,"1"]
[28,"UBS Lorient 2",0,0,0,0,0,0,0,0,0,0,0,0,0,0,0,0,0,0,0,"1"]
[29,"La Rochelle 2",0,0,0,0,0,0,0,0,0,0,0,0,0,0,0,0,0,0,0,"1"]
[30,"UBO 1",0,0,0,0,0,0,0,0,0,0,0,0,0,0,0,0,0,0,0,"1"]
[31,"Eq.31",{"$error":"#N/A"},{"$error":"#N/A"},{"$error":"#N/A"},{"$error":"#N/A"},{"$error":"#N/A"},{"$error":"#N/A"},{"$error":"#N/A"},{"$error":"#N/A"},{"$error":"#N/A"},{"$error":"#N/A"},{"$error":"#N/A"},{"$error":"#N/A"},{"$error":"#N/A"},{"$error":"#N/A"},{"$error":"#N/A"},{"$error":"#N/A"},{"$error":"#N/A"},{"$error":"#N/A"},0,"1"]
[32,"Eq.32",{"$error":"#N/A"},{"$error":"#N/A"},{"$error":"#N/A"},{"$error":"#N/A"},{"$error":"#N/A"},{"$error":"#N/A"},{"$error":"#N/A"},{"$error":"#N/A"},{"$error":"#N/A"},{"$error":"#N/A"},{"$error":"#N/A"},{"$error":"#N/A"},{"$error":"#N/A"},{"$error":"#N/A"},{"$error":"#N/A"},{"$error":"#N/A"},{"$error":"#N/A"},{"$error":"#N/A"},0,"1"]
[null,null,null,null,null,null,null,null,null,null,null,null,null,null,null,{"$error":"#N/A"}]
["Flight 1"]
["Race","Boat 1","Boat 2","Boat 3","Boat 4","Boat 5","Boat 6","Boat 11","Boat 8","Boat 9","Boat 10"]
[1,{"$f":"VLOOKUP(VLOOKUP($A$38,'Pairing List calcul'!$B:$K,COLUMN(),0),$A:$I,2,0)","v":"IMT Nantes"},{"$f":"VLOOKUP(VLOOKUP($A$38,'Pairing List calcul'!$B:$K,COLUMN(),0),$A:$I,2,0)","v":"Unicaen 1"},{"$f":"VLOOKUP(VLOOKUP($A$38,'Pairing List calcul'!$B:$K,COLUMN(),0),$A:$I,2,0)","v":"St Brieuc 1"},{"$f":"VLOOKUP(VLOOKUP($A$38,'Pairing List calcul'!$B:$K,COLUMN(),0),$A:$I,2,0)","v":"La Rochelle 2"},{"$f":"VLOOKUP(VLOOKUP($A$38,'Pairing List calcul'!$B:$K,COLUMN(),0),$A:$I,2,0)","v":"UBO 2"},{"$f":"VLOOKUP(VLOOKUP($A$38,'Pairing List calcul'!$B:$K,COLUMN(),0),$A:$I,2,0)","v":"ENSTA 1"},{"$f":"VLOOKUP(VLOOKUP($A$38,'Pairing List calcul'!$B:$K,COLUMN(),0),$A:$I,2,0)","v":"IMT Brest 1"},{"$f":"VLOOKUP(VLOOKUP($A$38,'Pairing List calcul'!$B:$K,COLUMN(),0),$A:$I,2,0)","v":"Univ Nantes 3"},{"$f":"VLOOKUP(VLOOKUP($A$38,'Pairing List calcul'!$B:$L,COLUMN(),0),$A:$J,2,0)","v":"Karlsruhe"},{"$f":"VLOOKUP(VLOOKUP($A$38,'Pairing List calcul'!$B:$L,COLUMN(),0),$A:$J,2,0)","v":"Intechmer"}]
["Place"]
[2,{"$f":"VLOOKUP(VLOOKUP($A$40,'Pairing List calcul'!$B:$K,COLUMN(),0),$A:$O,2,0)","v":"ST Brieuc 2"},{"$f":"VLOOKUP(VLOOKUP($A$40,'Pairing List calcul'!$B:$K,COLUMN(),0),$A:$O,2,0)","v":"UBS Lorient 2"},{"$f":"VLOOKUP(VLOOKUP($A$40,'Pairing List calcul'!$B:$K,COLUMN(),0),$A:$O,2,0)","v":"UNIV Nantes 1"},{"$f":"VLOOKUP(VLOOKUP($A$40,'Pairing List calcul'!$B:$K,COLUMN(),0),$A:$O,2,0)","v":"Orléans"},{"$f":"VLOOKUP(VLOOKUP($A$40,'Pairing List calcul'!$B:$K,COLUMN(),0),$A:$O,2,0)","v":"Unicaen 2"},{"$f":"VLOOKUP(VLOOKUP($A$40,'Pairing List calcul'!$B:$K,COLUMN(),0),$A:$O,2,0)","v":"Hannover"},{"$f":"VLOOKUP(VLOOKUP($A$40,'Pairing List calcul'!$B:$K,COLUMN(),0),$A:$O,2,0)","v":"IMT Brest 2"},{"$f":"VLOOKUP(VLOOKUP($A$40,'Pairing List calcul'!$B:$K,COLUMN(),0),$A:$O,2,0)","v":"Paris Cité"},{"$f":"VLOOKUP(VLOOKUP($A$40,'Pairing List calcul'!$B:$L,COLUMN(),0),$A:$O,2,0)","v":"ENSMAC"},{"$f":"VLOOKUP(VLOOKUP($A$40,'Pairing List calcul'!$B:$L,COLUMN(),0),$A:$O,2,0)","v":"Paris Sorbone"}]
["Place"]
[3,{"$f":"VLOOKUP(VLOOKUP($A$42,'Pairing List calcul'!$B:$K,COLUMN(),0),$A:$O,2,0)","v":"La Rochelle 1"},{"$f":"VLOOKUP(VLOOKUP($A$42,'Pairing List calcul'!$B:$K,COLUMN(),0),$A:$O,2,0)","v":"UBS Lorient 1"},{"$f":"VLOOKUP(VLOOKUP($A$42,'Pairing List calcul'!$B:$K,COLUMN(),0),$A:$O,2,0)","v":"UBO 1"},{"$f":"VLOOKUP(VLOOKUP($A$42,'Pairing List calcul'!$B:$K,COLUMN(),0),$A:$O,2,0)","v":"Southampton"},{"$f":"VLOOKUP(VLOOKUP($A$42,'Pairing List calcul'!$B:$K,COLUMN(),0),$A:$O,2,0)","v":"ENSTA 2"},{"$f":"VLOOKUP(VLOOKUP($A$42,'Pairing List calcul'!$B:$K,COLUMN(),0),$A:$O,2,0)","v":"Plymouth"},{"$f":"VLOOKUP(VLOOKUP($A$42,'Pairing List calcul'!$B:$K,COLUMN(),0),$A:$O,2,0)","v":"Univ Nantes 2"},{"$f":"VLOOKUP(VLOOKUP($A$42,'Pairing List calcul'!$B:$K,COLUMN(),0),$A:$O,2,0)","v":"INSA Lyon"},{"$f":"VLOOKUP(VLOOKUP($A$42,'Pairing List calcul'!$B:$L,COLUMN(),0),$A:$O,2,0)","v":"Centrale Nantes 1"},{"$f":"VLOOKUP(VLOOKUP($A$42,'Pairing List calcul'!$B:$L,COLUMN(),0),$A:$O,2,0)","v":"Centrale Nantes 2"}]
["Place"]
[null,{"$f":"VLOOKUP(VLOOKUP($A$44,'Pairing List calcul'!$B:$K,COLUMN(),0),$A:$O,2,0)","v":{"$error":"#N/A"}},{"$f":"VLOOKUP(VLOOKUP($A$44,'Pairing List calcul'!$B:$K,COLUMN(),0),$A:$O,2,0)","v":{"$error":"#N/A"}},{"$f":"VLOOKUP(VLOOKUP($A$44,'Pairing List calcul'!$B:$K,COLUMN(),0),$A:$O,2,0)","v":{"$error":"#N/A"}},{"$f":"VLOOKUP(VLOOKUP($A$44,'Pairing List calcul'!$B:$K,COLUMN(),0),$A:$O,2,0)","v":{"$error":"#N/A"}},{"$f":"VLOOKUP(VLOOKUP($A$44,'Pairing List calcul'!$B:$K,COLUMN(),0),$A:$O,2,0)","v":{"$error":"#N/A"}},{"$f":"VLOOKUP(VLOOKUP($A$44,'Pairing List calcul'!$B:$K,COLUMN(),0),$A:$O,2,0)","v":{"$error":"#N/A"}},{"$f":"VLOOKUP(VLOOKUP($A$44,'Pairing List calcul'!$B:$K,COLUMN(),0),$A:$O,2,0)","v":{"$error":"#N/A"}},{"$f":"VLOOKUP(VLOOKUP($A$44,'Pairing List calcul'!$B:$K,COLUMN(),0),$A:$O,2,0)","v":{"$error":"#N/A"}},{"$f":"VLOOKUP(VLOOKUP($A$44,'Pairing List calcul'!$B:$K,COLUMN(),0),$A:$O,2,0)","v":{"$error":"#N/A"}},{"$f":"VLOOKUP(VLOOKUP($A$44,'Pairing List calcul'!$B:$L,COLUMN(),0),$A:$O,2,0)","v":{"$error":"#N/A"}}]
["Place"]
["Flight 2"]
["Race","Boat 1","Boat 2","Boat 3","Boat 4","Boat 5","Boat 6","Boat 11","Boat 8","Boat 9","Boat 10"]
[4,{"$f":"VLOOKUP(VLOOKUP($A$48,'Pairing List calcul'!$B:$K,COLUMN(),0),$A:$O,2,0)","v":"ENSTA 1"},{"$f":"VLOOKUP(VLOOKUP($A$48,'Pairing List calcul'!$B:$K,COLUMN(),0),$A:$O,2,0)","v":"UBS Lorient 1"},{"$f":"VLOOKUP(VLOOKUP($A$48,'Pairing List calcul'!$B:$K,COLUMN(),0),$A:$O,2,0)","v":"Paris Sorbone"},{"$f":"VLOOKUP(VLOOKUP($A$48,'Pairing List calcul'!$B:$K,COLUMN(),0),$A:$O,2,0)","v":"IMT Nantes"},{"$f":"VLOOKUP(VLOOKUP($A$48,'Pairing List calcul'!$B:$K,COLUMN(),0),$A:$O,2,0)","v":"Hannover"},{"$f":"VLOOKUP(VLOOKUP($A$48,'Pairing List calcul'!$B:$K,COLUMN(),0),$A:$O,2,0)","v":"Plymouth"},{"$f":"VLOOKUP(VLOOKUP($A$48,'Pairing List calcul'!$B:$K,COLUMN(),0),$A:$O,2,0)","v":"Univ Nantes 2"},{"$f":"VLOOKUP(VLOOKUP($A$48,'Pairing List calcul'!$B:$K,COLUMN(),0),$A:$O,2,0)","v":"Orléans"},{"$f":"VLOOKUP(VLOOKUP($A$48,'Pairing List calcul'!$B:$L,COLUMN(),0),$A:$O,2,0)","v":"Intechmer"},{"$f":"VLOOKUP(VLOOKUP($A$48,'Pairing List calcul'!$B:$L,COLUMN(),0),$A:$O,2,0)","v":"IMT Brest 1"}]
["Place"]
[5,{"$f":"VLOOKUP(VLOOKUP($A$50,'Pairing List calcul'!$B:$K,COLUMN(),0),$A:$O,2,0)","v":"St Brieuc 1"},{"$f":"VLOOKUP(VLOOKUP($A$50,'Pairing List calcul'!$B:$K,COLUMN(),0),$A:$O,2,0)","v":"Univ Nantes 3"},{"$f":"VLOOKUP(VLOOKUP($A$50,'Pairing List calcul'!$B:$K,COLUMN(),0),$A:$O,2,0)","v":"UBS Lorient 2"},{"$f":"VLOOKUP(VLOOKUP($A$50,'Pairing List calcul'!$B:$K,COLUMN(),0),$A:$O,2,0)","v":"ENSTA 2"},{"$f":"VLOOKUP(VLOOKUP($A$50,'Pairing List calcul'!$B:$K,COLUMN(),0),$A:$O,2,0)","v":"ST Brieuc 2"},{"$f":"VLOOKUP(VLOOKUP($A$50,'Pairing List calcul'!$B:$K,COLUMN(),0),$A:$O,2,0)","v":"La Rochelle 1"},{"$f":"VLOOKUP(VLOOKUP($A$50,'Pairing List calcul'!$B:$K,COLUMN(),0),$A:$O,2,0)","v":"Unicaen 2"},{"$f":"VLOOKUP(VLOOKUP($A$50,'Pairing List calcul'!$B:$K,COLUMN(),0),$A:$O,2,0)","v":"UNIV Nantes 1"},{"$f":"VLOOKUP(VLOOKUP($A$50,'Pairing List calcul'!$B:$L,COLUMN(),0),$A:$O,2,0)","v":"Southampton"},{"$f":"VLOOKUP(VLOOKUP($A$50,'Pairing List calcul'!$B:$L,COLUMN(),0),$A:$O,2,0)","v":"ENSMAC"}]
["Place"]
[6,{"$f":"VLOOKUP(VLOOKUP($A$52,'Pairing List calcul'!$B:$K,COLUMN(),0),$A:$O,2,0)","v":"UBO 1"},{"$f":"VLOOKUP(VLOOKUP($A$52,'Pairing List calcul'!$B:$K,COLUMN(),0),$A:$O,2,0)","v":"Centrale Nantes 2"},{"$f":"VLOOKUP(VLOOKUP($A$52,'Pairing List calcul'!$B:$K,COLUMN(),0),$A:$O,2,0)","v":"IMT Brest 2"},{"$f":"VLOOKUP(VLOOKUP($A$52,'Pairing List calcul'!$B:$K,COLUMN(),0),$A:$O,2,0)","v":"Paris Cité"},{"$f":"VLOOKUP(VLOOKUP($A$52,'Pairing List calcul'!$B:$K,COLUMN(),0),$A:$O,2,0)","v":"UBO 2"},{"$f":"VLOOKUP(VLOOKUP($A$52,'Pairing List calcul'!$B:$K,COLUMN(),0),$A:$O,2,0)","v":"La Rochelle 2"},{"$f":"VLOOKUP(VLOOKUP($A$52,'Pairing List calcul'!$B:$K,COLUMN(),0),$A:$O,2,0)","v":"Karlsruhe"},{"$f":"VLOOKUP(VLOOKUP($A$52,'Pairing List calcul'!$B:$K,COLUMN(),0),$A:$O,2,0)","v":"Centrale Nantes 1"},{"$f":"VLOOKUP(VLOOKUP($A$52,'Pairing List calcul'!$B:$L,COLUMN(),0),$A:$O,2,0)","v":"INSA Lyon"},{"$f":"VLOOKUP(VLOOKUP($A$52,'Pairing List calcul'!$B:$L,COLUMN(),0),$A:$O,2,0)","v":"Unicaen 1"}]
["Place"]
[null,{"$f":"VLOOKUP(VLOOKUP($A$54,'Pairing List calcul'!$B:$K,COLUMN(),0),$A:$O,2,0)","v":{"$error":"#N/A"}},{"$f":"VLOOKUP(VLOOKUP($A$54,'Pairing List calcul'!$B:$K,COLUMN(),0),$A:$O,2,0)","v":{"$error":"#N/A"}},{"$f":"VLOOKUP(VLOOKUP($A$54,'Pairing List calcul'!$B:$K,COLUMN(),0),$A:$O,2,0)","v":{"$error":"#N/A"}},{"$f":"VLOOKUP(VLOOKUP($A$54,'Pairing List calcul'!$B:$K,COLUMN(),0),$A:$O,2,0)","v":{"$error":"#N/A"}},{"$f":"VLOOKUP(VLOOKUP($A$54,'Pairing List calcul'!$B:$K,COLUMN(),0),$A:$O,2,0)","v":{"$error":"#N/A"}},{"$f":"VLOOKUP(VLOOKUP($A$54,'Pairing List calcul'!$B:$K,COLUMN(),0),$A:$O,2,0)","v":{"$error":"#N/A"}},{"$f":"VLOOKUP(VLOOKUP($A$54,'Pairing List calcul'!$B:$K,COLUMN(),0),$A:$O,2,0)","v":{"$error":"#N/A"}},{"$f":"VLOOKUP(VLOOKUP($A$54,'Pairing List calcul'!$B:$K,COLUMN(),0),$A:$O,2,0)","v":{"$error":"#N/A"}},{"$f":"VLOOKUP(VLOOKUP($A$54,'Pairing List calcul'!$B:$L,COLUMN(),0),$A:$O,2,0)","v":{"$error":"#N/A"}},{"$f":"VLOOKUP(VLOOKUP($A$54,'Pairing List calcul'!$B:$L,COLUMN(),0),$A:$O,2,0)","v":{"$error":"#N/A"}}]
["Place"]
["Flight 3"]
["Race","Boat 1","Boat 2","Boat 3","Boat 4","Boat 5","Boat 6","Boat 11","Boat 8","Boat 9","Boat 10"]
[7,{"$f":"VLOOKUP(VLOOKUP($A$58,'Pairing List calcul'!$B:$K,COLUMN(),0),$A:$O,2,0)","v":"Orléans"},{"$f":"VLOOKUP(VLOOKUP($A$58,'Pairing List calcul'!$B:$K,COLUMN(),0),$A:$O,2,0)","v":"UBS Lorient 2"},{"$f":"VLOOKUP(VLOOKUP($A$58,'Pairing List calcul'!$B:$K,COLUMN(),0),$A:$O,2,0)","v":"IMT Brest 2"},{"$f":"VLOOKUP(VLOOKUP($A$58,'Pairing List calcul'!$B:$K,COLUMN(),0),$A:$O,2,0)","v":"Paris Sorbone"},{"$f":"VLOOKUP(VLOOKUP($A$58,'Pairing List calcul'!$B:$K,COLUMN(),0),$A:$O,2,0)","v":"Univ Nantes 2"},{"$f":"VLOOKUP(VLOOKUP($A$58,'Pairing List calcul'!$B:$K,COLUMN(),0),$A:$O,2,0)","v":"La Rochelle 2"},{"$f":"VLOOKUP(VLOOKUP($A$58,'Pairing List calcul'!$B:$K,COLUMN(),0),$A:$O,2,0)","v":"Intechmer"},{"$f":"VLOOKUP(VLOOKUP($A$58,'Pairing List calcul'!$B:$K,COLUMN(),0),$A:$O,2,0)","v":"Centrale Nantes 1"},{"$f":"VLOOKUP(VLOOKUP($A$58,'Pairing List calcul'!$B:$L,COLUMN(),0),$A:$O,2,0)","v":"INSA Lyon"},{"$f":"VLOOKUP(VLOOKUP($A$58,'Pairing List calcul'!$B:$L,COLUMN(),0),$A:$O,2,0)","v":"UNIV Nantes 1"}]
["Place"]
[8,{"$f":"VLOOKUP(VLOOKUP($A$60,'Pairing List calcul'!$B:$K,COLUMN(),0),$A:$O,2,0)","v":"Univ Nantes 3"},{"$f":"VLOOKUP(VLOOKUP($A$60,'Pairing List calcul'!$B:$K,COLUMN(),0),$A:$O,2,0)","v":"IMT Nantes"},{"$f":"VLOOKUP(VLOOKUP($A$60,'Pairing List calcul'!$B:$K,COLUMN(),0),$A:$O,2,0)","v":"ENSTA 2"},{"$f":"VLOOKUP(VLOOKUP($A$60,'Pairing List calcul'!$B:$K,COLUMN(),0),$A:$O,2,0)","v":"Paris Cité"},{"$f":"VLOOKUP(VLOOKUP($A$60,'Pairing List calcul'!$B:$K,COLUMN(),0),$A:$O,2,0)","v":"UBO 2"},{"$f":"VLOOKUP(VLOOKUP($A$60,'Pairing List calcul'!$B:$K,COLUMN(),0),$A:$O,2,0)","v":"ENSMAC"},{"$f":"VLOOKUP(VLOOKUP($A$60,'Pairing List calcul'!$B:$K,COLUMN(),0),$A:$O,2,0)","v":"Hannover"},{"$f":"VLOOKUP(VLOOKUP($A$60,'Pairing List calcul'!$B:$K,COLUMN(),0),$A:$O,2,0)","v":"Unicaen 1"},{"$f":"VLOOKUP(VLOOKUP($A$60,'Pairing List calcul'!$B:$L,COLUMN(),0),$A:$O,2,0)","v":"Southampton"},{"$f":"VLOOKUP(VLOOKUP($A$60,'Pairing List calcul'!$B:$L,COLUMN(),0),$A:$O,2,0)","v":"UBO 1"}]
["Place"]
[9,{"$f":"VLOOKUP(VLOOKUP($A$62,'Pairing List calcul'!$B:$K,COLUMN(),0),$A:$O,2,0)","v":"ST Brieuc 2"},{"$f":"VLOOKUP(VLOOKUP($A$62,'Pairing List calcul'!$B:$K,COLUMN(),0),$A:$O,2,0)","v":"La Rochelle 1"},{"$f":"VLOOKUP(VLOOKUP($A$62,'Pairing List calcul'!$B:$K,COLUMN(),0),$A:$O,2,0)","v":"St Brieuc 1"},{"$f":"VLOOKUP(VLOOKUP($A$62,'Pairing List calcul'!$B:$K,COLUMN(),0),$A:$O,2,0)","v":"Plymouth"},{"$f":"VLOOKUP(VLOOKUP($A$62,'Pairing List calcul'!$B:$K,COLUMN(),0),$A:$O,2,0)","v":"UBS Lorient 1"},{"$f":"VLOOKUP(VLOOKUP($A$62,'Pairing List calcul'!$B:$K,COLUMN(),0),$A:$O,2,0)","v":"IMT Brest 1"},{"$f":"VLOOKUP(VLOOKUP($A$62,'Pairing List calcul'!$B:$K,COLUMN(),0),$A:$O,2,0)","v":"Centrale Nantes 2"},{"$f":"VLOOKUP(VLOOKUP($A$62,'Pairing List calcul'!$B:$K,COLUMN(),0),$A:$O,2,0)","v":"Unicaen 2"},{"$f":"VLOOKUP(VLOOKUP($A$62,'Pairing List calcul'!$B:$L,COLUMN(),0),$A:$O,2,0)","v":"ENSTA 1"},{"$f":"VLOOKUP(VLOOKUP($A$62,'Pairing List calcul'!$B:$L,COLUMN(),0),$A:$O,2,0)","v":"Karlsruhe"}]
["Place"]
[null,{"$f":"VLOOKUP(VLOOKUP($A$64,'Pairing List calcul'!$B:$K,COLUMN(),0),$A:$O,2,0)","v":{"$error":"#N/A"}},{"$f":"VLOOKUP(VLOOKUP($A$64,'Pairing List calcul'!$B:$K,COLUMN(),0),$A:$O,2,0)","v":{"$error":"#N/A"}},{"$f":"VLOOKUP(VLOOKUP($A$64,'Pairing List calcul'!$B:$K,COLUMN(),0),$A:$O,2,0)","v":{"$error":"#N/A"}},{"$f":"VLOOKUP(VLOOKUP($A$64,'Pairing List calcul'!$B:$K,COLUMN(),0),$A:$O,2,0)","v":{"$error":"#N/A"}},{"$f":"VLOOKUP(VLOOKUP($A$64,'Pairing List calcul'!$B:$K,COLUMN(),0),$A:$O,2,0)","v":{"$error":"#N/A"}},{"$f":"VLOOKUP(VLOOKUP($A$64,'Pairing List calcul'!$B:$K,COLUMN(),0),$A:$O,2,0)","v":{"$error":"#N/A"}},{"$f":"VLOOKUP(VLOOKUP($A$64,'Pairing List calcul'!$B:$K,COLUMN(),0),$A:$O,2,0)","v":{"$error":"#N/A"}},{"$f":"VLOOKUP(VLOOKUP($A$64,'Pairing List calcul'!$B:$K,COLUMN(),0),$A:$O,2,0)","v":{"$error":"#N/A"}},{"$f":"VLOOKUP(VLOOKUP($A$64,'Pairing List calcul'!$B:$L,COLUMN(),0),$A:$O,2,0)","v":{"$error":"#N/A"}},{"$f":"VLOOKUP(VLOOKUP($A$64,'Pairing List calcul'!$B:$L,COLUMN(),0),$A:$O,2,0)","v":{"$error":"#N/A"}}]
["Place"]
["Flight 4"]
["Race","Boat 1","Boat 2","Boat 3","Boat 4","Boat 5","Boat 6","Boat 11","Boat 8","Boat 9","Boat 10"]
[10,{"$f":"VLOOKUP(VLOOKUP($A$68,'Pairing List calcul'!$B:$K,COLUMN(),0),$A:$O,2,0)","v":"ST Brieuc 2"},{"$f":"VLOOKUP(VLOOKUP($A$68,'Pairing List calcul'!$B:$K,COLUMN(),0),$A:$O,2,0)","v":"La Rochelle 1"},{"$f":"VLOOKUP(VLOOKUP($A$68,'Pairing List calcul'!$B:$K,COLUMN(),0),$A:$O,2,0)","v":"Centrale Nantes 1"},{"$f":"VLOOKUP(VLOOKUP($A$68,'Pairing List calcul'!$B:$K,COLUMN(),0),$A:$O,2,0)","v":"Plymouth"},{"$f":"VLOOKUP(VLOOKUP($A$68,'Pairing List calcul'!$B:$K,COLUMN(),0),$A:$O,2,0)","v":"UBS Lorient 1"},{"$f":"VLOOKUP(VLOOKUP($A$68,'Pairing List calcul'!$B:$K,COLUMN(),0),$A:$O,2,0)","v":"IMT Brest 1"},{"$f":"VLOOKUP(VLOOKUP($A$68,'Pairing List calcul'!$B:$K,COLUMN(),0),$A:$O,2,0)","v":"IMT Brest 2"},{"$f":"VLOOKUP(VLOOKUP($A$68,'Pairing List calcul'!$B:$K,COLUMN(),0),$A:$O,2,0)","v":"UBO 1"},{"$f":"VLOOKUP(VLOOKUP($A$68,'Pairing List calcul'!$B:$L,COLUMN(),0),$A:$O,2,0)","v":"ENSTA 1"},{"$f":"VLOOKUP(VLOOKUP($A$68,'Pairing List calcul'!$B:$L,COLUMN(),0),$A:$O,2,0)","v":"Orléans"}]
["Place"]
[11,{"$f":"VLOOKUP(VLOOKUP($A$70,'Pairing List calcul'!$B:$K,COLUMN(),0),$A:$O,2,0)","v":"Univ Nantes 3"},{"$f":"VLOOKUP(VLOOKUP($A$70,'Pairing List calcul'!$B:$K,COLUMN(),0),$A:$O,2,0)","v":"Paris Cité"},{"$f":"VLOOKUP(VLOOKUP($A$70,'Pairing List calcul'!$B:$K,COLUMN(),0),$A:$O,2,0)","v":"Unicaen 2"},{"$f":"VLOOKUP(VLOOKUP($A$70,'Pairing List calcul'!$B:$K,COLUMN(),0),$A:$O,2,0)","v":"Univ Nantes 2"},{"$f":"VLOOKUP(VLOOKUP($A$70,'Pairing List calcul'!$B:$K,COLUMN(),0),$A:$O,2,0)","v":"La Rochelle 2"},{"$f":"VLOOKUP(VLOOKUP($A$70,'Pairing List calcul'!$B:$K,COLUMN(),0),$A:$O,2,0)","v":"ENSTA 2"},{"$f":"VLOOKUP(VLOOKUP($A$70,'Pairing List calcul'!$B:$K,COLUMN(),0),$A:$O,2,0)","v":"UBS Lorient 2"},{"$f":"VLOOKUP(VLOOKUP($A$70,'Pairing List calcul'!$B:$K,COLUMN(),0),$A:$O,2,0)","v":"INSA Lyon"},{"$f":"VLOOKUP(VLOOKUP($A$70,'Pairing List calcul'!$B:$L,COLUMN(),0),$A:$O,2,0)","v":"Unicaen 1"},{"$f":"VLOOKUP(VLOOKUP($A$70,'Pairing List calcul'!$B:$L,COLUMN(),0),$A:$O,2,0)","v":"Hannover"}]
["Place"]
[12,{"$f":"VLOOKUP(VLOOKUP($A$72,'Pairing List calcul'!$B:$K,COLUMN(),0),$A:$O,2,0)","v":"ENSMAC"},{"$f":"VLOOKUP(VLOOKUP($A$72,'Pairing List calcul'!$B:$K,COLUMN(),0),$A:$O,2,0)","v":"St Brieuc 1"},{"$f":"VLOOKUP(VLOOKUP($A$72,'Pairing List calcul'!$B:$K,COLUMN(),0),$A:$O,2,0)","v":"Karlsruhe"},{"$f":"VLOOKUP(VLOOKUP($A$72,'Pairing List calcul'!$B:$K,COLUMN(),0),$A:$O,2,0)","v":"UNIV Nantes 1"},{"$f":"VLOOKUP(VLOOKUP($A$72,'Pairing List calcul'!$B:$K,COLUMN(),0),$A:$O,2,0)","v":"Centrale Nantes 2"},{"$f":"VLOOKUP(VLOOKUP($A$72,'Pairing List calcul'!$B:$K,COLUMN(),0),$A:$O,2,0)","v":"Paris Sorbone"},{"$f":"VLOOKUP(VLOOKUP($A$72,'Pairing List calcul'!$B:$K,COLUMN(),0),$A:$O,2,0)","v":"Intechmer"},{"$f":"VLOOKUP(VLOOKUP($A$72,'Pairing List calcul'!$B:$K,COLUMN(),0),$A:$O,2,0)","v":"Southampton"},{"$f":"VLOOKUP(VLOOKUP($A$72,'Pairing List calcul'!$B:$L,COLUMN(),0),$A:$O,2,0)","v":"IMT Nantes"},{"$f":"VLOOKUP(VLOOKUP($A$72,'Pairing List calcul'!$B:$L,COLUMN(),0),$A:$O,2,0)","v":"UBO 2"}]
["Place"]
[null,{"$f":"VLOOKUP(VLOOKUP($A$74,'Pairing List calcul'!$B:$K,COLUMN(),0),$A:$O,2,0)","v":{"$error":"#N/A"}},{"$f":"VLOOKUP(VLOOKUP($A$74,'Pairing List calcul'!$B:$K,COLUMN(),0),$A:$O,2,0)","v":{"$error":"#N/A"}},{"$f":"VLOOKUP(VLOOKUP($A$74,'Pairing List calcul'!$B:$K,COLUMN(),0),$A:$O,2,0)","v":{"$error":"#N/A"}},{"$f":"VLOOKUP(VLOOKUP($A$74,'Pairing List calcul'!$B:$K,COLUMN(),0),$A:$O,2,0)","v":{"$error":"#N/A"}},{"$f":"VLOOKUP(VLOOKUP($A$74,'Pairing List calcul'!$B:$K,COLUMN(),0),$A:$O,2,0)","v":{"$error":"#N/A"}},{"$f":"VLOOKUP(VLOOKUP($A$74,'Pairing List calcul'!$B:$K,COLUMN(),0),$A:$O,2,0)","v":{"$error":"#N/A"}},{"$f":"VLOOKUP(VLOOKUP($A$74,'Pairing List calcul'!$B:$K,COLUMN(),0),$A:$O,2,0)","v":{"$error":"#N/A"}},{"$f":"VLOOKUP(VLOOKUP($A$74,'Pairing List calcul'!$B:$K,COLUMN(),0),$A:$O,2,0)","v":{"$error":"#N/A"}},{"$f":"VLOOKUP(VLOOKUP($A$74,'Pairing List calcul'!$B:$L,COLUMN(),0),$A:$O,2,0)","v":{"$error":"#N/A"}},{"$f":"VLOOKUP(VLOOKUP($A$74,'Pairing List calcul'!$B:$L,COLUMN(),0),$A:$O,2,0)","v":{"$error":"#N/A"}}]
["Place"]
["Flight 5"]
["Race","Boat 1","Boat 2","Boat 3","Boat 4","Boat 5","Boat 6","Boat 11","Boat 8","Boat 9","Boat 10"]
[13,{"$f":"VLOOKUP(VLOOKUP($A$78,'Pairing List calcul'!$B:$K,COLUMN(),0),$A:$O,2,0)","v":"ENSMAC"},{"$f":"VLOOKUP(VLOOKUP($A$78,'Pairing List calcul'!$B:$K,COLUMN(),0),$A:$O,2,0)","v":"Hannover"},{"$f":"VLOOKUP(VLOOKUP($A$78,'Pairing List calcul'!$B:$K,COLUMN(),0),$A:$O,2,0)","v":"Karlsruhe"},{"$f":"VLOOKUP(VLOOKUP($A$78,'Pairing List calcul'!$B:$K,COLUMN(),0),$A:$O,2,0)","v":"UNIV Nantes 1"},{"$f":"VLOOKUP(VLOOKUP($A$78,'Pairing List calcul'!$B:$K,COLUMN(),0),$A:$O,2,0)","v":"ST Brieuc 2"},{"$f":"VLOOKUP(VLOOKUP($A$78,'Pairing List calcul'!$B:$K,COLUMN(),0),$A:$O,2,0)","v":"UBO 1"},{"$f":"VLOOKUP(VLOOKUP($A$78,'Pairing List calcul'!$B:$K,COLUMN(),0),$A:$O,2,0)","v":"IMT Brest 1"},{"$f":"VLOOKUP(VLOOKUP($A$78,'Pairing List calcul'!$B:$K,COLUMN(),0),$A:$O,2,0)","v":"Southampton"},{"$f":"VLOOKUP(VLOOKUP($A$78,'Pairing List calcul'!$B:$L,COLUMN(),0),$A:$O,2,0)","v":"ENSTA 1"},{"$f":"VLOOKUP(VLOOKUP($A$78,'Pairing List calcul'!$B:$L,COLUMN(),0),$A:$O,2,0)","v":"UBO 2"}]
["Place"]
[14,{"$f":"VLOOKUP(VLOOKUP($A$80,'Pairing List calcul'!$B:$K,COLUMN(),0),$A:$O,2,0)","v":"Plymouth"},{"$f":"VLOOKUP(VLOOKUP($A$80,'Pairing List calcul'!$B:$K,COLUMN(),0),$A:$O,2,0)","v":"Univ Nantes 3"},{"$f":"VLOOKUP(VLOOKUP($A$80,'Pairing List calcul'!$B:$K,COLUMN(),0),$A:$O,2,0)","v":"Paris Sorbone"},{"$f":"VLOOKUP(VLOOKUP($A$80,'Pairing List calcul'!$B:$K,COLUMN(),0),$A:$O,2,0)","v":"St Brieuc 1"},{"$f":"VLOOKUP(VLOOKUP($A$80,'Pairing List calcul'!$B:$K,COLUMN(),0),$A:$O,2,0)","v":"INSA Lyon"},{"$f":"VLOOKUP(VLOOKUP($A$80,'Pairing List calcul'!$B:$K,COLUMN(),0),$A:$O,2,0)","v":"Centrale Nantes 1"},{"$f":"VLOOKUP(VLOOKUP($A$80,'Pairing List calcul'!$B:$K,COLUMN(),0),$A:$O,2,0)","v":"La Rochelle 2"},{"$f":"VLOOKUP(VLOOKUP($A$80,'Pairing List calcul'!$B:$K,COLUMN(),0),$A:$O,2,0)","v":"Centrale Nantes 2"},{"$f":"VLOOKUP(VLOOKUP($A$80,'Pairing List calcul'!$B:$L,COLUMN(),0),$A:$O,2,0)","v":"UBS Lorient 2"},{"$f":"VLOOKUP(VLOOKUP($A$80,'Pairing List calcul'!$B:$L,COLUMN(),0),$A:$O,2,0)","v":"UBS Lorient 1"}]
["Place"]
[15,{"$f":"VLOOKUP(VLOOKUP($A$82,'Pairing List calcul'!$B:$K,COLUMN(),0),$A:$O,2,0)","v":"ENSTA 2"},{"$f":"VLOOKUP(VLOOKUP($A$82,'Pairing List calcul'!$B:$K,COLUMN(),0),$A:$O,2,0)","v":"IMT Brest 2"},{"$f":"VLOOKUP(VLOOKUP($A$82,'Pairing List calcul'!$B:$K,COLUMN(),0),$A:$O,2,0)","v":"Unicaen 1"},{"$f":"VLOOKUP(VLOOKUP($A$82,'Pairing List calcul'!$B:$K,COLUMN(),0),$A:$O,2,0)","v":"La Rochelle 1"},{"$f":"VLOOKUP(VLOOKUP($A$82,'Pairing List calcul'!$B:$K,COLUMN(),0),$A:$O,2,0)","v":"Orléans"},{"$f":"VLOOKUP(VLOOKUP($A$82,'Pairing List calcul'!$B:$K,COLUMN(),0),$A:$O,2,0)","v":"Paris Cité"},{"$f":"VLOOKUP(VLOOKUP($A$82,'Pairing List calcul'!$B:$K,COLUMN(),0),$A:$O,2,0)","v":"Univ Nantes 2"},{"$f":"VLOOKUP(VLOOKUP($A$82,'Pairing List calcul'!$B:$K,COLUMN(),0),$A:$O,2,0)","v":"IMT Nantes"},{"$f":"VLOOKUP(VLOOKUP($A$82,'Pairing List calcul'!$B:$L,COLUMN(),0),$A:$O,2,0)","v":"Unicaen 2"},{"$f":"VLOOKUP(VLOOKUP($A$82,'Pairing List calcul'!$B:$L,COLUMN(),0),$A:$O,2,0)","v":"Intechmer"}]
["Place"]
[null,{"$f":"VLOOKUP(VLOOKUP($A$84,'Pairing List calcul'!$B:$K,COLUMN(),0),$A:$O,2,0)","v":{"$error":"#N/A"}},{"$f":"VLOOKUP(VLOOKUP($A$84,'Pairing List calcul'!$B:$K,COLUMN(),0),$A:$O,2,0)","v":{"$error":"#N/A"}},{"$f":"VLOOKUP(VLOOKUP($A$84,'Pairing List calcul'!$B:$K,COLUMN(),0),$A:$O,2,0)","v":{"$error":"#N/A"}},{"$f":"VLOOKUP(VLOOKUP($A$84,'Pairing List calcul'!$B:$K,COLUMN(),0),$A:$O,2,0)","v":{"$error":"#N/A"}},{"$f":"VLOOKUP(VLOOKUP($A$84,'Pairing List calcul'!$B:$K,COLUMN(),0),$A:$O,2,0)","v":{"$error":"#N/A"}},{"$f":"VLOOKUP(VLOOKUP($A$84,'Pairing List calcul'!$B:$K,COLUMN(),0),$A:$O,2,0)","v":{"$error":"#N/A"}},{"$f":"VLOOKUP(VLOOKUP($A$84,'Pairing List calcul'!$B:$K,COLUMN(),0),$A:$O,2,0)","v":{"$error":"#N/A"}},{"$f":"VLOOKUP(VLOOKUP($A$84,'Pairing List calcul'!$B:$K,COLUMN(),0),$A:$O,2,0)","v":{"$error":"#N/A"}},{"$f":"VLOOKUP(VLOOKUP($A$84,'Pairing List calcul'!$B:$L,COLUMN(),0),$A:$O,2,0)","v":{"$error":"#N/A"}},{"$f":"VLOOKUP(VLOOKUP($A$84,'Pairing List calcul'!$B:$L,COLUMN(),0),$A:$O,2,0)","v":{"$error":"#N/A"}}]
["Place"]
["Flight 6"]
["Race","Boat 1","Boat 2","Boat 3","Boat 4","Boat 5","Boat 6","Boat 11","Boat 8","Boat 9","Boat 10"]
[16,{"$f":"VLOOKUP(VLOOKUP($A$88,'Pairing List calcul'!$B:$K,COLUMN(),0),$A:$O,2,0)","v":"ENSTA 2"},{"$f":"VLOOKUP(VLOOKUP($A$88,'Pairing List calcul'!$B:$K,COLUMN(),0),$A:$O,2,0)","v":"Southampton"},{"$f":"VLOOKUP(VLOOKUP($A$88,'Pairing List calcul'!$B:$K,COLUMN(),0),$A:$O,2,0)","v":"UBO 1"},{"$f":"VLOOKUP(VLOOKUP($A$88,'Pairing List calcul'!$B:$K,COLUMN(),0),$A:$O,2,0)","v":"La Rochelle 1"},{"$f":"VLOOKUP(VLOOKUP($A$88,'Pairing List calcul'!$B:$K,COLUMN(),0),$A:$O,2,0)","v":"Orléans"},{"$f":"VLOOKUP(VLOOKUP($A$88,'Pairing List calcul'!$B:$K,COLUMN(),0),$A:$O,2,0)","v":"Paris Cité"},{"$f":"VLOOKUP(VLOOKUP($A$88,'Pairing List calcul'!$B:$K,COLUMN(),0),$A:$O,2,0)","v":"Hannover"},{"$f":"VLOOKUP(VLOOKUP($A$88,'Pairing List calcul'!$B:$K,COLUMN(),0),$A:$O,2,0)","v":"IMT Nantes"},{"$f":"VLOOKUP(VLOOKUP($A$88,'Pairing List calcul'!$B:$L,COLUMN(),0),$A:$O,2,0)","v":"Centrale Nantes 1"},{"$f":"VLOOKUP(VLOOKUP($A$88,'Pairing List calcul'!$B:$L,COLUMN(),0),$A:$O,2,0)","v":"ENSTA 1"}]
["Place"]
[17,{"$f":"VLOOKUP(VLOOKUP($A$90,'Pairing List calcul'!$B:$K,COLUMN(),0),$A:$O,2,0)","v":"Univ Nantes 2"},{"$f":"VLOOKUP(VLOOKUP($A$90,'Pairing List calcul'!$B:$K,COLUMN(),0),$A:$O,2,0)","v":"La Rochelle 2"},{"$f":"VLOOKUP(VLOOKUP($A$90,'Pairing List calcul'!$B:$K,COLUMN(),0),$A:$O,2,0)","v":"UNIV Nantes 1"},{"$f":"VLOOKUP(VLOOKUP($A$90,'Pairing List calcul'!$B:$K,COLUMN(),0),$A:$O,2,0)","v":"Karlsruhe"},{"$f":"VLOOKUP(VLOOKUP($A$90,'Pairing List calcul'!$B:$K,COLUMN(),0),$A:$O,2,0)","v":"Plymouth"},{"$f":"VLOOKUP(VLOOKUP($A$90,'Pairing List calcul'!$B:$K,COLUMN(),0),$A:$O,2,0)","v":"ENSMAC"},{"$f":"VLOOKUP(VLOOKUP($A$90,'Pairing List calcul'!$B:$K,COLUMN(),0),$A:$O,2,0)","v":"Intechmer"},{"$f":"VLOOKUP(VLOOKUP($A$90,'Pairing List calcul'!$B:$K,COLUMN(),0),$A:$O,2,0)","v":"Unicaen 1"},{"$f":"VLOOKUP(VLOOKUP($A$90,'Pairing List calcul'!$B:$L,COLUMN(),0),$A:$O,2,0)","v":"Centrale Nantes 2"},{"$f":"VLOOKUP(VLOOKUP($A$90,'Pairing List calcul'!$B:$L,COLUMN(),0),$A:$O,2,0)","v":"Univ Nantes 3"}]
["Place"]
[18,{"$f":"VLOOKUP(VLOOKUP($A$92,'Pairing List calcul'!$B:$K,COLUMN(),0),$A:$O,2,0)","v":"Unicaen 2"},{"$f":"VLOOKUP(VLOOKUP($A$92,'Pairing List calcul'!$B:$K,COLUMN(),0),$A:$O,2,0)","v":"Paris Sorbone"},{"$f":"VLOOKUP(VLOOKUP($A$92,'Pairing List calcul'!$B:$K,COLUMN(),0),$A:$O,2,0)","v":"UBS Lorient 2"},{"$f":"VLOOKUP(VLOOKUP($A$92,'Pairing List calcul'!$B:$K,COLUMN(),0),$A:$O,2,0)","v":"UBS Lorient 1"},{"$f":"VLOOKUP(VLOOKUP($A$92,'Pairing List calcul'!$B:$K,COLUMN(),0),$A:$O,2,0)","v":"IMT Brest 1"},{"$f":"VLOOKUP(VLOOKUP($A$92,'Pairing List calcul'!$B:$K,COLUMN(),0),$A:$O,2,0)","v":"IMT Brest 2"},{"$f":"VLOOKUP(VLOOKUP($A$92,'Pairing List calcul'!$B:$K,COLUMN(),0),$A:$O,2,0)","v":"ST Brieuc 2"},{"$f":"VLOOKUP(VLOOKUP($A$92,'Pairing List calcul'!$B:$K,COLUMN(),0),$A:$O,2,0)","v":"UBO 2"},{"$f":"VLOOKUP(VLOOKUP($A$92,'Pairing List calcul'!$B:$L,COLUMN(),0),$A:$O,2,0)","v":"INSA Lyon"},{"$f":"VLOOKUP(VLOOKUP($A$92,'Pairing List calcul'!$B:$L,COLUMN(),0),$A:$O,2,0)","v":"St Brieuc 1"}]
["Place"]
[null,{"$f":"VLOOKUP(VLOOKUP($A$94,'Pairing List calcul'!$B:$K,COLUMN(),0),$A:$O,2,0)","v":{"$error":"#N/A"}},{"$f":"VLOOKUP(VLOOKUP($A$94,'Pairing List calcul'!$B:$K,COLUMN(),0),$A:$O,2,0)","v":{"$error":"#N/A"}},{"$f":"VLOOKUP(VLOOKUP($A$94,'Pairing List calcul'!$B:$K,COLUMN(),0),$A:$O,2,0)","v":{"$error":"#N/A"}},{"$f":"VLOOKUP(VLOOKUP($A$94,'Pairing List calcul'!$B:$K,COLUMN(),0),$A:$O,2,0)","v":{"$error":"#N/A"}},{"$f":"VLOOKUP(VLOOKUP($A$94,'Pairing List calcul'!$B:$K,COLUMN(),0),$A:$O,2,0)","v":{"$error":"#N/A"}},{"$f":"VLOOKUP(VLOOKUP($A$94,'Pairing List calcul'!$B:$K,COLUMN(),0),$A:$O,2,0)","v":{"$error":"#N/A"}},{"$f":"VLOOKUP(VLOOKUP($A$94,'Pairing List calcul'!$B:$K,COLUMN(),0),$A:$O,2,0)","v":{"$error":"#N/A"}},{"$f":"VLOOKUP(VLOOKUP($A$94,'Pairing List calcul'!$B:$K,COLUMN(),0),$A:$O,2,0)","v":{"$error":"#N/A"}},{"$f":"VLOOKUP(VLOOKUP($A$94,'Pairing List calcul'!$B:$L,COLUMN(),0),$A:$O,2,0)","v":{"$error":"#N/A"}},{"$f":"VLOOKUP(VLOOKUP($A$94,'Pairing List calcul'!$B:$L,COLUMN(),0),$A:$O,2,0)","v":{"$error":"#N/A"}}]
["Place"]
["Flight 7"]
["Race","Boat 1","Boat 2","Boat 3","Boat 4","Boat 5","Boat 6","Boat 11","Boat 8","Boat 9","Boat 10"]
[19,{"$f":"VLOOKUP(VLOOKUP($A$98,'Pairing List calcul'!$B:$K,COLUMN(),0),$A:$O,2,0)","v":"Centrale Nantes 2"},{"$f":"VLOOKUP(VLOOKUP($A$98,'Pairing List calcul'!$B:$K,COLUMN(),0),$A:$O,2,0)","v":"Intechmer"},{"$f":"VLOOKUP(VLOOKUP($A$98,'Pairing List calcul'!$B:$K,COLUMN(),0),$A:$O,2,0)","v":"UBS Lorient 2"},{"$f":"VLOOKUP(VLOOKUP($A$98,'Pairing List calcul'!$B:$K,COLUMN(),0),$A:$O,2,0)","v":"UNIV Nantes 1"},{"$f":"VLOOKUP(VLOOKUP($A$98,'Pairing List calcul'!$B:$K,COLUMN(),0),$A:$O,2,0)","v":"IMT Brest 1"},{"$f":"VLOOKUP(VLOOKUP($A$98,'Pairing List calcul'!$B:$K,COLUMN(),0),$A:$O,2,0)","v":"Univ Nantes 2"},{"$f":"VLOOKUP(VLOOKUP($A$98,'Pairing List calcul'!$B:$K,COLUMN(),0),$A:$O,2,0)","v":"ST Brieuc 2"},{"$f":"VLOOKUP(VLOOKUP($A$98,'Pairing List calcul'!$B:$K,COLUMN(),0),$A:$O,2,0)","v":"UBO 2"},{"$f":"VLOOKUP(VLOOKUP($A$98,'Pairing List calcul'!$B:$L,COLUMN(),0),$A:$O,2,0)","v":"Paris Cité"},{"$f":"VLOOKUP(VLOOKUP($A$98,'Pairing List calcul'!$B:$L,COLUMN(),0),$A:$O,2,0)","v":"St Brieuc 1"}]
["Place"]
[20,{"$f":"VLOOKUP(VLOOKUP($A$100,'Pairing List calcul'!$B:$K,COLUMN(),0),$A:$O,2,0)","v":"Unicaen 1"},{"$f":"VLOOKUP(VLOOKUP($A$100,'Pairing List calcul'!$B:$K,COLUMN(),0),$A:$O,2,0)","v":"La Rochelle 1"},{"$f":"VLOOKUP(VLOOKUP($A$100,'Pairing List calcul'!$B:$K,COLUMN(),0),$A:$O,2,0)","v":"Southampton"},{"$f":"VLOOKUP(VLOOKUP($A$100,'Pairing List calcul'!$B:$K,COLUMN(),0),$A:$O,2,0)","v":"Karlsruhe"},{"$f":"VLOOKUP(VLOOKUP($A$100,'Pairing List calcul'!$B:$K,COLUMN(),0),$A:$O,2,0)","v":"UBS Lorient 1"},{"$f":"VLOOKUP(VLOOKUP($A$100,'Pairing List calcul'!$B:$K,COLUMN(),0),$A:$O,2,0)","v":"Univ Nantes 3"},{"$f":"VLOOKUP(VLOOKUP($A$100,'Pairing List calcul'!$B:$K,COLUMN(),0),$A:$O,2,0)","v":"Plymouth"},{"$f":"VLOOKUP(VLOOKUP($A$100,'Pairing List calcul'!$B:$K,COLUMN(),0),$A:$O,2,0)","v":"IMT Nantes"},{"$f":"VLOOKUP(VLOOKUP($A$100,'Pairing List calcul'!$B:$L,COLUMN(),0),$A:$O,2,0)","v":"ENSTA 1"},{"$f":"VLOOKUP(VLOOKUP($A$100,'Pairing List calcul'!$B:$L,COLUMN(),0),$A:$O,2,0)","v":"Orléans"}]
["Place"]
[21,{"$f":"VLOOKUP(VLOOKUP($A$102,'Pairing List calcul'!$B:$K,COLUMN(),0),$A:$O,2,0)","v":"La Rochelle 2"},{"$f":"VLOOKUP(VLOOKUP($A$102,'Pairing List calcul'!$B:$K,COLUMN(),0),$A:$O,2,0)","v":"ENSTA 2"},{"$f":"VLOOKUP(VLOOKUP($A$102,'Pairing List calcul'!$B:$K,COLUMN(),0),$A:$O,2,0)","v":"Hannover"},{"$f":"VLOOKUP(VLOOKUP($A$102,'Pairing List calcul'!$B:$K,COLUMN(),0),$A:$O,2,0)","v":"Paris Sorbone"},{"$f":"VLOOKUP(VLOOKUP($A$102,'Pairing List calcul'!$B:$K,COLUMN(),0),$A:$O,2,0)","v":"Centrale Nantes 1"},{"$f":"VLOOKUP(VLOOKUP($A$102,'Pairing List calcul'!$B:$K,COLUMN(),0),$A:$O,2,0)","v":"Unicaen 2"},{"$f":"VLOOKUP(VLOOKUP($A$102,'Pairing List calcul'!$B:$K,COLUMN(),0),$A:$O,2,0)","v":"IMT Brest 2"},{"$f":"VLOOKUP(VLOOKUP($A$102,'Pairing List calcul'!$B:$K,COLUMN(),0),$A:$O,2,0)","v":"INSA Lyon"},{"$f":"VLOOKUP(VLOOKUP($A$102,'Pairing List calcul'!$B:$L,COLUMN(),0),$A:$O,2,0)","v":"UBO 1"},{"$f":"VLOOKUP(VLOOKUP($A$102,'Pairing List calcul'!$B:$L,COLUMN(),0),$A:$O,2,0)","v":"ENSMAC"}]
["Place"]
[null,{"$f":"VLOOKUP(VLOOKUP($A$104,'Pairing List calcul'!$B:$K,COLUMN(),0),$A:$O,2,0)","v":{"$error":"#N/A"}},{"$f":"VLOOKUP(VLOOKUP($A$104,'Pairing List calcul'!$B:$K,COLUMN(),0),$A:$O,2,0)","v":{"$error":"#N/A"}},{"$f":"VLOOKUP(VLOOKUP($A$104,'Pairing List calcul'!$B:$K,COLUMN(),0),$A:$O,2,0)","v":{"$error":"#N/A"}},{"$f":"VLOOKUP(VLOOKUP($A$104,'Pairing List calcul'!$B:$K,COLUMN(),0),$A:$O,2,0)","v":{"$error":"#N/A"}},{"$f":"VLOOKUP(VLOOKUP($A$104,'Pairing List calcul'!$B:$K,COLUMN(),0),$A:$O,2,0)","v":{"$error":"#N/A"}},{"$f":"VLOOKUP(VLOOKUP($A$104,'Pairing List calcul'!$B:$K,COLUMN(),0),$A:$O,2,0)","v":{"$error":"#N/A"}},{"$f":"VLOOKUP(VLOOKUP($A$104,'Pairing List calcul'!$B:$K,COLUMN(),0),$A:$O,2,0)","v":{"$error":"#N/A"}},{"$f":"VLOOKUP(VLOOKUP($A$104,'Pairing List calcul'!$B:$K,COLUMN(),0),$A:$O,2,0)","v":{"$error":"#N/A"}},{"$f":"VLOOKUP(VLOOKUP($A$104,'Pairing List calcul'!$B:$L,COLUMN(),0),$A:$O,2,0)","v":{"$error":"#N/A"}},{"$f":"VLOOKUP(VLOOKUP($A$104,'Pairing List calcul'!$B:$L,COLUMN(),0),$A:$O,2,0)","v":{"$error":"#N/A"}}]
["Place"]
["Flight 8"]
["Race","Boat 1","Boat 2","Boat 3","Boat 4","Boat 5","Boat 6","Boat 11","Boat 8","Boat 9","Boat 10"]
[22,{"$f":"VLOOKUP(VLOOKUP($A$108,'Pairing List calcul'!$B:$K,COLUMN(),0),$A:$O,2,0)","v":"La Rochelle 2"},{"$f":"VLOOKUP(VLOOKUP($A$108,'Pairing List calcul'!$B:$K,COLUMN(),0),$A:$O,2,0)","v":"ENSTA 2"},{"$f":"VLOOKUP(VLOOKUP($A$108,'Pairing List calcul'!$B:$K,COLUMN(),0),$A:$O,2,0)","v":"UBO 2"},{"$f":"VLOOKUP(VLOOKUP($A$108,'Pairing List calcul'!$B:$K,COLUMN(),0),$A:$O,2,0)","v":"Paris Sorbone"},{"$f":"VLOOKUP(VLOOKUP($A$108,'Pairing List calcul'!$B:$K,COLUMN(),0),$A:$O,2,0)","v":"ST Brieuc 2"},{"$f":"VLOOKUP(VLOOKUP($A$108,'Pairing List calcul'!$B:$K,COLUMN(),0),$A:$O,2,0)","v":"Centrale Nantes 2"},{"$f":"VLOOKUP(VLOOKUP($A$108,'Pairing List calcul'!$B:$K,COLUMN(),0),$A:$O,2,0)","v":"St Brieuc 1"},{"$f":"VLOOKUP(VLOOKUP($A$108,'Pairing List calcul'!$B:$K,COLUMN(),0),$A:$O,2,0)","v":"Paris Cité"},{"$f":"VLOOKUP(VLOOKUP($A$108,'Pairing List calcul'!$B:$L,COLUMN(),0),$A:$O,2,0)","v":"UBO 1"},{"$f":"VLOOKUP(VLOOKUP($A$108,'Pairing List calcul'!$B:$L,COLUMN(),0),$A:$O,2,0)","v":"Univ Nantes 3"}]
["Place"]
[23,{"$f":"VLOOKUP(VLOOKUP($A$110,'Pairing List calcul'!$B:$K,COLUMN(),0),$A:$O,2,0)","v":"Centrale Nantes 1"},{"$f":"VLOOKUP(VLOOKUP($A$110,'Pairing List calcul'!$B:$K,COLUMN(),0),$A:$O,2,0)","v":"ENSMAC"},{"$f":"VLOOKUP(VLOOKUP($A$110,'Pairing List calcul'!$B:$K,COLUMN(),0),$A:$O,2,0)","v":"INSA Lyon"},{"$f":"VLOOKUP(VLOOKUP($A$110,'Pairing List calcul'!$B:$K,COLUMN(),0),$A:$O,2,0)","v":"Univ Nantes 2"},{"$f":"VLOOKUP(VLOOKUP($A$110,'Pairing List calcul'!$B:$K,COLUMN(),0),$A:$O,2,0)","v":"IMT Nantes"},{"$f":"VLOOKUP(VLOOKUP($A$110,'Pairing List calcul'!$B:$K,COLUMN(),0),$A:$O,2,0)","v":"Karlsruhe"},{"$f":"VLOOKUP(VLOOKUP($A$110,'Pairing List calcul'!$B:$K,COLUMN(),0),$A:$O,2,0)","v":"Unicaen 2"},{"$f":"VLOOKUP(VLOOKUP($A$110,'Pairing List calcul'!$B:$K,COLUMN(),0),$A:$O,2,0)","v":"Unicaen 1"},{"$f":"VLOOKUP(VLOOKUP($A$110,'Pairing List calcul'!$B:$L,COLUMN(),0),$A:$O,2,0)","v":"Orléans"},{"$f":"VLOOKUP(VLOOKUP($A$110,'Pairing List calcul'!$B:$L,COLUMN(),0),$A:$O,2,0)","v":"Plymouth"}]
["Place"]
[24,{"$f":"VLOOKUP(VLOOKUP($A$112,'Pairing List calcul'!$B:$K,COLUMN(),0),$A:$O,2,0)","v":"UNIV Nantes 1"},{"$f":"VLOOKUP(VLOOKUP($A$112,'Pairing List calcul'!$B:$K,COLUMN(),0),$A:$O,2,0)","v":"UBS Lorient 1"},{"$f":"VLOOKUP(VLOOKUP($A$112,'Pairing List calcul'!$B:$K,COLUMN(),0),$A:$O,2,0)","v":"IMT Brest 1"},{"$f":"VLOOKUP(VLOOKUP($A$112,'Pairing List calcul'!$B:$K,COLUMN(),0),$A:$O,2,0)","v":"UBS Lorient 2"},{"$f":"VLOOKUP(VLOOKUP($A$112,'Pairing List calcul'!$B:$K,COLUMN(),0),$A:$O,2,0)","v":"Intechmer"},{"$f":"VLOOKUP(VLOOKUP($A$112,'Pairing List calcul'!$B:$K,COLUMN(),0),$A:$O,2,0)","v":"ENSTA 1"},{"$f":"VLOOKUP(VLOOKUP($A$112,'Pairing List calcul'!$B:$K,COLUMN(),0),$A:$O,2,0)","v":"Hannover"},{"$f":"VLOOKUP(VLOOKUP($A$112,'Pairing List calcul'!$B:$K,COLUMN(),0),$A:$O,2,0)","v":"Southampton"},{"$f":"VLOOKUP(VLOOKUP($A$112,'Pairing List calcul'!$B:$L,COLUMN(),0),$A:$O,2,0)","v":"La Rochelle 1"},{"$f":"VLOOKUP(VLOOKUP($A$112,'Pairing List calcul'!$B:$L,COLUMN(),0),$A:$O,2,0)","v":"IMT Brest 2"}]
["Place"]
[null,{"$f":"VLOOKUP(VLOOKUP($A$114,'Pairing List calcul'!$B:$K,COLUMN(),0),$A:$O,2,0)","v":{"$error":"#N/A"}},{"$f":"VLOOKUP(VLOOKUP($A$114,'Pairing List calcul'!$B:$K,COLUMN(),0),$A:$O,2,0)","v":{"$error":"#N/A"}},{"$f":"VLOOKUP(VLOOKUP($A$114,'Pairing List calcul'!$B:$K,COLUMN(),0),$A:$O,2,0)","v":{"$error":"#N/A"}},{"$f":"VLOOKUP(VLOOKUP($A$114,'Pairing List calcul'!$B:$K,COLUMN(),0),$A:$O,2,0)","v":{"$error":"#N/A"}},{"$f":"VLOOKUP(VLOOKUP($A$114,'Pairing List calcul'!$B:$K,COLUMN(),0),$A:$O,2,0)","v":{"$error":"#N/A"}},{"$f":"VLOOKUP(VLOOKUP($A$114,'Pairing List calcul'!$B:$K,COLUMN(),0),$A:$O,2,0)","v":{"$error":"#N/A"}},{"$f":"VLOOKUP(VLOOKUP($A$114,'Pairing List calcul'!$B:$K,COLUMN(),0),$A:$O,2,0)","v":{"$error":"#N/A"}},{"$f":"VLOOKUP(VLOOKUP($A$114,'Pairing List calcul'!$B:$K,COLUMN(),0),$A:$O,2,0)","v":{"$error":"#N/A"}},{"$f":"VLOOKUP(VLOOKUP($A$114,'Pairing List calcul'!$B:$L,COLUMN(),0),$A:$O,2,0)","v":{"$error":"#N/A"}},{"$f":"VLOOKUP(VLOOKUP($A$114,'Pairing List calcul'!$B:$L,COLUMN(),0),$A:$O,2,0)","v":{"$error":"#N/A"}}]
["Place"]
["Flight 9"]
["Race","Boat 1","Boat 2","Boat 3","Boat 4","Boat 5","Boat 6","Boat 11","Boat 8","Boat 9","Boat 10"]
[25,{"$f":"VLOOKUP(VLOOKUP($A$118,'Pairing List calcul'!$B:$K,COLUMN(),0),$A:$O,2,0)","v":"UNIV Nantes 1"},{"$f":"VLOOKUP(VLOOKUP($A$118,'Pairing List calcul'!$B:$K,COLUMN(),0),$A:$O,2,0)","v":"UBS Lorient 1"},{"$f":"VLOOKUP(VLOOKUP($A$118,'Pairing List calcul'!$B:$K,COLUMN(),0),$A:$O,2,0)","v":"ENSMAC"},{"$f":"VLOOKUP(VLOOKUP($A$118,'Pairing List calcul'!$B:$K,COLUMN(),0),$A:$O,2,0)","v":"UBS Lorient 2"},{"$f":"VLOOKUP(VLOOKUP($A$118,'Pairing List calcul'!$B:$K,COLUMN(),0),$A:$O,2,0)","v":"Centrale Nantes 1"},{"$f":"VLOOKUP(VLOOKUP($A$118,'Pairing List calcul'!$B:$K,COLUMN(),0),$A:$O,2,0)","v":"St Brieuc 1"},{"$f":"VLOOKUP(VLOOKUP($A$118,'Pairing List calcul'!$B:$K,COLUMN(),0),$A:$O,2,0)","v":"Orléans"},{"$f":"VLOOKUP(VLOOKUP($A$118,'Pairing List calcul'!$B:$K,COLUMN(),0),$A:$O,2,0)","v":"Univ Nantes 2"},{"$f":"VLOOKUP(VLOOKUP($A$118,'Pairing List calcul'!$B:$L,COLUMN(),0),$A:$O,2,0)","v":"La Rochelle 1"},{"$f":"VLOOKUP(VLOOKUP($A$118,'Pairing List calcul'!$B:$L,COLUMN(),0),$A:$O,2,0)","v":"Univ Nantes 3"}]
["Place"]
[26,{"$f":"VLOOKUP(VLOOKUP($A$120,'Pairing List calcul'!$B:$K,COLUMN(),0),$A:$O,2,0)","v":"Hannover"},{"$f":"VLOOKUP(VLOOKUP($A$120,'Pairing List calcul'!$B:$K,COLUMN(),0),$A:$O,2,0)","v":"Paris Cité"},{"$f":"VLOOKUP(VLOOKUP($A$120,'Pairing List calcul'!$B:$K,COLUMN(),0),$A:$O,2,0)","v":"Unicaen 2"},{"$f":"VLOOKUP(VLOOKUP($A$120,'Pairing List calcul'!$B:$K,COLUMN(),0),$A:$O,2,0)","v":"UBO 1"},{"$f":"VLOOKUP(VLOOKUP($A$120,'Pairing List calcul'!$B:$K,COLUMN(),0),$A:$O,2,0)","v":"ENSTA 1"},{"$f":"VLOOKUP(VLOOKUP($A$120,'Pairing List calcul'!$B:$K,COLUMN(),0),$A:$O,2,0)","v":"La Rochelle 2"},{"$f":"VLOOKUP(VLOOKUP($A$120,'Pairing List calcul'!$B:$K,COLUMN(),0),$A:$O,2,0)","v":"IMT Nantes"},{"$f":"VLOOKUP(VLOOKUP($A$120,'Pairing List calcul'!$B:$K,COLUMN(),0),$A:$O,2,0)","v":"Plymouth"},{"$f":"VLOOKUP(VLOOKUP($A$120,'Pairing List calcul'!$B:$L,COLUMN(),0),$A:$O,2,0)","v":"Paris Sorbone"},{"$f":"VLOOKUP(VLOOKUP($A$120,'Pairing List calcul'!$B:$L,COLUMN(),0),$A:$O,2,0)","v":"UBO 2"}]
["Place"]
[27,{"$f":"VLOOKUP(VLOOKUP($A$122,'Pairing List calcul'!$B:$K,COLUMN(),0),$A:$O,2,0)","v":"INSA Lyon"},{"$f":"VLOOKUP(VLOOKUP($A$122,'Pairing List calcul'!$B:$K,COLUMN(),0),$A:$O,2,0)","v":"ENSTA 2"},{"$f":"VLOOKUP(VLOOKUP($A$122,'Pairing List calcul'!$B:$K,COLUMN(),0),$A:$O,2,0)","v":"Southampton"},{"$f":"VLOOKUP(VLOOKUP($A$122,'Pairing List calcul'!$B:$K,COLUMN(),0),$A:$O,2,0)","v":"IMT Brest 1"},{"$f":"VLOOKUP(VLOOKUP($A$122,'Pairing List calcul'!$B:$K,COLUMN(),0),$A:$O,2,0)","v":"IMT Brest 2"},{"$f":"VLOOKUP(VLOOKUP($A$122,'Pairing List calcul'!$B:$K,COLUMN(),0),$A:$O,2,0)","v":"Unicaen 1"},{"$f":"VLOOKUP(VLOOKUP($A$122,'Pairing List calcul'!$B:$K,COLUMN(),0),$A:$O,2,0)","v":"Intechmer"},{"$f":"VLOOKUP(VLOOKUP($A$122,'Pairing List calcul'!$B:$K,COLUMN(),0),$A:$O,2,0)","v":"Karlsruhe"},{"$f":"VLOOKUP(VLOOKUP($A$122,'Pairing List calcul'!$B:$L,COLUMN(),0),$A:$O,2,0)","v":"Centrale Nantes 2"},{"$f":"VLOOKUP(VLOOKUP($A$122,'Pairing List calcul'!$B:$L,COLUMN(),0),$A:$O,2,0)","v":"ST Brieuc 2"}]
["Place"]
[null,{"$f":"VLOOKUP(VLOOKUP($A$124,'Pairing List calcul'!$B:$K,COLUMN(),0),$A:$O,2,0)","v":{"$error":"#N/A"}},{"$f":"VLOOKUP(VLOOKUP($A$124,'Pairing List calcul'!$B:$K,COLUMN(),0),$A:$O,2,0)","v":{"$error":"#N/A"}},{"$f":"VLOOKUP(VLOOKUP($A$124,'Pairing List calcul'!$B:$K,COLUMN(),0),$A:$O,2,0)","v":{"$error":"#N/A"}},{"$f":"VLOOKUP(VLOOKUP($A$124,'Pairing List calcul'!$B:$K,COLUMN(),0),$A:$O,2,0)","v":{"$error":"#N/A"}},{"$f":"VLOOKUP(VLOOKUP($A$124,'Pairing List calcul'!$B:$K,COLUMN(),0),$A:$O,2,0)","v":{"$error":"#N/A"}},{"$f":"VLOOKUP(VLOOKUP($A$124,'Pairing List calcul'!$B:$K,COLUMN(),0),$A:$O,2,0)","v":{"$error":"#N/A"}},{"$f":"VLOOKUP(VLOOKUP($A$124,'Pairing List calcul'!$B:$K,COLUMN(),0),$A:$O,2,0)","v":{"$error":"#N/A"}},{"$f":"VLOOKUP(VLOOKUP($A$124,'Pairing List calcul'!$B:$K,COLUMN(),0),$A:$O,2,0)","v":{"$error":"#N/A"}},{"$f":"VLOOKUP(VLOOKUP($A$124,'Pairing List calcul'!$B:$L,COLUMN(),0),$A:$O,2,0)","v":{"$error":"#N/A"}},{"$f":"VLOOKUP(VLOOKUP($A$124,'Pairing List calcul'!$B:$L,COLUMN(),0),$A:$O,2,0)","v":{"$error":"#N/A"}}]
["Place"]
["Flight 10"]
["Race","Boat 1","Boat 2","Boat 3","Boat 4","Boat 5","Boat 6","Boat 11","Boat 8","Boat 9","Boat 10"]
[28,{"$f":"VLOOKUP(VLOOKUP($A$128,'Pairing List calcul'!$B:$K,COLUMN(),0),$A:$O,2,0)","v":"UBO 2"},{"$f":"VLOOKUP(VLOOKUP($A$128,'Pairing List calcul'!$B:$K,COLUMN(),0),$A:$O,2,0)","v":"Univ Nantes 3"},{"$f":"VLOOKUP(VLOOKUP($A$128,'Pairing List calcul'!$B:$K,COLUMN(),0),$A:$O,2,0)","v":"Orléans"},{"$f":"VLOOKUP(VLOOKUP($A$128,'Pairing List calcul'!$B:$K,COLUMN(),0),$A:$O,2,0)","v":"IMT Brest 1"},{"$f":"VLOOKUP(VLOOKUP($A$128,'Pairing List calcul'!$B:$K,COLUMN(),0),$A:$O,2,0)","v":"Univ Nantes 2"},{"$f":"VLOOKUP(VLOOKUP($A$128,'Pairing List calcul'!$B:$K,COLUMN(),0),$A:$O,2,0)","v":"Unicaen 1"},{"$f":"VLOOKUP(VLOOKUP($A$128,'Pairing List calcul'!$B:$K,COLUMN(),0),$A:$O,2,0)","v":"UBO 1"},{"$f":"VLOOKUP(VLOOKUP($A$128,'Pairing List calcul'!$B:$K,COLUMN(),0),$A:$O,2,0)","v":"Unicaen 2"},{"$f":"VLOOKUP(VLOOKUP($A$128,'Pairing List calcul'!$B:$L,COLUMN(),0),$A:$O,2,0)","v":"Centrale Nantes 2"},{"$f":"VLOOKUP(VLOOKUP($A$128,'Pairing List calcul'!$B:$L,COLUMN(),0),$A:$O,2,0)","v":"La Rochelle 1"}]
["Place"]
[29,{"$f":"VLOOKUP(VLOOKUP($A$130,'Pairing List calcul'!$B:$K,COLUMN(),0),$A:$O,2,0)","v":"Plymouth"},{"$f":"VLOOKUP(VLOOKUP($A$130,'Pairing List calcul'!$B:$K,COLUMN(),0),$A:$O,2,0)","v":"ENSMAC"},{"$f":"VLOOKUP(VLOOKUP($A$130,'Pairing List calcul'!$B:$K,COLUMN(),0),$A:$O,2,0)","v":"ENSTA 1"},{"$f":"VLOOKUP(VLOOKUP($A$130,'Pairing List calcul'!$B:$K,COLUMN(),0),$A:$O,2,0)","v":"Paris Cité"},{"$f":"VLOOKUP(VLOOKUP($A$130,'Pairing List calcul'!$B:$K,COLUMN(),0),$A:$O,2,0)","v":"La Rochelle 2"},{"$f":"VLOOKUP(VLOOKUP($A$130,'Pairing List calcul'!$B:$K,COLUMN(),0),$A:$O,2,0)","v":"Intechmer"},{"$f":"VLOOKUP(VLOOKUP($A$130,'Pairing List calcul'!$B:$K,COLUMN(),0),$A:$O,2,0)","v":"IMT Nantes"},{"$f":"VLOOKUP(VLOOKUP($A$130,'Pairing List calcul'!$B:$K,COLUMN(),0),$A:$O,2,0)","v":"UBS Lorient 2"},{"$f":"VLOOKUP(VLOOKUP($A$130,'Pairing List calcul'!$B:$L,COLUMN(),0),$A:$O,2,0)","v":"ST Brieuc 2"},{"$f":"VLOOKUP(VLOOKUP($A$130,'Pairing List calcul'!$B:$L,COLUMN(),0),$A:$O,2,0)","v":"Southampton"}]
["Place"]
[30,{"$f":"VLOOKUP(VLOOKUP($A$132,'Pairing List calcul'!$B:$K,COLUMN(),0),$A:$O,2,0)","v":"IMT Brest 2"},{"$f":"VLOOKUP(VLOOKUP($A$132,'Pairing List calcul'!$B:$K,COLUMN(),0),$A:$O,2,0)","v":"UNIV Nantes 1"},{"$f":"VLOOKUP(VLOOKUP($A$132,'Pairing List calcul'!$B:$K,COLUMN(),0),$A:$O,2,0)","v":"UBS Lorient 1"},{"$f":"VLOOKUP(VLOOKUP($A$132,'Pairing List calcul'!$B:$K,COLUMN(),0),$A:$O,2,0)","v":"Karlsruhe"},{"$f":"VLOOKUP(VLOOKUP($A$132,'Pairing List calcul'!$B:$K,COLUMN(),0),$A:$O,2,0)","v":"Paris Sorbone"},{"$f":"VLOOKUP(VLOOKUP($A$132,'Pairing List calcul'!$B:$K,COLUMN(),0),$A:$O,2,0)","v":"ENSTA 2"},{"$f":"VLOOKUP(VLOOKUP($A$132,'Pairing List calcul'!$B:$K,COLUMN(),0),$A:$O,2,0)","v":"Centrale Nantes 1"},{"$f":"VLOOKUP(VLOOKUP($A$132,'Pairing List calcul'!$B:$K,COLUMN(),0),$A:$O,2,0)","v":"Hannover"},{"$f":"VLOOKUP(VLOOKUP($A$132,'Pairing List calcul'!$B:$L,COLUMN(),0),$A:$O,2,0)","v":"St Brieuc 1"},{"$f":"VLOOKUP(VLOOKUP($A$132,'Pairing List calcul'!$B:$L,COLUMN(),0),$A:$O,2,0)","v":"INSA Lyon"}]
["Place"]
[null,{"$f":"VLOOKUP(VLOOKUP($A$134,'Pairing List calcul'!$B:$K,COLUMN(),0),$A:$O,2,0)","v":{"$error":"#N/A"}},{"$f":"VLOOKUP(VLOOKUP($A$134,'Pairing List calcul'!$B:$K,COLUMN(),0),$A:$O,2,0)","v":{"$error":"#N/A"}},{"$f":"VLOOKUP(VLOOKUP($A$134,'Pairing List calcul'!$B:$K,COLUMN(),0),$A:$O,2,0)","v":{"$error":"#N/A"}},{"$f":"VLOOKUP(VLOOKUP($A$134,'Pairing List calcul'!$B:$K,COLUMN(),0),$A:$O,2,0)","v":{"$error":"#N/A"}},{"$f":"VLOOKUP(VLOOKUP($A$134,'Pairing List calcul'!$B:$K,COLUMN(),0),$A:$O,2,0)","v":{"$error":"#N/A"}},{"$f":"VLOOKUP(VLOOKUP($A$134,'Pairing List calcul'!$B:$K,COLUMN(),0),$A:$O,2,0)","v":{"$error":"#N/A"}},{"$f":"VLOOKUP(VLOOKUP($A$134,'Pairing List calcul'!$B:$K,COLUMN(),0),$A:$O,2,0)","v":{"$error":"#N/A"}},{"$f":"VLOOKUP(VLOOKUP($A$134,'Pairing List calcul'!$B:$K,COLUMN(),0),$A:$O,2,0)","v":{"$error":"#N/A"}},{"$f":"VLOOKUP(VLOOKUP($A$134,'Pairing List calcul'!$B:$L,COLUMN(),0),$A:$O,2,0)","v":{"$error":"#N/A"}},{"$f":"VLOOKUP(VLOOKUP($A$134,'Pairing List calcul'!$B:$L,COLUMN(),0),$A:$O,2,0)","v":{"$error":"#N/A"}}]
["Place"]
["Flight 11"]
["Race","Boat 1","Boat 2","Boat 3","Boat 4","Boat 5","Boat 6","Boat 11","Boat 8","Boat 9","Boat 10"]
[31,{"$f":"VLOOKUP(VLOOKUP($A$138,'Pairing List calcul'!$B:$K,COLUMN(),0),$A:$O,2,0)","v":"IMT Brest 2"},{"$f":"VLOOKUP(VLOOKUP($A$138,'Pairing List calcul'!$B:$K,COLUMN(),0),$A:$O,2,0)","v":"UNIV Nantes 1"},{"$f":"VLOOKUP(VLOOKUP($A$138,'Pairing List calcul'!$B:$K,COLUMN(),0),$A:$O,2,0)","v":"UBS Lorient 1"},{"$f":"VLOOKUP(VLOOKUP($A$138,'Pairing List calcul'!$B:$K,COLUMN(),0),$A:$O,2,0)","v":"Orléans"},{"$f":"VLOOKUP(VLOOKUP($A$138,'Pairing List calcul'!$B:$K,COLUMN(),0),$A:$O,2,0)","v":"Paris Cité"},{"$f":"VLOOKUP(VLOOKUP($A$138,'Pairing List calcul'!$B:$K,COLUMN(),0),$A:$O,2,0)","v":"Unicaen 1"},{"$f":"VLOOKUP(VLOOKUP($A$138,'Pairing List calcul'!$B:$K,COLUMN(),0),$A:$O,2,0)","v":"Centrale Nantes 1"},{"$f":"VLOOKUP(VLOOKUP($A$138,'Pairing List calcul'!$B:$K,COLUMN(),0),$A:$O,2,0)","v":"Hannover"},{"$f":"VLOOKUP(VLOOKUP($A$138,'Pairing List calcul'!$B:$L,COLUMN(),0),$A:$O,2,0)","v":"St Brieuc 1"},{"$f":"VLOOKUP(VLOOKUP($A$138,'Pairing List calcul'!$B:$L,COLUMN(),0),$A:$O,2,0)","v":"IMT Brest 1"}]
["Place"]
[32,{"$f":"VLOOKUP(VLOOKUP($A$140,'Pairing List calcul'!$B:$K,COLUMN(),0),$A:$O,2,0)","v":"Plymouth"},{"$f":"VLOOKUP(VLOOKUP($A$140,'Pairing List calcul'!$B:$K,COLUMN(),0),$A:$O,2,0)","v":"Karlsruhe"},{"$f":"VLOOKUP(VLOOKUP($A$140,'Pairing List calcul'!$B:$K,COLUMN(),0),$A:$O,2,0)","v":"Paris Sorbone"},{"$f":"VLOOKUP(VLOOKUP($A$140,'Pairing List calcul'!$B:$K,COLUMN(),0),$A:$O,2,0)","v":"UBO 2"},{"$f":"VLOOKUP(VLOOKUP($A$140,'Pairing List calcul'!$B:$K,COLUMN(),0),$A:$O,2,0)","v":"ENSTA 2"},{"$f":"VLOOKUP(VLOOKUP($A$140,'Pairing List calcul'!$B:$K,COLUMN(),0),$A:$O,2,0)","v":"Univ Nantes 3"},{"$f":"VLOOKUP(VLOOKUP($A$140,'Pairing List calcul'!$B:$K,COLUMN(),0),$A:$O,2,0)","v":"Univ Nantes 2"},{"$f":"VLOOKUP(VLOOKUP($A$140,'Pairing List calcul'!$B:$K,COLUMN(),0),$A:$O,2,0)","v":"ST Brieuc 2"},{"$f":"VLOOKUP(VLOOKUP($A$140,'Pairing List calcul'!$B:$L,COLUMN(),0),$A:$O,2,0)","v":"La Rochelle 1"},{"$f":"VLOOKUP(VLOOKUP($A$140,'Pairing List calcul'!$B:$L,COLUMN(),0),$A:$O,2,0)","v":"UBS Lorient 2"}]
["Place"]
[33,{"$f":"VLOOKUP(VLOOKUP($A$142,'Pairing List calcul'!$B:$K,COLUMN(),0),$A:$O,2,0)","v":"ENSTA 1"},{"$f":"VLOOKUP(VLOOKUP($A$142,'Pairing List calcul'!$B:$K,COLUMN(),0),$A:$O,2,0)","v":"Intechmer"},{"$f":"VLOOKUP(VLOOKUP($A$142,'Pairing List calcul'!$B:$K,COLUMN(),0),$A:$O,2,0)","v":"La Rochelle 2"},{"$f":"VLOOKUP(VLOOKUP($A$142,'Pairing List calcul'!$B:$K,COLUMN(),0),$A:$O,2,0)","v":"ENSMAC"},{"$f":"VLOOKUP(VLOOKUP($A$142,'Pairing List calcul'!$B:$K,COLUMN(),0),$A:$O,2,0)","v":"UBO 1"},{"$f":"VLOOKUP(VLOOKUP($A$142,'Pairing List calcul'!$B:$K,COLUMN(),0),$A:$O,2,0)","v":"Southampton"},{"$f":"VLOOKUP(VLOOKUP($A$142,'Pairing List calcul'!$B:$K,COLUMN(),0),$A:$O,2,0)","v":"Centrale Nantes 2"},{"$f":"VLOOKUP(VLOOKUP($A$142,'Pairing List calcul'!$B:$K,COLUMN(),0),$A:$O,2,0)","v":"Unicaen 2"},{"$f":"VLOOKUP(VLOOKUP($A$142,'Pairing List calcul'!$B:$L,COLUMN(),0),$A:$O,2,0)","v":"IMT Nantes"},{"$f":"VLOOKUP(VLOOKUP($A$142,'Pairing List calcul'!$B:$L,COLUMN(),0),$A:$O,2,0)","v":"INSA Lyon"}]
["Place"]
[null,{"$f":"VLOOKUP(VLOOKUP($A$144,'Pairing List calcul'!$B:$K,COLUMN(),0),$A:$O,2,0)","v":{"$error":"#N/A"}},{"$f":"VLOOKUP(VLOOKUP($A$144,'Pairing List calcul'!$B:$K,COLUMN(),0),$A:$O,2,0)","v":{"$error":"#N/A"}},{"$f":"VLOOKUP(VLOOKUP($A$144,'Pairing List calcul'!$B:$K,COLUMN(),0),$A:$O,2,0)","v":{"$error":"#N/A"}},{"$f":"VLOOKUP(VLOOKUP($A$144,'Pairing List calcul'!$B:$K,COLUMN(),0),$A:$O,2,0)","v":{"$error":"#N/A"}},{"$f":"VLOOKUP(VLOOKUP($A$144,'Pairing List calcul'!$B:$K,COLUMN(),0),$A:$O,2,0)","v":{"$error":"#N/A"}},{"$f":"VLOOKUP(VLOOKUP($A$144,'Pairing List calcul'!$B:$K,COLUMN(),0),$A:$O,2,0)","v":{"$error":"#N/A"}},{"$f":"VLOOKUP(VLOOKUP($A$144,'Pairing List calcul'!$B:$K,COLUMN(),0),$A:$O,2,0)","v":{"$error":"#N/A"}},{"$f":"VLOOKUP(VLOOKUP($A$144,'Pairing List calcul'!$B:$K,COLUMN(),0),$A:$O,2,0)","v":{"$error":"#N/A"}},{"$f":"VLOOKUP(VLOOKUP($A$144,'Pairing List calcul'!$B:$L,COLUMN(),0),$A:$O,2,0)","v":{"$error":"#N/A"}},{"$f":"VLOOKUP(VLOOKUP($A$144,'Pairing List calcul'!$B:$L,COLUMN(),0),$A:$O,2,0)","v":{"$error":"#N/A"}}]
["Place"]
["Flight 12"]
["Race","Boat 1","Boat 2","Boat 3","Boat 4","Boat 5","Boat 6","Boat 11","Boat 8","Boat 9","Boat 10"]
[34,{"$f":"VLOOKUP(VLOOKUP($A$148,'Pairing List calcul'!$B:$K,COLUMN(),0),$A:$O,2,0)","v":"St Brieuc 1"},{"$f":"VLOOKUP(VLOOKUP($A$148,'Pairing List calcul'!$B:$K,COLUMN(),0),$A:$O,2,0)","v":"Centrale Nantes 1"},{"$f":"VLOOKUP(VLOOKUP($A$148,'Pairing List calcul'!$B:$K,COLUMN(),0),$A:$O,2,0)","v":"Unicaen 1"},{"$f":"VLOOKUP(VLOOKUP($A$148,'Pairing List calcul'!$B:$K,COLUMN(),0),$A:$O,2,0)","v":"Orléans"},{"$f":"VLOOKUP(VLOOKUP($A$148,'Pairing List calcul'!$B:$K,COLUMN(),0),$A:$O,2,0)","v":"Paris Cité"},{"$f":"VLOOKUP(VLOOKUP($A$148,'Pairing List calcul'!$B:$K,COLUMN(),0),$A:$O,2,0)","v":"Southampton"},{"$f":"VLOOKUP(VLOOKUP($A$148,'Pairing List calcul'!$B:$K,COLUMN(),0),$A:$O,2,0)","v":"IMT Brest 1"},{"$f":"VLOOKUP(VLOOKUP($A$148,'Pairing List calcul'!$B:$K,COLUMN(),0),$A:$O,2,0)","v":"Unicaen 2"},{"$f":"VLOOKUP(VLOOKUP($A$148,'Pairing List calcul'!$B:$L,COLUMN(),0),$A:$O,2,0)","v":"IMT Nantes"},{"$f":"VLOOKUP(VLOOKUP($A$148,'Pairing List calcul'!$B:$L,COLUMN(),0),$A:$O,2,0)","v":"Paris Sorbone"}]
["Place"]
[35,{"$f":"VLOOKUP(VLOOKUP($A$150,'Pairing List calcul'!$B:$K,COLUMN(),0),$A:$O,2,0)","v":"UBS Lorient 2"},{"$f":"VLOOKUP(VLOOKUP($A$150,'Pairing List calcul'!$B:$K,COLUMN(),0),$A:$O,2,0)","v":"UBO 1"},{"$f":"VLOOKUP(VLOOKUP($A$150,'Pairing List calcul'!$B:$K,COLUMN(),0),$A:$O,2,0)","v":"Centrale Nantes 2"},{"$f":"VLOOKUP(VLOOKUP($A$150,'Pairing List calcul'!$B:$K,COLUMN(),0),$A:$O,2,0)","v":"UBS Lorient 1"},{"$f":"VLOOKUP(VLOOKUP($A$150,'Pairing List calcul'!$B:$K,COLUMN(),0),$A:$O,2,0)","v":"ST Brieuc 2"},{"$f":"VLOOKUP(VLOOKUP($A$150,'Pairing List calcul'!$B:$K,COLUMN(),0),$A:$O,2,0)","v":"Univ Nantes 2"},{"$f":"VLOOKUP(VLOOKUP($A$150,'Pairing List calcul'!$B:$K,COLUMN(),0),$A:$O,2,0)","v":"ENSMAC"},{"$f":"VLOOKUP(VLOOKUP($A$150,'Pairing List calcul'!$B:$K,COLUMN(),0),$A:$O,2,0)","v":"Univ Nantes 3"},{"$f":"VLOOKUP(VLOOKUP($A$150,'Pairing List calcul'!$B:$L,COLUMN(),0),$A:$O,2,0)","v":"ENSTA 2"},{"$f":"VLOOKUP(VLOOKUP($A$150,'Pairing List calcul'!$B:$L,COLUMN(),0),$A:$O,2,0)","v":"ENSTA 1"}]
["Place"]
[36,{"$f":"VLOOKUP(VLOOKUP($A$152,'Pairing List calcul'!$B:$K,COLUMN(),0),$A:$O,2,0)","v":"La Rochelle 1"},{"$f":"VLOOKUP(VLOOKUP($A$152,'Pairing List calcul'!$B:$K,COLUMN(),0),$A:$O,2,0)","v":"Intechmer"},{"$f":"VLOOKUP(VLOOKUP($A$152,'Pairing List calcul'!$B:$K,COLUMN(),0),$A:$O,2,0)","v":"IMT Brest 2"},{"$f":"VLOOKUP(VLOOKUP($A$152,'Pairing List calcul'!$B:$K,COLUMN(),0),$A:$O,2,0)","v":"UBO 2"},{"$f":"VLOOKUP(VLOOKUP($A$152,'Pairing List calcul'!$B:$K,COLUMN(),0),$A:$O,2,0)","v":"INSA Lyon"},{"$f":"VLOOKUP(VLOOKUP($A$152,'Pairing List calcul'!$B:$K,COLUMN(),0),$A:$O,2,0)","v":"Hannover"},{"$f":"VLOOKUP(VLOOKUP($A$152,'Pairing List calcul'!$B:$K,COLUMN(),0),$A:$O,2,0)","v":"La Rochelle 2"},{"$f":"VLOOKUP(VLOOKUP($A$152,'Pairing List calcul'!$B:$K,COLUMN(),0),$A:$O,2,0)","v":"UNIV Nantes 1"},{"$f":"VLOOKUP(VLOOKUP($A$152,'Pairing List calcul'!$B:$L,COLUMN(),0),$A:$O,2,0)","v":"Plymouth"},{"$f":"VLOOKUP(VLOOKUP($A$152,'Pairing List calcul'!$B:$L,COLUMN(),0),$A:$O,2,0)","v":"Karlsruhe"}]
["Place"]
[null,{"$f":"VLOOKUP(VLOOKUP($A$154,'Pairing List calcul'!$B:$K,COLUMN(),0),$A:$O,2,0)","v":{"$error":"#N/A"}},{"$f":"VLOOKUP(VLOOKUP($A$154,'Pairing List calcul'!$B:$K,COLUMN(),0),$A:$O,2,0)","v":{"$error":"#N/A"}},{"$f":"VLOOKUP(VLOOKUP($A$154,'Pairing List calcul'!$B:$K,COLUMN(),0),$A:$O,2,0)","v":{"$error":"#N/A"}},{"$f":"VLOOKUP(VLOOKUP($A$154,'Pairing List calcul'!$B:$K,COLUMN(),0),$A:$O,2,0)","v":{"$error":"#N/A"}},{"$f":"VLOOKUP(VLOOKUP($A$154,'Pairing List calcul'!$B:$K,COLUMN(),0),$A:$O,2,0)","v":{"$error":"#N/A"}},{"$f":"VLOOKUP(VLOOKUP($A$154,'Pairing List calcul'!$B:$K,COLUMN(),0),$A:$O,2,0)","v":{"$error":"#N/A"}},{"$f":"VLOOKUP(VLOOKUP($A$154,'Pairing List calcul'!$B:$K,COLUMN(),0),$A:$O,2,0)","v":{"$error":"#N/A"}},{"$f":"VLOOKUP(VLOOKUP($A$154,'Pairing List calcul'!$B:$K,COLUMN(),0),$A:$O,2,0)","v":{"$error":"#N/A"}},{"$f":"VLOOKUP(VLOOKUP($A$154,'Pairing List calcul'!$B:$L,COLUMN(),0),$A:$O,2,0)","v":{"$error":"#N/A"}},{"$f":"VLOOKUP(VLOOKUP($A$154,'Pairing List calcul'!$B:$L,COLUMN(),0),$A:$O,2,0)","v":{"$error":"#N/A"}}]
["Place"]
["Flight 13"]
["Race","Boat 1","Boat 2","Boat 3","Boat 4","Boat 5","Boat 6","Boat 11","Boat 8","Boat 9","Boat 10"]
[37,{"$f":"VLOOKUP(VLOOKUP($A$158,'Pairing List calcul'!$B:$K,COLUMN(),0),$A:$O,2,0)","v":"La Rochelle 1"},{"$f":"VLOOKUP(VLOOKUP($A$158,'Pairing List calcul'!$B:$K,COLUMN(),0),$A:$O,2,0)","v":"IMT Brest 1"},{"$f":"VLOOKUP(VLOOKUP($A$158,'Pairing List calcul'!$B:$K,COLUMN(),0),$A:$O,2,0)","v":"IMT Nantes"},{"$f":"VLOOKUP(VLOOKUP($A$158,'Pairing List calcul'!$B:$K,COLUMN(),0),$A:$O,2,0)","v":"ST Brieuc 2"},{"$f":"VLOOKUP(VLOOKUP($A$158,'Pairing List calcul'!$B:$K,COLUMN(),0),$A:$O,2,0)","v":"Unicaen 1"},{"$f":"VLOOKUP(VLOOKUP($A$158,'Pairing List calcul'!$B:$K,COLUMN(),0),$A:$O,2,0)","v":"Hannover"},{"$f":"VLOOKUP(VLOOKUP($A$158,'Pairing List calcul'!$B:$K,COLUMN(),0),$A:$O,2,0)","v":"La Rochelle 2"},{"$f":"VLOOKUP(VLOOKUP($A$158,'Pairing List calcul'!$B:$K,COLUMN(),0),$A:$O,2,0)","v":"Orléans"},{"$f":"VLOOKUP(VLOOKUP($A$158,'Pairing List calcul'!$B:$L,COLUMN(),0),$A:$O,2,0)","v":"UBS Lorient 1"},{"$f":"VLOOKUP(VLOOKUP($A$158,'Pairing List calcul'!$B:$L,COLUMN(),0),$A:$O,2,0)","v":"Paris Sorbone"}]
["Place"]
[38,{"$f":"VLOOKUP(VLOOKUP($A$160,'Pairing List calcul'!$B:$K,COLUMN(),0),$A:$O,2,0)","v":"ENSMAC"},{"$f":"VLOOKUP(VLOOKUP($A$160,'Pairing List calcul'!$B:$K,COLUMN(),0),$A:$O,2,0)","v":"UBO 2"},{"$f":"VLOOKUP(VLOOKUP($A$160,'Pairing List calcul'!$B:$K,COLUMN(),0),$A:$O,2,0)","v":"ENSTA 2"},{"$f":"VLOOKUP(VLOOKUP($A$160,'Pairing List calcul'!$B:$K,COLUMN(),0),$A:$O,2,0)","v":"UBO 1"},{"$f":"VLOOKUP(VLOOKUP($A$160,'Pairing List calcul'!$B:$K,COLUMN(),0),$A:$O,2,0)","v":"INSA Lyon"},{"$f":"VLOOKUP(VLOOKUP($A$160,'Pairing List calcul'!$B:$K,COLUMN(),0),$A:$O,2,0)","v":"Plymouth"},{"$f":"VLOOKUP(VLOOKUP($A$160,'Pairing List calcul'!$B:$K,COLUMN(),0),$A:$O,2,0)","v":"Paris Cité"},{"$f":"VLOOKUP(VLOOKUP($A$160,'Pairing List calcul'!$B:$K,COLUMN(),0),$A:$O,2,0)","v":"Centrale Nantes 2"},{"$f":"VLOOKUP(VLOOKUP($A$160,'Pairing List calcul'!$B:$L,COLUMN(),0),$A:$O,2,0)","v":"Intechmer"},{"$f":"VLOOKUP(VLOOKUP($A$160,'Pairing List calcul'!$B:$L,COLUMN(),0),$A:$O,2,0)","v":"IMT Brest 2"}]
["Place"]
[39,{"$f":"VLOOKUP(VLOOKUP($A$162,'Pairing List calcul'!$B:$K,COLUMN(),0),$A:$O,2,0)","v":"St Brieuc 1"},{"$f":"VLOOKUP(VLOOKUP($A$162,'Pairing List calcul'!$B:$K,COLUMN(),0),$A:$O,2,0)","v":"Karlsruhe"},{"$f":"VLOOKUP(VLOOKUP($A$162,'Pairing List calcul'!$B:$K,COLUMN(),0),$A:$O,2,0)","v":"ENSTA 1"},{"$f":"VLOOKUP(VLOOKUP($A$162,'Pairing List calcul'!$B:$K,COLUMN(),0),$A:$O,2,0)","v":"Univ Nantes 2"},{"$f":"VLOOKUP(VLOOKUP($A$162,'Pairing List calcul'!$B:$K,COLUMN(),0),$A:$O,2,0)","v":"UNIV Nantes 1"},{"$f":"VLOOKUP(VLOOKUP($A$162,'Pairing List calcul'!$B:$K,COLUMN(),0),$A:$O,2,0)","v":"Unicaen 2"},{"$f":"VLOOKUP(VLOOKUP($A$162,'Pairing List calcul'!$B:$K,COLUMN(),0),$A:$O,2,0)","v":"Univ Nantes 3"},{"$f":"VLOOKUP(VLOOKUP($A$162,'Pairing List calcul'!$B:$K,COLUMN(),0),$A:$O,2,0)","v":"UBS Lorient 2"},{"$f":"VLOOKUP(VLOOKUP($A$162,'Pairing List calcul'!$B:$L,COLUMN(),0),$A:$O,2,0)","v":"Southampton"},{"$f":"VLOOKUP(VLOOKUP($A$162,'Pairing List calcul'!$B:$L,COLUMN(),0),$A:$O,2,0)","v":"Centrale Nantes 1"}]
["Place"]
[null,{"$f":"VLOOKUP(VLOOKUP($A$164,'Pairing List calcul'!$B:$K,COLUMN(),0),$A:$O,2,0)","v":{"$error":"#N/A"}},{"$f":"VLOOKUP(VLOOKUP($A$164,'Pairing List calcul'!$B:$K,COLUMN(),0),$A:$O,2,0)","v":{"$error":"#N/A"}},{"$f":"VLOOKUP(VLOOKUP($A$164,'Pairing List calcul'!$B:$K,COLUMN(),0),$A:$O,2,0)","v":{"$error":"#N/A"}},{"$f":"VLOOKUP(VLOOKUP($A$164,'Pairing List calcul'!$B:$K,COLUMN(),0),$A:$O,2,0)","v":{"$error":"#N/A"}},{"$f":"VLOOKUP(VLOOKUP($A$164,'Pairing List calcul'!$B:$K,COLUMN(),0),$A:$O,2,0)","v":{"$error":"#N/A"}},{"$f":"VLOOKUP(VLOOKUP($A$164,'Pairing List calcul'!$B:$K,COLUMN(),0),$A:$O,2,0)","v":{"$error":"#N/A"}},{"$f":"VLOOKUP(VLOOKUP($A$164,'Pairing List calcul'!$B:$K,COLUMN(),0),$A:$O,2,0)","v":{"$error":"#N/A"}},{"$f":"VLOOKUP(VLOOKUP($A$164,'Pairing List calcul'!$B:$K,COLUMN(),0),$A:$O,2,0)","v":{"$error":"#N/A"}},{"$f":"VLOOKUP(VLOOKUP($A$164,'Pairing List calcul'!$B:$L,COLUMN(),0),$A:$O,2,0)","v":{"$error":"#N/A"}},{"$f":"VLOOKUP(VLOOKUP($A$164,'Pairing List calcul'!$B:$L,COLUMN(),0),$A:$O,2,0)","v":{"$error":"#N/A"}}]
["Place"]
["Flight 14"]
["Race","Boat 1","Boat 2","Boat 3","Boat 4","Boat 5","Boat 6","Boat 11","Boat 8","Boat 9","Boat 10"]
[40,{"$f":"VLOOKUP(VLOOKUP($A$168,'Pairing List calcul'!$B:$K,COLUMN(),0),$A:$O,2,0)","v":"St Brieuc 1"},{"$f":"VLOOKUP(VLOOKUP($A$168,'Pairing List calcul'!$B:$K,COLUMN(),0),$A:$O,2,0)","v":"Paris Sorbone"},{"$f":"VLOOKUP(VLOOKUP($A$168,'Pairing List calcul'!$B:$K,COLUMN(),0),$A:$O,2,0)","v":"ENSTA 1"},{"$f":"VLOOKUP(VLOOKUP($A$168,'Pairing List calcul'!$B:$K,COLUMN(),0),$A:$O,2,0)","v":"Univ Nantes 2"},{"$f":"VLOOKUP(VLOOKUP($A$168,'Pairing List calcul'!$B:$K,COLUMN(),0),$A:$O,2,0)","v":"Unicaen 1"},{"$f":"VLOOKUP(VLOOKUP($A$168,'Pairing List calcul'!$B:$K,COLUMN(),0),$A:$O,2,0)","v":"Paris Cité"},{"$f":"VLOOKUP(VLOOKUP($A$168,'Pairing List calcul'!$B:$K,COLUMN(),0),$A:$O,2,0)","v":"Orléans"},{"$f":"VLOOKUP(VLOOKUP($A$168,'Pairing List calcul'!$B:$K,COLUMN(),0),$A:$O,2,0)","v":"La Rochelle 1"},{"$f":"VLOOKUP(VLOOKUP($A$168,'Pairing List calcul'!$B:$L,COLUMN(),0),$A:$O,2,0)","v":"IMT Brest 1"},{"$f":"VLOOKUP(VLOOKUP($A$168,'Pairing List calcul'!$B:$L,COLUMN(),0),$A:$O,2,0)","v":"IMT Nantes"}]
["Place"]
[41,{"$f":"VLOOKUP(VLOOKUP($A$170,'Pairing List calcul'!$B:$K,COLUMN(),0),$A:$O,2,0)","v":"ENSMAC"},{"$f":"VLOOKUP(VLOOKUP($A$170,'Pairing List calcul'!$B:$K,COLUMN(),0),$A:$O,2,0)","v":"Univ Nantes 3"},{"$f":"VLOOKUP(VLOOKUP($A$170,'Pairing List calcul'!$B:$K,COLUMN(),0),$A:$O,2,0)","v":"Intechmer"},{"$f":"VLOOKUP(VLOOKUP($A$170,'Pairing List calcul'!$B:$K,COLUMN(),0),$A:$O,2,0)","v":"INSA Lyon"},{"$f":"VLOOKUP(VLOOKUP($A$170,'Pairing List calcul'!$B:$K,COLUMN(),0),$A:$O,2,0)","v":"ENSTA 2"},{"$f":"VLOOKUP(VLOOKUP($A$170,'Pairing List calcul'!$B:$K,COLUMN(),0),$A:$O,2,0)","v":"ST Brieuc 2"},{"$f":"VLOOKUP(VLOOKUP($A$170,'Pairing List calcul'!$B:$K,COLUMN(),0),$A:$O,2,0)","v":"UNIV Nantes 1"},{"$f":"VLOOKUP(VLOOKUP($A$170,'Pairing List calcul'!$B:$K,COLUMN(),0),$A:$O,2,0)","v":"Centrale Nantes 2"},{"$f":"VLOOKUP(VLOOKUP($A$170,'Pairing List calcul'!$B:$L,COLUMN(),0),$A:$O,2,0)","v":"Southampton"},{"$f":"VLOOKUP(VLOOKUP($A$170,'Pairing List calcul'!$B:$L,COLUMN(),0),$A:$O,2,0)","v":"UBO 2"}]
["Place"]
[42,{"$f":"VLOOKUP(VLOOKUP($A$172,'Pairing List calcul'!$B:$K,COLUMN(),0),$A:$O,2,0)","v":"Plymouth"},{"$f":"VLOOKUP(VLOOKUP($A$172,'Pairing List calcul'!$B:$K,COLUMN(),0),$A:$O,2,0)","v":"La Rochelle 2"},{"$f":"VLOOKUP(VLOOKUP($A$172,'Pairing List calcul'!$B:$K,COLUMN(),0),$A:$O,2,0)","v":"Karlsruhe"},{"$f":"VLOOKUP(VLOOKUP($A$172,'Pairing List calcul'!$B:$K,COLUMN(),0),$A:$O,2,0)","v":"UBO 1"},{"$f":"VLOOKUP(VLOOKUP($A$172,'Pairing List calcul'!$B:$K,COLUMN(),0),$A:$O,2,0)","v":"Hannover"},{"$f":"VLOOKUP(VLOOKUP($A$172,'Pairing List calcul'!$B:$K,COLUMN(),0),$A:$O,2,0)","v":"UBS Lorient 2"},{"$f":"VLOOKUP(VLOOKUP($A$172,'Pairing List calcul'!$B:$K,COLUMN(),0),$A:$O,2,0)","v":"UBS Lorient 1"},{"$f":"VLOOKUP(VLOOKUP($A$172,'Pairing List calcul'!$B:$K,COLUMN(),0),$A:$O,2,0)","v":"Unicaen 2"},{"$f":"VLOOKUP(VLOOKUP($A$172,'Pairing List calcul'!$B:$L,COLUMN(),0),$A:$O,2,0)","v":"IMT Brest 2"},{"$f":"VLOOKUP(VLOOKUP($A$172,'Pairing List calcul'!$B:$L,COLUMN(),0),$A:$O,2,0)","v":"Centrale Nantes 1"}]
["Place"]
[null,{"$f":"VLOOKUP(VLOOKUP($A$174,'Pairing List calcul'!$B:$K,COLUMN(),0),$A:$O,2,0)","v":{"$error":"#N/A"}},{"$f":"VLOOKUP(VLOOKUP($A$174,'Pairing List calcul'!$B:$K,COLUMN(),0),$A:$O,2,0)","v":{"$error":"#N/A"}},{"$f":"VLOOKUP(VLOOKUP($A$174,'Pairing List calcul'!$B:$K,COLUMN(),0),$A:$O,2,0)","v":{"$error":"#N/A"}},{"$f":"VLOOKUP(VLOOKUP($A$174,'Pairing List calcul'!$B:$K,COLUMN(),0),$A:$O,2,0)","v":{"$error":"#N/A"}},{"$f":"VLOOKUP(VLOOKUP($A$174,'Pairing List calcul'!$B:$K,COLUMN(),0),$A:$O,2,0)","v":{"$error":"#N/A"}},{"$f":"VLOOKUP(VLOOKUP($A$174,'Pairing List calcul'!$B:$K,COLUMN(),0),$A:$O,2,0)","v":{"$error":"#N/A"}},{"$f":"VLOOKUP(VLOOKUP($A$174,'Pairing List calcul'!$B:$K,COLUMN(),0),$A:$O,2,0)","v":{"$error":"#N/A"}},{"$f":"VLOOKUP(VLOOKUP($A$174,'Pairing List calcul'!$B:$K,COLUMN(),0),$A:$O,2,0)","v":{"$error":"#N/A"}},{"$f":"VLOOKUP(VLOOKUP($A$174,'Pairing List calcul'!$B:$L,COLUMN(),0),$A:$O,2,0)","v":{"$error":"#N/A"}},{"$f":"VLOOKUP(VLOOKUP($A$174,'Pairing List calcul'!$B:$L,COLUMN(),0),$A:$O,2,0)","v":{"$error":"#N/A"}}]
["Place"]
["Flight 15"]
["Race","Boat 1","Boat 2","Boat 3","Boat 4","Boat 5","Boat 6","Boat 11","Boat 8","Boat 9","Boat 10"]
[43,{"$f":"VLOOKUP(VLOOKUP($A$178,'Pairing List calcul'!$B:$K,COLUMN(),0),$A:$O,2,0)","v":"Plymouth"},{"$f":"VLOOKUP(VLOOKUP($A$178,'Pairing List calcul'!$B:$K,COLUMN(),0),$A:$O,2,0)","v":"UNIV Nantes 1"},{"$f":"VLOOKUP(VLOOKUP($A$178,'Pairing List calcul'!$B:$K,COLUMN(),0),$A:$O,2,0)","v":"Univ Nantes 2"},{"$f":"VLOOKUP(VLOOKUP($A$178,'Pairing List calcul'!$B:$K,COLUMN(),0),$A:$O,2,0)","v":"UBO 1"},{"$f":"VLOOKUP(VLOOKUP($A$178,'Pairing List calcul'!$B:$K,COLUMN(),0),$A:$O,2,0)","v":"INSA Lyon"},{"$f":"VLOOKUP(VLOOKUP($A$178,'Pairing List calcul'!$B:$K,COLUMN(),0),$A:$O,2,0)","v":"UBS Lorient 2"},{"$f":"VLOOKUP(VLOOKUP($A$178,'Pairing List calcul'!$B:$K,COLUMN(),0),$A:$O,2,0)","v":"UBO 2"},{"$f":"VLOOKUP(VLOOKUP($A$178,'Pairing List calcul'!$B:$K,COLUMN(),0),$A:$O,2,0)","v":"Southampton"},{"$f":"VLOOKUP(VLOOKUP($A$178,'Pairing List calcul'!$B:$L,COLUMN(),0),$A:$O,2,0)","v":"IMT Brest 2"},{"$f":"VLOOKUP(VLOOKUP($A$178,'Pairing List calcul'!$B:$L,COLUMN(),0),$A:$O,2,0)","v":"Unicaen 1"}]
["Place"]
[44,{"$f":"VLOOKUP(VLOOKUP($A$180,'Pairing List calcul'!$B:$K,COLUMN(),0),$A:$O,2,0)","v":"La Rochelle 2"},{"$f":"VLOOKUP(VLOOKUP($A$180,'Pairing List calcul'!$B:$K,COLUMN(),0),$A:$O,2,0)","v":"Unicaen 2"},{"$f":"VLOOKUP(VLOOKUP($A$180,'Pairing List calcul'!$B:$K,COLUMN(),0),$A:$O,2,0)","v":"UBS Lorient 1"},{"$f":"VLOOKUP(VLOOKUP($A$180,'Pairing List calcul'!$B:$K,COLUMN(),0),$A:$O,2,0)","v":"St Brieuc 1"},{"$f":"VLOOKUP(VLOOKUP($A$180,'Pairing List calcul'!$B:$K,COLUMN(),0),$A:$O,2,0)","v":"ENSTA 2"},{"$f":"VLOOKUP(VLOOKUP($A$180,'Pairing List calcul'!$B:$K,COLUMN(),0),$A:$O,2,0)","v":"ENSMAC"},{"$f":"VLOOKUP(VLOOKUP($A$180,'Pairing List calcul'!$B:$K,COLUMN(),0),$A:$O,2,0)","v":"Karlsruhe"},{"$f":"VLOOKUP(VLOOKUP($A$180,'Pairing List calcul'!$B:$K,COLUMN(),0),$A:$O,2,0)","v":"Orléans"},{"$f":"VLOOKUP(VLOOKUP($A$180,'Pairing List calcul'!$B:$L,COLUMN(),0),$A:$O,2,0)","v":"IMT Nantes"},{"$f":"VLOOKUP(VLOOKUP($A$180,'Pairing List calcul'!$B:$L,COLUMN(),0),$A:$O,2,0)","v":"Paris Sorbone"}]
["Place"]
[45,{"$f":"VLOOKUP(VLOOKUP($A$182,'Pairing List calcul'!$B:$K,COLUMN(),0),$A:$O,2,0)","v":"Paris Cité"},{"$f":"VLOOKUP(VLOOKUP($A$182,'Pairing List calcul'!$B:$K,COLUMN(),0),$A:$O,2,0)","v":"ENSTA 1"},{"$f":"VLOOKUP(VLOOKUP($A$182,'Pairing List calcul'!$B:$K,COLUMN(),0),$A:$O,2,0)","v":"La Rochelle 1"},{"$f":"VLOOKUP(VLOOKUP($A$182,'Pairing List calcul'!$B:$K,COLUMN(),0),$A:$O,2,0)","v":"Centrale Nantes 1"},{"$f":"VLOOKUP(VLOOKUP($A$182,'Pairing List calcul'!$B:$K,COLUMN(),0),$A:$O,2,0)","v":"Hannover"},{"$f":"VLOOKUP(VLOOKUP($A$182,'Pairing List calcul'!$B:$K,COLUMN(),0),$A:$O,2,0)","v":"Centrale Nantes 2"},{"$f":"VLOOKUP(VLOOKUP($A$182,'Pairing List calcul'!$B:$K,COLUMN(),0),$A:$O,2,0)","v":"IMT Brest 1"},{"$f":"VLOOKUP(VLOOKUP($A$182,'Pairing List calcul'!$B:$K,COLUMN(),0),$A:$O,2,0)","v":"Univ Nantes 3"},{"$f":"VLOOKUP(VLOOKUP($A$182,'Pairing List calcul'!$B:$L,COLUMN(),0),$A:$O,2,0)","v":"Intechmer"},{"$f":"VLOOKUP(VLOOKUP($A$182,'Pairing List calcul'!$B:$L,COLUMN(),0),$A:$O,2,0)","v":"ST Brieuc 2"}]
["Place"]
[null,{"$f":"VLOOKUP(VLOOKUP($A$184,'Pairing List calcul'!$B:$K,COLUMN(),0),$A:$O,2,0)","v":{"$error":"#N/A"}},{"$f":"VLOOKUP(VLOOKUP($A$184,'Pairing List calcul'!$B:$K,COLUMN(),0),$A:$O,2,0)","v":{"$error":"#N/A"}},{"$f":"VLOOKUP(VLOOKUP($A$184,'Pairing List calcul'!$B:$K,COLUMN(),0),$A:$O,2,0)","v":{"$error":"#N/A"}},{"$f":"VLOOKUP(VLOOKUP($A$184,'Pairing List calcul'!$B:$K,COLUMN(),0),$A:$O,2,0)","v":{"$error":"#N/A"}},{"$f":"VLOOKUP(VLOOKUP($A$184,'Pairing List calcul'!$B:$K,COLUMN(),0),$A:$O,2,0)","v":{"$error":"#N/A"}},{"$f":"VLOOKUP(VLOOKUP($A$184,'Pairing List calcul'!$B:$K,COLUMN(),0),$A:$O,2,0)","v":{"$error":"#N/A"}},{"$f":"VLOOKUP(VLOOKUP($A$184,'Pairing List calcul'!$B:$K,COLUMN(),0),$A:$O,2,0)","v":{"$error":"#N/A"}},{"$f":"VLOOKUP(VLOOKUP($A$184,'Pairing List calcul'!$B:$K,COLUMN(),0),$A:$O,2,0)","v":{"$error":"#N/A"}},{"$f":"VLOOKUP(VLOOKUP($A$184,'Pairing List calcul'!$B:$L,COLUMN(),0),$A:$O,2,0)","v":{"$error":"#N/A"}},{"$f":"VLOOKUP(VLOOKUP($A$184,'Pairing List calcul'!$B:$L,COLUMN(),0),$A:$O,2,0)","v":{"$error":"#N/A"}}]
["Place"]
["Flight 16"]
["Race","Boat 1","Boat 2","Boat 3","Boat 4","Boat 5","Boat 6","Boat 11","Boat 8","Boat 9","Boat 10"]
[46,{"$f":"VLOOKUP(VLOOKUP($A$188,'Pairing List calcul'!$B:$K,COLUMN(),0),$A:$O,2,0)","v":"IMT Brest 2"},{"$f":"VLOOKUP(VLOOKUP($A$188,'Pairing List calcul'!$B:$K,COLUMN(),0),$A:$O,2,0)","v":"IMT Nantes"},{"$f":"VLOOKUP(VLOOKUP($A$188,'Pairing List calcul'!$B:$K,COLUMN(),0),$A:$O,2,0)","v":"La Rochelle 1"},{"$f":"VLOOKUP(VLOOKUP($A$188,'Pairing List calcul'!$B:$K,COLUMN(),0),$A:$O,2,0)","v":"St Brieuc 1"},{"$f":"VLOOKUP(VLOOKUP($A$188,'Pairing List calcul'!$B:$K,COLUMN(),0),$A:$O,2,0)","v":"Hannover"},{"$f":"VLOOKUP(VLOOKUP($A$188,'Pairing List calcul'!$B:$K,COLUMN(),0),$A:$O,2,0)","v":"Unicaen 2"},{"$f":"VLOOKUP(VLOOKUP($A$188,'Pairing List calcul'!$B:$K,COLUMN(),0),$A:$O,2,0)","v":"Unicaen 1"},{"$f":"VLOOKUP(VLOOKUP($A$188,'Pairing List calcul'!$B:$K,COLUMN(),0),$A:$O,2,0)","v":"Univ Nantes 3"},{"$f":"VLOOKUP(VLOOKUP($A$188,'Pairing List calcul'!$B:$L,COLUMN(),0),$A:$O,2,0)","v":"Southampton"},{"$f":"VLOOKUP(VLOOKUP($A$188,'Pairing List calcul'!$B:$L,COLUMN(),0),$A:$O,2,0)","v":"Paris Sorbone"}]
["Place"]
[47,{"$f":"VLOOKUP(VLOOKUP($A$190,'Pairing List calcul'!$B:$K,COLUMN(),0),$A:$O,2,0)","v":"Karlsruhe"},{"$f":"VLOOKUP(VLOOKUP($A$190,'Pairing List calcul'!$B:$K,COLUMN(),0),$A:$O,2,0)","v":"ST Brieuc 2"},{"$f":"VLOOKUP(VLOOKUP($A$190,'Pairing List calcul'!$B:$K,COLUMN(),0),$A:$O,2,0)","v":"Orléans"},{"$f":"VLOOKUP(VLOOKUP($A$190,'Pairing List calcul'!$B:$K,COLUMN(),0),$A:$O,2,0)","v":"Paris Cité"},{"$f":"VLOOKUP(VLOOKUP($A$190,'Pairing List calcul'!$B:$K,COLUMN(),0),$A:$O,2,0)","v":"ENSMAC"},{"$f":"VLOOKUP(VLOOKUP($A$190,'Pairing List calcul'!$B:$K,COLUMN(),0),$A:$O,2,0)","v":"IMT Brest 1"},{"$f":"VLOOKUP(VLOOKUP($A$190,'Pairing List calcul'!$B:$K,COLUMN(),0),$A:$O,2,0)","v":"Centrale Nantes 1"},{"$f":"VLOOKUP(VLOOKUP($A$190,'Pairing List calcul'!$B:$K,COLUMN(),0),$A:$O,2,0)","v":"UBS Lorient 2"},{"$f":"VLOOKUP(VLOOKUP($A$190,'Pairing List calcul'!$B:$L,COLUMN(),0),$A:$O,2,0)","v":"UBS Lorient 1"},{"$f":"VLOOKUP(VLOOKUP($A$190,'Pairing List calcul'!$B:$L,COLUMN(),0),$A:$O,2,0)","v":"UBO 1"}]
["Place"]
[48,{"$f":"VLOOKUP(VLOOKUP($A$192,'Pairing List calcul'!$B:$K,COLUMN(),0),$A:$O,2,0)","v":"ENSTA 1"},{"$f":"VLOOKUP(VLOOKUP($A$192,'Pairing List calcul'!$B:$K,COLUMN(),0),$A:$O,2,0)","v":"INSA Lyon"},{"$f":"VLOOKUP(VLOOKUP($A$192,'Pairing List calcul'!$B:$K,COLUMN(),0),$A:$O,2,0)","v":"Intechmer"},{"$f":"VLOOKUP(VLOOKUP($A$192,'Pairing List calcul'!$B:$K,COLUMN(),0),$A:$O,2,0)","v":"Univ Nantes 2"},{"$f":"VLOOKUP(VLOOKUP($A$192,'Pairing List calcul'!$B:$K,COLUMN(),0),$A:$O,2,0)","v":"ENSTA 2"},{"$f":"VLOOKUP(VLOOKUP($A$192,'Pairing List calcul'!$B:$K,COLUMN(),0),$A:$O,2,0)","v":"La Rochelle 2"},{"$f":"VLOOKUP(VLOOKUP($A$192,'Pairing List calcul'!$B:$K,COLUMN(),0),$A:$O,2,0)","v":"UBO 2"},{"$f":"VLOOKUP(VLOOKUP($A$192,'Pairing List calcul'!$B:$K,COLUMN(),0),$A:$O,2,0)","v":"Plymouth"},{"$f":"VLOOKUP(VLOOKUP($A$192,'Pairing List calcul'!$B:$L,COLUMN(),0),$A:$O,2,0)","v":"UNIV Nantes 1"},{"$f":"VLOOKUP(VLOOKUP($A$192,'Pairing List calcul'!$B:$L,COLUMN(),0),$A:$O,2,0)","v":"Centrale Nantes 2"}]
["Place"]
[null,{"$f":"VLOOKUP(VLOOKUP($A$194,'Pairing List calcul'!$B:$K,COLUMN(),0),$A:$O,2,0)","v":{"$error":"#N/A"}},{"$f":"VLOOKUP(VLOOKUP($A$194,'Pairing List calcul'!$B:$K,COLUMN(),0),$A:$O,2,0)","v":{"$error":"#N/A"}},{"$f":"VLOOKUP(VLOOKUP($A$194,'Pairing List calcul'!$B:$K,COLUMN(),0),$A:$O,2,0)","v":{"$error":"#N/A"}},{"$f":"VLOOKUP(VLOOKUP($A$194,'Pairing List calcul'!$B:$K,COLUMN(),0),$A:$O,2,0)","v":{"$error":"#N/A"}},{"$f":"VLOOKUP(VLOOKUP($A$194,'Pairing List calcul'!$B:$K,COLUMN(),0),$A:$O,2,0)","v":{"$error":"#N/A"}},{"$f":"VLOOKUP(VLOOKUP($A$194,'Pairing List calcul'!$B:$K,COLUMN(),0),$A:$O,2,0)","v":{"$error":"#N/A"}},{"$f":"VLOOKUP(VLOOKUP($A$194,'Pairing List calcul'!$B:$K,COLUMN(),0),$A:$O,2,0)","v":{"$error":"#N/A"}},{"$f":"VLOOKUP(VLOOKUP($A$194,'Pairing List calcul'!$B:$K,COLUMN(),0),$A:$O,2,0)","v":{"$error":"#N/A"}},{"$f":"VLOOKUP(VLOOKUP($A$194,'Pairing List calcul'!$B:$L,COLUMN(),0),$A:$O,2,0)","v":{"$error":"#N/A"}},{"$f":"VLOOKUP(VLOOKUP($A$194,'Pairing List calcul'!$B:$L,COLUMN(),0),$A:$O,2,0)","v":{"$error":"#N/A"}}]
["Place"]
["Flight 17"]
["Race","Boat 1","Boat 2","Boat 3","Boat 4","Boat 5","Boat 6","Boat 11","Boat 8","Boat 9","Boat 10"]
[49,{"$f":"VLOOKUP(VLOOKUP($A$198,'Pairing List calcul'!$B:$K,COLUMN(),0),$A:$O,2,0)","v":"ENSTA 1"},{"$f":"VLOOKUP(VLOOKUP($A$198,'Pairing List calcul'!$B:$K,COLUMN(),0),$A:$O,2,0)","v":"INSA Lyon"},{"$f":"VLOOKUP(VLOOKUP($A$198,'Pairing List calcul'!$B:$K,COLUMN(),0),$A:$O,2,0)","v":"Intechmer"},{"$f":"VLOOKUP(VLOOKUP($A$198,'Pairing List calcul'!$B:$K,COLUMN(),0),$A:$O,2,0)","v":"St Brieuc 1"},{"$f":"VLOOKUP(VLOOKUP($A$198,'Pairing List calcul'!$B:$K,COLUMN(),0),$A:$O,2,0)","v":"IMT Nantes"},{"$f":"VLOOKUP(VLOOKUP($A$198,'Pairing List calcul'!$B:$K,COLUMN(),0),$A:$O,2,0)","v":"La Rochelle 2"},{"$f":"VLOOKUP(VLOOKUP($A$198,'Pairing List calcul'!$B:$K,COLUMN(),0),$A:$O,2,0)","v":"Unicaen 1"},{"$f":"VLOOKUP(VLOOKUP($A$198,'Pairing List calcul'!$B:$K,COLUMN(),0),$A:$O,2,0)","v":"Plymouth"},{"$f":"VLOOKUP(VLOOKUP($A$198,'Pairing List calcul'!$B:$L,COLUMN(),0),$A:$O,2,0)","v":"UNIV Nantes 1"},{"$f":"VLOOKUP(VLOOKUP($A$198,'Pairing List calcul'!$B:$L,COLUMN(),0),$A:$O,2,0)","v":"ST Brieuc 2"}]
["Place"]
[50,{"$f":"VLOOKUP(VLOOKUP($A$200,'Pairing List calcul'!$B:$K,COLUMN(),0),$A:$O,2,0)","v":"ENSTA 2"},{"$f":"VLOOKUP(VLOOKUP($A$200,'Pairing List calcul'!$B:$K,COLUMN(),0),$A:$O,2,0)","v":"Southampton"},{"$f":"VLOOKUP(VLOOKUP($A$200,'Pairing List calcul'!$B:$K,COLUMN(),0),$A:$O,2,0)","v":"Paris Cité"},{"$f":"VLOOKUP(VLOOKUP($A$200,'Pairing List calcul'!$B:$K,COLUMN(),0),$A:$O,2,0)","v":"ENSMAC"},{"$f":"VLOOKUP(VLOOKUP($A$200,'Pairing List calcul'!$B:$K,COLUMN(),0),$A:$O,2,0)","v":"Unicaen 2"},{"$f":"VLOOKUP(VLOOKUP($A$200,'Pairing List calcul'!$B:$K,COLUMN(),0),$A:$O,2,0)","v":"UBS Lorient 1"},{"$f":"VLOOKUP(VLOOKUP($A$200,'Pairing List calcul'!$B:$K,COLUMN(),0),$A:$O,2,0)","v":"UBO 1"},{"$f":"VLOOKUP(VLOOKUP($A$200,'Pairing List calcul'!$B:$K,COLUMN(),0),$A:$O,2,0)","v":"IMT Brest 1"},{"$f":"VLOOKUP(VLOOKUP($A$200,'Pairing List calcul'!$B:$L,COLUMN(),0),$A:$O,2,0)","v":"Hannover"},{"$f":"VLOOKUP(VLOOKUP($A$200,'Pairing List calcul'!$B:$L,COLUMN(),0),$A:$O,2,0)","v":"Univ Nantes 3"}]
["Place"]
[51,{"$f":"VLOOKUP(VLOOKUP($A$202,'Pairing List calcul'!$B:$K,COLUMN(),0),$A:$O,2,0)","v":"UBS Lorient 2"},{"$f":"VLOOKUP(VLOOKUP($A$202,'Pairing List calcul'!$B:$K,COLUMN(),0),$A:$O,2,0)","v":"Paris Sorbone"},{"$f":"VLOOKUP(VLOOKUP($A$202,'Pairing List calcul'!$B:$K,COLUMN(),0),$A:$O,2,0)","v":"IMT Brest 2"},{"$f":"VLOOKUP(VLOOKUP($A$202,'Pairing List calcul'!$B:$K,COLUMN(),0),$A:$O,2,0)","v":"Centrale Nantes 2"},{"$f":"VLOOKUP(VLOOKUP($A$202,'Pairing List calcul'!$B:$K,COLUMN(),0),$A:$O,2,0)","v":"Centrale Nantes 1"},{"$f":"VLOOKUP(VLOOKUP($A$202,'Pairing List calcul'!$B:$K,COLUMN(),0),$A:$O,2,0)","v":"Orléans"},{"$f":"VLOOKUP(VLOOKUP($A$202,'Pairing List calcul'!$B:$K,COLUMN(),0),$A:$O,2,0)","v":"La Rochelle 1"},{"$f":"VLOOKUP(VLOOKUP($A$202,'Pairing List calcul'!$B:$K,COLUMN(),0),$A:$O,2,0)","v":"UBO 2"},{"$f":"VLOOKUP(VLOOKUP($A$202,'Pairing List calcul'!$B:$L,COLUMN(),0),$A:$O,2,0)","v":"Karlsruhe"},{"$f":"VLOOKUP(VLOOKUP($A$202,'Pairing List calcul'!$B:$L,COLUMN(),0),$A:$O,2,0)","v":"Univ Nantes 2"}]
["Place"]
[null,{"$f":"VLOOKUP(VLOOKUP($A$204,'Pairing List calcul'!$B:$K,COLUMN(),0),$A:$O,2,0)","v":{"$error":"#N/A"}},{"$f":"VLOOKUP(VLOOKUP($A$204,'Pairing List calcul'!$B:$K,COLUMN(),0),$A:$O,2,0)","v":{"$error":"#N/A"}},{"$f":"VLOOKUP(VLOOKUP($A$204,'Pairing List calcul'!$B:$K,COLUMN(),0),$A:$O,2,0)","v":{"$error":"#N/A"}},{"$f":"VLOOKUP(VLOOKUP($A$204,'Pairing List calcul'!$B:$K,COLUMN(),0),$A:$O,2,0)","v":{"$error":"#N/A"}},{"$f":"VLOOKUP(VLOOKUP($A$204,'Pairing List calcul'!$B:$K,COLUMN(),0),$A:$O,2,0)","v":{"$error":"#N/A"}},{"$f":"VLOOKUP(VLOOKUP($A$204,'Pairing List calcul'!$B:$K,COLUMN(),0),$A:$O,2,0)","v":{"$error":"#N/A"}},{"$f":"VLOOKUP(VLOOKUP($A$204,'Pairing List calcul'!$B:$K,COLUMN(),0),$A:$O,2,0)","v":{"$error":"#N/A"}},{"$f":"VLOOKUP(VLOOKUP($A$204,'Pairing List calcul'!$B:$K,COLUMN(),0),$A:$O,2,0)","v":{"$error":"#N/A"}},{"$f":"VLOOKUP(VLOOKUP($A$204,'Pairing List calcul'!$B:$L,COLUMN(),0),$A:$O,2,0)","v":{"$error":"#N/A"}},{"$f":"VLOOKUP(VLOOKUP($A$204,'Pairing List calcul'!$B:$L,COLUMN(),0),$A:$O,2,0)","v":{"$error":"#N/A"}}]
["Place"]
["Flight 18"]
["Race","Boat 1","Boat 2","Boat 3","Boat 4","Boat 5","Boat 6","Boat 11","Boat 8","Boat 9","Boat 10"]
[52,{"$f":"VLOOKUP(VLOOKUP($A$208,'Pairing List calcul'!$B:$K,COLUMN(),0),$A:$O,2,0)","v":"UBS Lorient 2"},{"$f":"VLOOKUP(VLOOKUP($A$208,'Pairing List calcul'!$B:$K,COLUMN(),0),$A:$O,2,0)","v":"Unicaen 2"},{"$f":"VLOOKUP(VLOOKUP($A$208,'Pairing List calcul'!$B:$K,COLUMN(),0),$A:$O,2,0)","v":"IMT Brest 2"},{"$f":"VLOOKUP(VLOOKUP($A$208,'Pairing List calcul'!$B:$K,COLUMN(),0),$A:$O,2,0)","v":"IMT Nantes"},{"$f":"VLOOKUP(VLOOKUP($A$208,'Pairing List calcul'!$B:$K,COLUMN(),0),$A:$O,2,0)","v":"ST Brieuc 2"},{"$f":"VLOOKUP(VLOOKUP($A$208,'Pairing List calcul'!$B:$K,COLUMN(),0),$A:$O,2,0)","v":"Orléans"},{"$f":"VLOOKUP(VLOOKUP($A$208,'Pairing List calcul'!$B:$K,COLUMN(),0),$A:$O,2,0)","v":"St Brieuc 1"},{"$f":"VLOOKUP(VLOOKUP($A$208,'Pairing List calcul'!$B:$K,COLUMN(),0),$A:$O,2,0)","v":"UBO 2"},{"$f":"VLOOKUP(VLOOKUP($A$208,'Pairing List calcul'!$B:$L,COLUMN(),0),$A:$O,2,0)","v":"Karlsruhe"},{"$f":"VLOOKUP(VLOOKUP($A$208,'Pairing List calcul'!$B:$L,COLUMN(),0),$A:$O,2,0)","v":"ENSTA 1"}]
["Place"]
[53,{"$f":"VLOOKUP(VLOOKUP($A$210,'Pairing List calcul'!$B:$K,COLUMN(),0),$A:$O,2,0)","v":"UBO 1"},{"$f":"VLOOKUP(VLOOKUP($A$210,'Pairing List calcul'!$B:$K,COLUMN(),0),$A:$O,2,0)","v":"Paris Sorbone"},{"$f":"VLOOKUP(VLOOKUP($A$210,'Pairing List calcul'!$B:$K,COLUMN(),0),$A:$O,2,0)","v":"ENSMAC"},{"$f":"VLOOKUP(VLOOKUP($A$210,'Pairing List calcul'!$B:$K,COLUMN(),0),$A:$O,2,0)","v":"Univ Nantes 3"},{"$f":"VLOOKUP(VLOOKUP($A$210,'Pairing List calcul'!$B:$K,COLUMN(),0),$A:$O,2,0)","v":"UBS Lorient 1"},{"$f":"VLOOKUP(VLOOKUP($A$210,'Pairing List calcul'!$B:$K,COLUMN(),0),$A:$O,2,0)","v":"INSA Lyon"},{"$f":"VLOOKUP(VLOOKUP($A$210,'Pairing List calcul'!$B:$K,COLUMN(),0),$A:$O,2,0)","v":"Univ Nantes 2"},{"$f":"VLOOKUP(VLOOKUP($A$210,'Pairing List calcul'!$B:$K,COLUMN(),0),$A:$O,2,0)","v":"UNIV Nantes 1"},{"$f":"VLOOKUP(VLOOKUP($A$210,'Pairing List calcul'!$B:$L,COLUMN(),0),$A:$O,2,0)","v":"Centrale Nantes 2"},{"$f":"VLOOKUP(VLOOKUP($A$210,'Pairing List calcul'!$B:$L,COLUMN(),0),$A:$O,2,0)","v":"Paris Cité"}]
["Place"]
[54,{"$f":"VLOOKUP(VLOOKUP($A$212,'Pairing List calcul'!$B:$K,COLUMN(),0),$A:$O,2,0)","v":"IMT Brest 1"},{"$f":"VLOOKUP(VLOOKUP($A$212,'Pairing List calcul'!$B:$K,COLUMN(),0),$A:$O,2,0)","v":"Hannover"},{"$f":"VLOOKUP(VLOOKUP($A$212,'Pairing List calcul'!$B:$K,COLUMN(),0),$A:$O,2,0)","v":"La Rochelle 2"},{"$f":"VLOOKUP(VLOOKUP($A$212,'Pairing List calcul'!$B:$K,COLUMN(),0),$A:$O,2,0)","v":"Plymouth"},{"$f":"VLOOKUP(VLOOKUP($A$212,'Pairing List calcul'!$B:$K,COLUMN(),0),$A:$O,2,0)","v":"La Rochelle 1"},{"$f":"VLOOKUP(VLOOKUP($A$212,'Pairing List calcul'!$B:$K,COLUMN(),0),$A:$O,2,0)","v":"Southampton"},{"$f":"VLOOKUP(VLOOKUP($A$212,'Pairing List calcul'!$B:$K,COLUMN(),0),$A:$O,2,0)","v":"Unicaen 1"},{"$f":"VLOOKUP(VLOOKUP($A$212,'Pairing List calcul'!$B:$K,COLUMN(),0),$A:$O,2,0)","v":"Centrale Nantes 1"},{"$f":"VLOOKUP(VLOOKUP($A$212,'Pairing List calcul'!$B:$L,COLUMN(),0),$A:$O,2,0)","v":"Intechmer"},{"$f":"VLOOKUP(VLOOKUP($A$212,'Pairing List calcul'!$B:$L,COLUMN(),0),$A:$O,2,0)","v":"ENSTA 2"}]
["Place"]
[null,{"$f":"VLOOKUP(VLOOKUP($A$214,'Pairing List calcul'!$B:$K,COLUMN(),0),$A:$O,2,0)","v":{"$error":"#N/A"}},{"$f":"VLOOKUP(VLOOKUP($A$214,'Pairing List calcul'!$B:$K,COLUMN(),0),$A:$O,2,0)","v":{"$error":"#N/A"}},{"$f":"VLOOKUP(VLOOKUP($A$214,'Pairing List calcul'!$B:$K,COLUMN(),0),$A:$O,2,0)","v":{"$error":"#N/A"}},{"$f":"VLOOKUP(VLOOKUP($A$214,'Pairing List calcul'!$B:$K,COLUMN(),0),$A:$O,2,0)","v":{"$error":"#N/A"}},{"$f":"VLOOKUP(VLOOKUP($A$214,'Pairing List calcul'!$B:$K,COLUMN(),0),$A:$O,2,0)","v":{"$error":"#N/A"}},{"$f":"VLOOKUP(VLOOKUP($A$214,'Pairing List calcul'!$B:$K,COLUMN(),0),$A:$O,2,0)","v":{"$error":"#N/A"}},{"$f":"VLOOKUP(VLOOKUP($A$214,'Pairing List calcul'!$B:$K,COLUMN(),0),$A:$O,2,0)","v":{"$error":"#N/A"}},{"$f":"VLOOKUP(VLOOKUP($A$214,'Pairing List calcul'!$B:$K,COLUMN(),0),$A:$O,2,0)","v":{"$error":"#N/A"}},{"$f":"VLOOKUP(VLOOKUP($A$214,'Pairing List calcul'!$B:$L,COLUMN(),0),$A:$O,2,0)","v":{"$error":"#N/A"}},{"$f":"VLOOKUP(VLOOKUP($A$214,'Pairing List calcul'!$B:$L,COLUMN(),0),$A:$O,2,0)","v":{"$error":"#N/A"}}]
["Place"]

{"sheet":"Classement final","index":4,"n_rows":31,"n_cols":3,"rows_kept":31,"cut":false,"hidden":false,"merged":[]}
["Place","Equipe","Nbr de point"]
[{"$f":"Général!V22","v":"1"},{"$f":"Général!B22","v":"La Rochelle 1"},{"$f":"Général!U22","v":0}]
[{"$f":"Général!V24","v":"1"},{"$f":"Général!B24","v":"ST Brieuc 2"},{"$f":"Général!U24","v":0}]
[{"$f":"Général!V27","v":"1"},{"$f":"Général!B27","v":"IMT Nantes"},{"$f":"Général!U27","v":0}]
[{"$f":"Général!V5","v":"1"},{"$f":"Général!B5","v":"UBS Lorient 1"},{"$f":"Général!U5","v":0}]
[{"$f":"Général!V13","v":"1"},{"$f":"Général!B13","v":"Unicaen 1"},{"$f":"Général!U13","v":0}]
[{"$f":"Général!V30","v":"1"},{"$f":"Général!B30","v":"UBS Lorient 2"},{"$f":"Général!U30","v":0}]
[{"$f":"Général!V32","v":"1"},{"$f":"Général!B32","v":"UBO 1"},{"$f":"Général!U32","v":0}]
[{"$f":"Général!V18","v":"1"},{"$f":"Général!B18","v":"St Brieuc 1"},{"$f":"Général!U18","v":0}]
[{"$f":"Général!V25","v":"1"},{"$f":"Général!B25","v":"UNIV Nantes 1"},{"$f":"Général!U25","v":0}]
[{"$f":"Général!V21","v":"1"},{"$f":"Général!B21","v":"Southampton"},{"$f":"Général!U21","v":0}]
[{"$f":"Général!V15","v":"1"},{"$f":"Général!B15","v":"Orléans"},{"$f":"Général!U15","v":0}]
[{"$f":"Général!V31","v":"1"},{"$f":"Général!B31","v":"La Rochelle 2"},{"$f":"Général!U31","v":0}]
[{"$f":"Général!V3","v":"1"},{"$f":"Général!B3","v":"UBO 2"},{"$f":"Général!U3","v":0}]
[{"$f":"Général!V20","v":"1"},{"$f":"Général!B20","v":"ENSTA 2"},{"$f":"Général!U20","v":0}]
[{"$f":"Général!V9","v":"1"},{"$f":"Général!B9","v":"Unicaen 2"},{"$f":"Général!U9","v":0}]
[{"$f":"Général!V8","v":"1"},{"$f":"Général!B8","v":"Plymouth"},{"$f":"Général!U8","v":0}]
[{"$f":"Général!V14","v":"1"},{"$f":"Général!B14","v":"ENSTA 1"},{"$f":"Général!U14","v":0}]
[{"$f":"Général!V19","v":"1"},{"$f":"Général!B19","v":"Hannover"},{"$f":"Général!U19","v":0}]
[{"$f":"Général!V10","v":"1"},{"$f":"Général!B10","v":"Univ Nantes 2"},{"$f":"Général!U10","v":0}]
[{"$f":"Général!V12","v":"1"},{"$f":"Général!B12","v":"IMT Brest 2"},{"$f":"Général!U12","v":0}]
[{"$f":"Général!V16","v":"1"},{"$f":"Général!B16","v":"IMT Brest 1"},{"$f":"Général!U16","v":0}]
[{"$f":"Général!V28","v":"1"},{"$f":"Général!B28","v":"INSA Lyon"},{"$f":"Général!U28","v":0}]
[{"$f":"Général!V6","v":"1"},{"$f":"Général!B6","v":"Univ Nantes 3"},{"$f":"Général!U6","v":0}]
[{"$f":"Général!V7","v":"1"},{"$f":"Général!B7","v":"Paris Cité"},{"$f":"Général!U7","v":0}]
[{"$f":"Général!V23","v":"1"},{"$f":"Général!B23","v":"Centrale Nantes 1"},{"$f":"Général!U23","v":0}]
[{"$f":"Général!V11","v":"1"},{"$f":"Général!B11","v":"Karlsruhe"},{"$f":"Général!U11","v":0}]
[{"$f":"Général!V17","v":"1"},{"$f":"Général!B17","v":"ENSMAC"},{"$f":"Général!U17","v":0}]
[{"$f":"Général!V29","v":"1"},{"$f":"Général!B29","v":"Centrale Nantes 2"},{"$f":"Général!U29","v":0}]
[{"$f":"Général!V4","v":"1"},{"$f":"Général!B4","v":"Paris Sorbone"},{"$f":"Général!U4","v":0}]
[{"$f":"Général!V26","v":"1"},{"$f":"Général!B26","v":"Intechmer"},{"$f":"Général!U26","v":0}]

{"sheet":"Analyse","index":5,"n_rows":45,"n_cols":35,"rows_kept":45,"cut":false,"hidden":false,"merged":[]}
[null,"Bateaux",1,{"$f":"C1+1","v":2},3,4,5,6,7,8,9,10,11,12,13,14,15,16,17,18,19,20,21,22,23,24,25,26,27,28,29,30,31,32]
[null,1,{"$f":"COUNTIF('Pairing List calcul'!$C$2:$C$73,FIXED(C1,0, ))","v":1},{"$f":"COUNTIF('Pairing List calcul'!$C$2:$C$73,FIXED(D1,0, ))","v":0},{"$f":"COUNTIF('Pairing List calcul'!$C$2:$C$73,FIXED(E1,0, ))","v":0},{"$f":"COUNTIF('Pairing List calcul'!$C$2:$C$73,FIXED(F1,0, ))","v":2},{"$f":"COUNTIF('Pairing List calcul'!$C$2:$C$73,FIXED(G1,0, ))","v":1},{"$f":"COUNTIF('Pairing List calcul'!$C$2:$C$73,FIXED(H1,0, ))","v":5},{"$f":"COUNTIF('Pairing List calcul'!$C$2:$C$73,FIXED(I1,0, ))","v":1},{"$f":"COUNTIF('Pairing List calcul'!$C$2:$C$73,FIXED(J1,0, ))","v":1},{"$f":"COUNTIF('Pairing List calcul'!$C$2:$C$73,FIXED(K1,0, ))","v":1},{"$f":"COUNTIF('Pairing List calcul'!$C$2:$C$73,FIXED(L1,0, ))","v":3},{"$f":"COUNTIF('Pairing List calcul'!$C$2:$C$73,FIXED(M1,0, ))","v":1},{"$f":"COUNTIF('Pairing List calcul'!$C$2:$C$73,FIXED(N1,0, ))","v":4},{"$f":"COUNTIF('Pairing List calcul'!$C$2:$C$73,FIXED(O1,0, ))","v":1},{"$f":"COUNTIF('Pairing List calcul'!$C$2:$C$73,FIXED(P1,0, ))","v":1},{"$f":"COUNTIF('Pairing List calcul'!$C$2:$C$73,FIXED(Q1,0, ))","v":4},{"$f":"COUNTIF('Pairing List calcul'!$C$2:$C$73,FIXED(R1,0, ))","v":4},{"$f":"COUNTIF('Pairing List calcul'!$C$2:$C$73,FIXED(S1,0, ))","v":1},{"$f":"COUNTIF('Pairing List calcul'!$C$2:$C$73,FIXED(T1,0, ))","v":3},{"$f":"COUNTIF('Pairing List calcul'!$C$2:$C$73,FIXED(U1,0, ))","v":0},{"$f":"COUNTIF('Pairing List calcul'!$C$2:$C$73,FIXED(V1,0, ))","v":3},{"$f":"COUNTIF('Pairing List calcul'!$C$2:$C$73,FIXED(W1,0, ))","v":1},{"$f":"COUNTIF('Pairing List calcul'!$C$2:$C$73,FIXED(X1,0, ))","v":3},{"$f":"COUNTIF('Pairing List calcul'!$C$2:$C$73,FIXED(Y1,0, ))","v":2},{"$f":"COUNTIF('Pairing List calcul'!$C$2:$C$73,FIXED(Z1,0, ))","v":0},{"$f":"COUNTIF('Pairing List calcul'!$C$2:$C$73,FIXED(AA1,0, ))","v":1},{"$f":"COUNTIF('Pairing List calcul'!$C$2:$C$73,FIXED(AB1,0, ))","v":1},{"$f":"COUNTIF('Pairing List calcul'!$C$2:$C$73,FIXED(AC1,0, ))","v":1},{"$f":"COUNTIF('Pairing List calcul'!$C$2:$C$73,FIXED(AD1,0, ))","v":3},{"$f":"COUNTIF('Pairing List calcul'!$C$2:$C$73,FIXED(AE1,0, ))","v":3},{"$f":"COUNTIF('Pairing List calcul'!$C$2:$C$73,FIXED(AF1,0, ))","v":2},{"$f":"COUNTIF('Pairing List calcul'!$C$2:$C$73,FIXED(AG1,0, ))","v":0},{"$f":"COUNTIF('Pairing List calcul'!$C$2:$C$73,FIXED(AH1,0, ))","v":0}]
[null,{"$f":"B2+1","v":2},{"$f":"COUNTIF('Pairing List calcul'!$D$2:$D$73,FIXED(C1,0, ))","v":1},{"$f":"COUNTIF('Pairing List calcul'!$D$2:$D$73,FIXED(D1,0, ))","v":4},{"$f":"COUNTIF('Pairing List calcul'!$D$2:$D$73,FIXED(E1,0, ))","v":4},{"$f":"COUNTIF('Pairing List calcul'!$D$2:$D$73,FIXED(F1,0, ))","v":4},{"$f":"COUNTIF('Pairing List calcul'!$D$2:$D$73,FIXED(G1,0, ))","v":2},{"$f":"COUNTIF('Pairing List calcul'!$D$2:$D$73,FIXED(H1,0, ))","v":0},{"$f":"COUNTIF('Pairing List calcul'!$D$2:$D$73,FIXED(I1,0, ))","v":2},{"$f":"COUNTIF('Pairing List calcul'!$D$2:$D$73,FIXED(J1,0, ))","v":0},{"$f":"COUNTIF('Pairing List calcul'!$D$2:$D$73,FIXED(K1,0, ))","v":2},{"$f":"COUNTIF('Pairing List calcul'!$D$2:$D$73,FIXED(L1,0, ))","v":1},{"$f":"COUNTIF('Pairing List calcul'!$D$2:$D$73,FIXED(M1,0, ))","v":1},{"$f":"COUNTIF('Pairing List calcul'!$D$2:$D$73,FIXED(N1,0, ))","v":1},{"$f":"COUNTIF('Pairing List calcul'!$D$2:$D$73,FIXED(O1,0, ))","v":0},{"$f":"COUNTIF('Pairing List calcul'!$D$2:$D$73,FIXED(P1,0, ))","v":1},{"$f":"COUNTIF('Pairing List calcul'!$D$2:$D$73,FIXED(Q1,0, ))","v":2},{"$f":"COUNTIF('Pairing List calcul'!$D$2:$D$73,FIXED(R1,0, ))","v":1},{"$f":"COUNTIF('Pairing List calcul'!$D$2:$D$73,FIXED(S1,0, ))","v":2},{"$f":"COUNTIF('Pairing List calcul'!$D$2:$D$73,FIXED(T1,0, ))","v":3},{"$f":"COUNTIF('Pairing List calcul'!$D$2:$D$73,FIXED(U1,0, ))","v":2},{"$f":"COUNTIF('Pairing List calcul'!$D$2:$D$73,FIXED(V1,0, ))","v":3},{"$f":"COUNTIF('Pairing List calcul'!$D$2:$D$73,FIXED(W1,0, ))","v":1},{"$f":"COUNTIF('Pairing List calcul'!$D$2:$D$73,FIXED(X1,0, ))","v":1},{"$f":"COUNTIF('Pairing List calcul'!$D$2:$D$73,FIXED(Y1,0, ))","v":3},{"$f":"COUNTIF('Pairing List calcul'!$D$2:$D$73,FIXED(Z1,0, ))","v":3},{"$f":"COUNTIF('Pairing List calcul'!$D$2:$D$73,FIXED(AA1,0, ))","v":2},{"$f":"COUNTIF('Pairing List calcul'!$D$2:$D$73,FIXED(AB1,0, ))","v":2},{"$f":"COUNTIF('Pairing List calcul'!$D$2:$D$73,FIXED(AC1,0, ))","v":1},{"$f":"COUNTIF('Pairing List calcul'!$D$2:$D$73,FIXED(AD1,0, ))","v":2},{"$f":"COUNTIF('Pairing List calcul'!$D$2:$D$73,FIXED(AE1,0, ))","v":2},{"$f":"COUNTIF('Pairing List calcul'!$D$2:$D$73,FIXED(AF1,0, ))","v":1},{"$f":"COUNTIF('Pairing List calcul'!$D$2:$D$73,FIXED(AG1,0, ))","v":0},{"$f":"COUNTIF('Pairing List calcul'!$D$2:$D$73,FIXED(AH1,0, ))","v":0}]
[null,{"$f":"B3+1","v":3},{"$f":"COUNTIF('Pairing List calcul'!$E$2:$E$73,FIXED(C1,0, ))","v":1},{"$f":"COUNTIF('Pairing List calcul'!$E$2:$E$73,FIXED(D1,0, ))","v":3},{"$f":"COUNTIF('Pairing List calcul'!$E$2:$E$73,FIXED(E1,0, ))","v":3},{"$f":"COUNTIF('Pairing List calcul'!$E$2:$E$73,FIXED(F1,0, ))","v":0},{"$f":"COUNTIF('Pairing List calcul'!$E$2:$E$73,FIXED(G1,0, ))","v":1},{"$f":"COUNTIF('Pairing List calcul'!$E$2:$E$73,FIXED(H1,0, ))","v":0},{"$f":"COUNTIF('Pairing List calcul'!$E$2:$E$73,FIXED(I1,0, ))","v":2},{"$f":"COUNTIF('Pairing List calcul'!$E$2:$E$73,FIXED(J1,0, ))","v":1},{"$f":"COUNTIF('Pairing List calcul'!$E$2:$E$73,FIXED(K1,0, ))","v":3},{"$f":"COUNTIF('Pairing List calcul'!$E$2:$E$73,FIXED(L1,0, ))","v":5},{"$f":"COUNTIF('Pairing List calcul'!$E$2:$E$73,FIXED(M1,0, ))","v":2},{"$f":"COUNTIF('Pairing List calcul'!$E$2:$E$73,FIXED(N1,0, ))","v":3},{"$f":"COUNTIF('Pairing List calcul'!$E$2:$E$73,FIXED(O1,0, ))","v":2},{"$f":"COUNTIF('Pairing List calcul'!$E$2:$E$73,FIXED(P1,0, ))","v":1},{"$f":"COUNTIF('Pairing List calcul'!$E$2:$E$73,FIXED(Q1,0, ))","v":2},{"$f":"COUNTIF('Pairing List calcul'!$E$2:$E$73,FIXED(R1,0, ))","v":2},{"$f":"COUNTIF('Pairing List calcul'!$E$2:$E$73,FIXED(S1,0, ))","v":1},{"$f":"COUNTIF('Pairing List calcul'!$E$2:$E$73,FIXED(T1,0, ))","v":2},{"$f":"COUNTIF('Pairing List calcul'!$E$2:$E$73,FIXED(U1,0, ))","v":2},{"$f":"COUNTIF('Pairing List calcul'!$E$2:$E$73,FIXED(V1,0, ))","v":2},{"$f":"COUNTIF('Pairing List calcul'!$E$2:$E$73,FIXED(W1,0, ))","v":1},{"$f":"COUNTIF('Pairing List calcul'!$E$2:$E$73,FIXED(X1,0, ))","v":0},{"$f":"COUNTIF('Pairing List calcul'!$E$2:$E$73,FIXED(Y1,0, ))","v":2},{"$f":"COUNTIF('Pairing List calcul'!$E$2:$E$73,FIXED(Z1,0, ))","v":3},{"$f":"COUNTIF('Pairing List calcul'!$E$2:$E$73,FIXED(AA1,0, ))","v":1},{"$f":"COUNTIF('Pairing List calcul'!$E$2:$E$73,FIXED(AB1,0, ))","v":1},{"$f":"COUNTIF('Pairing List calcul'!$E$2:$E$73,FIXED(AC1,0, ))","v":1},{"$f":"COUNTIF('Pairing List calcul'!$E$2:$E$73,FIXED(AD1,0, ))","v":3},{"$f":"COUNTIF('Pairing List calcul'!$E$2:$E$73,FIXED(AE1,0, ))","v":2},{"$f":"COUNTIF('Pairing List calcul'!$E$2:$E$73,FIXED(AF1,0, ))","v":2},{"$f":"COUNTIF('Pairing List calcul'!$E$2:$E$73,FIXED(AG1,0, ))","v":0},{"$f":"COUNTIF('Pairing List calcul'!$E$2:$E$73,FIXED(AH1,0, ))","v":0}]
[null,{"$f":"B4+1","v":4},{"$f":"COUNTIF('Pairing List calcul'!$F$2:$F$73,FIXED(C1,0, ))","v":2},{"$f":"COUNTIF('Pairing List calcul'!$F$2:$F$73,FIXED(D1,0, ))","v":3},{"$f":"COUNTIF('Pairing List calcul'!$F$2:$F$73,FIXED(E1,0, ))","v":2},{"$f":"COUNTIF('Pairing List calcul'!$F$2:$F$73,FIXED(F1,0, ))","v":1},{"$f":"COUNTIF('Pairing List calcul'!$F$2:$F$73,FIXED(G1,0, ))","v":4},{"$f":"COUNTIF('Pairing List calcul'!$F$2:$F$73,FIXED(H1,0, ))","v":3},{"$f":"COUNTIF('Pairing List calcul'!$F$2:$F$73,FIXED(I1,0, ))","v":0},{"$f":"COUNTIF('Pairing List calcul'!$F$2:$F$73,FIXED(J1,0, ))","v":5},{"$f":"COUNTIF('Pairing List calcul'!$F$2:$F$73,FIXED(K1,0, ))","v":3},{"$f":"COUNTIF('Pairing List calcul'!$F$2:$F$73,FIXED(L1,0, ))","v":0},{"$f":"COUNTIF('Pairing List calcul'!$F$2:$F$73,FIXED(M1,0, ))","v":0},{"$f":"COUNTIF('Pairing List calcul'!$F$2:$F$73,FIXED(N1,0, ))","v":0},{"$f":"COUNTIF('Pairing List calcul'!$F$2:$F$73,FIXED(O1,0, ))","v":3},{"$f":"COUNTIF('Pairing List calcul'!$F$2:$F$73,FIXED(P1,0, ))","v":2},{"$f":"COUNTIF('Pairing List calcul'!$F$2:$F$73,FIXED(Q1,0, ))","v":2},{"$f":"COUNTIF('Pairing List calcul'!$F$2:$F$73,FIXED(R1,0, ))","v":4},{"$f":"COUNTIF('Pairing List calcul'!$F$2:$F$73,FIXED(S1,0, ))","v":0},{"$f":"COUNTIF('Pairing List calcul'!$F$2:$F$73,FIXED(T1,0, ))","v":1},{"$f":"COUNTIF('Pairing List calcul'!$F$2:$F$73,FIXED(U1,0, ))","v":1},{"$f":"COUNTIF('Pairing List calcul'!$F$2:$F$73,FIXED(V1,0, ))","v":2},{"$f":"COUNTIF('Pairing List calcul'!$F$2:$F$73,FIXED(W1,0, ))","v":1},{"$f":"COUNTIF('Pairing List calcul'!$F$2:$F$73,FIXED(X1,0, ))","v":1},{"$f":"COUNTIF('Pairing List calcul'!$F$2:$F$73,FIXED(Y1,0, ))","v":3},{"$f":"COUNTIF('Pairing List calcul'!$F$2:$F$73,FIXED(Z1,0, ))","v":0},{"$f":"COUNTIF('Pairing List calcul'!$F$2:$F$73,FIXED(AA1,0, ))","v":2},{"$f":"COUNTIF('Pairing List calcul'!$F$2:$F$73,FIXED(AB1,0, ))","v":1},{"$f":"COUNTIF('Pairing List calcul'!$F$2:$F$73,FIXED(AC1,0, ))","v":1},{"$f":"COUNTIF('Pairing List calcul'!$F$2:$F$73,FIXED(AD1,0, ))","v":2},{"$f":"COUNTIF('Pairing List calcul'!$F$2:$F$73,FIXED(AE1,0, ))","v":1},{"$f":"COUNTIF('Pairing List calcul'!$F$2:$F$73,FIXED(AF1,0, ))","v":4},{"$f":"COUNTIF('Pairing List calcul'!$F$2:$F$73,FIXED(AG1,0, ))","v":0},{"$f":"COUNTIF('Pairing List calcul'!$F$2:$F$73,FIXED(AH1,0, ))","v":0}]
[null,{"$f":"B5+1","v":5},{"$f":"COUNTIF('Pairing List calcul'!$G$2:$G$73,FIXED(C1,0, ))","v":3},{"$f":"COUNTIF('Pairing List calcul'!$G$2:$G$73,FIXED(D1,0, ))","v":1},{"$f":"COUNTIF('Pairing List calcul'!$G$2:$G$73,FIXED(E1,0, ))","v":4},{"$f":"COUNTIF('Pairing List calcul'!$G$2:$G$73,FIXED(F1,0, ))","v":0},{"$f":"COUNTIF('Pairing List calcul'!$G$2:$G$73,FIXED(G1,0, ))","v":2},{"$f":"COUNTIF('Pairing List calcul'!$G$2:$G$73,FIXED(H1,0, ))","v":1},{"$f":"COUNTIF('Pairing List calcul'!$G$2:$G$73,FIXED(I1,0, ))","v":2},{"$f":"COUNTIF('Pairing List calcul'!$G$2:$G$73,FIXED(J1,0, ))","v":2},{"$f":"COUNTIF('Pairing List calcul'!$G$2:$G$73,FIXED(K1,0, ))","v":0},{"$f":"COUNTIF('Pairing List calcul'!$G$2:$G$73,FIXED(L1,0, ))","v":1},{"$f":"COUNTIF('Pairing List calcul'!$G$2:$G$73,FIXED(M1,0, ))","v":2},{"$f":"COUNTIF('Pairing List calcul'!$G$2:$G$73,FIXED(N1,0, ))","v":1},{"$f":"COUNTIF('Pairing List calcul'!$G$2:$G$73,FIXED(O1,0, ))","v":2},{"$f":"COUNTIF('Pairing List calcul'!$G$2:$G$73,FIXED(P1,0, ))","v":2},{"$f":"COUNTIF('Pairing List calcul'!$G$2:$G$73,FIXED(Q1,0, ))","v":1},{"$f":"COUNTIF('Pairing List calcul'!$G$2:$G$73,FIXED(R1,0, ))","v":0},{"$f":"COUNTIF('Pairing List calcul'!$G$2:$G$73,FIXED(S1,0, ))","v":4},{"$f":"COUNTIF('Pairing List calcul'!$G$2:$G$73,FIXED(T1,0, ))","v":5},{"$f":"COUNTIF('Pairing List calcul'!$G$2:$G$73,FIXED(U1,0, ))","v":0},{"$f":"COUNTIF('Pairing List calcul'!$G$2:$G$73,FIXED(V1,0, ))","v":1},{"$f":"COUNTIF('Pairing List calcul'!$G$2:$G$73,FIXED(W1,0, ))","v":3},{"$f":"COUNTIF('Pairing List calcul'!$G$2:$G$73,FIXED(X1,0, ))","v":5},{"$f":"COUNTIF('Pairing List calcul'!$G$2:$G$73,FIXED(Y1,0, ))","v":1},{"$f":"COUNTIF('Pairing List calcul'!$G$2:$G$73,FIXED(Z1,0, ))","v":1},{"$f":"COUNTIF('Pairing List calcul'!$G$2:$G$73,FIXED(AA1,0, ))","v":2},{"$f":"COUNTIF('Pairing List calcul'!$G$2:$G$73,FIXED(AB1,0, ))","v":4},{"$f":"COUNTIF('Pairing List calcul'!$G$2:$G$73,FIXED(AC1,0, ))","v":1},{"$f":"COUNTIF('Pairing List calcul'!$G$2:$G$73,FIXED(AD1,0, ))","v":0},{"$f":"COUNTIF('Pairing List calcul'!$G$2:$G$73,FIXED(AE1,0, ))","v":2},{"$f":"COUNTIF('Pairing List calcul'!$G$2:$G$73,FIXED(AF1,0, ))","v":1},{"$f":"COUNTIF('Pairing List calcul'!$G$2:$G$73,FIXED(AG1,0, ))","v":0},{"$f":"COUNTIF('Pairing List calcul'!$G$2:$G$73,FIXED(AH1,0, ))","v":0}]
[null,{"$f":"B6+1","v":6},{"$f":"COUNTIF('Pairing List calcul'!$H$2:$H$73,FIXED(C1,0, ))","v":0},{"$f":"COUNTIF('Pairing List calcul'!$H$2:$H$73,FIXED(D1,0, ))","v":1},{"$f":"COUNTIF('Pairing List calcul'!$H$2:$H$73,FIXED(E1,0, ))","v":1},{"$f":"COUNTIF('Pairing List calcul'!$H$2:$H$73,FIXED(F1,0, ))","v":2},{"$f":"COUNTIF('Pairing List calcul'!$H$2:$H$73,FIXED(G1,0, ))","v":3},{"$f":"COUNTIF('Pairing List calcul'!$H$2:$H$73,FIXED(H1,0, ))","v":3},{"$f":"COUNTIF('Pairing List calcul'!$H$2:$H$73,FIXED(I1,0, ))","v":3},{"$f":"COUNTIF('Pairing List calcul'!$H$2:$H$73,FIXED(J1,0, ))","v":2},{"$f":"COUNTIF('Pairing List calcul'!$H$2:$H$73,FIXED(K1,0, ))","v":1},{"$f":"COUNTIF('Pairing List calcul'!$H$2:$H$73,FIXED(L1,0, ))","v":1},{"$f":"COUNTIF('Pairing List calcul'!$H$2:$H$73,FIXED(M1,0, ))","v":3},{"$f":"COUNTIF('Pairing List calcul'!$H$2:$H$73,FIXED(N1,0, ))","v":2},{"$f":"COUNTIF('Pairing List calcul'!$H$2:$H$73,FIXED(O1,0, ))","v":2},{"$f":"COUNTIF('Pairing List calcul'!$H$2:$H$73,FIXED(P1,0, ))","v":3},{"$f":"COUNTIF('Pairing List calcul'!$H$2:$H$73,FIXED(Q1,0, ))","v":3},{"$f":"COUNTIF('Pairing List calcul'!$H$2:$H$73,FIXED(R1,0, ))","v":1},{"$f":"COUNTIF('Pairing List calcul'!$H$2:$H$73,FIXED(S1,0, ))","v":3},{"$f":"COUNTIF('Pairing List calcul'!$H$2:$H$73,FIXED(T1,0, ))","v":2},{"$f":"COUNTIF('Pairing List calcul'!$H$2:$H$73,FIXED(U1,0, ))","v":3},{"$f":"COUNTIF('Pairing List calcul'!$H$2:$H$73,FIXED(V1,0, ))","v":1},{"$f":"COUNTIF('Pairing List calcul'!$H$2:$H$73,FIXED(W1,0, ))","v":1},{"$f":"COUNTIF('Pairing List calcul'!$H$2:$H$73,FIXED(X1,0, ))","v":1},{"$f":"COUNTIF('Pairing List calcul'!$H$2:$H$73,FIXED(Y1,0, ))","v":0},{"$f":"COUNTIF('Pairing List calcul'!$H$2:$H$73,FIXED(Z1,0, ))","v":1},{"$f":"COUNTIF('Pairing List calcul'!$H$2:$H$73,FIXED(AA1,0, ))","v":0},{"$f":"COUNTIF('Pairing List calcul'!$H$2:$H$73,FIXED(AB1,0, ))","v":1},{"$f":"COUNTIF('Pairing List calcul'!$H$2:$H$73,FIXED(AC1,0, ))","v":2},{"$f":"COUNTIF('Pairing List calcul'!$H$2:$H$73,FIXED(AD1,0, ))","v":2},{"$f":"COUNTIF('Pairing List calcul'!$H$2:$H$73,FIXED(AE1,0, ))","v":5},{"$f":"COUNTIF('Pairing List calcul'!$H$2:$H$73,FIXED(AF1,0, ))","v":1},{"$f":"COUNTIF('Pairing List calcul'!$H$2:$H$73,FIXED(AG1,0, ))","v":0},{"$f":"COUNTIF('Pairing List calcul'!$H$2:$H$73,FIXED(AH1,0, ))","v":0}]
[null,{"$f":"B7+1","v":7},{"$f":"COUNTIF('Pairing List calcul'!$I$2:$I$73,FIXED(C1,0, ))","v":2},{"$f":"COUNTIF('Pairing List calcul'!$I$2:$I$73,FIXED(D1,0, ))","v":0},{"$f":"COUNTIF('Pairing List calcul'!$I$2:$I$73,FIXED(E1,0, ))","v":1},{"$f":"COUNTIF('Pairing List calcul'!$I$2:$I$73,FIXED(F1,0, ))","v":1},{"$f":"COUNTIF('Pairing List calcul'!$I$2:$I$73,FIXED(G1,0, ))","v":1},{"$f":"COUNTIF('Pairing List calcul'!$I$2:$I$73,FIXED(H1,0, ))","v":1},{"$f":"COUNTIF('Pairing List calcul'!$I$2:$I$73,FIXED(I1,0, ))","v":2},{"$f":"COUNTIF('Pairing List calcul'!$I$2:$I$73,FIXED(J1,0, ))","v":5},{"$f":"COUNTIF('Pairing List calcul'!$I$2:$I$73,FIXED(K1,0, ))","v":2},{"$f":"COUNTIF('Pairing List calcul'!$I$2:$I$73,FIXED(L1,0, ))","v":3},{"$f":"COUNTIF('Pairing List calcul'!$I$2:$I$73,FIXED(M1,0, ))","v":3},{"$f":"COUNTIF('Pairing List calcul'!$I$2:$I$73,FIXED(N1,0, ))","v":0},{"$f":"COUNTIF('Pairing List calcul'!$I$2:$I$73,FIXED(O1,0, ))","v":2},{"$f":"COUNTIF('Pairing List calcul'!$I$2:$I$73,FIXED(P1,0, ))","v":4},{"$f":"COUNTIF('Pairing List calcul'!$I$2:$I$73,FIXED(Q1,0, ))","v":1},{"$f":"COUNTIF('Pairing List calcul'!$I$2:$I$73,FIXED(R1,0, ))","v":2},{"$f":"COUNTIF('Pairing List calcul'!$I$2:$I$73,FIXED(S1,0, ))","v":3},{"$f":"COUNTIF('Pairing List calcul'!$I$2:$I$73,FIXED(T1,0, ))","v":0},{"$f":"COUNTIF('Pairing List calcul'!$I$2:$I$73,FIXED(U1,0, ))","v":0},{"$f":"COUNTIF('Pairing List calcul'!$I$2:$I$73,FIXED(V1,0, ))","v":1},{"$f":"COUNTIF('Pairing List calcul'!$I$2:$I$73,FIXED(W1,0, ))","v":3},{"$f":"COUNTIF('Pairing List calcul'!$I$2:$I$73,FIXED(X1,0, ))","v":2},{"$f":"COUNTIF('Pairing List calcul'!$I$2:$I$73,FIXED(Y1,0, ))","v":1},{"$f":"COUNTIF('Pairing List calcul'!$I$2:$I$73,FIXED(Z1,0, ))","v":4},{"$f":"COUNTIF('Pairing List calcul'!$I$2:$I$73,FIXED(AA1,0, ))","v":2},{"$f":"COUNTIF('Pairing List calcul'!$I$2:$I$73,FIXED(AB1,0, ))","v":0},{"$f":"COUNTIF('Pairing List calcul'!$I$2:$I$73,FIXED(AC1,0, ))","v":2},{"$f":"COUNTIF('Pairing List calcul'!$I$2:$I$73,FIXED(AD1,0, ))","v":1},{"$f":"COUNTIF('Pairing List calcul'!$I$2:$I$73,FIXED(AE1,0, ))","v":3},{"$f":"COUNTIF('Pairing List calcul'!$I$2:$I$73,FIXED(AF1,0, ))","v":2},{"$f":"COUNTIF('Pairing List calcul'!$I$2:$I$73,FIXED(AG1,0, ))","v":0},{"$f":"COUNTIF('Pairing List calcul'!$I$2:$I$73,FIXED(AH1,0, ))","v":0}]
[null,8,{"$f":"COUNTIF('Pairing List calcul'!$J$2:$J$73,FIXED(C1,0, ))","v":4},{"$f":"COUNTIF('Pairing List calcul'!$J$2:$J$73,FIXED(D1,0, ))","v":0},{"$f":"COUNTIF('Pairing List calcul'!$J$2:$J$73,FIXED(E1,0, ))","v":0},{"$f":"COUNTIF('Pairing List calcul'!$J$2:$J$73,FIXED(F1,0, ))","v":4},{"$f":"COUNTIF('Pairing List calcul'!$J$2:$J$73,FIXED(G1,0, ))","v":2},{"$f":"COUNTIF('Pairing List calcul'!$J$2:$J$73,FIXED(H1,0, ))","v":3},{"$f":"COUNTIF('Pairing List calcul'!$J$2:$J$73,FIXED(I1,0, ))","v":5},{"$f":"COUNTIF('Pairing List calcul'!$J$2:$J$73,FIXED(J1,0, ))","v":1},{"$f":"COUNTIF('Pairing List calcul'!$J$2:$J$73,FIXED(K1,0, ))","v":1},{"$f":"COUNTIF('Pairing List calcul'!$J$2:$J$73,FIXED(L1,0, ))","v":0},{"$f":"COUNTIF('Pairing List calcul'!$J$2:$J$73,FIXED(M1,0, ))","v":3},{"$f":"COUNTIF('Pairing List calcul'!$J$2:$J$73,FIXED(N1,0, ))","v":0},{"$f":"COUNTIF('Pairing List calcul'!$J$2:$J$73,FIXED(O1,0, ))","v":3},{"$f":"COUNTIF('Pairing List calcul'!$J$2:$J$73,FIXED(P1,0, ))","v":1},{"$f":"COUNTIF('Pairing List calcul'!$J$2:$J$73,FIXED(Q1,0, ))","v":0},{"$f":"COUNTIF('Pairing List calcul'!$J$2:$J$73,FIXED(R1,0, ))","v":0},{"$f":"COUNTIF('Pairing List calcul'!$J$2:$J$73,FIXED(S1,0, ))","v":2},{"$f":"COUNTIF('Pairing List calcul'!$J$2:$J$73,FIXED(T1,0, ))","v":0},{"$f":"COUNTIF('Pairing List calcul'!$J$2:$J$73,FIXED(U1,0, ))","v":4},{"$f":"COUNTIF('Pairing List calcul'!$J$2:$J$73,FIXED(V1,0, ))","v":1},{"$f":"COUNTIF('Pairing List calcul'!$J$2:$J$73,FIXED(W1,0, ))","v":3},{"$f":"COUNTIF('Pairing List calcul'!$J$2:$J$73,FIXED(X1,0, ))","v":1},{"$f":"COUNTIF('Pairing List calcul'!$J$2:$J$73,FIXED(Y1,0, ))","v":3},{"$f":"COUNTIF('Pairing List calcul'!$J$2:$J$73,FIXED(Z1,0, ))","v":0},{"$f":"COUNTIF('Pairing List calcul'!$J$2:$J$73,FIXED(AA1,0, ))","v":3},{"$f":"COUNTIF('Pairing List calcul'!$J$2:$J$73,FIXED(AB1,0, ))","v":3},{"$f":"COUNTIF('Pairing List calcul'!$J$2:$J$73,FIXED(AC1,0, ))","v":3},{"$f":"COUNTIF('Pairing List calcul'!$J$2:$J$73,FIXED(AD1,0, ))","v":3},{"$f":"COUNTIF('Pairing List calcul'!$J$2:$J$73,FIXED(AE1,0, ))","v":0},{"$f":"COUNTIF('Pairing List calcul'!$J$2:$J$73,FIXED(AF1,0, ))","v":1},{"$f":"COUNTIF('Pairing List calcul'!$J$2:$J$73,FIXED(AG1,0, ))","v":0},{"$f":"COUNTIF('Pairing List calcul'!$J$2:$J$73,FIXED(AH1,0, ))","v":0}]
[null,9,{"$f":"COUNTIF('Pairing List calcul'!$K$2:$K$73,FIXED(C1,0, ))","v":0},{"$f":"COUNTIF('Pairing List calcul'!$K$2:$K$73,FIXED(D1,0, ))","v":1},{"$f":"COUNTIF('Pairing List calcul'!$K$2:$K$73,FIXED(E1,0, ))","v":2},{"$f":"COUNTIF('Pairing List calcul'!$K$2:$K$73,FIXED(F1,0, ))","v":0},{"$f":"COUNTIF('Pairing List calcul'!$K$2:$K$73,FIXED(G1,0, ))","v":1},{"$f":"COUNTIF('Pairing List calcul'!$K$2:$K$73,FIXED(H1,0, ))","v":1},{"$f":"COUNTIF('Pairing List calcul'!$K$2:$K$73,FIXED(I1,0, ))","v":1},{"$f":"COUNTIF('Pairing List calcul'!$K$2:$K$73,FIXED(J1,0, ))","v":0},{"$f":"COUNTIF('Pairing List calcul'!$K$2:$K$73,FIXED(K1,0, ))","v":3},{"$f":"COUNTIF('Pairing List calcul'!$K$2:$K$73,FIXED(L1,0, ))","v":2},{"$f":"COUNTIF('Pairing List calcul'!$K$2:$K$73,FIXED(M1,0, ))","v":1},{"$f":"COUNTIF('Pairing List calcul'!$K$2:$K$73,FIXED(N1,0, ))","v":4},{"$f":"COUNTIF('Pairing List calcul'!$K$2:$K$73,FIXED(O1,0, ))","v":1},{"$f":"COUNTIF('Pairing List calcul'!$K$2:$K$73,FIXED(P1,0, ))","v":1},{"$f":"COUNTIF('Pairing List calcul'!$K$2:$K$73,FIXED(Q1,0, ))","v":1},{"$f":"COUNTIF('Pairing List calcul'!$K$2:$K$73,FIXED(R1,0, ))","v":2},{"$f":"COUNTIF('Pairing List calcul'!$K$2:$K$73,FIXED(S1,0, ))","v":1},{"$f":"COUNTIF('Pairing List calcul'!$K$2:$K$73,FIXED(T1,0, ))","v":1},{"$f":"COUNTIF('Pairing List calcul'!$K$2:$K$73,FIXED(U1,0, ))","v":5},{"$f":"COUNTIF('Pairing List calcul'!$K$2:$K$73,FIXED(V1,0, ))","v":3},{"$f":"COUNTIF('Pairing List calcul'!$K$2:$K$73,FIXED(W1,0, ))","v":2},{"$f":"COUNTIF('Pairing List calcul'!$K$2:$K$73,FIXED(X1,0, ))","v":1},{"$f":"COUNTIF('Pairing List calcul'!$K$2:$K$73,FIXED(Y1,0, ))","v":2},{"$f":"COUNTIF('Pairing List calcul'!$K$2:$K$73,FIXED(Z1,0, ))","v":4},{"$f":"COUNTIF('Pairing List calcul'!$K$2:$K$73,FIXED(AA1,0, ))","v":4},{"$f":"COUNTIF('Pairing List calcul'!$K$2:$K$73,FIXED(AB1,0, ))","v":3},{"$f":"COUNTIF('Pairing List calcul'!$K$2:$K$73,FIXED(AC1,0, ))","v":4},{"$f":"COUNTIF('Pairing List calcul'!$K$2:$K$73,FIXED(AD1,0, ))","v":1},{"$f":"COUNTIF('Pairing List calcul'!$K$2:$K$73,FIXED(AE1,0, ))","v":0},{"$f":"COUNTIF('Pairing List calcul'!$K$2:$K$73,FIXED(AF1,0, ))","v":2},{"$f":"COUNTIF('Pairing List calcul'!$K$2:$K$73,FIXED(AG1,0, ))","v":0},{"$f":"COUNTIF('Pairing List calcul'!$K$2:$K$73,FIXED(AH1,0, ))","v":0}]
[null,10,{"$f":"COUNTIF('Pairing List calcul'!$K$2:$K$73,FIXED(C2,0, ))","v":0},{"$f":"COUNTIF('Pairing List calcul'!$K$2:$K$73,FIXED(D2,0, ))","v":0},{"$f":"COUNTIF('Pairing List calcul'!$K$2:$K$73,FIXED(E2,0, ))","v":0},{"$f":"COUNTIF('Pairing List calcul'!$K$2:$K$73,FIXED(F2,0, ))","v":1},{"$f":"COUNTIF('Pairing List calcul'!$K$2:$K$73,FIXED(G2,0, ))","v":0},{"$f":"COUNTIF('Pairing List calcul'!$K$2:$K$73,FIXED(H2,0, ))","v":1},{"$f":"COUNTIF('Pairing List calcul'!$K$2:$K$73,FIXED(I2,0, ))","v":0},{"$f":"COUNTIF('Pairing List calcul'!$K$2:$K$73,FIXED(J2,0, ))","v":0},{"$f":"COUNTIF('Pairing List calcul'!$K$2:$K$73,FIXED(K2,0, ))","v":0},{"$f":"COUNTIF('Pairing List calcul'!$K$2:$K$73,FIXED(L2,0, ))","v":2},{"$f":"COUNTIF('Pairing List calcul'!$K$2:$K$73,FIXED(M2,0, ))","v":0},{"$f":"COUNTIF('Pairing List calcul'!$K$2:$K$73,FIXED(N2,0, ))","v":0},{"$f":"COUNTIF('Pairing List calcul'!$K$2:$K$73,FIXED(O2,0, ))","v":0},{"$f":"COUNTIF('Pairing List calcul'!$K$2:$K$73,FIXED(P2,0, ))","v":0},{"$f":"COUNTIF('Pairing List calcul'!$K$2:$K$73,FIXED(Q2,0, ))","v":0},{"$f":"COUNTIF('Pairing List calcul'!$K$2:$K$73,FIXED(R2,0, ))","v":0},{"$f":"COUNTIF('Pairing List calcul'!$K$2:$K$73,FIXED(S2,0, ))","v":0},{"$f":"COUNTIF('Pairing List calcul'!$K$2:$K$73,FIXED(T2,0, ))","v":2},{"$f":"COUNTIF('Pairing List calcul'!$K$2:$K$73,FIXED(U2,0, ))","v":0},{"$f":"COUNTIF('Pairing List calcul'!$K$2:$K$73,FIXED(V2,0, ))","v":2},{"$f":"COUNTIF('Pairing List calcul'!$K$2:$K$73,FIXED(W2,0, ))","v":0},{"$f":"COUNTIF('Pairing List calcul'!$K$2:$K$73,FIXED(X2,0, ))","v":2},{"$f":"COUNTIF('Pairing List calcul'!$K$2:$K$73,FIXED(Y2,0, ))","v":1},{"$f":"COUNTIF('Pairing List calcul'!$K$2:$K$73,FIXED(Z2,0, ))","v":0},{"$f":"COUNTIF('Pairing List calcul'!$K$2:$K$73,FIXED(AA2,0, ))","v":0},{"$f":"COUNTIF('Pairing List calcul'!$K$2:$K$73,FIXED(AB2,0, ))","v":0},{"$f":"COUNTIF('Pairing List calcul'!$K$2:$K$73,FIXED(AC2,0, ))","v":0},{"$f":"COUNTIF('Pairing List calcul'!$K$2:$K$73,FIXED(AD2,0, ))","v":2},{"$f":"COUNTIF('Pairing List calcul'!$K$2:$K$73,FIXED(AE2,0, ))","v":2},{"$f":"COUNTIF('Pairing List calcul'!$K$2:$K$73,FIXED(AF2,0, ))","v":1},{"$f":"COUNTIF('Pairing List calcul'!$K$2:$K$73,FIXED(AG2,0, ))","v":0},{"$f":"COUNTIF('Pairing List calcul'!$K$2:$K$73,FIXED(AH2,0, ))","v":0}]
[]
[null,"Matchs",1,{"$f":"C13+1","v":2},3,4,5,6,7,8,9,10,11,12,13,14,15,16,17,18,19,20,21,22,23,24,25,26,27,28,29,30,31,32,"Total"]
[null,1,null,{"$f":"Eq.2!W1","v":4},{"$f":"Eq.3!W1","v":1},{"$f":"Eq.4!W1","v":5},{"$f":"Eq.5!W1","v":5},{"$f":"Eq.6!W1","v":5},{"$f":"Eq.7!W1","v":3},{"$f":"Eq.8!W1","v":6},{"$f":"Eq.9!W1","v":6},{"$f":"Eq.10!W1","v":7},{"$f":"Eq.11!W1","v":5},{"$f":"Eq.12!W1","v":3},{"$f":"Eq.13!W1","v":3},{"$f":"Eq.14!W1","v":4},{"$f":"Eq.15!W1","v":2},{"$f":"Eq.16!W1","v":5},{"$f":"Eq.17!W1","v":2},{"$f":"Eq.18!W1","v":5},{"$f":"Eq.19!W1","v":2},{"$f":"Eq.20!W1","v":4},{"$f":"Eq.21!W1","v":2},{"$f":"Eq.22!W1","v":5},{"$f":"Eq.23!W1","v":4},{"$f":"Eq.24!W1","v":5},{"$f":"Eq.25!W1","v":3},{"$f":"Eq.26!W1","v":6},{"$f":"Eq.27!W1","v":7},{"$f":"Eq.28!W1","v":6},{"$f":"Eq.29!W1","v":5},{"$f":"Eq.30!W1","v":6},{"$f":"Eq.31!W1","v":0},{"$f":"Eq.32!W1","v":0},{"$f":"SUM(C14:AF14)","v":126}]
[null,{"$f":"B14+1","v":2},{"$f":"Eq.1!W2","v":6},null,{"$f":"Eq.3!W2","v":5},{"$f":"Eq.4!W2","v":4},{"$f":"Eq.5!W2","v":4},{"$f":"Eq.6!W2","v":4},{"$f":"Eq.7!W2","v":3},{"$f":"Eq.8!W2","v":6},{"$f":"Eq.9!W2","v":4},{"$f":"Eq.10!W2","v":5},{"$f":"Eq.11!W2","v":1},{"$f":"Eq.12!W2","v":3},{"$f":"Eq.13!W2","v":4},{"$f":"Eq.14!W2","v":3},{"$f":"Eq.15!W2","v":3},{"$f":"Eq.16!W2","v":6},{"$f":"Eq.17!W2","v":4},{"$f":"Eq.18!W2","v":4},{"$f":"Eq.19!W2","v":1},{"$f":"Eq.20!W2","v":3},{"$f":"Eq.21!W2","v":5},{"$f":"Eq.22!W2","v":3},{"$f":"Eq.23!W2","v":4},{"$f":"Eq.24!W2","v":3},{"$f":"Eq.25!W2","v":4},{"$f":"Eq.26!W2","v":6},{"$f":"Eq.27!W2","v":5},{"$f":"Eq.28!W2","v":5},{"$f":"Eq.29!W2","v":5},{"$f":"Eq.30!W2","v":4},{"$f":"Eq.31!W2","v":0},{"$f":"Eq.32!W2","v":0},{"$f":"SUM(C15:AF15)","v":117}]
[null,3,{"$f":"Eq.1!W3","v":1},{"$f":"Eq.2!W3","v":6},null,{"$f":"Eq.4!W3","v":5},{"$f":"Eq.5!W3","v":4},{"$f":"Eq.6!W3","v":6},{"$f":"Eq.7!W3","v":5},{"$f":"Eq.8!W3","v":5},{"$f":"Eq.9!W3","v":6},{"$f":"Eq.10!W3","v":6},{"$f":"Eq.11!W3","v":3},{"$f":"Eq.12!W3","v":6},{"$f":"Eq.13!W3","v":8},{"$f":"Eq.14!W3","v":9},{"$f":"Eq.15!W3","v":6},{"$f":"Eq.16!W3","v":6},{"$f":"Eq.17!W3","v":7},{"$f":"Eq.18!W3","v":5},{"$f":"Eq.19!W3","v":4},{"$f":"Eq.20!W3","v":7},{"$f":"Eq.21!W3","v":7},{"$f":"Eq.22!W3","v":6},{"$f":"Eq.23!W3","v":5},{"$f":"Eq.24!W3","v":2},{"$f":"Eq.25!W3","v":4},{"$f":"Eq.26!W3","v":4},{"$f":"Eq.27!W3","v":4},{"$f":"Eq.28!W3","v":6},{"$f":"Eq.29!W3","v":3},{"$f":"Eq.30!W3","v":7},{"$f":"Eq.31!W3","v":0},{"$f":"Eq.32!W3","v":0},153]
[null,4,{"$f":"Eq.1!W4","v":5},{"$f":"Eq.2!W4","v":4},{"$f":"Eq.3!W4","v":4},null,{"$f":"Eq.5!W4","v":4},{"$f":"Eq.6!W4","v":3},{"$f":"Eq.7!W4","v":5},{"$f":"Eq.8!W4","v":6},{"$f":"Eq.9!W4","v":4},{"$f":"Eq.10!W4","v":1},{"$f":"Eq.11!W4","v":6},{"$f":"Eq.12!W4","v":5},{"$f":"Eq.13!W4","v":2},{"$f":"Eq.14!W4","v":3},{"$f":"Eq.15!W4","v":5},{"$f":"Eq.16!W4","v":5},{"$f":"Eq.17!W4","v":4},{"$f":"Eq.18!W4","v":6},{"$f":"Eq.19!W4","v":6},{"$f":"Eq.20!W4","v":6},{"$f":"Eq.21!W4","v":3},{"$f":"Eq.22!W4","v":5},{"$f":"Eq.23!W4","v":4},{"$f":"Eq.24!W4","v":3},{"$f":"Eq.25!W4","v":4},{"$f":"Eq.26!W4","v":4},{"$f":"Eq.27!W4","v":6},{"$f":"Eq.28!W4","v":6},{"$f":"Eq.29!W4","v":3},{"$f":"Eq.30!W4","v":4},{"$f":"Eq.31!W4","v":0},{"$f":"Eq.32!W4","v":0},126]
[null,5,{"$f":"Eq.1!W5","v":6},{"$f":"Eq.2!W5","v":5},{"$f":"Eq.3!W5","v":3},{"$f":"Eq.4!W5","v":5},null,{"$f":"Eq.6!W5","v":3},{"$f":"Eq.7!W5","v":6},{"$f":"Eq.8!W5","v":4},{"$f":"Eq.9!W5","v":2},{"$f":"Eq.10!W5","v":5},{"$f":"Eq.11!W5","v":7},{"$f":"Eq.12!W5","v":5},{"$f":"Eq.13!W5","v":7},{"$f":"Eq.14!W5","v":7},{"$f":"Eq.15!W5","v":6},{"$f":"Eq.16!W5","v":5},{"$f":"Eq.17!W5","v":8},{"$f":"Eq.18!W5","v":7},{"$f":"Eq.19!W5","v":5},{"$f":"Eq.20!W5","v":4},{"$f":"Eq.21!W5","v":6},{"$f":"Eq.22!W5","v":6},{"$f":"Eq.23!W5","v":3},{"$f":"Eq.24!W5","v":5},{"$f":"Eq.25!W5","v":7},{"$f":"Eq.26!W5","v":3},{"$f":"Eq.27!W5","v":5},{"$f":"Eq.28!W5","v":5},{"$f":"Eq.29!W5","v":5},{"$f":"Eq.30!W5","v":8},{"$f":"Eq.31!W5","v":0},{"$f":"Eq.32!W5","v":0},153]
[null,6,{"$f":"Eq.1!W6","v":6},{"$f":"Eq.2!W6","v":4},{"$f":"Eq.3!W6","v":7},{"$f":"Eq.4!W6","v":4},{"$f":"Eq.5!W6","v":3},null,{"$f":"Eq.7!W6","v":3},{"$f":"Eq.8!W6","v":6},{"$f":"Eq.9!W6","v":6},{"$f":"Eq.10!W6","v":5},{"$f":"Eq.11!W6","v":5},{"$f":"Eq.12!W6","v":8},{"$f":"Eq.13!W6","v":3},{"$f":"Eq.14!W6","v":4},{"$f":"Eq.15!W6","v":3},{"$f":"Eq.16!W6","v":3},{"$f":"Eq.17!W6","v":5},{"$f":"Eq.18!W6","v":5},{"$f":"Eq.19!W6","v":5},{"$f":"Eq.20!W6","v":7},{"$f":"Eq.21!W6","v":5},{"$f":"Eq.22!W6","v":5},{"$f":"Eq.23!W6","v":5},{"$f":"Eq.24!W6","v":8},{"$f":"Eq.25!W6","v":5},{"$f":"Eq.26!W6","v":7},{"$f":"Eq.27!W6","v":6},{"$f":"Eq.28!W6","v":5},{"$f":"Eq.29!W6","v":9},{"$f":"Eq.30!W6","v":6},{"$f":"Eq.31!W6","v":0},{"$f":"Eq.32!W6","v":0},153]
[null,7,{"$f":"Eq.1!W7","v":4},{"$f":"Eq.2!W7","v":7},{"$f":"Eq.3!W7","v":5},{"$f":"Eq.4!W7","v":6},{"$f":"Eq.5!W7","v":6},{"$f":"Eq.6!W7","v":4},null,{"$f":"Eq.8!W7","v":5},{"$f":"Eq.9!W7","v":6},{"$f":"Eq.10!W7","v":7},{"$f":"Eq.11!W7","v":6},{"$f":"Eq.12!W7","v":5},{"$f":"Eq.13!W7","v":7},{"$f":"Eq.14!W7","v":5},{"$f":"Eq.15!W7","v":7},{"$f":"Eq.16!W7","v":8},{"$f":"Eq.17!W7","v":7},{"$f":"Eq.18!W7","v":6},{"$f":"Eq.19!W7","v":6},{"$f":"Eq.20!W7","v":5},{"$f":"Eq.21!W7","v":5},{"$f":"Eq.22!W7","v":5},{"$f":"Eq.23!W7","v":3},{"$f":"Eq.24!W7","v":2},{"$f":"Eq.25!W7","v":8},{"$f":"Eq.26!W7","v":5},{"$f":"Eq.27!W7","v":3},{"$f":"Eq.28!W7","v":7},{"$f":"Eq.29!W7","v":6},{"$f":"Eq.30!W7","v":6},{"$f":"Eq.31!W7","v":0},{"$f":"Eq.32!W7","v":0},162]
[null,8,{"$f":"Eq.1!W8","v":5},{"$f":"Eq.2!W8","v":5},{"$f":"Eq.3!W8","v":5},{"$f":"Eq.4!W8","v":8},{"$f":"Eq.5!W8","v":5},{"$f":"Eq.6!W8","v":7},{"$f":"Eq.7!W8","v":5},null,{"$f":"Eq.9!W8","v":4},{"$f":"Eq.10!W8","v":3},{"$f":"Eq.11!W8","v":7},{"$f":"Eq.12!W8","v":5},{"$f":"Eq.13!W8","v":7},{"$f":"Eq.14!W8","v":4},{"$f":"Eq.15!W8","v":5},{"$f":"Eq.16!W8","v":4},{"$f":"Eq.17!W8","v":2},{"$f":"Eq.18!W8","v":6},{"$f":"Eq.19!W8","v":3},{"$f":"Eq.20!W8","v":6},{"$f":"Eq.21!W8","v":5},{"$f":"Eq.22!W8","v":3},{"$f":"Eq.23!W8","v":8},{"$f":"Eq.24!W8","v":6},{"$f":"Eq.25!W8","v":4},{"$f":"Eq.26!W8","v":7},{"$f":"Eq.27!W8","v":7},{"$f":"Eq.28!W8","v":8},{"$f":"Eq.29!W8","v":4},{"$f":"Eq.30!W8","v":5},{"$f":"Eq.31!W8","v":0},{"$f":"Eq.32!W8","v":0},153]
[null,9,{"$f":"Eq.1!W9","v":7},{"$f":"Eq.2!W9","v":5},{"$f":"Eq.3!W9","v":5},{"$f":"Eq.4!W9","v":5},{"$f":"Eq.5!W9","v":2},{"$f":"Eq.6!W9","v":5},{"$f":"Eq.7!W9","v":5},{"$f":"Eq.8!W9","v":5},null,{"$f":"Eq.10!W9","v":6},{"$f":"Eq.11!W9","v":6},{"$f":"Eq.12!W9","v":5},{"$f":"Eq.13!W9","v":6},{"$f":"Eq.14!W9","v":4},{"$f":"Eq.15!W9","v":6},{"$f":"Eq.16!W9","v":6},{"$f":"Eq.17!W9","v":3},{"$f":"Eq.18!W9","v":4},{"$f":"Eq.19!W9","v":5},{"$f":"Eq.20!W9","v":3},{"$f":"Eq.21!W9","v":7},{"$f":"Eq.22!W9","v":5},{"$f":"Eq.23!W9","v":5},{"$f":"Eq.24!W9","v":4},{"$f":"Eq.25!W9","v":6},{"$f":"Eq.26!W9","v":4},{"$f":"Eq.27!W9","v":5},{"$f":"Eq.28!W9","v":6},{"$f":"Eq.29!W9","v":5},{"$f":"Eq.30!W9","v":4},{"$f":"Eq.31!W9","v":0},{"$f":"Eq.32!W9","v":0},144]
[null,10,{"$f":"Eq.1!W10","v":6},{"$f":"Eq.2!W10","v":7},{"$f":"Eq.3!W10","v":5},{"$f":"Eq.4!W10","v":1},{"$f":"Eq.5!W10","v":4},{"$f":"Eq.6!W10","v":4},{"$f":"Eq.7!W10","v":7},{"$f":"Eq.8!W10","v":4},{"$f":"Eq.9!W10","v":7},null,{"$f":"Eq.11!W10","v":6},{"$f":"Eq.12!W10","v":2},{"$f":"Eq.13!W10","v":7},{"$f":"Eq.14!W10","v":4},{"$f":"Eq.15!W10","v":2},{"$f":"Eq.16!W10","v":5},{"$f":"Eq.17!W10","v":7},{"$f":"Eq.18!W10","v":4},{"$f":"Eq.19!W10","v":3},{"$f":"Eq.20!W10","v":5},{"$f":"Eq.21!W10","v":8},{"$f":"Eq.22!W10","v":5},{"$f":"Eq.23!W10","v":6},{"$f":"Eq.24!W10","v":4},{"$f":"Eq.25!W10","v":3},{"$f":"Eq.26!W10","v":8},{"$f":"Eq.27!W10","v":3},{"$f":"Eq.28!W10","v":7},{"$f":"Eq.29!W10","v":5},{"$f":"Eq.30!W10","v":5},{"$f":"Eq.31!W10","v":0},{"$f":"Eq.32!W10","v":0},144]
[null,11,{"$f":"Eq.1!W11","v":3},{"$f":"Eq.2!W11","v":4},{"$f":"Eq.3!W11","v":3},{"$f":"Eq.4!W11","v":7},{"$f":"Eq.5!W11","v":6},{"$f":"Eq.6!W11","v":5},{"$f":"Eq.7!W11","v":6},{"$f":"Eq.8!W11","v":6},{"$f":"Eq.9!W11","v":5},{"$f":"Eq.10!W11","v":4},null,{"$f":"Eq.12!W11","v":4},{"$f":"Eq.13!W11","v":8},{"$f":"Eq.14!W11","v":8},{"$f":"Eq.15!W11","v":3},{"$f":"Eq.16!W11","v":6},{"$f":"Eq.17!W11","v":6},{"$f":"Eq.18!W11","v":5},{"$f":"Eq.19!W11","v":6},{"$f":"Eq.20!W11","v":7},{"$f":"Eq.21!W11","v":4},{"$f":"Eq.22!W11","v":3},{"$f":"Eq.23!W11","v":3},{"$f":"Eq.24!W11","v":6},{"$f":"Eq.25!W11","v":10},{"$f":"Eq.26!W11","v":4},{"$f":"Eq.27!W11","v":3},{"$f":"Eq.28!W11","v":1},{"$f":"Eq.29!W11","v":6},{"$f":"Eq.30!W11","v":2},{"$f":"Eq.31!W11","v":0},{"$f":"Eq.32!W11","v":0},144]
[null,12,{"$f":"Eq.1!W12","v":4},{"$f":"Eq.2!W12","v":3},{"$f":"Eq.3!W12","v":5},{"$f":"Eq.4!W12","v":4},{"$f":"Eq.5!W12","v":4},{"$f":"Eq.6!W12","v":8},{"$f":"Eq.7!W12","v":4},{"$f":"Eq.8!W12","v":4},{"$f":"Eq.9!W12","v":5},{"$f":"Eq.10!W12","v":2},{"$f":"Eq.11!W12","v":4},null,{"$f":"Eq.13!W12","v":4},{"$f":"Eq.14!W12","v":8},{"$f":"Eq.15!W12","v":3},{"$f":"Eq.16!W12","v":5},{"$f":"Eq.17!W12","v":5},{"$f":"Eq.18!W12","v":1},{"$f":"Eq.19!W12","v":6},{"$f":"Eq.20!W12","v":6},{"$f":"Eq.21!W12","v":3},{"$f":"Eq.22!W12","v":6},{"$f":"Eq.23!W12","v":5},{"$f":"Eq.24!W12","v":8},{"$f":"Eq.25!W12","v":8},{"$f":"Eq.26!W12","v":3},{"$f":"Eq.27!W12","v":4},{"$f":"Eq.28!W12","v":3},{"$f":"Eq.29!W12","v":6},{"$f":"Eq.30!W12","v":4},{"$f":"Eq.31!W12","v":0},{"$f":"Eq.32!W12","v":0},135]
[null,13,{"$f":"Eq.1!W13","v":3},{"$f":"Eq.2!W13","v":8},{"$f":"Eq.3!W13","v":6},{"$f":"Eq.4!W13","v":2},{"$f":"Eq.5!W13","v":7},{"$f":"Eq.6!W13","v":2},{"$f":"Eq.7!W13","v":7},{"$f":"Eq.8!W13","v":8},{"$f":"Eq.9!W13","v":5},{"$f":"Eq.10!W13","v":6},{"$f":"Eq.11!W13","v":7},{"$f":"Eq.12!W13","v":4},null,{"$f":"Eq.14!W13","v":7},{"$f":"Eq.15!W13","v":5},{"$f":"Eq.16!W13","v":6},{"$f":"Eq.17!W13","v":5},{"$f":"Eq.18!W13","v":3},{"$f":"Eq.19!W13","v":2},{"$f":"Eq.20!W13","v":7},{"$f":"Eq.21!W13","v":8},{"$f":"Eq.22!W13","v":4},{"$f":"Eq.23!W13","v":4},{"$f":"Eq.24!W13","v":3},{"$f":"Eq.25!W13","v":9},{"$f":"Eq.26!W13","v":2},{"$f":"Eq.27!W13","v":2},{"$f":"Eq.28!W13","v":6},{"$f":"Eq.29!W13","v":3},{"$f":"Eq.30!W13","v":3},{"$f":"Eq.31!W13","v":0},{"$f":"Eq.32!W13","v":0},144]
[null,14,{"$f":"Eq.1!W14","v":5},{"$f":"Eq.2!W14","v":4},{"$f":"Eq.3!W14","v":7},{"$f":"Eq.4!W14","v":4},{"$f":"Eq.5!W14","v":6},{"$f":"Eq.6!W14","v":3},{"$f":"Eq.7!W14","v":5},{"$f":"Eq.8!W14","v":3},{"$f":"Eq.9!W14","v":5},{"$f":"Eq.10!W14","v":4},{"$f":"Eq.11!W14","v":7},{"$f":"Eq.12!W14","v":7},{"$f":"Eq.13!W14","v":6},null,{"$f":"Eq.15!W14","v":3},{"$f":"Eq.16!W14","v":6},{"$f":"Eq.17!W14","v":6},{"$f":"Eq.18!W14","v":3},{"$f":"Eq.19!W14","v":6},{"$f":"Eq.20!W14","v":8},{"$f":"Eq.21!W14","v":5},{"$f":"Eq.22!W14","v":9},{"$f":"Eq.23!W14","v":3},{"$f":"Eq.24!W14","v":6},{"$f":"Eq.25!W14","v":4},{"$f":"Eq.26!W14","v":2},{"$f":"Eq.27!W14","v":5},{"$f":"Eq.28!W14","v":4},{"$f":"Eq.29!W14","v":3},{"$f":"Eq.30!W14","v":5},{"$f":"Eq.31!W14","v":0},{"$f":"Eq.32!W14","v":0},144]
[null,15,{"$f":"Eq.1!W15","v":5},{"$f":"Eq.2!W15","v":4},{"$f":"Eq.3!W15","v":6},{"$f":"Eq.4!W15","v":7},{"$f":"Eq.5!W15","v":7},{"$f":"Eq.6!W15","v":4},{"$f":"Eq.7!W15","v":5},{"$f":"Eq.8!W15","v":5},{"$f":"Eq.9!W15","v":6},{"$f":"Eq.10!W15","v":2},{"$f":"Eq.11!W15","v":3},{"$f":"Eq.12!W15","v":4},{"$f":"Eq.13!W15","v":5},{"$f":"Eq.14!W15","v":3},null,{"$f":"Eq.16!W15","v":3},{"$f":"Eq.17!W15","v":4},{"$f":"Eq.18!W15","v":6},{"$f":"Eq.19!W15","v":7},{"$f":"Eq.20!W15","v":1},{"$f":"Eq.21!W15","v":3},{"$f":"Eq.22!W15","v":6},{"$f":"Eq.23!W15","v":7},{"$f":"Eq.24!W15","v":6},{"$f":"Eq.25!W15","v":6},{"$f":"Eq.26!W15","v":5},{"$f":"Eq.27!W15","v":7},{"$f":"Eq.28!W15","v":5},{"$f":"Eq.29!W15","v":4},{"$f":"Eq.30!W15","v":8},{"$f":"Eq.31!W15","v":0},{"$f":"Eq.32!W15","v":0},144]
[null,16,{"$f":"Eq.1!W16","v":4},{"$f":"Eq.2!W16","v":8},{"$f":"Eq.3!W16","v":6},{"$f":"Eq.4!W16","v":7},{"$f":"Eq.5!W16","v":4},{"$f":"Eq.6!W16","v":3},{"$f":"Eq.7!W16","v":7},{"$f":"Eq.8!W16","v":3},{"$f":"Eq.9!W16","v":7},{"$f":"Eq.10!W16","v":4},{"$f":"Eq.11!W16","v":6},{"$f":"Eq.12!W16","v":6},{"$f":"Eq.13!W16","v":6},{"$f":"Eq.14!W16","v":5},{"$f":"Eq.15!W16","v":4},null,{"$f":"Eq.17!W16","v":3},{"$f":"Eq.18!W16","v":4},{"$f":"Eq.19!W16","v":5},{"$f":"Eq.20!W16","v":5},{"$f":"Eq.21!W16","v":6},{"$f":"Eq.22!W16","v":5},{"$f":"Eq.23!W16","v":7},{"$f":"Eq.24!W16","v":3},{"$f":"Eq.25!W16","v":8},{"$f":"Eq.26!W16","v":3},{"$f":"Eq.27!W16","v":4},{"$f":"Eq.28!W16","v":5},{"$f":"Eq.29!W16","v":5},{"$f":"Eq.30!W16","v":1},{"$f":"Eq.31!W16","v":0},{"$f":"Eq.32!W16","v":0},144]
[null,17,{"$f":"Eq.1!W17","v":4},{"$f":"Eq.2!W17","v":7},{"$f":"Eq.3!W17","v":7},{"$f":"Eq.4!W17","v":4},{"$f":"Eq.5!W17","v":7},{"$f":"Eq.6!W17","v":5},{"$f":"Eq.7!W17","v":6},{"$f":"Eq.8!W17","v":1},{"$f":"Eq.9!W17","v":4},{"$f":"Eq.10!W17","v":8},{"$f":"Eq.11!W17","v":5},{"$f":"Eq.12!W17","v":6},{"$f":"Eq.13!W17","v":5},{"$f":"Eq.14!W17","v":8},{"$f":"Eq.15!W17","v":5},{"$f":"Eq.16!W17","v":3},null,{"$f":"Eq.18!W17","v":6},{"$f":"Eq.19!W17","v":7},{"$f":"Eq.20!W17","v":7},{"$f":"Eq.21!W17","v":7},{"$f":"Eq.22!W17","v":4},{"$f":"Eq.23!W17","v":6},{"$f":"Eq.24!W17","v":5},{"$f":"Eq.25!W17","v":6},{"$f":"Eq.26!W17","v":3},{"$f":"Eq.27!W17","v":1},{"$f":"Eq.28!W17","v":3},{"$f":"Eq.29!W17","v":6},{"$f":"Eq.30!W17","v":7},{"$f":"Eq.31!W17","v":0},{"$f":"Eq.32!W17","v":0},153]
[null,18,{"$f":"Eq.1!W18","v":6},{"$f":"Eq.2!W18","v":5},{"$f":"Eq.3!W18","v":5},{"$f":"Eq.4!W18","v":8},{"$f":"Eq.5!W18","v":7},{"$f":"Eq.6!W18","v":4},{"$f":"Eq.7!W18","v":6},{"$f":"Eq.8!W18","v":6},{"$f":"Eq.9!W18","v":4},{"$f":"Eq.10!W18","v":5},{"$f":"Eq.11!W18","v":4},{"$f":"Eq.12!W18","v":3},{"$f":"Eq.13!W18","v":3},{"$f":"Eq.14!W18","v":2},{"$f":"Eq.15!W18","v":8},{"$f":"Eq.16!W18","v":4},{"$f":"Eq.17!W18","v":6},null,{"$f":"Eq.19!W18","v":7},{"$f":"Eq.20!W18","v":5},{"$f":"Eq.21!W18","v":4},{"$f":"Eq.22!W18","v":6},{"$f":"Eq.23!W18","v":4},{"$f":"Eq.24!W18","v":5},{"$f":"Eq.25!W18","v":4},{"$f":"Eq.26!W18","v":8},{"$f":"Eq.27!W18","v":7},{"$f":"Eq.28!W18","v":4},{"$f":"Eq.29!W18","v":5},{"$f":"Eq.30!W18","v":8},{"$f":"Eq.31!W18","v":0},{"$f":"Eq.32!W18","v":0},153]
[null,19,{"$f":"Eq.1!W19","v":5},{"$f":"Eq.2!W19","v":3},{"$f":"Eq.3!W19","v":4},{"$f":"Eq.4!W19","v":7},{"$f":"Eq.5!W19","v":4},{"$f":"Eq.6!W19","v":4},{"$f":"Eq.7!W19","v":6},{"$f":"Eq.8!W19","v":3},{"$f":"Eq.9!W19","v":5},{"$f":"Eq.10!W19","v":4},{"$f":"Eq.11!W19","v":7},{"$f":"Eq.12!W19","v":6},{"$f":"Eq.13!W19","v":3},{"$f":"Eq.14!W19","v":6},{"$f":"Eq.15!W19","v":7},{"$f":"Eq.16!W19","v":5},{"$f":"Eq.17!W19","v":7},{"$f":"Eq.18!W19","v":8},null,{"$f":"Eq.20!W19","v":7},{"$f":"Eq.21!W19","v":5},{"$f":"Eq.22!W19","v":4},{"$f":"Eq.23!W19","v":7},{"$f":"Eq.24!W19","v":6},{"$f":"Eq.25!W19","v":7},{"$f":"Eq.26!W19","v":5},{"$f":"Eq.27!W19","v":5},{"$f":"Eq.28!W19","v":4},{"$f":"Eq.29!W19","v":2},{"$f":"Eq.30!W19","v":7},{"$f":"Eq.31!W19","v":0},{"$f":"Eq.32!W19","v":0},153]
[null,20,{"$f":"Eq.1!W20","v":3},{"$f":"Eq.2!W20","v":5},{"$f":"Eq.3!W20","v":7},{"$f":"Eq.4!W20","v":6},{"$f":"Eq.5!W20","v":4},{"$f":"Eq.6!W20","v":7},{"$f":"Eq.7!W20","v":4},{"$f":"Eq.8!W20","v":6},{"$f":"Eq.9!W20","v":5},{"$f":"Eq.10!W20","v":6},{"$f":"Eq.11!W20","v":6},{"$f":"Eq.12!W20","v":7},{"$f":"Eq.13!W20","v":8},{"$f":"Eq.14!W20","v":7},{"$f":"Eq.15!W20","v":2},{"$f":"Eq.16!W20","v":5},{"$f":"Eq.17!W20","v":7},{"$f":"Eq.18!W20","v":6},{"$f":"Eq.19!W20","v":7},null,{"$f":"Eq.21!W20","v":7},{"$f":"Eq.22!W20","v":6},{"$f":"Eq.23!W20","v":4},{"$f":"Eq.24!W20","v":5},{"$f":"Eq.25!W20","v":6},{"$f":"Eq.26!W20","v":2},{"$f":"Eq.27!W20","v":4},{"$f":"Eq.28!W20","v":5},{"$f":"Eq.29!W20","v":3},{"$f":"Eq.30!W20","v":3},{"$f":"Eq.31!W20","v":0},{"$f":"Eq.32!W20","v":0},153]
[null,21,{"$f":"Eq.1!W21","v":2},{"$f":"Eq.2!W21","v":6},{"$f":"Eq.3!W21","v":7},{"$f":"Eq.4!W21","v":3},{"$f":"Eq.5!W21","v":6},{"$f":"Eq.6!W21","v":5},{"$f":"Eq.7!W21","v":3},{"$f":"Eq.8!W21","v":5},{"$f":"Eq.9!W21","v":5},{"$f":"Eq.10!W21","v":7},{"$f":"Eq.11!W21","v":5},{"$f":"Eq.12!W21","v":3},{"$f":"Eq.13!W21","v":9},{"$f":"Eq.14!W21","v":6},{"$f":"Eq.15!W21","v":4},{"$f":"Eq.16!W21","v":5},{"$f":"Eq.17!W21","v":6},{"$f":"Eq.18!W21","v":5},{"$f":"Eq.19!W21","v":4},{"$f":"Eq.20!W21","v":7},null,{"$f":"Eq.22!W21","v":3},{"$f":"Eq.23!W21","v":4},{"$f":"Eq.24!W21","v":3},{"$f":"Eq.25!W21","v":3},{"$f":"Eq.26!W21","v":7},{"$f":"Eq.27!W21","v":5},{"$f":"Eq.28!W21","v":5},{"$f":"Eq.29!W21","v":5},{"$f":"Eq.30!W21","v":6},{"$f":"Eq.31!W21","v":0},{"$f":"Eq.32!W21","v":0},144]
[null,22,{"$f":"Eq.1!W22","v":7},{"$f":"Eq.2!W22","v":5},{"$f":"Eq.3!W22","v":6},{"$f":"Eq.4!W22","v":5},{"$f":"Eq.5!W22","v":5},{"$f":"Eq.6!W22","v":4},{"$f":"Eq.7!W22","v":5},{"$f":"Eq.8!W22","v":3},{"$f":"Eq.9!W22","v":5},{"$f":"Eq.10!W22","v":4},{"$f":"Eq.11!W22","v":1},{"$f":"Eq.12!W22","v":6},{"$f":"Eq.13!W22","v":5},{"$f":"Eq.14!W22","v":7},{"$f":"Eq.15!W22","v":7},{"$f":"Eq.16!W22","v":6},{"$f":"Eq.17!W22","v":3},{"$f":"Eq.18!W22","v":5},{"$f":"Eq.19!W22","v":4},{"$f":"Eq.20!W22","v":5},{"$f":"Eq.21!W22","v":2},null,{"$f":"Eq.23!W22","v":5},{"$f":"Eq.24!W22","v":3},{"$f":"Eq.25!W22","v":3},{"$f":"Eq.26!W22","v":2},{"$f":"Eq.27!W22","v":5},{"$f":"Eq.28!W22","v":9},{"$f":"Eq.29!W22","v":3},{"$f":"Eq.30!W22","v":5},{"$f":"Eq.31!W22","v":0},{"$f":"Eq.32!W22","v":0},135]
[null,23,{"$f":"Eq.1!W23","v":7},{"$f":"Eq.2!W23","v":4},{"$f":"Eq.3!W23","v":5},{"$f":"Eq.4!W23","v":6},{"$f":"Eq.5!W23","v":4},{"$f":"Eq.6!W23","v":5},{"$f":"Eq.7!W23","v":3},{"$f":"Eq.8!W23","v":7},{"$f":"Eq.9!W23","v":6},{"$f":"Eq.10!W23","v":6},{"$f":"Eq.11!W23","v":4},{"$f":"Eq.12!W23","v":5},{"$f":"Eq.13!W23","v":3},{"$f":"Eq.14!W23","v":4},{"$f":"Eq.15!W23","v":8},{"$f":"Eq.16!W23","v":8},{"$f":"Eq.17!W23","v":6},{"$f":"Eq.18!W23","v":4},{"$f":"Eq.19!W23","v":7},{"$f":"Eq.20!W23","v":4},{"$f":"Eq.21!W23","v":4},{"$f":"Eq.22!W23","v":6},null,{"$f":"Eq.24!W23","v":8},{"$f":"Eq.25!W23","v":2},{"$f":"Eq.26!W23","v":7},{"$f":"Eq.27!W23","v":6},{"$f":"Eq.28!W23","v":7},{"$f":"Eq.29!W23","v":4},{"$f":"Eq.30!W23","v":3},{"$f":"Eq.31!W23","v":0},{"$f":"Eq.32!W23","v":0},153]
[null,24,{"$f":"Eq.1!W24","v":6},{"$f":"Eq.2!W24","v":3},{"$f":"Eq.3!W24","v":2},{"$f":"Eq.4!W24","v":3},{"$f":"Eq.5!W24","v":4},{"$f":"Eq.6!W24","v":8},{"$f":"Eq.7!W24","v":1},{"$f":"Eq.8!W24","v":5},{"$f":"Eq.9!W24","v":4},{"$f":"Eq.10!W24","v":5},{"$f":"Eq.11!W24","v":4},{"$f":"Eq.12!W24","v":7},{"$f":"Eq.13!W24","v":2},{"$f":"Eq.14!W24","v":6},{"$f":"Eq.15!W24","v":6},{"$f":"Eq.16!W24","v":3},{"$f":"Eq.17!W24","v":5},{"$f":"Eq.18!W24","v":5},{"$f":"Eq.19!W24","v":7},{"$f":"Eq.20!W24","v":4},{"$f":"Eq.21!W24","v":3},{"$f":"Eq.22!W24","v":6},{"$f":"Eq.23!W24","v":9},null,{"$f":"Eq.25!W24","v":5},{"$f":"Eq.26!W24","v":8},{"$f":"Eq.27!W24","v":9},{"$f":"Eq.28!W24","v":4},{"$f":"Eq.29!W24","v":8},{"$f":"Eq.30!W24","v":2},{"$f":"Eq.31!W24","v":0},{"$f":"Eq.32!W24","v":0},144]
[null,25,{"$f":"Eq.1!W25","v":5},{"$f":"Eq.2!W25","v":7},{"$f":"Eq.3!W25","v":4},{"$f":"Eq.4!W25","v":4},{"$f":"Eq.5!W25","v":6},{"$f":"Eq.6!W25","v":6},{"$f":"Eq.7!W25","v":8},{"$f":"Eq.8!W25","v":3},{"$f":"Eq.9!W25","v":6},{"$f":"Eq.10!W25","v":3},{"$f":"Eq.11!W25","v":9},{"$f":"Eq.12!W25","v":9},{"$f":"Eq.13!W25","v":9},{"$f":"Eq.14!W25","v":4},{"$f":"Eq.15!W25","v":6},{"$f":"Eq.16!W25","v":7},{"$f":"Eq.17!W25","v":6},{"$f":"Eq.18!W25","v":4},{"$f":"Eq.19!W25","v":8},{"$f":"Eq.20!W25","v":5},{"$f":"Eq.21!W25","v":3},{"$f":"Eq.22!W25","v":4},{"$f":"Eq.23!W25","v":2},{"$f":"Eq.24!W25","v":7},null,{"$f":"Eq.26!W25","v":3},{"$f":"Eq.27!W25","v":2},{"$f":"Eq.28!W25","v":2},{"$f":"Eq.29!W25","v":7},{"$f":"Eq.30!W25","v":4},{"$f":"Eq.31!W25","v":0},{"$f":"Eq.32!W25","v":0},153]
[null,26,{"$f":"Eq.1!W26","v":7},{"$f":"Eq.2!W26","v":5},{"$f":"Eq.3!W26","v":4},{"$f":"Eq.4!W26","v":4},{"$f":"Eq.5!W26","v":4},{"$f":"Eq.6!W26","v":8},{"$f":"Eq.7!W26","v":4},{"$f":"Eq.8!W26","v":7},{"$f":"Eq.9!W26","v":4},{"$f":"Eq.10!W26","v":8},{"$f":"Eq.11!W26","v":6},{"$f":"Eq.12!W26","v":2},{"$f":"Eq.13!W26","v":2},{"$f":"Eq.14!W26","v":2},{"$f":"Eq.15!W26","v":5},{"$f":"Eq.16!W26","v":3},{"$f":"Eq.17!W26","v":3},{"$f":"Eq.18!W26","v":7},{"$f":"Eq.19!W26","v":4},{"$f":"Eq.20!W26","v":2},{"$f":"Eq.21!W26","v":6},{"$f":"Eq.22!W26","v":4},{"$f":"Eq.23!W26","v":7},{"$f":"Eq.24!W26","v":7},{"$f":"Eq.25!W26","v":2},null,{"$f":"Eq.27!W26","v":8},{"$f":"Eq.28!W26","v":5},{"$f":"Eq.29!W26","v":8},{"$f":"Eq.30!W26","v":6},{"$f":"Eq.31!W26","v":0},{"$f":"Eq.32!W26","v":0},144]
[null,27,{"$f":"Eq.1!W27","v":8},{"$f":"Eq.2!W27","v":5},{"$f":"Eq.3!W27","v":4},{"$f":"Eq.4!W27","v":8},{"$f":"Eq.5!W27","v":6},{"$f":"Eq.6!W27","v":4},{"$f":"Eq.7!W27","v":3},{"$f":"Eq.8!W27","v":6},{"$f":"Eq.9!W27","v":6},{"$f":"Eq.10!W27","v":4},{"$f":"Eq.11!W27","v":4},{"$f":"Eq.12!W27","v":4},{"$f":"Eq.13!W27","v":2},{"$f":"Eq.14!W27","v":5},{"$f":"Eq.15!W27","v":7},{"$f":"Eq.16!W27","v":5},{"$f":"Eq.17!W27","v":1},{"$f":"Eq.18!W27","v":5},{"$f":"Eq.19!W27","v":4},{"$f":"Eq.20!W27","v":4},{"$f":"Eq.21!W27","v":4},{"$f":"Eq.22!W27","v":7},{"$f":"Eq.23!W27","v":5},{"$f":"Eq.24!W27","v":8},{"$f":"Eq.25!W27","v":2},{"$f":"Eq.26!W27","v":7},null,{"$f":"Eq.28!W27","v":4},{"$f":"Eq.29!W27","v":5},{"$f":"Eq.30!W27","v":7},{"$f":"Eq.31!W27","v":0},{"$f":"Eq.32!W27","v":0},144]
[null,28,{"$f":"Eq.1!W28","v":5},{"$f":"Eq.2!W28","v":5},{"$f":"Eq.3!W28","v":7},{"$f":"Eq.4!W28","v":6},{"$f":"Eq.5!W28","v":5},{"$f":"Eq.6!W28","v":4},{"$f":"Eq.7!W28","v":7},{"$f":"Eq.8!W28","v":8},{"$f":"Eq.9!W28","v":5},{"$f":"Eq.10!W28","v":8},{"$f":"Eq.11!W28","v":2},{"$f":"Eq.12!W28","v":5},{"$f":"Eq.13!W28","v":6},{"$f":"Eq.14!W28","v":4},{"$f":"Eq.15!W28","v":6},{"$f":"Eq.16!W28","v":7},{"$f":"Eq.17!W28","v":4},{"$f":"Eq.18!W28","v":3},{"$f":"Eq.19!W28","v":5},{"$f":"Eq.20!W28","v":4},{"$f":"Eq.21!W28","v":7},{"$f":"Eq.22!W28","v":8},{"$f":"Eq.23!W28","v":8},{"$f":"Eq.24!W28","v":4},{"$f":"Eq.25!W28","v":2},{"$f":"Eq.26!W28","v":5},{"$f":"Eq.27!W28","v":4},null,{"$f":"Eq.29!W28","v":5},{"$f":"Eq.30!W28","v":4},{"$f":"Eq.31!W28","v":0},{"$f":"Eq.32!W28","v":0},153]
[null,29,{"$f":"Eq.1!W29","v":6},{"$f":"Eq.2!W29","v":7},{"$f":"Eq.3!W29","v":4},{"$f":"Eq.4!W29","v":5},{"$f":"Eq.5!W29","v":5},{"$f":"Eq.6!W29","v":9},{"$f":"Eq.7!W29","v":6},{"$f":"Eq.8!W29","v":4},{"$f":"Eq.9!W29","v":6},{"$f":"Eq.10!W29","v":5},{"$f":"Eq.11!W29","v":7},{"$f":"Eq.12!W29","v":6},{"$f":"Eq.13!W29","v":3},{"$f":"Eq.14!W29","v":3},{"$f":"Eq.15!W29","v":5},{"$f":"Eq.16!W29","v":5},{"$f":"Eq.17!W29","v":7},{"$f":"Eq.18!W29","v":6},{"$f":"Eq.19!W29","v":3},{"$f":"Eq.20!W29","v":3},{"$f":"Eq.21!W29","v":6},{"$f":"Eq.22!W29","v":4},{"$f":"Eq.23!W29","v":5},{"$f":"Eq.24!W29","v":9},{"$f":"Eq.25!W29","v":7},{"$f":"Eq.26!W29","v":9},{"$f":"Eq.27!W29","v":6},{"$f":"Eq.28!W29","v":5},null,{"$f":"Eq.30!W29","v":6},{"$f":"Eq.31!W29","v":0},{"$f":"Eq.32!W29","v":0},162]
[null,30,{"$f":"Eq.1!W30","v":7},{"$f":"Eq.2!W30","v":4},{"$f":"Eq.3!W30","v":6},{"$f":"Eq.4!W30","v":5},{"$f":"Eq.5!W30","v":7},{"$f":"Eq.6!W30","v":6},{"$f":"Eq.7!W30","v":6},{"$f":"Eq.8!W30","v":5},{"$f":"Eq.9!W30","v":3},{"$f":"Eq.10!W30","v":6},{"$f":"Eq.11!W30","v":3},{"$f":"Eq.12!W30","v":6},{"$f":"Eq.13!W30","v":3},{"$f":"Eq.14!W30","v":4},{"$f":"Eq.15!W30","v":7},{"$f":"Eq.16!W30","v":1},{"$f":"Eq.17!W30","v":6},{"$f":"Eq.18!W30","v":7},{"$f":"Eq.19!W30","v":6},{"$f":"Eq.20!W30","v":4},{"$f":"Eq.21!W30","v":6},{"$f":"Eq.22!W30","v":4},{"$f":"Eq.23!W30","v":3},{"$f":"Eq.24!W30","v":2},{"$f":"Eq.25!W30","v":3},{"$f":"Eq.26!W30","v":7},{"$f":"Eq.27!W30","v":8},{"$f":"Eq.28!W30","v":3},{"$f":"Eq.29!W30","v":6},null,{"$f":"Eq.31!W30","v":0},{"$f":"Eq.32!W30","v":0},144]
[null,31,{"$f":"Eq.1!W31","v":0},{"$f":"Eq.2!W31","v":0},{"$f":"Eq.3!W31","v":0},{"$f":"Eq.4!W31","v":0},{"$f":"Eq.5!W31","v":0},{"$f":"Eq.6!W31","v":0},{"$f":"Eq.7!W31","v":0},{"$f":"Eq.8!W31","v":0},{"$f":"Eq.9!W31","v":0},{"$f":"Eq.10!W31","v":0},{"$f":"Eq.11!W31","v":0},{"$f":"Eq.12!W31","v":0},{"$f":"Eq.13!W31","v":0},{"$f":"Eq.14!W31","v":0},{"$f":"Eq.15!W31","v":0},{"$f":"Eq.16!W31","v":0},{"$f":"Eq.17!W31","v":0},{"$f":"Eq.18!W31","v":0},{"$f":"Eq.19!W31","v":0},{"$f":"Eq.20!W31","v":0},{"$f":"Eq.21!W31","v":0},{"$f":"Eq.22!W31","v":0},{"$f":"Eq.23!W31","v":0},{"$f":"Eq.24!W31","v":0},{"$f":"Eq.25!W31","v":0},{"$f":"Eq.26!W31","v":0},{"$f":"Eq.27!W31","v":0},{"$f":"Eq.28!W31","v":0},{"$f":"Eq.29!W31","v":0},{"$f":"Eq.30!W31","v":0},null,{"$f":"Eq.32!W31","v":0},0]
[null,32,{"$f":"Eq.1!W32","v":0},{"$f":"Eq.2!W32","v":0},{"$f":"Eq.3!W32","v":0},{"$f":"Eq.4!W32","v":0},{"$f":"Eq.5!W32","v":0},{"$f":"Eq.6!W32","v":0},{"$f":"Eq.7!W32","v":0},{"$f":"Eq.8!W32","v":0},{"$f":"Eq.9!W32","v":0},{"$f":"Eq.10!W32","v":0},{"$f":"Eq.11!W32","v":0},{"$f":"Eq.12!W32","v":0},{"$f":"Eq.13!W32","v":0},{"$f":"Eq.14!W32","v":0},{"$f":"Eq.15!W32","v":0},{"$f":"Eq.16!W32","v":0},{"$f":"Eq.17!W32","v":0},{"$f":"Eq.18!W32","v":0},{"$f":"Eq.19!W32","v":0},{"$f":"Eq.20!W32","v":0},{"$f":"Eq.21!W32","v":0},{"$f":"Eq.22!W32","v":0},{"$f":"Eq.23!W32","v":0},{"$f":"Eq.24!W32","v":0},{"$f":"Eq.25!W32","v":0},{"$f":"Eq.26!W32","v":0},{"$f":"Eq.27!W32","v":0},{"$f":"Eq.28!W32","v":0},{"$f":"Eq.29!W32","v":0},{"$f":"Eq.30!W32","v":0},{"$f":"Eq.31!W32","v":0},null,0]

{"sheet":"Eq.1","index":6,"n_rows":32,"n_cols":23,"rows_kept":32,"cut":false,"hidden":false,"merged":[[16,0,16,1],[15,0,15,1],[0,0,1,5],[0,6,1,10],[3,0,3,1],[4,0,4,1],[5,0,5,1],[14,0,14,1],[7,0,7,1],[8,0,8,1],[9,0,9,1],[10,0,10,1],[11,0,11,1],[12,0,12,1],[13,0,13,1]]}
["Equipage ",null,null,null,null,null,{"$f":"Général!B3","v":"UBO 2"},null,null,null,null,null,null,null,null,null,null,null,null,null,null,{"$f":"Général!B3","v":"UBO 2"},{"$f":"COUNTIF(C$8:T$16,V1)","v":14}]
[null,null,null,null,null,null,null,null,null,null,null,null,null,null,null,null,null,null,null,null,null,{"$f":"Général!B4","v":"Paris Sorbone"},{"$f":"COUNTIF($C$8:$T$16,V2)","v":6}]
[null,null,null,null,null,null,null,null,null,null,null,null,null,null,null,null,null,null,null,null,null,{"$f":"Général!B5","v":"UBS Lorient 1"},{"$f":"COUNTIF($C$8:$T$16,V3)","v":1}]
[null,null,"FLIGHT 1","FLIGHT 2","FLIGHT 3","FLIGHT 4","FLIGHT 5","FLIGHT 6","FLIGHT 7","FLIGHT 8","FLIGHT 9","FLIGHT 10","FLIGHT 11","FLIGHT 12","FLIGHT 13","FLIGHT 14","FLIGHT 15","FLIGHT 16","FLIGHT 17","FLIGHT 18",null,{"$f":"Général!B6","v":"Univ Nantes 3"},5]
["N° de course",null,{"$f":"IF(COUNTIF(Général!B38:K38,$G$1)=1,\"Course 1\",IF(COUNTIF(Général!B40:K40,$G$1)=1,\"Course 2\",IF(COUNTIF(Général!B42:K42,$G$1)=1,\"Course 3\",\"Course 4\")))","v":"Course 1"},{"$f":"IF(COUNTIF(Général!B48:K48,$G$1)=1,\"Course 1\",IF(COUNTIF(Général!B50:K50,$G$1)=1,\"Course 2\",IF(COUNTIF(Général!B52:K52,$G$1)=1,\"Course 3\",\"Course 4\")))","v":"Course 3"},{"$f":"IF(COUNTIF(Général!B58:K58,$G$1)=1,\"Course 1\",IF(COUNTIF(Général!B60:K60,$G$1)=1,\"Course 2\",IF(COUNTIF(Général!B62:K62,$G$1)=1,\"Course 3\",\"Course 4\")))","v":"Course 2"},{"$f":"IF(COUNTIF(Général!B68:K68,$G$1)=1,\"Course 1\",IF(COUNTIF(Général!B70:K70,$G$1)=1,\"Course 2\",IF(COUNTIF(Général!B72:K72,$G$1)=1,\"Course 3\",\"Course 4\")))","v":"Course 3"},{"$f":"IF(COUNTIF(Général!B78:K78,$G$1)=1,\"Course 1\",IF(COUNTIF(Général!B80:K80,$G$1)=1,\"Course 2\",IF(COUNTIF(Général!B82:K82,$G$1)=1,\"Course 3\",\"Course 4\")))","v":"Course 1"},{"$f":"IF(COUNTIF(Général!B88:K88,$G$1)=1,\"Course 1\",IF(COUNTIF(Général!B90:K90,$G$1)=1,\"Course 2\",IF(COUNTIF(Général!B92:K92,$G$1)=1,\"Course 3\",\"Course 4\")))","v":"Course 3"},{"$f":"IF(COUNTIF(Général!B98:K98,$G$1)=1,\"Course 1\",IF(COUNTIF(Général!B100:K100,$G$1)=1,\"Course 2\",IF(COUNTIF(Général!B102:K102,$G$1)=1,\"Course 3\",\"Course 4\")))","v":"Course 1"},{"$f":"IF(COUNTIF(Général!B108:K108,$G$1)=1,\"Course 1\",IF(COUNTIF(Général!B110:K110,$G$1)=1,\"Course 2\",IF(COUNTIF(Général!B112:K112,$G$1)=1,\"Course 3\",\"Course 4\")))","v":"Course 1"},{"$f":"IF(COUNTIF(Général!B118:K118,$G$1)=1,\"Course 1\",IF(COUNTIF(Général!B120:K120,$G$1)=1,\"Course 2\",IF(COUNTIF(Général!B122:K122,$G$1)=1,\"Course 3\",\"Course 4\")))","v":"Course 2"},{"$f":"IF(COUNTIF(Général!B128:K128,$G$1)=1,\"Course 1\",IF(COUNTIF(Général!B130:K130,$G$1)=1,\"Course 2\",IF(COUNTIF(Général!B132:K132,$G$1)=1,\"Course 3\",\"Course 4\")))","v":"Course 1"},{"$f":"IF(COUNTIF(Général!B138:K138,$G$1)=1,\"Course 1\",IF(COUNTIF(Général!B140:K140,$G$1)=1,\"Course 2\",IF(COUNTIF(Général!B142:K142,$G$1)=1,\"Course 3\",\"Course 4\")))","v":"Course 2"},{"$f":"IF(COUNTIF(Général!B148:K148,$G$1)=1,\"Course 1\",IF(COUNTIF(Général!B150:K150,$G$1)=1,\"Course 2\",IF(COUNTIF(Général!B152:K152,$G$1)=1,\"Course 3\",\"Course 4\")))","v":"Course 3"},{"$f":"IF(COUNTIF(Général!B158:K158,$G$1)=1,\"Course 1\",IF(COUNTIF(Général!B160:K160,$G$1)=1,\"Course 2\",IF(COUNTIF(Général!B162:K162,$G$1)=1,\"Course 3\",\"Course 4\")))","v":"Course 2"},{"$f":"IF(COUNTIF(Général!B168:K168,$G$1)=1,\"Course 1\",IF(COUNTIF(Général!B170:K170,$G$1)=1,\"Course 2\",IF(COUNTIF(Général!B172:K172,$G$1)=1,\"Course 3\",\"Course 4\")))","v":"Course 2"},{"$f":"IF(COUNTIF(Général!B178:K178,$G$1)=1,\"Course 1\",IF(COUNTIF(Général!B180:K180,$G$1)=1,\"Course 2\",IF(COUNTIF(Général!B182:K182,$G$1)=1,\"Course 3\",\"Course 4\")))","v":"Course 1"},{"$f":"IF(COUNTIF(Général!B188:K188,$G$1)=1,\"Course 1\",IF(COUNTIF(Général!B190:K190,$G$1)=1,\"Course 2\",IF(COUNTIF(Général!B192:K192,$G$1)=1,\"Course 3\",\"Course 4\")))","v":"Course 3"},{"$f":"IF(COUNTIF(Général!B198:K198,$G$1)=1,\"Course 1\",IF(COUNTIF(Général!B200:K200,$G$1)=1,\"Course 2\",IF(COUNTIF(Général!B202:K202,$G$1)=1,\"Course 3\",\"Course 4\")))","v":"Course 3"},{"$f":"IF(COUNTIF(Général!B208:K208,$G$1)=1,\"Course 1\",IF(COUNTIF(Général!B210:K210,$G$1)=1,\"Course 2\",IF(COUNTIF(Général!B212:K212,$G$1)=1,\"Course 3\",\"Course 4\")))","v":"Course 1"},null,{"$f":"Général!B7","v":"Paris Cité"},6]
["Bateau",null,{"$f":"IF(COUNTIF(Général!B38:B44,$G$1)=1,\"Boat 1\",IF(COUNTIF(Général!C38:C44,$G$1)=1,\"Boat 2\",IF(COUNTIF(Général!D38:D44,$G$1)=1,\"Boat 3\", IF(COUNTIF(Général!E38:E44,$G$1)=1,\"Boat 4\", IF(COUNTIF(Général!F38:F44,$G$1)=1,\"Boat 5\", IF(COUNTIF(Général!G38:G44,$G$1)=1,\"Boat 6\", IF(COUNTIF(Général!H38:H44,$G$1)=1,\"Boat 7\",IF(COUNTIF(Général!I38:I44,$G$1)=1,\"Boat 8\",\"Boat 9\"))))))))","v":"Boat 5"},{"$f":"IF(COUNTIF(Général!B48:B54,$G$1)=1,\"Boat 1\",IF(COUNTIF(Général!C48:C54,$G$1)=1,\"Boat 2\",IF(COUNTIF(Général!D48:D54,$G$1)=1,\"Boat 3\", IF(COUNTIF(Général!E48:E54,$G$1)=1,\"Boat 4\", IF(COUNTIF(Général!F48:F54,$G$1)=1,\"Boat 5\", IF(COUNTIF(Général!G48:G54,$G$1)=1,\"Boat 6\", IF(COUNTIF(Général!H48:H54,$G$1)=1,\"Boat 7\",IF(COUNTIF(Général!I38:I44,$G$1)=1,\"Boat 8\",\"Boat 9\"))))))))","v":"Boat 5"},{"$f":"IF(COUNTIF(Général!B58:B64,$G$1)=1,\"Boat 1\",IF(COUNTIF(Général!C58:C64,$G$1)=1,\"Boat 2\",IF(COUNTIF(Général!D58:D64,$G$1)=1,\"Boat 3\", IF(COUNTIF(Général!E58:E64,$G$1)=1,\"Boat 4\", IF(COUNTIF(Général!F58:F64,$G$1)=1,\"Boat 5\", IF(COUNTIF(Général!G58:G64,$G$1)=1,\"Boat 6\", IF(COUNTIF(Général!H58:H64,$G$1)=1,\"Boat 7\",IF(COUNTIF(Général!I38:I44,$G$1)=1,\"Boat 8\",\"Boat 9\"))))))))","v":"Boat 5"},{"$f":"IF(COUNTIF(Général!B68:B74,$G$1)=1,\"Boat 1\",IF(COUNTIF(Général!C68:C74,$G$1)=1,\"Boat 2\",IF(COUNTIF(Général!D68:D74,$G$1)=1,\"Boat 3\", IF(COUNTIF(Général!E68:E74,$G$1)=1,\"Boat 4\", IF(COUNTIF(Général!F68:F74,$G$1)=1,\"Boat 5\", IF(COUNTIF(Général!G68:G74,$G$1)=1,\"Boat 6\", IF(COUNTIF(Général!H68:H74,$G$1)=1,\"Boat 7\",IF(COUNTIF(Général!I38:I44,$G$1)=1,\"Boat 8\",\"Boat 9\"))))))))","v":"Boat 9"},{"$f":"IF(COUNTIF(Général!B78:B84,$G$1)=1,\"Boat 1\",IF(COUNTIF(Général!C78:C84,$G$1)=1,\"Boat 2\",IF(COUNTIF(Général!D78:D84,$G$1)=1,\"Boat 3\", IF(COUNTIF(Général!E78:E84,$G$1)=1,\"Boat 4\", IF(COUNTIF(Général!F78:F84,$G$1)=1,\"Boat 5\", IF(COUNTIF(Général!G78:G84,$G$1)=1,\"Boat 6\", IF(COUNTIF(Général!H78:H84,$G$1)=1,\"Boat 7\",IF(COUNTIF(Général!I38:I44,$G$1)=1,\"Boat 8\",\"Boat 9\"))))))))","v":"Boat 9"},{"$f":"IF(COUNTIF(Général!B88:B94,$G$1)=1,\"Boat 1\",IF(COUNTIF(Général!C88:C94,$G$1)=1,\"Boat 2\",IF(COUNTIF(Général!D88:D94,$G$1)=1,\"Boat 3\", IF(COUNTIF(Général!E88:E94,$G$1)=1,\"Boat 4\", IF(COUNTIF(Général!F88:F94,$G$1)=1,\"Boat 5\", IF(COUNTIF(Général!G88:G94,$G$1)=1,\"Boat 6\", IF(COUNTIF(Général!H88:H94,$G$1)=1,\"Boat 7\",IF(COUNTIF(Général!I38:I44,$G$1)=1,\"Boat 8\",\"Boat 9\"))))))))","v":"Boat 9"},{"$f":"IF(COUNTIF(Général!B98:B104,$G$1)=1,\"Boat 1\",IF(COUNTIF(Général!C98:C104,$G$1)=1,\"Boat 2\",IF(COUNTIF(Général!D98:D104,$G$1)=1,\"Boat 3\", IF(COUNTIF(Général!E98:E104,$G$1)=1,\"Boat 4\", IF(COUNTIF(Général!F98:F104,$G$1)=1,\"Boat 5\", IF(COUNTIF(Général!G98:G104,$G$1)=1,\"Boat 6\", IF(COUNTIF(Général!H98:H104,$G$1)=1,\"Boat 7\",IF(COUNTIF(Général!I38:I44,$G$1)=1,\"Boat 8\",\"Boat 9\"))))))))","v":"Boat 9"},{"$f":"IF(COUNTIF(Général!B108:B114,$G$1)=1,\"Boat 1\",IF(COUNTIF(Général!C108:C114,$G$1)=1,\"Boat 2\",IF(COUNTIF(Général!D108:D114,$G$1)=1,\"Boat 3\", IF(COUNTIF(Général!E108:E114,$G$1)=1,\"Boat 4\", IF(COUNTIF(Général!F108:F114,$G$1)=1,\"Boat 5\", IF(COUNTIF(Général!G108:G114,$G$1)=1,\"Boat 6\", IF(COUNTIF(Général!H108:H114,$G$1)=1,\"Boat 7\",IF(COUNTIF(Général!I38:I44,$G$1)=1,\"Boat 8\",\"Boat 9\"))))))))","v":"Boat 3"},{"$f":"IF(COUNTIF(Général!B118:B124,$G$1)=1,\"Boat 1\",IF(COUNTIF(Général!C118:C124,$G$1)=1,\"Boat 2\",IF(COUNTIF(Général!D118:D124,$G$1)=1,\"Boat 3\", IF(COUNTIF(Général!E118:E124,$G$1)=1,\"Boat 4\", IF(COUNTIF(Général!F118:F124,$G$1)=1,\"Boat 5\", IF(COUNTIF(Général!G118:G124,$G$1)=1,\"Boat 6\", IF(COUNTIF(Général!H118:H124,$G$1)=1,\"Boat 7\",IF(COUNTIF(Général!I38:I44,$G$1)=1,\"Boat 8\",\"Boat 9\"))))))))","v":"Boat 9"},{"$f":"IF(COUNTIF(Général!B128:B134,$G$1)=1,\"Boat 1\",IF(COUNTIF(Général!C128:C134,$G$1)=1,\"Boat 2\",IF(COUNTIF(Général!D128:D134,$G$1)=1,\"Boat 3\", IF(COUNTIF(Général!E128:E134,$G$1)=1,\"Boat 4\", IF(COUNTIF(Général!F128:F134,$G$1)=1,\"Boat 5\", IF(COUNTIF(Général!G128:G134,$G$1)=1,\"Boat 6\", IF(COUNTIF(Général!H128:H134,$G$1)=1,\"Boat 7\",IF(COUNTIF(Général!I38:I44,$G$1)=1,\"Boat 8\",\"Boat 9\"))))))))","v":"Boat 1"},{"$f":"IF(COUNTIF(Général!B138:B144,$G$1)=1,\"Boat 1\",IF(COUNTIF(Général!C138:C144,$G$1)=1,\"Boat 2\",IF(COUNTIF(Général!C138:D144,$G$1)=1,\"Boat 3\", IF(COUNTIF(Général!C138:E144,$G$1)=1,\"Boat 4\", IF(COUNTIF(Général!F138:F144,$G$1)=1,\"Boat 5\", IF(COUNTIF(Général!G138:G144,$G$1)=1,\"Boat 6\", IF(COUNTIF(Général!H138:H144,$G$1)=1,\"Boat 7\",IF(COUNTIF(Général!I38:I44,$G$1)=1,\"Boat 8\",\"Boat 9\"))))))))","v":"Boat 4"},{"$f":"IF(COUNTIF(Général!B148:B154,$G$1)=1,\"Boat 1\",IF(COUNTIF(Général!C148:C154,$G$1)=1,\"Boat 2\",IF(COUNTIF(Général!D148:D154,$G$1)=1,\"Boat 3\", IF(COUNTIF(Général!E148:E154,$G$1)=1,\"Boat 4\", IF(COUNTIF(Général!F148:F154,$G$1)=1,\"Boat 5\", IF(COUNTIF(Général!G148:G154,$G$1)=1,\"Boat 6\", IF(COUNTIF(Général!H148:H154,$G$1)=1,\"Boat 7\",IF(COUNTIF(Général!I38:I44,$G$1)=1,\"Boat 8\",\"Boat 9\"))))))))","v":"Boat 4"},{"$f":"IF(COUNTIF(Général!B158:B164,$G$1)=1,\"Boat 1\",IF(COUNTIF(Général!C158:C164,$G$1)=1,\"Boat 2\",IF(COUNTIF(Général!D160:D164,$G$1)=1,\"Boat 3\", IF(COUNTIF(Général!E158:E164,$G$1)=1,\"Boat 4\", IF(COUNTIF(Général!F158:F164,$G$1)=1,\"Boat 5\", IF(COUNTIF(Général!G158:G164,$G$1)=1,\"Boat 6\", IF(COUNTIF(Général!H158:H164,$G$1)=1,\"Boat 7\",IF(COUNTIF(Général!I38:I44,$G$1)=1,\"Boat 8\",\"Boat 9\"))))))))","v":"Boat 2"},{"$f":"IF(COUNTIF(Général!B168:B174,$G$1)=1,\"Boat 1\",IF(COUNTIF(Général!C168:C174,$G$1)=1,\"Boat 2\",IF(COUNTIF(Général!D168:D174,$G$1)=1,\"Boat 3\", IF(COUNTIF(Général!E168:E174,$G$1)=1,\"Boat 4\", IF(COUNTIF(Général!F178:F184,$G$1)=1,\"Boat 5\", IF(COUNTIF(Général!G178:G184,$G$1)=1,\"Boat 6\", IF(COUNTIF(Général!H178:H184,$G$1)=1,\"Boat 7\",IF(COUNTIF(Général!I38:I44,$G$1)=1,\"Boat 8\",\"Boat 9\"))))))))","v":"Boat 7"},{"$f":"IF(COUNTIF(Général!B178:B184,$G$1)=1,\"Boat 1\",IF(COUNTIF(Général!C178:C184,$G$1)=1,\"Boat 2\",IF(COUNTIF(Général!D178:D184,$G$1)=1,\"Boat 3\", IF(COUNTIF(Général!E178:E184,$G$1)=1,\"Boat 4\", IF(COUNTIF(Général!F178:F184,$G$1)=1,\"Boat 5\", IF(COUNTIF(Général!G178:G184,$G$1)=1,\"Boat 6\", IF(COUNTIF(Général!H178:H184,$G$1)=1,\"Boat 7\",IF(COUNTIF(Général!I38:I44,$G$1)=1,\"Boat 8\",\"Boat 9\"))))))))","v":"Boat 7"},{"$f":"IF(COUNTIF(Général!B188:B194,$G$1)=1,\"Boat 1\",IF(COUNTIF(Général!C188:C194,$G$1)=1,\"Boat 2\",IF(COUNTIF(Général!D188:D194,$G$1)=1,\"Boat 3\", IF(COUNTIF(Général!E188:E194,$G$1)=1,\"Boat 4\", IF(COUNTIF(Général!F188:F194,$G$1)=1,\"Boat 5\", IF(COUNTIF(Général!G188:G194,$G$1)=1,\"Boat 6\", IF(COUNTIF(Général!H188:H194,$G$1)=1,\"Boat 7\",IF(COUNTIF(Général!I38:I44,$G$1)=1,\"Boat 8\",\"Boat 9\"))))))))","v":"Boat 7"},{"$f":"IF(COUNTIF(Général!B198:B204,$G$1)=1,\"Boat 1\",IF(COUNTIF(Général!C198:C204,$G$1)=1,\"Boat 2\",IF(COUNTIF(Général!D198:D204,$G$1)=1,\"Boat 3\", IF(COUNTIF(Général!E198:E204,$G$1)=1,\"Boat 4\", IF(COUNTIF(Général!F198:F204,$G$1)=1,\"Boat 5\", IF(COUNTIF(Général!G198:G204,$G$1)=1,\"Boat 6\", IF(COUNTIF(Général!H198:H204,$G$1)=1,\"Boat 7\",IF(COUNTIF(Général!I38:I44,$G$1)=1,\"Boat 8\",\"Boat 9\"))))))))","v":"Boat 9"},{"$f":"IF(COUNTIF(Général!B208:B214,$G$1)=1,\"Boat 1\",IF(COUNTIF(Général!C208:C214,$G$1)=1,\"Boat 2\",IF(COUNTIF(Général!D208:D214,$G$1)=1,\"Boat 3\", IF(COUNTIF(Général!E208:E214,$G$1)=1,\"Boat 4\", IF(COUNTIF(Général!F208:F214,$G$1)=1,\"Boat 5\", IF(COUNTIF(Général!G208:G214,$G$1)=1,\"Boat 6\", IF(COUNTIF(Général!H208:H214,$G$1)=1,\"Boat 7\",IF(COUNTIF(Général!I38:I44,$G$1)=1,\"Boat 8\",\"Boat 9\"))))))))","v":"Boat 9"},null,{"$f":"Général!B8","v":"Plymouth"},6]
[null,null,null,null,null,null,null,null,null,null,null,null,null,null,null,null,null,null,null,null,null,{"$f":"Général!B9","v":"Unicaen 2"},4]
["1er Equipage",null,{"$f":"IF($C$5=\"Course 1\",Général!B38,IF($C$5=\"Course 2\",Général!B40,IF($C$5=\"Course 3\",Général!B42,Général!B44)))","v":"IMT Nantes"},{"$f":"IF($D$5=\"Course 1\",Général!B48,IF($D$5=\"Course 2\",Général!B50,IF($D$5=\"Course 3\",Général!B52,Général!B54)))","v":"UBO 1"},{"$f":"IF($E$5=\"Course 1\",Général!B58,IF($E$5=\"Course 2\",Général!B60,IF($E$5=\"Course 3\",Général!B62,Général!B64)))","v":"Univ Nantes 3"},{"$f":"IF($F$5=\"Course 1\",Général!B$68,IF($F$5=\"Course 2\",Général!B$70,IF($F$5=\"Course 3\",Général!B$72,Général!B$74)))","v":"ENSMAC"},{"$f":"IF($G$5=\"Course 1\",Général!B$78,IF($G$5=\"Course 2\",Général!B$80,IF($G$5=\"Course 3\",Général!B$82,Général!B$84)))","v":"ENSMAC"},{"$f":"IF($H$5=\"Course 1\",Général!B$88,IF($H$5=\"Course 2\",Général!B$90,IF($H$5=\"Course 3\",Général!B$92,Général!B$94)))","v":"Unicaen 2"},{"$f":"IF($I$5=\"Course 1\",Général!B$98,IF($I$5=\"Course 2\",Général!B$100,IF($I$5=\"Course 3\",Général!B$102,Général!B$104)))","v":"Centrale Nantes 2"},{"$f":"IF($J$5=\"Course 1\",Général!B$108,IF($J$5=\"Course 2\",Général!B$110,IF($J$5=\"Course 3\",Général!B$112,Général!B$114)))","v":"La Rochelle 2"},{"$f":"IF($K$5=\"Course 1\",Général!B$118,IF($K$5=\"Course 2\",Général!B$120,IF($K$5=\"Course 3\",Général!B$122,Général!B$124)))","v":"Hannover"},{"$f":"IF($L$5=\"Course 1\",Général!B$128,IF($L$5=\"Course 2\",Général!B$130,IF($L$5=\"Course 3\",Général!B$132,Général!B$134)))","v":"UBO 2"},{"$f":"IF($M$5=\"Course 1\",Général!B$138,IF($M$5=\"Course 2\",Général!B$140,IF($M$5=\"Course 3\",Général!B$142,Général!B$144)))","v":"Plymouth"},{"$f":"IF($N$5=\"Course 1\",Général!B$148,IF($N$5=\"Course 2\",Général!B$150,IF($N$5=\"Course 3\",Général!B$152,Général!B$154)))","v":"La Rochelle 1"},{"$f":"IF($O$5=\"Course 1\",Général!B$158,IF($O$5=\"Course 2\",Général!B$160,IF($O$5=\"Course 3\",Général!B$162,Général!B$164)))","v":"ENSMAC"},{"$f":"IF($P$5=\"Course 1\",Général!B$168,IF($P$5=\"Course 2\",Général!B$170,IF($P$5=\"Course 3\",Général!B$172,Général!B$174)))","v":"ENSMAC"},{"$f":"IF($Q$5=\"Course 1\",Général!B$178,IF($Q$5=\"Course 2\",Général!B$180,IF($Q$5=\"Course 3\",Général!B$182,Général!B$184)))","v":"Plymouth"},{"$f":"IF($R$5=\"Course 1\",Général!B$188,IF($R$5=\"Course 2\",Général!B$190,IF($R$5=\"Course 3\",Général!B$192,Général!B$194)))","v":"ENSTA 1"},{"$f":"IF($S$5=\"Course 1\",Général!B$198,IF($S$5=\"Course 2\",Général!B$200,IF($S$5=\"Course 3\",Général!B$202,Général!B$204)))","v":"UBS Lorient 2"},{"$f":"IF($T$5=\"Course 1\",Général!B$208,IF($T$5=\"Course 2\",Général!B$210,IF($T$5=\"Course 3\",Général!B$212,Général!B$214)))","v":"UBS Lorient 2"},null,{"$f":"Général!B10","v":"Univ Nantes 2"},5]
["2nd Equipage",null,{"$f":"IF($C$5=\"Course 1\",Général!C38,IF($C$5=\"Course 2\",Général!C40,IF($C$5=\"Course 3\",Général!C42,Général!C44)))","v":"Unicaen 1"},{"$f":"IF($D$5=\"Course 1\",Général!C48,IF($D$5=\"Course 2\",Général!C50,IF($D$5=\"Course 3\",Général!C52,Général!C54)))","v":"Centrale Nantes 2"},{"$f":"IF($E$5=\"Course 1\",Général!C58,IF($E$5=\"Course 2\",Général!C60,IF($E$5=\"Course 3\",Général!C62,Général!C64)))","v":"IMT Nantes"},{"$f":"IF($F$5=\"Course 1\",Général!C$68,IF($F$5=\"Course 2\",Général!C$70,IF($F$5=\"Course 3\",Général!C$72,Général!C$74)))","v":"St Brieuc 1"},{"$f":"IF($G$5=\"Course 1\",Général!C$78,IF($G$5=\"Course 2\",Général!C$80,IF($G$5=\"Course 3\",Général!C$82,Général!C$84)))","v":"Hannover"},{"$f":"IF($H$5=\"Course 1\",Général!C$88,IF($H$5=\"Course 2\",Général!C$90,IF($H$5=\"Course 3\",Général!C$92,Général!C$94)))","v":"Paris Sorbone"},{"$f":"IF($I$5=\"Course 1\",Général!C$98,IF($I$5=\"Course 2\",Général!C$100,IF($I$5=\"Course 3\",Général!C$102,Général!C$104)))","v":"Intechmer"},{"$f":"IF($J$5=\"Course 1\",Général!C$108,IF($J$5=\"Course 2\",Général!C$110,IF($J$5=\"Course 3\",Général!C$112,Général!C$114)))","v":"ENSTA 2"},{"$f":"IF($K$5=\"Course 1\",Général!C$118,IF($K$5=\"Course 2\",Général!C$120,IF($K$5=\"Course 3\",Général!C$122,Général!C$124)))","v":"Paris Cité"},{"$f":"IF($L$5=\"Course 1\",Général!C$128,IF($L$5=\"Course 2\",Général!C$130,IF($L$5=\"Course 3\",Général!C$132,Général!C$134)))","v":"Univ Nantes 3"},{"$f":"IF($M$5=\"Course 1\",Général!C$138,IF($M$5=\"Course 2\",Général!C$140,IF($M$5=\"Course 3\",Général!C$142,Général!C$144)))","v":"Karlsruhe"},{"$f":"IF($N$5=\"Course 1\",Général!C$148,IF($N$5=\"Course 2\",Général!C$150,IF($N$5=\"Course 3\",Général!C$152,Général!C$154)))","v":"Intechmer"},{"$f":"IF($O$5=\"Course 1\",Général!C$158,IF($O$5=\"Course 2\",Général!C$160,IF($O$5=\"Course 3\",Général!C$162,Général!C$164)))","v":"UBO 2"},{"$f":"IF($P$5=\"Course 1\",Général!C$168,IF($P$5=\"Course 2\",Général!C$170,IF($P$5=\"Course 3\",Général!C$172,Général!C$174)))","v":"Univ Nantes 3"},{"$f":"IF($Q$5=\"Course 1\",Général!C$178,IF($Q$5=\"Course 2\",Général!C$180,IF($Q$5=\"Course 3\",Général!C$182,Général!C$184)))","v":"UNIV Nantes 1"},{"$f":"IF($R$5=\"Course 1\",Général!C$188,IF($R$5=\"Course 2\",Général!C$190,IF($R$5=\"Course 3\",Général!C$192,Général!C$194)))","v":"INSA Lyon"},{"$f":"IF($S$5=\"Course 1\",Général!C$198,IF($S$5=\"Course 2\",Général!C$200,IF($S$5=\"Course 3\",Général!C$202,Général!C$204)))","v":"Paris Sorbone"},{"$f":"IF($T$5=\"Course 1\",Général!C$208,IF($T$5=\"Course 2\",Général!C$210,IF($T$5=\"Course 3\",Général!C$212,Général!C$214)))","v":"Unicaen 2"},null,{"$f":"Général!B11","v":"Karlsruhe"},7]
["3ème Equipage",null,{"$f":"IF($C$5=\"Course 1\",Général!D38,IF($C$5=\"Course 2\",Général!D40,IF($C$5=\"Course 3\",Général!D42,Général!D44)))","v":"St Brieuc 1"},{"$f":"IF($D$5=\"Course 1\",Général!D48,IF($D$5=\"Course 2\",Général!D50,IF($D$5=\"Course 3\",Général!D52,Général!D54)))","v":"IMT Brest 2"},{"$f":"IF($E$5=\"Course 1\",Général!D58,IF($E$5=\"Course 2\",Général!D60,IF($E$5=\"Course 3\",Général!D62,Général!D64)))","v":"ENSTA 2"},{"$f":"IF($F$5=\"Course 1\",Général!D$68,IF($F$5=\"Course 2\",Général!D$70,IF($F$5=\"Course 3\",Général!D$72,Général!D$74)))","v":"Karlsruhe"},{"$f":"IF($G$5=\"Course 1\",Général!D$78,IF($G$5=\"Course 2\",Général!D$80,IF($G$5=\"Course 3\",Général!D$82,Général!D$84)))","v":"Karlsruhe"},{"$f":"IF($H$5=\"Course 1\",Général!D$88,IF($H$5=\"Course 2\",Général!D$90,IF($H$5=\"Course 3\",Général!D$92,Général!D$94)))","v":"UBS Lorient 2"},{"$f":"IF($I$5=\"Course 1\",Général!D$98,IF($I$5=\"Course 2\",Général!D$100,IF($I$5=\"Course 3\",Général!D$102,Général!D$104)))","v":"UBS Lorient 2"},{"$f":"IF($J$5=\"Course 1\",Général!D$108,IF($J$5=\"Course 2\",Général!D$110,IF($J$5=\"Course 3\",Général!D$112,Général!D$114)))","v":"UBO 2"},{"$f":"IF($K$5=\"Course 1\",Général!D$118,IF($K$5=\"Course 2\",Général!D$120,IF($K$5=\"Course 3\",Général!D$122,Général!D$124)))","v":"Unicaen 2"},{"$f":"IF($L$5=\"Course 1\",Général!D$128,IF($L$5=\"Course 2\",Général!D$130,IF($L$5=\"Course 3\",Général!D$132,Général!D$134)))","v":"Orléans"},{"$f":"IF($M$5=\"Course 1\",Général!D$138,IF($M$5=\"Course 2\",Général!D$140,IF($M$5=\"Course 3\",Général!D$142,Général!D$144)))","v":"Paris Sorbone"},{"$f":"IF($N$5=\"Course 1\",Général!D$148,IF($N$5=\"Course 2\",Général!D$150,IF($N$5=\"Course 3\",Général!D$152,Général!D$154)))","v":"IMT Brest 2"},{"$f":"IF($O$5=\"Course 1\",Général!D$158,IF($O$5=\"Course 2\",Général!D$160,IF($O$5=\"Course 3\",Général!D$162,Général!D$164)))","v":"ENSTA 2"},{"$f":"IF($P$5=\"Course 1\",Général!D$168,IF($P$5=\"Course 2\",Général!D$170,IF($P$5=\"Course 3\",Général!D$172,Général!D$174)))","v":"Intechmer"},{"$f":"IF($Q$5=\"Course 1\",Général!D$178,IF($Q$5=\"Course 2\",Général!D$180,IF($Q$5=\"Course 3\",Général!D$182,Général!D$184)))","v":"Univ Nantes 2"},{"$f":"IF($R$5=\"Course 1\",Général!D$188,IF($R$5=\"Course 2\",Général!D$190,IF($R$5=\"Course 3\",Général!D$192,Général!D$194)))","v":"Intechmer"},{"$f":"IF($S$5=\"Course 1\",Général!D$198,IF($S$5=\"Course 2\",Général!D$200,IF($S$5=\"Course 3\",Général!D$202,Général!D$204)))","v":"IMT Brest 2"},{"$f":"IF($T$5=\"Course 1\",Général!D$208,IF($T$5=\"Course 2\",Général!D$210,IF($T$5=\"Course 3\",Général!D$212,Général!D$214)))","v":"IMT Brest 2"},null,{"$f":"Général!B12","v":"IMT Brest 2"},6]
["4ème Equipage",null,{"$f":"IF($C$5=\"Course 1\",Général!E38,IF($C$5=\"Course 2\",Général!E40,IF($C$5=\"Course 3\",Général!E42,Général!E44)))","v":"La Rochelle 2"},{"$f":"IF($D$5=\"Course 1\",Général!E48,IF($D$5=\"Course 2\",Général!E50,IF($D$5=\"Course 3\",Général!E52,Général!E54)))","v":"Paris Cité"},{"$f":"IF($E$5=\"Course 1\",Général!E58,IF($E$5=\"Course 2\",Général!E60,IF($E$5=\"Course 3\",Général!E62,Général!E64)))","v":"Paris Cité"},{"$f":"IF($F$5=\"Course 1\",Général!E$68,IF($F$5=\"Course 2\",Général!E$70,IF($F$5=\"Course 3\",Général!E$72,Général!E$74)))","v":"UNIV Nantes 1"},{"$f":"IF($G$5=\"Course 1\",Général!E$78,IF($G$5=\"Course 2\",Général!E$80,IF($G$5=\"Course 3\",Général!E$82,Général!E$84)))","v":"UNIV Nantes 1"},{"$f":"IF($H$5=\"Course 1\",Général!E$88,IF($H$5=\"Course 2\",Général!E$90,IF($H$5=\"Course 3\",Général!E$92,Général!E$94)))","v":"UBS Lorient 1"},{"$f":"IF($I$5=\"Course 1\",Général!E$98,IF($I$5=\"Course 2\",Général!E$100,IF($I$5=\"Course 3\",Général!E$102,Général!E$104)))","v":"UNIV Nantes 1"},{"$f":"IF($J$5=\"Course 1\",Général!E$108,IF($J$5=\"Course 2\",Général!E$110,IF($J$5=\"Course 3\",Général!E$112,Général!E$114)))","v":"Paris Sorbone"},{"$f":"IF($K$5=\"Course 1\",Général!E$118,IF($K$5=\"Course 2\",Général!E$120,IF($K$5=\"Course 3\",Général!E$122,Général!E$124)))","v":"UBO 1"},{"$f":"IF($L$5=\"Course 1\",Général!E$128,IF($L$5=\"Course 2\",Général!E$130,IF($L$5=\"Course 3\",Général!E$132,Général!E$134)))","v":"IMT Brest 1"},{"$f":"IF($M$5=\"Course 1\",Général!E$138,IF($M$5=\"Course 2\",Général!E$140,IF($M$5=\"Course 3\",Général!E$142,Général!E$144)))","v":"UBO 2"},{"$f":"IF($N$5=\"Course 1\",Général!E$148,IF($N$5=\"Course 2\",Général!E$150,IF($N$5=\"Course 3\",Général!E$152,Général!E$154)))","v":"UBO 2"},{"$f":"IF($O$5=\"Course 1\",Général!E$158,IF($O$5=\"Course 2\",Général!E$160,IF($O$5=\"Course 3\",Général!E$162,Général!E$164)))","v":"UBO 1"},{"$f":"IF($P$5=\"Course 1\",Général!E$168,IF($P$5=\"Course 2\",Général!E$170,IF($P$5=\"Course 3\",Général!E$172,Général!E$174)))","v":"INSA Lyon"},{"$f":"IF($Q$5=\"Course 1\",Général!E$178,IF($Q$5=\"Course 2\",Général!E$180,IF($Q$5=\"Course 3\",Général!E$182,Général!E$184)))","v":"UBO 1"},{"$f":"IF($R$5=\"Course 1\",Général!E$188,IF($R$5=\"Course 2\",Général!E$190,IF($R$5=\"Course 3\",Général!E$192,Général!E$194)))","v":"Univ Nantes 2"},{"$f":"IF($S$5=\"Course 1\",Général!E$198,IF($S$5=\"Course 2\",Général!E$200,IF($S$5=\"Course 3\",Général!E$202,Général!E$204)))","v":"Centrale Nantes 2"},{"$f":"IF($T$5=\"Course 1\",Général!E$208,IF($T$5=\"Course 2\",Général!E$210,IF($T$5=\"Course 3\",Général!E$212,Général!E$214)))","v":"IMT Nantes"},null,{"$f":"Général!B13","v":"Unicaen 1"},3]
["5ème Equipage",null,{"$f":"IF($C$5=\"Course 1\",Général!F38,IF($C$5=\"Course 2\",Général!F40,IF($C$5=\"Course 3\",Général!F42,Général!F44)))","v":"UBO 2"},{"$f":"IF($D$5=\"Course 1\",Général!F48,IF($D$5=\"Course 2\",Général!F50,IF($D$5=\"Course 3\",Général!F52,Général!F54)))","v":"UBO 2"},{"$f":"IF($E$5=\"Course 1\",Général!F58,IF($E$5=\"Course 2\",Général!F60,IF($E$5=\"Course 3\",Général!F62,Général!F64)))","v":"UBO 2"},{"$f":"IF($F$5=\"Course 1\",Général!F$68,IF($F$5=\"Course 2\",Général!F$70,IF($F$5=\"Course 3\",Général!F$72,Général!F$74)))","v":"Centrale Nantes 2"},{"$f":"IF($G$5=\"Course 1\",Général!F$78,IF($G$5=\"Course 2\",Général!F$80,IF($G$5=\"Course 3\",Général!F$82,Général!F$84)))","v":"ST Brieuc 2"},{"$f":"IF($H$5=\"Course 1\",Général!F$88,IF($H$5=\"Course 2\",Général!F$90,IF($H$5=\"Course 3\",Général!F$92,Général!F$94)))","v":"IMT Brest 1"},{"$f":"IF($I$5=\"Course 1\",Général!F$98,IF($I$5=\"Course 2\",Général!F$100,IF($I$5=\"Course 3\",Général!F$102,Général!F$104)))","v":"IMT Brest 1"},{"$f":"IF($J$5=\"Course 1\",Général!F$108,IF($J$5=\"Course 2\",Général!F$110,IF($J$5=\"Course 3\",Général!F$112,Général!F$114)))","v":"ST Brieuc 2"},{"$f":"IF($K$5=\"Course 1\",Général!F$118,IF($K$5=\"Course 2\",Général!F$120,IF($K$5=\"Course 3\",Général!F$122,Général!F$124)))","v":"ENSTA 1"},{"$f":"IF($L$5=\"Course 1\",Général!F$128,IF($L$5=\"Course 2\",Général!$F130,IF($L$5=\"Course 3\",Général!F$132,Général!F$134)))","v":"Univ Nantes 2"},{"$f":"IF($M$5=\"Course 1\",Général!F$138,IF($M$5=\"Course 2\",Général!F$140,IF($M$5=\"Course 3\",Général!F$142,Général!F$144)))","v":"ENSTA 2"},{"$f":"IF($N$5=\"Course 1\",Général!F$148,IF($N$5=\"Course 2\",Général!F$150,IF($N$5=\"Course 3\",Général!F$152,Général!F$154)))","v":"INSA Lyon"},{"$f":"IF($O$5=\"Course 1\",Général!F$158,IF($O$5=\"Course 2\",Général!F$160,IF($O$5=\"Course 3\",Général!F$162,Général!F$164)))","v":"INSA Lyon"},{"$f":"IF($P$5=\"Course 1\",Général!F$168,IF($P$5=\"Course 2\",Général!F$170,IF($P$5=\"Course 3\",Général!F$172,Général!F$174)))","v":"ENSTA 2"},{"$f":"IF($Q$5=\"Course 1\",Général!F$178,IF($Q$5=\"Course 2\",Général!F$180,IF($Q$5=\"Course 3\",Général!F$182,Général!F$184)))","v":"INSA Lyon"},{"$f":"IF($R$5=\"Course 1\",Général!F$188,IF($R$5=\"Course 2\",Général!F$190,IF($R$5=\"Course 3\",Général!F$192,Général!F$194)))","v":"ENSTA 2"},{"$f":"IF($S$5=\"Course 1\",Général!F$198,IF($S$5=\"Course 2\",Général!F$200,IF($S$5=\"Course 3\",Général!F$202,Général!F$204)))","v":"Centrale Nantes 1"},{"$f":"IF($T$5=\"Course 1\",Général!F$208,IF($T$5=\"Course 2\",Général!F$210,IF($T$5=\"Course 3\",Général!F$212,Général!F$214)))","v":"ST Brieuc 2"},null,{"$f":"Général!B14","v":"ENSTA 1"},4]
["6ème Equipage",null,{"$f":"IF($C$5=\"Course 1\",Général!G38,IF($C$5=\"Course 2\",Général!G40,IF($C$5=\"Course 3\",Général!G42,Général!G44)))","v":"ENSTA 1"},{"$f":"IF($D$5=\"Course 1\",Général!G48,IF($D$5=\"Course 2\",Général!G50,IF($D$5=\"Course 3\",Général!G52,Général!G54)))","v":"La Rochelle 2"},{"$f":"IF($E$5=\"Course 1\",Général!G58,IF($E$5=\"Course 2\",Général!G60,IF($E$5=\"Course 3\",Général!G62,Général!G64)))","v":"ENSMAC"},{"$f":"IF($F$5=\"Course 1\",Général!G$68,IF($F$5=\"Course 2\",Général!G$70,IF($F$5=\"Course 3\",Général!G$72,Général!G$74)))","v":"Paris Sorbone"},{"$f":"IF($G$5=\"Course 1\",Général!G$78,IF($G$5=\"Course 2\",Général!G$80,IF($G$5=\"Course 3\",Général!G$82,Général!G$84)))","v":"UBO 1"},{"$f":"IF($H$5=\"Course 1\",Général!G$88,IF($H$5=\"Course 2\",Général!G$90,IF($H$5=\"Course 3\",Général!G$92,Général!G$94)))","v":"IMT Brest 2"},{"$f":"IF($I$5=\"Course 1\",Général!G$98,IF($I$5=\"Course 2\",Général!G$100,IF($I$5=\"Course 3\",Général!G$102,Général!G$104)))","v":"Univ Nantes 2"},{"$f":"IF($J$5=\"Course 1\",Général!G$108,IF($J$5=\"Course 2\",Général!G$110,IF($J$5=\"Course 3\",Général!G$112,Général!G$114)))","v":"Centrale Nantes 2"},{"$f":"IF($K$5=\"Course 1\",Général!G$118,IF($K$5=\"Course 2\",Général!G$120,IF($K$5=\"Course 3\",Général!G$122,Général!G$124)))","v":"La Rochelle 2"},{"$f":"IF($L$5=\"Course 1\",Général!G$128,IF($L$5=\"Course 2\",Général!G$130,IF($L$5=\"Course 3\",Général!G$132,Général!G$134)))","v":"Unicaen 1"},{"$f":"IF($M$5=\"Course 1\",Général!G$138,IF($M$5=\"Course 2\",Général!G$140,IF($M$5=\"Course 3\",Général!G$142,Général!G$144)))","v":"Univ Nantes 3"},{"$f":"IF($N$5=\"Course 1\",Général!G$148,IF($N$5=\"Course 2\",Général!G$150,IF($N$5=\"Course 3\",Général!G$152,Général!G$154)))","v":"Hannover"},{"$f":"IF($O$5=\"Course 1\",Général!G$158,IF($O$5=\"Course 2\",Général!G$160,IF($O$5=\"Course 3\",Général!G$162,Général!G$164)))","v":"Plymouth"},{"$f":"IF($P$5=\"Course 1\",Général!G$168,IF($P$5=\"Course 2\",Général!G$170,IF($P$5=\"Course 3\",Général!G$172,Général!G$174)))","v":"ST Brieuc 2"},{"$f":"IF($Q$5=\"Course 1\",Général!G$178,IF($Q$5=\"Course 2\",Général!G$180,IF($Q$5=\"Course 3\",Général!G$182,Général!G$184)))","v":"UBS Lorient 2"},{"$f":"IF($R$5=\"Course 1\",Général!G$188,IF($R$5=\"Course 2\",Général!G$190,IF($R$5=\"Course 3\",Général!G$192,Général!G$194)))","v":"La Rochelle 2"},{"$f":"IF($S$5=\"Course 1\",Général!G$198,IF($S$5=\"Course 2\",Général!G$200,IF($S$5=\"Course 3\",Général!G$202,Général!G$204)))","v":"Orléans"},{"$f":"IF($T$5=\"Course 1\",Général!G$208,IF($T$5=\"Course 2\",Général!G$210,IF($T$5=\"Course 3\",Général!G$212,Général!G$214)))","v":"Orléans"},null,{"$f":"Général!B15","v":"Orléans"},3]
["7ème Equipage",null,{"$f":"IF($C$5=\"Course 1\",Général!H38,IF($C$5=\"Course 2\",Général!H40,IF($C$5=\"Course 3\",Général!H42,Général!H44)))","v":"IMT Brest 1"},{"$f":"IF($D$5=\"Course 1\",Général!H48,IF($D$5=\"Course 2\",Général!H50,IF($D$5=\"Course 3\",Général!H52,Général!H54)))","v":"Karlsruhe"},{"$f":"IF($E$5=\"Course 1\",Général!H58,IF($E$5=\"Course 2\",Général!H60,IF($E$5=\"Course 3\",Général!H62,Général!H64)))","v":"Hannover"},{"$f":"IF($F$5=\"Course 1\",Général!H$68,IF($F$5=\"Course 2\",Général!H$70,IF($F$5=\"Course 3\",Général!H$72,Général!H$74)))","v":"Intechmer"},{"$f":"IF($G$5=\"Course 1\",Général!H$78,IF($G$5=\"Course 2\",Général!H$80,IF($G$5=\"Course 3\",Général!H$82,Général!H$84)))","v":"IMT Brest 1"},{"$f":"IF($H$5=\"Course 1\",Général!H$88,IF($H$5=\"Course 2\",Général!H$90,IF($H$5=\"Course 3\",Général!H$92,Général!H$94)))","v":"ST Brieuc 2"},{"$f":"IF($I$5=\"Course 1\",Général!H$98,IF($I$5=\"Course 2\",Général!H$100,IF($I$5=\"Course 3\",Général!H$102,Général!H$104)))","v":"ST Brieuc 2"},{"$f":"IF($J$5=\"Course 1\",Général!H$108,IF($J$5=\"Course 2\",Général!H$110,IF($J$5=\"Course 3\",Général!H$112,Général!H$114)))","v":"St Brieuc 1"},{"$f":"IF($K$5=\"Course 1\",Général!H$118,IF($K$5=\"Course 2\",Général!H$120,IF($K$5=\"Course 3\",Général!H$122,Général!H$124)))","v":"IMT Nantes"},{"$f":"IF($L$5=\"Course 1\",Général!H$128,IF($L$5=\"Course 2\",Général!H$130,IF($L$5=\"Course 3\",Général!H$132,Général!H$134)))","v":"UBO 1"},{"$f":"IF($M$5=\"Course 1\",Général!H$138,IF($M$5=\"Course 2\",Général!H$140,IF($M$5=\"Course 3\",Général!H$142,Général!H$144)))","v":"Univ Nantes 2"},{"$f":"IF($N$5=\"Course 1\",Général!H$148,IF($N$5=\"Course 2\",Général!H$150,IF($N$5=\"Course 3\",Général!H$152,Général!H$154)))","v":"La Rochelle 2"},{"$f":"IF($O$5=\"Course 1\",Général!H$158,IF($O$5=\"Course 2\",Général!H$160,IF($O$5=\"Course 3\",Général!H$162,Général!H$164)))","v":"Paris Cité"},{"$f":"IF($P$5=\"Course 1\",Général!H$168,IF($P$5=\"Course 2\",Général!H$170,IF($P$5=\"Course 3\",Général!H$172,Général!H$174)))","v":"UNIV Nantes 1"},{"$f":"IF($Q$5=\"Course 1\",Général!H$178,IF($Q$5=\"Course 2\",Général!H$180,IF($Q$5=\"Course 3\",Général!H$182,Général!H$184)))","v":"UBO 2"},{"$f":"IF($R$5=\"Course 1\",Général!H$188,IF($R$5=\"Course 2\",Général!H$190,IF($R$5=\"Course 3\",Général!H$192,Général!H$194)))","v":"UBO 2"},{"$f":"IF($S$5=\"Course 1\",Général!H$198,IF($S$5=\"Course 2\",Général!H$200,IF($S$5=\"Course 3\",Général!H$202,Général!H$204)))","v":"La Rochelle 1"},{"$f":"IF($T$5=\"Course 1\",Général!H$208,IF($T$5=\"Course 2\",Général!H$210,IF($T$5=\"Course 3\",Général!H$212,Général!H$214)))","v":"St Brieuc 1"},null,{"$f":"Général!B16","v":"IMT Brest 1"},5]
["8ème Equipage",null,{"$f":"IF($C$5=\"Course 1\",Général!I38,IF($C$5=\"Course 2\",Général!I40,IF($C$5=\"Course 3\",Général!I42,Général!I44)))","v":"Univ Nantes 3"},{"$f":"IF($D$5=\"Course 1\",Général!I48,IF($D$5=\"Course 2\",Général!I50,IF($D$5=\"Course 3\",Général!I52,Général!I54)))","v":"Centrale Nantes 1"},{"$f":"IF($E$5=\"Course 1\",Général!I58,IF($E$5=\"Course 2\",Général!I60,IF($E$5=\"Course 3\",Général!I62,Général!I64)))","v":"Unicaen 1"},{"$f":"IF($F$5=\"Course 1\",Général!I$68,IF($F$5=\"Course 2\",Général!I$70,IF($F$5=\"Course 3\",Général!I$72,Général!I$74)))","v":"Southampton"},{"$f":"IF($G$5=\"Course 1\",Général!I$78,IF($G$5=\"Course 2\",Général!I$80,IF($G$5=\"Course 3\",Général!I$82,Général!I$84)))","v":"Southampton"},{"$f":"IF($H$5=\"Course 1\",Général!I$88,IF($H$5=\"Course 2\",Général!I$90,IF($H$5=\"Course 3\",Général!I$92,Général!I$94)))","v":"UBO 2"},{"$f":"IF($I$5=\"Course 1\",Général!I$98,IF($I$5=\"Course 2\",Général!I$100,IF($I$5=\"Course 3\",Général!I$102,Général!I$104)))","v":"UBO 2"},{"$f":"IF($J$5=\"Course 1\",Général!I$108,IF($J$5=\"Course 2\",Général!I$110,IF($J$5=\"Course 3\",Général!I$112,Général!I$114)))","v":"Paris Cité"},{"$f":"IF($K$5=\"Course 1\",Général!I$118,IF($K$5=\"Course 2\",Général!I$120,IF($K$5=\"Course 3\",Général!I$122,Général!I$124)))","v":"Plymouth"},{"$f":"IF($L$5=\"Course 1\",Général!I$128,IF($L$5=\"Course 2\",Général!I$130,IF($L$5=\"Course 3\",Général!I$132,Général!I$134)))","v":"Unicaen 2"},{"$f":"IF($M$5=\"Course 1\",Général!I$138,IF($M$5=\"Course 2\",Général!I$140,IF($M$5=\"Course 3\",Général!I$142,Général!I$144)))","v":"ST Brieuc 2"},{"$f":"IF($N$5=\"Course 1\",Général!I$148,IF($N$5=\"Course 2\",Général!I$150,IF($N$5=\"Course 3\",Général!I$152,Général!I$154)))","v":"UNIV Nantes 1"},{"$f":"IF($O$5=\"Course 1\",Général!I$158,IF($O$5=\"Course 2\",Général!I$160,IF($O$5=\"Course 3\",Général!I$162,Général!I$164)))","v":"Centrale Nantes 2"},{"$f":"IF($P$5=\"Course 1\",Général!I$168,IF($P$5=\"Course 2\",Général!I$170,IF($P$5=\"Course 3\",Général!I$172,Général!I$174)))","v":"Centrale Nantes 2"},{"$f":"IF($Q$5=\"Course 1\",Général!I$178,IF($Q$5=\"Course 2\",Général!I$180,IF($Q$5=\"Course 3\",Général!I$182,Général!I$184)))","v":"Southampton"},{"$f":"IF($R$5=\"Course 1\",Général!I$188,IF($R$5=\"Course 2\",Général!I$190,IF($R$5=\"Course 3\",Général!I$192,Général!I$194)))","v":"Plymouth"},{"$f":"IF($S$5=\"Course 1\",Général!I$198,IF($S$5=\"Course 2\",Général!I$200,IF($S$5=\"Course 3\",Général!I$202,Général!I$204)))","v":"UBO 2"},{"$f":"IF($T$5=\"Course 1\",Général!I$208,IF($T$5=\"Course 2\",Général!I$210,IF($T$5=\"Course 3\",Général!I$212,Général!I$214)))","v":"UBO 2"},null,{"$f":"Général!B17","v":"ENSMAC"},5]
["9ème Equipage",null,{"$f":"IF($C$5=\"Course 1\",Général!J38,IF($C$5=\"Course 2\",Général!J40,IF($C$5=\"Course 3\",Général!J42,Général!J44)))","v":"Karlsruhe"},{"$f":"IF($D$5=\"Course 1\",Général!J48,IF($D$5=\"Course 2\",Général!J50,IF($D$5=\"Course 3\",Général!J52,Général!J54)))","v":"INSA Lyon"},{"$f":"IF($E$5=\"Course 1\",Général!J58,IF($E$5=\"Course 2\",Général!J60,IF($E$5=\"Course 3\",Général!J62,Général!J64)))","v":"Southampton"},{"$f":"IF($F$5=\"Course 1\",Général!J$68,IF($F$5=\"Course 2\",Général!J$70,IF($F$5=\"Course 3\",Général!J$72,Général!J$74)))","v":"IMT Nantes"},{"$f":"IF($G$5=\"Course 1\",Général!J$78,IF($G$5=\"Course 2\",Général!J$80,IF($G$5=\"Course 3\",Général!J$82,Général!J$84)))","v":"ENSTA 1"},{"$f":"IF($H$5=\"Course 1\",Général!J$88,IF($H$5=\"Course 2\",Général!J$90,IF($H$5=\"Course 3\",Général!$J92,Général!J$94)))","v":"INSA Lyon"},{"$f":"IF($I$5=\"Course 1\",Général!J$98,IF($I$5=\"Course 2\",Général!J$100,IF($I$5=\"Course 3\",Général!J$102,Général!J$104)))","v":"Paris Cité"},{"$f":"IF($J$5=\"Course 1\",Général!J$108,IF($J$5=\"Course 2\",Général!J$110,IF($J$5=\"Course 3\",Général!J$112,Général!J$114)))","v":"UBO 1"},{"$f":"IF($K$5=\"Course 1\",Général!J$118,IF($K$5=\"Course 2\",Général!J$120,IF($K$5=\"Course 3\",Général!J$122,Général!J$124)))","v":"Paris Sorbone"},{"$f":"IF($L$5=\"Course 1\",Général!J$128,IF($L$5=\"Course 2\",Général!J$130,IF($L$5=\"Course 3\",Général!J$132,Général!J$134)))","v":"Centrale Nantes 2"},{"$f":"IF($M$5=\"Course 1\",Général!J$138,IF($M$5=\"Course 2\",Général!J$140,IF($M$5=\"Course 3\",Général!J$142,Général!J$144)))","v":"La Rochelle 1"},{"$f":"IF($N$5=\"Course 1\",Général!J$148,IF($N$5=\"Course 2\",Général!J$150,IF($N$5=\"Course 3\",Général!J$152,Général!J$154)))","v":"Plymouth"},{"$f":"IF($O$5=\"Course 1\",Général!J$158,IF($O$5=\"Course 2\",Général!J$160,IF($O$5=\"Course 3\",Général!J$162,Général!J$164)))","v":"Intechmer"},{"$f":"IF($P$5=\"Course 1\",Général!J$168,IF($P$5=\"Course 2\",Général!J$170,IF($P$5=\"Course 3\",Général!J$172,Général!J$174)))","v":"Southampton"},{"$f":"IF($Q$5=\"Course 1\",Général!J$178,IF($Q$5=\"Course 2\",Général!J$180,IF($Q$5=\"Course 3\",Général!J$182,Général!J$184)))","v":"IMT Brest 2"},{"$f":"IF($R$5=\"Course 1\",Général!J$188,IF($R$5=\"Course 2\",Général!J$190,IF($R$5=\"Course 3\",Général!J$192,Général!J$194)))","v":"UNIV Nantes 1"},{"$f":"IF($S$5=\"Course 1\",Général!J$198,IF($S$5=\"Course 2\",Général!J$200,IF($S$5=\"Course 3\",Général!J$202,Général!J$204)))","v":"Karlsruhe"},{"$f":"IF($T$5=\"Course 1\",Général!J$208,IF($T$5=\"Course 2\",Général!J$210,IF($T$5=\"Course 3\",Général!J$212,Général!J$214)))","v":"Karlsruhe"},null,{"$f":"Général!B18","v":"St Brieuc 1"},4]
["10ème Equipage",null,{"$f":"IF($C$5=\"Course 1\",Général!K38,IF($C$5=\"Course 2\",Général!K40,IF($C$5=\"Course 3\",Général!K42,Général!K44)))","v":"Intechmer"},{"$f":"IF($D$5=\"Course 1\",Général!K48,IF($D$5=\"Course 2\",Général!K50,IF($D$5=\"Course 3\",Général!K52,Général!K54)))","v":"Unicaen 1"},{"$f":"IF($E$5=\"Course 1\",Général!K58,IF($E$5=\"Course 2\",Général!K60,IF($E$5=\"Course 3\",Général!K62,Général!K64)))","v":"UBO 1"},{"$f":"IF($F$5=\"Course 1\",Général!K$68,IF($F$5=\"Course 2\",Général!K$70,IF($F$5=\"Course 3\",Général!K$72,Général!K$74)))","v":"UBO 2"},{"$f":"IF($G$5=\"Course 1\",Général!K$78,IF($G$5=\"Course 2\",Général!K$80,IF($G$5=\"Course 3\",Général!K$82,Général!K$84)))","v":"UBO 2"},{"$f":"IF($H$5=\"Course 1\",Général!K$88,IF($H$5=\"Course 2\",Général!K$90,IF($H$5=\"Course 3\",Général!$K92,Général!K$94)))","v":"St Brieuc 1"},{"$f":"IF($I$5=\"Course 1\",Général!K$98,IF($I$5=\"Course 2\",Général!K$100,IF($I$5=\"Course 3\",Général!K$102,Général!K$104)))","v":"St Brieuc 1"},{"$f":"IF($J$5=\"Course 1\",Général!K$108,IF($J$5=\"Course 2\",Général!K$110,IF($J$5=\"Course 3\",Général!K$112,Général!K$114)))","v":"Univ Nantes 3"},{"$f":"IF($K$5=\"Course 1\",Général!K$118,IF($K$5=\"Course 2\",Général!K$120,IF($K$5=\"Course 3\",Général!K$122,Général!K$124)))","v":"UBO 2"},{"$f":"IF($L$5=\"Course 1\",Général!K$128,IF($L$5=\"Course 2\",Général!K$130,IF($L$5=\"Course 3\",Général!K$132,Général!K$134)))","v":"La Rochelle 1"},{"$f":"IF($M$5=\"Course 1\",Général!K$138,IF($M$5=\"Course 2\",Général!K$140,IF($M$5=\"Course 3\",Général!K$142,Général!K$144)))","v":"UBS Lorient 2"},{"$f":"IF($N$5=\"Course 1\",Général!K$148,IF($N$5=\"Course 2\",Général!K$150,IF($N$5=\"Course 3\",Général!K$152,Général!K$154)))","v":"Karlsruhe"},{"$f":"IF($O$5=\"Course 1\",Général!K$158,IF($O$5=\"Course 2\",Général!K$160,IF($O$5=\"Course 3\",Général!K$162,Général!K$164)))","v":"IMT Brest 2"},{"$f":"IF($P$5=\"Course 1\",Général!K$168,IF($P$5=\"Course 2\",Général!K$170,IF($P$5=\"Course 3\",Général!K$172,Général!K$174)))","v":"UBO 2"},{"$f":"IF($Q$5=\"Course 1\",Général!K$178,IF($Q$5=\"Course 2\",Général!K$180,IF($Q$5=\"Course 3\",Général!K$182,Général!K$184)))","v":"Unicaen 1"},{"$f":"IF($R$5=\"Course 1\",Général!K$188,IF($R$5=\"Course 2\",Général!K$190,IF($R$5=\"Course 3\",Général!K$192,Général!K$194)))","v":"Centrale Nantes 2"},{"$f":"IF($S$5=\"Course 1\",Général!K$198,IF($S$5=\"Course 2\",Général!K$200,IF($S$5=\"Course 3\",Général!K$202,Général!K$204)))","v":"Univ Nantes 2"},{"$f":"IF($T$5=\"Course 1\",Général!K$208,IF($T$5=\"Course 2\",Général!K$210,IF($T$5=\"Course 3\",Général!K$212,Général!K$214)))","v":"ENSTA 1"},null,{"$f":"Général!B19","v":"Hannover"},4]
[null,null,null,null,null,null,null,null,null,null,null,null,null,null,null,null,null,null,null,null,null,{"$f":"Général!B20","v":"ENSTA 2"},6]
[null,null,null,null,null,null,null,null,null,null,null,null,null,null,null,null,null,null,null,null,null,{"$f":"Général!B21","v":"Southampton"},5]
[null,null,null,null,null,null,null,null,null,null,null,null,null,null,null,null,null,null,null,null,null,{"$f":"Général!B22","v":"La Rochelle 1"},3]
[null,null,null,null,null,null,null,null,null,null,null,null,null,null,null,null,null,null,null,null,null,{"$f":"Général!B23","v":"Centrale Nantes 1"},2]
[null,null,null,null,null,null,null,null,null,null,null,null,null,null,null,null,null,null,null,null,null,{"$f":"Général!B24","v":"ST Brieuc 2"},7]
[null,null,null,null,null,null,null,null,null,null,null,null,null,null,null,null,null,null,null,null,null,{"$f":"Général!B25","v":"UNIV Nantes 1"},7]
[null,null,null,null,null,null,null,null,null,null,null,null,null,null,null,null,null,null,null,null,null,{"$f":"Général!B26","v":"Intechmer"},6]
[null,null,null,null,null,null,null,null,null,null,null,null,null,null,null,null,null,null,null,null,null,{"$f":"Général!B27","v":"IMT Nantes"},5]
[null,null,null,null,null,null,null,null,null,null,null,null,null,null,null,null,null,null,null,null,null,{"$f":"Général!B28","v":"INSA Lyon"},7]
[null,null,null,null,null,null,null,null,null,null,null,null,null,null,null,null,null,null,null,null,null,{"$f":"Général!B29","v":"Centrale Nantes 2"},8]
[null,null,null,null,null,null,null,null,null,null,null,null,null,null,null,null,null,null,null,null,null,{"$f":"Général!B30","v":"UBS Lorient 2"},5]
[null,null,null,null,null,null,null,null,null,null,null,null,null,null,null,null,null,null,null,null,null,{"$f":"Général!B31","v":"La Rochelle 2"},6]
[null,null,null,null,null,null,null,null,null,null,null,null,null,null,null,null,null,null,null,null,null,{"$f":"Général!B32","v":"UBO 1"},7]
[null,null,null,null,null,null,null,null,null,null,null,null,null,null,null,null,null,null,null,null,null,{"$f":"Général!B33","v":"Eq.31"},0]
[null,null,null,null,null,null,null,null,null,null,null,null,null,null,null,null,null,null,null,null,null,{"$f":"Général!B34","v":"Eq.32"},0]

{"sheet":"Eq.2","index":7,"n_rows":32,"n_cols":23,"rows_kept":32,"cut":false,"hidden":false,"merged":[[7,0,7,1],[0,0,1,5],[0,6,1,10],[3,0,3,1],[4,0,4,1],[5,0,5,1],[14,0,14,1],[15,0,15,1],[16,0,16,1],[8,0,8,1],[9,0,9,1],[10,0,10,1],[11,0,11,1],[12,0,12,1],[13,0,13,1]]}
["Equipage ",null,null,null,null,null,{"$f":"Général!B4","v":"Paris Sorbone"},null,null,null,null,null,null,null,null,null,null,null,null,null,null,{"$f":"Général!B3","v":"UBO 2"},{"$f":"COUNTIF(C$8:T$16,V1)","v":4}]
[null,null,null,null,null,null,null,null,null,null,null,null,null,null,null,null,null,null,null,null,null,{"$f":"Général!B4","v":"Paris Sorbone"},{"$f":"COUNTIF($C$8:$T$16,V2)","v":13}]
[null,null,null,null,null,null,null,null,null,null,null,null,null,null,null,null,null,null,null,null,null,{"$f":"Général!B5","v":"UBS Lorient 1"},{"$f":"COUNTIF($C$8:$T$16,V3)","v":6}]
[null,null,"FLIGHT 1","FLIGHT 2","FLIGHT 3","FLIGHT 4","FLIGHT 5","FLIGHT 6","FLIGHT 7","FLIGHT 8","FLIGHT 9","FLIGHT 10","FLIGHT 11","FLIGHT 12","FLIGHT 13","FLIGHT 14","FLIGHT 15","FLIGHT 16","FLIGHT 17","FLIGHT 18",null,{"$f":"Général!B6","v":"Univ Nantes 3"},4]
["N° de course",null,{"$f":"IF(COUNTIF(Général!B38:K38,$G$1)=1,\"Course 1\",IF(COUNTIF(Général!B40:K40,$G$1)=1,\"Course 2\",IF(COUNTIF(Général!B42:K42,$G$1)=1,\"Course 3\",\"Course 4\")))","v":"Course 2"},{"$f":"IF(COUNTIF(Général!B48:K48,$G$1)=1,\"Course 1\",IF(COUNTIF(Général!B50:K50,$G$1)=1,\"Course 2\",IF(COUNTIF(Général!B52:K52,$G$1)=1,\"Course 3\",\"Course 4\")))","v":"Course 1"},{"$f":"IF(COUNTIF(Général!B58:K58,$G$1)=1,\"Course 1\",IF(COUNTIF(Général!B60:K60,$G$1)=1,\"Course 2\",IF(COUNTIF(Général!B62:K62,$G$1)=1,\"Course 3\",\"Course 4\")))","v":"Course 1"},{"$f":"IF(COUNTIF(Général!B68:K68,$G$1)=1,\"Course 1\",IF(COUNTIF(Général!B70:K70,$G$1)=1,\"Course 2\",IF(COUNTIF(Général!B72:K72,$G$1)=1,\"Course 3\",\"Course 4\")))","v":"Course 3"},{"$f":"IF(COUNTIF(Général!B78:K78,$G$1)=1,\"Course 1\",IF(COUNTIF(Général!B80:K80,$G$1)=1,\"Course 2\",IF(COUNTIF(Général!B82:K82,$G$1)=1,\"Course 3\",\"Course 4\")))","v":"Course 2"},{"$f":"IF(COUNTIF(Général!B88:K88,$G$1)=1,\"Course 1\",IF(COUNTIF(Général!B90:K90,$G$1)=1,\"Course 2\",IF(COUNTIF(Général!B92:K92,$G$1)=1,\"Course 3\",\"Course 4\")))","v":"Course 3"},{"$f":"IF(COUNTIF(Général!B98:K98,$G$1)=1,\"Course 1\",IF(COUNTIF(Général!B100:K100,$G$1)=1,\"Course 2\",IF(COUNTIF(Général!B102:K102,$G$1)=1,\"Course 3\",\"Course 4\")))","v":"Course 3"},{"$f":"IF(COUNTIF(Général!B108:K108,$G$1)=1,\"Course 1\",IF(COUNTIF(Général!B110:K110,$G$1)=1,\"Course 2\",IF(COUNTIF(Général!B112:K112,$G$1)=1,\"Course 3\",\"Course 4\")))","v":"Course 1"},{"$f":"IF(COUNTIF(Général!B118:K118,$G$1)=1,\"Course 1\",IF(COUNTIF(Général!B120:K120,$G$1)=1,\"Course 2\",IF(COUNTIF(Général!B122:K122,$G$1)=1,\"Course 3\",\"Course 4\")))","v":"Course 2"},{"$f":"IF(COUNTIF(Général!B128:K128,$G$1)=1,\"Course 1\",IF(COUNTIF(Général!B130:K130,$G$1)=1,\"Course 2\",IF(COUNTIF(Général!B132:K132,$G$1)=1,\"Course 3\",\"Course 4\")))","v":"Course 3"},{"$f":"IF(COUNTIF(Général!B138:K138,$G$1)=1,\"Course 1\",IF(COUNTIF(Général!B140:K140,$G$1)=1,\"Course 2\",IF(COUNTIF(Général!B142:K142,$G$1)=1,\"Course 3\",\"Course 4\")))","v":"Course 2"},{"$f":"IF(COUNTIF(Général!B148:K148,$G$1)=1,\"Course 1\",IF(COUNTIF(Général!B150:K150,$G$1)=1,\"Course 2\",IF(COUNTIF(Général!B152:K152,$G$1)=1,\"Course 3\",\"Course 4\")))","v":"Course 1"},{"$f":"IF(COUNTIF(Général!B158:K158,$G$1)=1,\"Course 1\",IF(COUNTIF(Général!B160:K160,$G$1)=1,\"Course 2\",IF(COUNTIF(Général!B162:K162,$G$1)=1,\"Course 3\",\"Course 4\")))","v":"Course 1"},{"$f":"IF(COUNTIF(Général!B168:K168,$G$1)=1,\"Course 1\",IF(COUNTIF(Général!B170:K170,$G$1)=1,\"Course 2\",IF(COUNTIF(Général!B172:K172,$G$1)=1,\"Course 3\",\"Course 4\")))","v":"Course 1"},{"$f":"IF(COUNTIF(Général!B178:K178,$G$1)=1,\"Course 1\",IF(COUNTIF(Général!B180:K180,$G$1)=1,\"Course 2\",IF(COUNTIF(Général!B182:K182,$G$1)=1,\"Course 3\",\"Course 4\")))","v":"Course 2"},{"$f":"IF(COUNTIF(Général!B188:K188,$G$1)=1,\"Course 1\",IF(COUNTIF(Général!B190:K190,$G$1)=1,\"Course 2\",IF(COUNTIF(Général!B192:K192,$G$1)=1,\"Course 3\",\"Course 4\")))","v":"Course 1"},{"$f":"IF(COUNTIF(Général!B198:K198,$G$1)=1,\"Course 1\",IF(COUNTIF(Général!B200:K200,$G$1)=1,\"Course 2\",IF(COUNTIF(Général!B202:K202,$G$1)=1,\"Course 3\",\"Course 4\")))","v":"Course 3"},{"$f":"IF(COUNTIF(Général!B208:K208,$G$1)=1,\"Course 1\",IF(COUNTIF(Général!B210:K210,$G$1)=1,\"Course 2\",IF(COUNTIF(Général!B212:K212,$G$1)=1,\"Course 3\",\"Course 4\")))","v":"Course 2"},null,{"$f":"Général!B7","v":"Paris Cité"},5]
["Bateau",null,{"$f":"IF(COUNTIF(Général!B38:B44,$G$1)=1,\"Boat 1\",IF(COUNTIF(Général!C38:C44,$G$1)=1,\"Boat 2\",IF(COUNTIF(Général!D38:D44,$G$1)=1,\"Boat 3\", IF(COUNTIF(Général!E38:E44,$G$1)=1,\"Boat 4\", IF(COUNTIF(Général!F38:F44,$G$1)=1,\"Boat 5\", IF(COUNTIF(Général!G38:G44,$G$1)=1,\"Boat 6\", IF(COUNTIF(Général!H38:H44,$G$1)=1,\"Boat 7\",IF(COUNTIF(Général!I38:I44,$G$1)=1,\"Boat 8\",\"Boat 9\"))))))))","v":"Boat 9"},{"$f":"IF(COUNTIF(Général!B48:B54,$G$1)=1,\"Boat 1\",IF(COUNTIF(Général!C48:C54,$G$1)=1,\"Boat 2\",IF(COUNTIF(Général!D48:D54,$G$1)=1,\"Boat 3\", IF(COUNTIF(Général!E48:E54,$G$1)=1,\"Boat 4\", IF(COUNTIF(Général!F48:F54,$G$1)=1,\"Boat 5\", IF(COUNTIF(Général!G48:G54,$G$1)=1,\"Boat 6\", IF(COUNTIF(Général!H48:H54,$G$1)=1,\"Boat 7\",IF(COUNTIF(Général!I38:I44,$G$1)=1,\"Boat 8\",\"Boat 9\"))))))))","v":"Boat 3"},{"$f":"IF(COUNTIF(Général!B58:B64,$G$1)=1,\"Boat 1\",IF(COUNTIF(Général!C58:C64,$G$1)=1,\"Boat 2\",IF(COUNTIF(Général!D58:D64,$G$1)=1,\"Boat 3\", IF(COUNTIF(Général!E58:E64,$G$1)=1,\"Boat 4\", IF(COUNTIF(Général!F58:F64,$G$1)=1,\"Boat 5\", IF(COUNTIF(Général!G58:G64,$G$1)=1,\"Boat 6\", IF(COUNTIF(Général!H58:H64,$G$1)=1,\"Boat 7\",IF(COUNTIF(Général!I38:I44,$G$1)=1,\"Boat 8\",\"Boat 9\"))))))))","v":"Boat 4"},{"$f":"IF(COUNTIF(Général!B68:B74,$G$1)=1,\"Boat 1\",IF(COUNTIF(Général!C68:C74,$G$1)=1,\"Boat 2\",IF(COUNTIF(Général!D68:D74,$G$1)=1,\"Boat 3\", IF(COUNTIF(Général!E68:E74,$G$1)=1,\"Boat 4\", IF(COUNTIF(Général!F68:F74,$G$1)=1,\"Boat 5\", IF(COUNTIF(Général!G68:G74,$G$1)=1,\"Boat 6\", IF(COUNTIF(Général!H68:H74,$G$1)=1,\"Boat 7\",IF(COUNTIF(Général!I38:I44,$G$1)=1,\"Boat 8\",\"Boat 9\"))))))))","v":"Boat 6"},{"$f":"IF(COUNTIF(Général!B78:B84,$G$1)=1,\"Boat 1\",IF(COUNTIF(Général!C78:C84,$G$1)=1,\"Boat 2\",IF(COUNTIF(Général!D78:D84,$G$1)=1,\"Boat 3\", IF(COUNTIF(Général!E78:E84,$G$1)=1,\"Boat 4\", IF(COUNTIF(Général!F78:F84,$G$1)=1,\"Boat 5\", IF(COUNTIF(Général!G78:G84,$G$1)=1,\"Boat 6\", IF(COUNTIF(Général!H78:H84,$G$1)=1,\"Boat 7\",IF(COUNTIF(Général!I38:I44,$G$1)=1,\"Boat 8\",\"Boat 9\"))))))))","v":"Boat 3"},{"$f":"IF(COUNTIF(Général!B88:B94,$G$1)=1,\"Boat 1\",IF(COUNTIF(Général!C88:C94,$G$1)=1,\"Boat 2\",IF(COUNTIF(Général!D88:D94,$G$1)=1,\"Boat 3\", IF(COUNTIF(Général!E88:E94,$G$1)=1,\"Boat 4\", IF(COUNTIF(Général!F88:F94,$G$1)=1,\"Boat 5\", IF(COUNTIF(Général!G88:G94,$G$1)=1,\"Boat 6\", IF(COUNTIF(Général!H88:H94,$G$1)=1,\"Boat 7\",IF(COUNTIF(Général!I38:I44,$G$1)=1,\"Boat 8\",\"Boat 9\"))))))))","v":"Boat 2"},{"$f":"IF(COUNTIF(Général!B98:B104,$G$1)=1,\"Boat 1\",IF(COUNTIF(Général!C98:C104,$G$1)=1,\"Boat 2\",IF(COUNTIF(Général!D98:D104,$G$1)=1,\"Boat 3\", IF(COUNTIF(Général!E98:E104,$G$1)=1,\"Boat 4\", IF(COUNTIF(Général!F98:F104,$G$1)=1,\"Boat 5\", IF(COUNTIF(Général!G98:G104,$G$1)=1,\"Boat 6\", IF(COUNTIF(Général!H98:H104,$G$1)=1,\"Boat 7\",IF(COUNTIF(Général!I38:I44,$G$1)=1,\"Boat 8\",\"Boat 9\"))))))))","v":"Boat 4"},{"$f":"IF(COUNTIF(Général!B108:B114,$G$1)=1,\"Boat 1\",IF(COUNTIF(Général!C108:C114,$G$1)=1,\"Boat 2\",IF(COUNTIF(Général!D108:D114,$G$1)=1,\"Boat 3\", IF(COUNTIF(Général!E108:E114,$G$1)=1,\"Boat 4\", IF(COUNTIF(Général!F108:F114,$G$1)=1,\"Boat 5\", IF(COUNTIF(Général!G108:G114,$G$1)=1,\"Boat 6\", IF(COUNTIF(Général!H108:H114,$G$1)=1,\"Boat 7\",IF(COUNTIF(Général!I38:I44,$G$1)=1,\"Boat 8\",\"Boat 9\"))))))))","v":"Boat 4"},{"$f":"IF(COUNTIF(Général!B118:B124,$G$1)=1,\"Boat 1\",IF(COUNTIF(Général!C118:C124,$G$1)=1,\"Boat 2\",IF(COUNTIF(Général!D118:D124,$G$1)=1,\"Boat 3\", IF(COUNTIF(Général!E118:E124,$G$1)=1,\"Boat 4\", IF(COUNTIF(Général!F118:F124,$G$1)=1,\"Boat 5\", IF(COUNTIF(Général!G118:G124,$G$1)=1,\"Boat 6\", IF(COUNTIF(Général!H118:H124,$G$1)=1,\"Boat 7\",IF(COUNTIF(Général!I38:I44,$G$1)=1,\"Boat 8\",\"Boat 9\"))))))))","v":"Boat 9"},{"$f":"IF(COUNTIF(Général!B128:B134,$G$1)=1,\"Boat 1\",IF(COUNTIF(Général!C128:C134,$G$1)=1,\"Boat 2\",IF(COUNTIF(Général!D128:D134,$G$1)=1,\"Boat 3\", IF(COUNTIF(Général!E128:E134,$G$1)=1,\"Boat 4\", IF(COUNTIF(Général!F128:F134,$G$1)=1,\"Boat 5\", IF(COUNTIF(Général!G128:G134,$G$1)=1,\"Boat 6\", IF(COUNTIF(Général!H128:H134,$G$1)=1,\"Boat 7\",IF(COUNTIF(Général!I38:I44,$G$1)=1,\"Boat 8\",\"Boat 9\"))))))))","v":"Boat 5"},{"$f":"IF(COUNTIF(Général!B138:B144,$G$1)=1,\"Boat 1\",IF(COUNTIF(Général!C138:C144,$G$1)=1,\"Boat 2\",IF(COUNTIF(Général!C138:D144,$G$1)=1,\"Boat 3\", IF(COUNTIF(Général!C138:E144,$G$1)=1,\"Boat 4\", IF(COUNTIF(Général!F138:F144,$G$1)=1,\"Boat 5\", IF(COUNTIF(Général!G138:G144,$G$1)=1,\"Boat 6\", IF(COUNTIF(Général!H138:H144,$G$1)=1,\"Boat 7\",IF(COUNTIF(Général!I38:I44,$G$1)=1,\"Boat 8\",\"Boat 9\"))))))))","v":"Boat 3"},{"$f":"IF(COUNTIF(Général!B148:B154,$G$1)=1,\"Boat 1\",IF(COUNTIF(Général!C148:C154,$G$1)=1,\"Boat 2\",IF(COUNTIF(Général!D148:D154,$G$1)=1,\"Boat 3\", IF(COUNTIF(Général!E148:E154,$G$1)=1,\"Boat 4\", IF(COUNTIF(Général!F148:F154,$G$1)=1,\"Boat 5\", IF(COUNTIF(Général!G148:G154,$G$1)=1,\"Boat 6\", IF(COUNTIF(Général!H148:H154,$G$1)=1,\"Boat 7\",IF(COUNTIF(Général!I38:I44,$G$1)=1,\"Boat 8\",\"Boat 9\"))))))))","v":"Boat 9"},{"$f":"IF(COUNTIF(Général!B158:B164,$G$1)=1,\"Boat 1\",IF(COUNTIF(Général!C158:C164,$G$1)=1,\"Boat 2\",IF(COUNTIF(Général!D160:D164,$G$1)=1,\"Boat 3\", IF(COUNTIF(Général!E158:E164,$G$1)=1,\"Boat 4\", IF(COUNTIF(Général!F158:F164,$G$1)=1,\"Boat 5\", IF(COUNTIF(Général!G158:G164,$G$1)=1,\"Boat 6\", IF(COUNTIF(Général!H158:H164,$G$1)=1,\"Boat 7\",IF(COUNTIF(Général!I38:I44,$G$1)=1,\"Boat 8\",\"Boat 9\"))))))))","v":"Boat 9"},{"$f":"IF(COUNTIF(Général!B168:B174,$G$1)=1,\"Boat 1\",IF(COUNTIF(Général!C168:C174,$G$1)=1,\"Boat 2\",IF(COUNTIF(Général!D168:D174,$G$1)=1,\"Boat 3\", IF(COUNTIF(Général!E168:E174,$G$1)=1,\"Boat 4\", IF(COUNTIF(Général!F178:F184,$G$1)=1,\"Boat 5\", IF(COUNTIF(Général!G178:G184,$G$1)=1,\"Boat 6\", IF(COUNTIF(Général!H178:H184,$G$1)=1,\"Boat 7\",IF(COUNTIF(Général!I38:I44,$G$1)=1,\"Boat 8\",\"Boat 9\"))))))))","v":"Boat 2"},{"$f":"IF(COUNTIF(Général!B178:B184,$G$1)=1,\"Boat 1\",IF(COUNTIF(Général!C178:C184,$G$1)=1,\"Boat 2\",IF(COUNTIF(Général!D178:D184,$G$1)=1,\"Boat 3\", IF(COUNTIF(Général!E178:E184,$G$1)=1,\"Boat 4\", IF(COUNTIF(Général!F178:F184,$G$1)=1,\"Boat 5\", IF(COUNTIF(Général!G178:G184,$G$1)=1,\"Boat 6\", IF(COUNTIF(Général!H178:H184,$G$1)=1,\"Boat 7\",IF(COUNTIF(Général!I38:I44,$G$1)=1,\"Boat 8\",\"Boat 9\"))))))))","v":"Boat 9"},{"$f":"IF(COUNTIF(Général!B188:B194,$G$1)=1,\"Boat 1\",IF(COUNTIF(Général!C188:C194,$G$1)=1,\"Boat 2\",IF(COUNTIF(Général!D188:D194,$G$1)=1,\"Boat 3\", IF(COUNTIF(Général!E188:E194,$G$1)=1,\"Boat 4\", IF(COUNTIF(Général!F188:F194,$G$1)=1,\"Boat 5\", IF(COUNTIF(Général!G188:G194,$G$1)=1,\"Boat 6\", IF(COUNTIF(Général!H188:H194,$G$1)=1,\"Boat 7\",IF(COUNTIF(Général!I38:I44,$G$1)=1,\"Boat 8\",\"Boat 9\"))))))))","v":"Boat 9"},{"$f":"IF(COUNTIF(Général!B198:B204,$G$1)=1,\"Boat 1\",IF(COUNTIF(Général!C198:C204,$G$1)=1,\"Boat 2\",IF(COUNTIF(Général!D198:D204,$G$1)=1,\"Boat 3\", IF(COUNTIF(Général!E198:E204,$G$1)=1,\"Boat 4\", IF(COUNTIF(Général!F198:F204,$G$1)=1,\"Boat 5\", IF(COUNTIF(Général!G198:G204,$G$1)=1,\"Boat 6\", IF(COUNTIF(Général!H198:H204,$G$1)=1,\"Boat 7\",IF(COUNTIF(Général!I38:I44,$G$1)=1,\"Boat 8\",\"Boat 9\"))))))))","v":"Boat 2"},{"$f":"IF(COUNTIF(Général!B208:B214,$G$1)=1,\"Boat 1\",IF(COUNTIF(Général!C208:C214,$G$1)=1,\"Boat 2\",IF(COUNTIF(Général!D208:D214,$G$1)=1,\"Boat 3\", IF(COUNTIF(Général!E208:E214,$G$1)=1,\"Boat 4\", IF(COUNTIF(Général!F208:F214,$G$1)=1,\"Boat 5\", IF(COUNTIF(Général!G208:G214,$G$1)=1,\"Boat 6\", IF(COUNTIF(Général!H208:H214,$G$1)=1,\"Boat 7\",IF(COUNTIF(Général!I38:I44,$G$1)=1,\"Boat 8\",\"Boat 9\"))))))))","v":"Boat 2"},null,{"$f":"Général!B8","v":"Plymouth"},4]
[null,null,null,null,null,null,null,null,null,null,null,null,null,null,null,null,null,null,null,null,null,{"$f":"Général!B9","v":"Unicaen 2"},7]
["1er Equipage",null,{"$f":"IF($C$5=\"Course 1\",Général!B38,IF($C$5=\"Course 2\",Général!B40,IF($C$5=\"Course 3\",Général!B42,Général!B44)))","v":"ST Brieuc 2"},{"$f":"IF($D$5=\"Course 1\",Général!B48,IF($D$5=\"Course 2\",Général!B50,IF($D$5=\"Course 3\",Général!B52,Général!B54)))","v":"ENSTA 1"},{"$f":"IF($E$5=\"Course 1\",Général!B58,IF($E$5=\"Course 2\",Général!B60,IF($E$5=\"Course 3\",Général!B62,Général!B64)))","v":"Orléans"},{"$f":"IF($F$5=\"Course 1\",Général!B$68,IF($F$5=\"Course 2\",Général!B$70,IF($F$5=\"Course 3\",Général!B$72,Général!B$74)))","v":"ENSMAC"},{"$f":"IF($G$5=\"Course 1\",Général!B$78,IF($G$5=\"Course 2\",Général!B$80,IF($G$5=\"Course 3\",Général!B$82,Général!B$84)))","v":"Plymouth"},{"$f":"IF($H$5=\"Course 1\",Général!B$88,IF($H$5=\"Course 2\",Général!B$90,IF($H$5=\"Course 3\",Général!B$92,Général!B$94)))","v":"Unicaen 2"},{"$f":"IF($I$5=\"Course 1\",Général!B$98,IF($I$5=\"Course 2\",Général!B$100,IF($I$5=\"Course 3\",Général!B$102,Général!B$104)))","v":"La Rochelle 2"},{"$f":"IF($J$5=\"Course 1\",Général!B$108,IF($J$5=\"Course 2\",Général!B$110,IF($J$5=\"Course 3\",Général!B$112,Général!B$114)))","v":"La Rochelle 2"},{"$f":"IF($K$5=\"Course 1\",Général!B$118,IF($K$5=\"Course 2\",Général!B$120,IF($K$5=\"Course 3\",Général!B$122,Général!B$124)))","v":"Hannover"},{"$f":"IF($L$5=\"Course 1\",Général!B$128,IF($L$5=\"Course 2\",Général!B$130,IF($L$5=\"Course 3\",Général!B$132,Général!B$134)))","v":"IMT Brest 2"},{"$f":"IF($M$5=\"Course 1\",Général!B$138,IF($M$5=\"Course 2\",Général!B$140,IF($M$5=\"Course 3\",Général!B$142,Général!B$144)))","v":"Plymouth"},{"$f":"IF($N$5=\"Course 1\",Général!B$148,IF($N$5=\"Course 2\",Général!B$150,IF($N$5=\"Course 3\",Général!B$152,Général!B$154)))","v":"St Brieuc 1"},{"$f":"IF($O$5=\"Course 1\",Général!B$158,IF($O$5=\"Course 2\",Général!B$160,IF($O$5=\"Course 3\",Général!B$162,Général!B$164)))","v":"La Rochelle 1"},{"$f":"IF($P$5=\"Course 1\",Général!B$168,IF($P$5=\"Course 2\",Général!B$170,IF($P$5=\"Course 3\",Général!B$172,Général!B$174)))","v":"St Brieuc 1"},{"$f":"IF($Q$5=\"Course 1\",Général!B$178,IF($Q$5=\"Course 2\",Général!B$180,IF($Q$5=\"Course 3\",Général!B$182,Général!B$184)))","v":"La Rochelle 2"},{"$f":"IF($R$5=\"Course 1\",Général!B$188,IF($R$5=\"Course 2\",Général!B$190,IF($R$5=\"Course 3\",Général!B$192,Général!B$194)))","v":"IMT Brest 2"},{"$f":"IF($S$5=\"Course 1\",Général!B$198,IF($S$5=\"Course 2\",Général!B$200,IF($S$5=\"Course 3\",Général!B$202,Général!B$204)))","v":"UBS Lorient 2"},{"$f":"IF($T$5=\"Course 1\",Général!B$208,IF($T$5=\"Course 2\",Général!B$210,IF($T$5=\"Course 3\",Général!B$212,Général!B$214)))","v":"UBO 1"},null,{"$f":"Général!B10","v":"Univ Nantes 2"},5]
["2nd Equipage",null,{"$f":"IF($C$5=\"Course 1\",Général!C38,IF($C$5=\"Course 2\",Général!C40,IF($C$5=\"Course 3\",Général!C42,Général!C44)))","v":"UBS Lorient 2"},{"$f":"IF($D$5=\"Course 1\",Général!C48,IF($D$5=\"Course 2\",Général!C50,IF($D$5=\"Course 3\",Général!C52,Général!C54)))","v":"UBS Lorient 1"},{"$f":"IF($E$5=\"Course 1\",Général!C58,IF($E$5=\"Course 2\",Général!C60,IF($E$5=\"Course 3\",Général!C62,Général!C64)))","v":"UBS Lorient 2"},{"$f":"IF($F$5=\"Course 1\",Général!C$68,IF($F$5=\"Course 2\",Général!C$70,IF($F$5=\"Course 3\",Général!C$72,Général!C$74)))","v":"St Brieuc 1"},{"$f":"IF($G$5=\"Course 1\",Général!C$78,IF($G$5=\"Course 2\",Général!C$80,IF($G$5=\"Course 3\",Général!C$82,Général!C$84)))","v":"Univ Nantes 3"},{"$f":"IF($H$5=\"Course 1\",Général!C$88,IF($H$5=\"Course 2\",Général!C$90,IF($H$5=\"Course 3\",Général!C$92,Général!C$94)))","v":"Paris Sorbone"},{"$f":"IF($I$5=\"Course 1\",Général!C$98,IF($I$5=\"Course 2\",Général!C$100,IF($I$5=\"Course 3\",Général!C$102,Général!C$104)))","v":"ENSTA 2"},{"$f":"IF($J$5=\"Course 1\",Général!C$108,IF($J$5=\"Course 2\",Général!C$110,IF($J$5=\"Course 3\",Général!C$112,Général!C$114)))","v":"ENSTA 2"},{"$f":"IF($K$5=\"Course 1\",Général!C$118,IF($K$5=\"Course 2\",Général!C$120,IF($K$5=\"Course 3\",Général!C$122,Général!C$124)))","v":"Paris Cité"},{"$f":"IF($L$5=\"Course 1\",Général!C$128,IF($L$5=\"Course 2\",Général!C$130,IF($L$5=\"Course 3\",Général!C$132,Général!C$134)))","v":"UNIV Nantes 1"},{"$f":"IF($M$5=\"Course 1\",Général!C$138,IF($M$5=\"Course 2\",Général!C$140,IF($M$5=\"Course 3\",Général!C$142,Général!C$144)))","v":"Karlsruhe"},{"$f":"IF($N$5=\"Course 1\",Général!C$148,IF($N$5=\"Course 2\",Général!C$150,IF($N$5=\"Course 3\",Général!C$152,Général!C$154)))","v":"Centrale Nantes 1"},{"$f":"IF($O$5=\"Course 1\",Général!C$158,IF($O$5=\"Course 2\",Général!C$160,IF($O$5=\"Course 3\",Général!C$162,Général!C$164)))","v":"IMT Brest 1"},{"$f":"IF($P$5=\"Course 1\",Général!C$168,IF($P$5=\"Course 2\",Général!C$170,IF($P$5=\"Course 3\",Général!C$172,Général!C$174)))","v":"Paris Sorbone"},{"$f":"IF($Q$5=\"Course 1\",Général!C$178,IF($Q$5=\"Course 2\",Général!C$180,IF($Q$5=\"Course 3\",Général!C$182,Général!C$184)))","v":"Unicaen 2"},{"$f":"IF($R$5=\"Course 1\",Général!C$188,IF($R$5=\"Course 2\",Général!C$190,IF($R$5=\"Course 3\",Général!C$192,Général!C$194)))","v":"IMT Nantes"},{"$f":"IF($S$5=\"Course 1\",Général!C$198,IF($S$5=\"Course 2\",Général!C$200,IF($S$5=\"Course 3\",Général!C$202,Général!C$204)))","v":"Paris Sorbone"},{"$f":"IF($T$5=\"Course 1\",Général!C$208,IF($T$5=\"Course 2\",Général!C$210,IF($T$5=\"Course 3\",Général!C$212,Général!C$214)))","v":"Paris Sorbone"},null,{"$f":"Général!B11","v":"Karlsruhe"},5]
["3ème Equipage",null,{"$f":"IF($C$5=\"Course 1\",Général!D38,IF($C$5=\"Course 2\",Général!D40,IF($C$5=\"Course 3\",Général!D42,Général!D44)))","v":"UNIV Nantes 1"},{"$f":"IF($D$5=\"Course 1\",Général!D48,IF($D$5=\"Course 2\",Général!D50,IF($D$5=\"Course 3\",Général!D52,Général!D54)))","v":"Paris Sorbone"},{"$f":"IF($E$5=\"Course 1\",Général!D58,IF($E$5=\"Course 2\",Général!D60,IF($E$5=\"Course 3\",Général!D62,Général!D64)))","v":"IMT Brest 2"},{"$f":"IF($F$5=\"Course 1\",Général!D$68,IF($F$5=\"Course 2\",Général!D$70,IF($F$5=\"Course 3\",Général!D$72,Général!D$74)))","v":"Karlsruhe"},{"$f":"IF($G$5=\"Course 1\",Général!D$78,IF($G$5=\"Course 2\",Général!D$80,IF($G$5=\"Course 3\",Général!D$82,Général!D$84)))","v":"Paris Sorbone"},{"$f":"IF($H$5=\"Course 1\",Général!D$88,IF($H$5=\"Course 2\",Général!D$90,IF($H$5=\"Course 3\",Général!D$92,Général!D$94)))","v":"UBS Lorient 2"},{"$f":"IF($I$5=\"Course 1\",Général!D$98,IF($I$5=\"Course 2\",Général!D$100,IF($I$5=\"Course 3\",Général!D$102,Général!D$104)))","v":"Hannover"},{"$f":"IF($J$5=\"Course 1\",Général!D$108,IF($J$5=\"Course 2\",Général!D$110,IF($J$5=\"Course 3\",Général!D$112,Général!D$114)))","v":"UBO 2"},{"$f":"IF($K$5=\"Course 1\",Général!D$118,IF($K$5=\"Course 2\",Général!D$120,IF($K$5=\"Course 3\",Général!D$122,Général!D$124)))","v":"Unicaen 2"},{"$f":"IF($L$5=\"Course 1\",Général!D$128,IF($L$5=\"Course 2\",Général!D$130,IF($L$5=\"Course 3\",Général!D$132,Général!D$134)))","v":"UBS Lorient 1"},{"$f":"IF($M$5=\"Course 1\",Général!D$138,IF($M$5=\"Course 2\",Général!D$140,IF($M$5=\"Course 3\",Général!D$142,Général!D$144)))","v":"Paris Sorbone"},{"$f":"IF($N$5=\"Course 1\",Général!D$148,IF($N$5=\"Course 2\",Général!D$150,IF($N$5=\"Course 3\",Général!D$152,Général!D$154)))","v":"Unicaen 1"},{"$f":"IF($O$5=\"Course 1\",Général!D$158,IF($O$5=\"Course 2\",Général!D$160,IF($O$5=\"Course 3\",Général!D$162,Général!D$164)))","v":"IMT Nantes"},{"$f":"IF($P$5=\"Course 1\",Général!D$168,IF($P$5=\"Course 2\",Général!D$170,IF($P$5=\"Course 3\",Général!D$172,Général!D$174)))","v":"ENSTA 1"},{"$f":"IF($Q$5=\"Course 1\",Général!D$178,IF($Q$5=\"Course 2\",Général!D$180,IF($Q$5=\"Course 3\",Général!D$182,Général!D$184)))","v":"UBS Lorient 1"},{"$f":"IF($R$5=\"Course 1\",Général!D$188,IF($R$5=\"Course 2\",Général!D$190,IF($R$5=\"Course 3\",Général!D$192,Général!D$194)))","v":"La Rochelle 1"},{"$f":"IF($S$5=\"Course 1\",Général!D$198,IF($S$5=\"Course 2\",Général!D$200,IF($S$5=\"Course 3\",Général!D$202,Général!D$204)))","v":"IMT Brest 2"},{"$f":"IF($T$5=\"Course 1\",Général!D$208,IF($T$5=\"Course 2\",Général!D$210,IF($T$5=\"Course 3\",Général!D$212,Général!D$214)))","v":"ENSMAC"},null,{"$f":"Général!B12","v":"IMT Brest 2"},7]
["4ème Equipage",null,{"$f":"IF($C$5=\"Course 1\",Général!E38,IF($C$5=\"Course 2\",Général!E40,IF($C$5=\"Course 3\",Général!E42,Général!E44)))","v":"Orléans"},{"$f":"IF($D$5=\"Course 1\",Général!E48,IF($D$5=\"Course 2\",Général!E50,IF($D$5=\"Course 3\",Général!E52,Général!E54)))","v":"IMT Nantes"},{"$f":"IF($E$5=\"Course 1\",Général!E58,IF($E$5=\"Course 2\",Général!E60,IF($E$5=\"Course 3\",Général!E62,Général!E64)))","v":"Paris Sorbone"},{"$f":"IF($F$5=\"Course 1\",Général!E$68,IF($F$5=\"Course 2\",Général!E$70,IF($F$5=\"Course 3\",Général!E$72,Général!E$74)))","v":"UNIV Nantes 1"},{"$f":"IF($G$5=\"Course 1\",Général!E$78,IF($G$5=\"Course 2\",Général!E$80,IF($G$5=\"Course 3\",Général!E$82,Général!E$84)))","v":"St Brieuc 1"},{"$f":"IF($H$5=\"Course 1\",Général!E$88,IF($H$5=\"Course 2\",Général!E$90,IF($H$5=\"Course 3\",Général!E$92,Général!E$94)))","v":"UBS Lorient 1"},{"$f":"IF($I$5=\"Course 1\",Général!E$98,IF($I$5=\"Course 2\",Général!E$100,IF($I$5=\"Course 3\",Général!E$102,Général!E$104)))","v":"Paris Sorbone"},{"$f":"IF($J$5=\"Course 1\",Général!E$108,IF($J$5=\"Course 2\",Général!E$110,IF($J$5=\"Course 3\",Général!E$112,Général!E$114)))","v":"Paris Sorbone"},{"$f":"IF($K$5=\"Course 1\",Général!E$118,IF($K$5=\"Course 2\",Général!E$120,IF($K$5=\"Course 3\",Général!E$122,Général!E$124)))","v":"UBO 1"},{"$f":"IF($L$5=\"Course 1\",Général!E$128,IF($L$5=\"Course 2\",Général!E$130,IF($L$5=\"Course 3\",Général!E$132,Général!E$134)))","v":"Karlsruhe"},{"$f":"IF($M$5=\"Course 1\",Général!E$138,IF($M$5=\"Course 2\",Général!E$140,IF($M$5=\"Course 3\",Général!E$142,Général!E$144)))","v":"UBO 2"},{"$f":"IF($N$5=\"Course 1\",Général!E$148,IF($N$5=\"Course 2\",Général!E$150,IF($N$5=\"Course 3\",Général!E$152,Général!E$154)))","v":"Orléans"},{"$f":"IF($O$5=\"Course 1\",Général!E$158,IF($O$5=\"Course 2\",Général!E$160,IF($O$5=\"Course 3\",Général!E$162,Général!E$164)))","v":"ST Brieuc 2"},{"$f":"IF($P$5=\"Course 1\",Général!E$168,IF($P$5=\"Course 2\",Général!E$170,IF($P$5=\"Course 3\",Général!E$172,Général!E$174)))","v":"Univ Nantes 2"},{"$f":"IF($Q$5=\"Course 1\",Général!E$178,IF($Q$5=\"Course 2\",Général!E$180,IF($Q$5=\"Course 3\",Général!E$182,Général!E$184)))","v":"St Brieuc 1"},{"$f":"IF($R$5=\"Course 1\",Général!E$188,IF($R$5=\"Course 2\",Général!E$190,IF($R$5=\"Course 3\",Général!E$192,Général!E$194)))","v":"St Brieuc 1"},{"$f":"IF($S$5=\"Course 1\",Général!E$198,IF($S$5=\"Course 2\",Général!E$200,IF($S$5=\"Course 3\",Général!E$202,Général!E$204)))","v":"Centrale Nantes 2"},{"$f":"IF($T$5=\"Course 1\",Général!E$208,IF($T$5=\"Course 2\",Général!E$210,IF($T$5=\"Course 3\",Général!E$212,Général!E$214)))","v":"Univ Nantes 3"},null,{"$f":"Général!B13","v":"Unicaen 1"},4]
["5ème Equipage",null,{"$f":"IF($C$5=\"Course 1\",Général!F38,IF($C$5=\"Course 2\",Général!F40,IF($C$5=\"Course 3\",Général!F42,Général!F44)))","v":"Unicaen 2"},{"$f":"IF($D$5=\"Course 1\",Général!F48,IF($D$5=\"Course 2\",Général!F50,IF($D$5=\"Course 3\",Général!F52,Général!F54)))","v":"Hannover"},{"$f":"IF($E$5=\"Course 1\",Général!F58,IF($E$5=\"Course 2\",Général!F60,IF($E$5=\"Course 3\",Général!F62,Général!F64)))","v":"Univ Nantes 2"},{"$f":"IF($F$5=\"Course 1\",Général!F$68,IF($F$5=\"Course 2\",Général!F$70,IF($F$5=\"Course 3\",Général!F$72,Général!F$74)))","v":"Centrale Nantes 2"},{"$f":"IF($G$5=\"Course 1\",Général!F$78,IF($G$5=\"Course 2\",Général!F$80,IF($G$5=\"Course 3\",Général!F$82,Général!F$84)))","v":"INSA Lyon"},{"$f":"IF($H$5=\"Course 1\",Général!F$88,IF($H$5=\"Course 2\",Général!F$90,IF($H$5=\"Course 3\",Général!F$92,Général!F$94)))","v":"IMT Brest 1"},{"$f":"IF($I$5=\"Course 1\",Général!F$98,IF($I$5=\"Course 2\",Général!F$100,IF($I$5=\"Course 3\",Général!F$102,Général!F$104)))","v":"Centrale Nantes 1"},{"$f":"IF($J$5=\"Course 1\",Général!F$108,IF($J$5=\"Course 2\",Général!F$110,IF($J$5=\"Course 3\",Général!F$112,Général!F$114)))","v":"ST Brieuc 2"},{"$f":"IF($K$5=\"Course 1\",Général!F$118,IF($K$5=\"Course 2\",Général!F$120,IF($K$5=\"Course 3\",Général!F$122,Général!F$124)))","v":"ENSTA 1"},{"$f":"IF($L$5=\"Course 1\",Général!F$128,IF($L$5=\"Course 2\",Général!$F130,IF($L$5=\"Course 3\",Général!F$132,Général!F$134)))","v":"Paris Sorbone"},{"$f":"IF($M$5=\"Course 1\",Général!F$138,IF($M$5=\"Course 2\",Général!F$140,IF($M$5=\"Course 3\",Général!F$142,Général!F$144)))","v":"ENSTA 2"},{"$f":"IF($N$5=\"Course 1\",Général!F$148,IF($N$5=\"Course 2\",Général!F$150,IF($N$5=\"Course 3\",Général!F$152,Général!F$154)))","v":"Paris Cité"},{"$f":"IF($O$5=\"Course 1\",Général!F$158,IF($O$5=\"Course 2\",Général!F$160,IF($O$5=\"Course 3\",Général!F$162,Général!F$164)))","v":"Unicaen 1"},{"$f":"IF($P$5=\"Course 1\",Général!F$168,IF($P$5=\"Course 2\",Général!F$170,IF($P$5=\"Course 3\",Général!F$172,Général!F$174)))","v":"Unicaen 1"},{"$f":"IF($Q$5=\"Course 1\",Général!F$178,IF($Q$5=\"Course 2\",Général!F$180,IF($Q$5=\"Course 3\",Général!F$182,Général!F$184)))","v":"ENSTA 2"},{"$f":"IF($R$5=\"Course 1\",Général!F$188,IF($R$5=\"Course 2\",Général!F$190,IF($R$5=\"Course 3\",Général!F$192,Général!F$194)))","v":"Hannover"},{"$f":"IF($S$5=\"Course 1\",Général!F$198,IF($S$5=\"Course 2\",Général!F$200,IF($S$5=\"Course 3\",Général!F$202,Général!F$204)))","v":"Centrale Nantes 1"},{"$f":"IF($T$5=\"Course 1\",Général!F$208,IF($T$5=\"Course 2\",Général!F$210,IF($T$5=\"Course 3\",Général!F$212,Général!F$214)))","v":"UBS Lorient 1"},null,{"$f":"Général!B14","v":"ENSTA 1"},3]
["6ème Equipage",null,{"$f":"IF($C$5=\"Course 1\",Général!G38,IF($C$5=\"Course 2\",Général!G40,IF($C$5=\"Course 3\",Général!G42,Général!G44)))","v":"Hannover"},{"$f":"IF($D$5=\"Course 1\",Général!G48,IF($D$5=\"Course 2\",Général!G50,IF($D$5=\"Course 3\",Général!G52,Général!G54)))","v":"Plymouth"},{"$f":"IF($E$5=\"Course 1\",Général!G58,IF($E$5=\"Course 2\",Général!G60,IF($E$5=\"Course 3\",Général!G62,Général!G64)))","v":"La Rochelle 2"},{"$f":"IF($F$5=\"Course 1\",Général!G$68,IF($F$5=\"Course 2\",Général!G$70,IF($F$5=\"Course 3\",Général!G$72,Général!G$74)))","v":"Paris Sorbone"},{"$f":"IF($G$5=\"Course 1\",Général!G$78,IF($G$5=\"Course 2\",Général!G$80,IF($G$5=\"Course 3\",Général!G$82,Général!G$84)))","v":"Centrale Nantes 1"},{"$f":"IF($H$5=\"Course 1\",Général!G$88,IF($H$5=\"Course 2\",Général!G$90,IF($H$5=\"Course 3\",Général!G$92,Général!G$94)))","v":"IMT Brest 2"},{"$f":"IF($I$5=\"Course 1\",Général!G$98,IF($I$5=\"Course 2\",Général!G$100,IF($I$5=\"Course 3\",Général!G$102,Général!G$104)))","v":"Unicaen 2"},{"$f":"IF($J$5=\"Course 1\",Général!G$108,IF($J$5=\"Course 2\",Général!G$110,IF($J$5=\"Course 3\",Général!G$112,Général!G$114)))","v":"Centrale Nantes 2"},{"$f":"IF($K$5=\"Course 1\",Général!G$118,IF($K$5=\"Course 2\",Général!G$120,IF($K$5=\"Course 3\",Général!G$122,Général!G$124)))","v":"La Rochelle 2"},{"$f":"IF($L$5=\"Course 1\",Général!G$128,IF($L$5=\"Course 2\",Général!G$130,IF($L$5=\"Course 3\",Général!G$132,Général!G$134)))","v":"ENSTA 2"},{"$f":"IF($M$5=\"Course 1\",Général!G$138,IF($M$5=\"Course 2\",Général!G$140,IF($M$5=\"Course 3\",Général!G$142,Général!G$144)))","v":"Univ Nantes 3"},{"$f":"IF($N$5=\"Course 1\",Général!G$148,IF($N$5=\"Course 2\",Général!G$150,IF($N$5=\"Course 3\",Général!G$152,Général!G$154)))","v":"Southampton"},{"$f":"IF($O$5=\"Course 1\",Général!G$158,IF($O$5=\"Course 2\",Général!G$160,IF($O$5=\"Course 3\",Général!G$162,Général!G$164)))","v":"Hannover"},{"$f":"IF($P$5=\"Course 1\",Général!G$168,IF($P$5=\"Course 2\",Général!G$170,IF($P$5=\"Course 3\",Général!G$172,Général!G$174)))","v":"Paris Cité"},{"$f":"IF($Q$5=\"Course 1\",Général!G$178,IF($Q$5=\"Course 2\",Général!G$180,IF($Q$5=\"Course 3\",Général!G$182,Général!G$184)))","v":"ENSMAC"},{"$f":"IF($R$5=\"Course 1\",Général!G$188,IF($R$5=\"Course 2\",Général!G$190,IF($R$5=\"Course 3\",Général!G$192,Général!G$194)))","v":"Unicaen 2"},{"$f":"IF($S$5=\"Course 1\",Général!G$198,IF($S$5=\"Course 2\",Général!G$200,IF($S$5=\"Course 3\",Général!G$202,Général!G$204)))","v":"Orléans"},{"$f":"IF($T$5=\"Course 1\",Général!G$208,IF($T$5=\"Course 2\",Général!G$210,IF($T$5=\"Course 3\",Général!G$212,Général!G$214)))","v":"INSA Lyon"},null,{"$f":"Général!B15","v":"Orléans"},8]
["7ème Equipage",null,{"$f":"IF($C$5=\"Course 1\",Général!H38,IF($C$5=\"Course 2\",Général!H40,IF($C$5=\"Course 3\",Général!H42,Général!H44)))","v":"IMT Brest 2"},{"$f":"IF($D$5=\"Course 1\",Général!H48,IF($D$5=\"Course 2\",Général!H50,IF($D$5=\"Course 3\",Général!H52,Général!H54)))","v":"Univ Nantes 2"},{"$f":"IF($E$5=\"Course 1\",Général!H58,IF($E$5=\"Course 2\",Général!H60,IF($E$5=\"Course 3\",Général!H62,Général!H64)))","v":"Intechmer"},{"$f":"IF($F$5=\"Course 1\",Général!H$68,IF($F$5=\"Course 2\",Général!H$70,IF($F$5=\"Course 3\",Général!H$72,Général!H$74)))","v":"Intechmer"},{"$f":"IF($G$5=\"Course 1\",Général!H$78,IF($G$5=\"Course 2\",Général!H$80,IF($G$5=\"Course 3\",Général!H$82,Général!H$84)))","v":"La Rochelle 2"},{"$f":"IF($H$5=\"Course 1\",Général!H$88,IF($H$5=\"Course 2\",Général!H$90,IF($H$5=\"Course 3\",Général!H$92,Général!H$94)))","v":"ST Brieuc 2"},{"$f":"IF($I$5=\"Course 1\",Général!H$98,IF($I$5=\"Course 2\",Général!H$100,IF($I$5=\"Course 3\",Général!H$102,Général!H$104)))","v":"IMT Brest 2"},{"$f":"IF($J$5=\"Course 1\",Général!H$108,IF($J$5=\"Course 2\",Général!H$110,IF($J$5=\"Course 3\",Général!H$112,Général!H$114)))","v":"St Brieuc 1"},{"$f":"IF($K$5=\"Course 1\",Général!H$118,IF($K$5=\"Course 2\",Général!H$120,IF($K$5=\"Course 3\",Général!H$122,Général!H$124)))","v":"IMT Nantes"},{"$f":"IF($L$5=\"Course 1\",Général!H$128,IF($L$5=\"Course 2\",Général!H$130,IF($L$5=\"Course 3\",Général!H$132,Général!H$134)))","v":"Centrale Nantes 1"},{"$f":"IF($M$5=\"Course 1\",Général!H$138,IF($M$5=\"Course 2\",Général!H$140,IF($M$5=\"Course 3\",Général!H$142,Général!H$144)))","v":"Univ Nantes 2"},{"$f":"IF($N$5=\"Course 1\",Général!H$148,IF($N$5=\"Course 2\",Général!H$150,IF($N$5=\"Course 3\",Général!H$152,Général!H$154)))","v":"IMT Brest 1"},{"$f":"IF($O$5=\"Course 1\",Général!H$158,IF($O$5=\"Course 2\",Général!H$160,IF($O$5=\"Course 3\",Général!H$162,Général!H$164)))","v":"La Rochelle 2"},{"$f":"IF($P$5=\"Course 1\",Général!H$168,IF($P$5=\"Course 2\",Général!H$170,IF($P$5=\"Course 3\",Général!H$172,Général!H$174)))","v":"Orléans"},{"$f":"IF($Q$5=\"Course 1\",Général!H$178,IF($Q$5=\"Course 2\",Général!H$180,IF($Q$5=\"Course 3\",Général!H$182,Général!H$184)))","v":"Karlsruhe"},{"$f":"IF($R$5=\"Course 1\",Général!H$188,IF($R$5=\"Course 2\",Général!H$190,IF($R$5=\"Course 3\",Général!H$192,Général!H$194)))","v":"Unicaen 1"},{"$f":"IF($S$5=\"Course 1\",Général!H$198,IF($S$5=\"Course 2\",Général!H$200,IF($S$5=\"Course 3\",Général!H$202,Général!H$204)))","v":"La Rochelle 1"},{"$f":"IF($T$5=\"Course 1\",Général!H$208,IF($T$5=\"Course 2\",Général!H$210,IF($T$5=\"Course 3\",Général!H$212,Général!H$214)))","v":"Univ Nantes 2"},null,{"$f":"Général!B16","v":"IMT Brest 1"},4]
["8ème Equipage",null,{"$f":"IF($C$5=\"Course 1\",Général!I38,IF($C$5=\"Course 2\",Général!I40,IF($C$5=\"Course 3\",Général!I42,Général!I44)))","v":"Paris Cité"},{"$f":"IF($D$5=\"Course 1\",Général!I48,IF($D$5=\"Course 2\",Général!I50,IF($D$5=\"Course 3\",Général!I52,Général!I54)))","v":"Orléans"},{"$f":"IF($E$5=\"Course 1\",Général!I58,IF($E$5=\"Course 2\",Général!I60,IF($E$5=\"Course 3\",Général!I62,Général!I64)))","v":"Centrale Nantes 1"},{"$f":"IF($F$5=\"Course 1\",Général!I$68,IF($F$5=\"Course 2\",Général!I$70,IF($F$5=\"Course 3\",Général!I$72,Général!I$74)))","v":"Southampton"},{"$f":"IF($G$5=\"Course 1\",Général!I$78,IF($G$5=\"Course 2\",Général!I$80,IF($G$5=\"Course 3\",Général!I$82,Général!I$84)))","v":"Centrale Nantes 2"},{"$f":"IF($H$5=\"Course 1\",Général!I$88,IF($H$5=\"Course 2\",Général!I$90,IF($H$5=\"Course 3\",Général!I$92,Général!I$94)))","v":"UBO 2"},{"$f":"IF($I$5=\"Course 1\",Général!I$98,IF($I$5=\"Course 2\",Général!I$100,IF($I$5=\"Course 3\",Général!I$102,Général!I$104)))","v":"INSA Lyon"},{"$f":"IF($J$5=\"Course 1\",Général!I$108,IF($J$5=\"Course 2\",Général!I$110,IF($J$5=\"Course 3\",Général!I$112,Général!I$114)))","v":"Paris Cité"},{"$f":"IF($K$5=\"Course 1\",Général!I$118,IF($K$5=\"Course 2\",Général!I$120,IF($K$5=\"Course 3\",Général!I$122,Général!I$124)))","v":"Plymouth"},{"$f":"IF($L$5=\"Course 1\",Général!I$128,IF($L$5=\"Course 2\",Général!I$130,IF($L$5=\"Course 3\",Général!I$132,Général!I$134)))","v":"Hannover"},{"$f":"IF($M$5=\"Course 1\",Général!I$138,IF($M$5=\"Course 2\",Général!I$140,IF($M$5=\"Course 3\",Général!I$142,Général!I$144)))","v":"ST Brieuc 2"},{"$f":"IF($N$5=\"Course 1\",Général!I$148,IF($N$5=\"Course 2\",Général!I$150,IF($N$5=\"Course 3\",Général!I$152,Général!I$154)))","v":"Unicaen 2"},{"$f":"IF($O$5=\"Course 1\",Général!I$158,IF($O$5=\"Course 2\",Général!I$160,IF($O$5=\"Course 3\",Général!I$162,Général!I$164)))","v":"Orléans"},{"$f":"IF($P$5=\"Course 1\",Général!I$168,IF($P$5=\"Course 2\",Général!I$170,IF($P$5=\"Course 3\",Général!I$172,Général!I$174)))","v":"La Rochelle 1"},{"$f":"IF($Q$5=\"Course 1\",Général!I$178,IF($Q$5=\"Course 2\",Général!I$180,IF($Q$5=\"Course 3\",Général!I$182,Général!I$184)))","v":"Orléans"},{"$f":"IF($R$5=\"Course 1\",Général!I$188,IF($R$5=\"Course 2\",Général!I$190,IF($R$5=\"Course 3\",Général!I$192,Général!I$194)))","v":"Univ Nantes 3"},{"$f":"IF($S$5=\"Course 1\",Général!I$198,IF($S$5=\"Course 2\",Général!I$200,IF($S$5=\"Course 3\",Général!I$202,Général!I$204)))","v":"UBO 2"},{"$f":"IF($T$5=\"Course 1\",Général!I$208,IF($T$5=\"Course 2\",Général!I$210,IF($T$5=\"Course 3\",Général!I$212,Général!I$214)))","v":"UNIV Nantes 1"},null,{"$f":"Général!B17","v":"ENSMAC"},4]
["9ème Equipage",null,{"$f":"IF($C$5=\"Course 1\",Général!J38,IF($C$5=\"Course 2\",Général!J40,IF($C$5=\"Course 3\",Général!J42,Général!J44)))","v":"ENSMAC"},{"$f":"IF($D$5=\"Course 1\",Général!J48,IF($D$5=\"Course 2\",Général!J50,IF($D$5=\"Course 3\",Général!J52,Général!J54)))","v":"Intechmer"},{"$f":"IF($E$5=\"Course 1\",Général!J58,IF($E$5=\"Course 2\",Général!J60,IF($E$5=\"Course 3\",Général!J62,Général!J64)))","v":"INSA Lyon"},{"$f":"IF($F$5=\"Course 1\",Général!J$68,IF($F$5=\"Course 2\",Général!J$70,IF($F$5=\"Course 3\",Général!J$72,Général!J$74)))","v":"IMT Nantes"},{"$f":"IF($G$5=\"Course 1\",Général!J$78,IF($G$5=\"Course 2\",Général!J$80,IF($G$5=\"Course 3\",Général!J$82,Général!J$84)))","v":"UBS Lorient 2"},{"$f":"IF($H$5=\"Course 1\",Général!J$88,IF($H$5=\"Course 2\",Général!J$90,IF($H$5=\"Course 3\",Général!$J92,Général!J$94)))","v":"INSA Lyon"},{"$f":"IF($I$5=\"Course 1\",Général!J$98,IF($I$5=\"Course 2\",Général!J$100,IF($I$5=\"Course 3\",Général!J$102,Général!J$104)))","v":"UBO 1"},{"$f":"IF($J$5=\"Course 1\",Général!J$108,IF($J$5=\"Course 2\",Général!J$110,IF($J$5=\"Course 3\",Général!J$112,Général!J$114)))","v":"UBO 1"},{"$f":"IF($K$5=\"Course 1\",Général!J$118,IF($K$5=\"Course 2\",Général!J$120,IF($K$5=\"Course 3\",Général!J$122,Général!J$124)))","v":"Paris Sorbone"},{"$f":"IF($L$5=\"Course 1\",Général!J$128,IF($L$5=\"Course 2\",Général!J$130,IF($L$5=\"Course 3\",Général!J$132,Général!J$134)))","v":"St Brieuc 1"},{"$f":"IF($M$5=\"Course 1\",Général!J$138,IF($M$5=\"Course 2\",Général!J$140,IF($M$5=\"Course 3\",Général!J$142,Général!J$144)))","v":"La Rochelle 1"},{"$f":"IF($N$5=\"Course 1\",Général!J$148,IF($N$5=\"Course 2\",Général!J$150,IF($N$5=\"Course 3\",Général!J$152,Général!J$154)))","v":"IMT Nantes"},{"$f":"IF($O$5=\"Course 1\",Général!J$158,IF($O$5=\"Course 2\",Général!J$160,IF($O$5=\"Course 3\",Général!J$162,Général!J$164)))","v":"UBS Lorient 1"},{"$f":"IF($P$5=\"Course 1\",Général!J$168,IF($P$5=\"Course 2\",Général!J$170,IF($P$5=\"Course 3\",Général!J$172,Général!J$174)))","v":"IMT Brest 1"},{"$f":"IF($Q$5=\"Course 1\",Général!J$178,IF($Q$5=\"Course 2\",Général!J$180,IF($Q$5=\"Course 3\",Général!J$182,Général!J$184)))","v":"IMT Nantes"},{"$f":"IF($R$5=\"Course 1\",Général!J$188,IF($R$5=\"Course 2\",Général!J$190,IF($R$5=\"Course 3\",Général!J$192,Général!J$194)))","v":"Southampton"},{"$f":"IF($S$5=\"Course 1\",Général!J$198,IF($S$5=\"Course 2\",Général!J$200,IF($S$5=\"Course 3\",Général!J$202,Général!J$204)))","v":"Karlsruhe"},{"$f":"IF($T$5=\"Course 1\",Général!J$208,IF($T$5=\"Course 2\",Général!J$210,IF($T$5=\"Course 3\",Général!J$212,Général!J$214)))","v":"Centrale Nantes 2"},null,{"$f":"Général!B18","v":"St Brieuc 1"},8]
["10ème Equipage",null,{"$f":"IF($C$5=\"Course 1\",Général!K38,IF($C$5=\"Course 2\",Général!K40,IF($C$5=\"Course 3\",Général!K42,Général!K44)))","v":"Paris Sorbone"},{"$f":"IF($D$5=\"Course 1\",Général!K48,IF($D$5=\"Course 2\",Général!K50,IF($D$5=\"Course 3\",Général!K52,Général!K54)))","v":"IMT Brest 1"},{"$f":"IF($E$5=\"Course 1\",Général!K58,IF($E$5=\"Course 2\",Général!K60,IF($E$5=\"Course 3\",Général!K62,Général!K64)))","v":"UNIV Nantes 1"},{"$f":"IF($F$5=\"Course 1\",Général!K$68,IF($F$5=\"Course 2\",Général!K$70,IF($F$5=\"Course 3\",Général!K$72,Général!K$74)))","v":"UBO 2"},{"$f":"IF($G$5=\"Course 1\",Général!K$78,IF($G$5=\"Course 2\",Général!K$80,IF($G$5=\"Course 3\",Général!K$82,Général!K$84)))","v":"UBS Lorient 1"},{"$f":"IF($H$5=\"Course 1\",Général!K$88,IF($H$5=\"Course 2\",Général!K$90,IF($H$5=\"Course 3\",Général!$K92,Général!K$94)))","v":"St Brieuc 1"},{"$f":"IF($I$5=\"Course 1\",Général!K$98,IF($I$5=\"Course 2\",Général!K$100,IF($I$5=\"Course 3\",Général!K$102,Général!K$104)))","v":"ENSMAC"},{"$f":"IF($J$5=\"Course 1\",Général!K$108,IF($J$5=\"Course 2\",Général!K$110,IF($J$5=\"Course 3\",Général!K$112,Général!K$114)))","v":"Univ Nantes 3"},{"$f":"IF($K$5=\"Course 1\",Général!K$118,IF($K$5=\"Course 2\",Général!K$120,IF($K$5=\"Course 3\",Général!K$122,Général!K$124)))","v":"UBO 2"},{"$f":"IF($L$5=\"Course 1\",Général!K$128,IF($L$5=\"Course 2\",Général!K$130,IF($L$5=\"Course 3\",Général!K$132,Général!K$134)))","v":"INSA Lyon"},{"$f":"IF($M$5=\"Course 1\",Général!K$138,IF($M$5=\"Course 2\",Général!K$140,IF($M$5=\"Course 3\",Général!K$142,Général!K$144)))","v":"UBS Lorient 2"},{"$f":"IF($N$5=\"Course 1\",Général!K$148,IF($N$5=\"Course 2\",Général!K$150,IF($N$5=\"Course 3\",Général!K$152,Général!K$154)))","v":"Paris Sorbone"},{"$f":"IF($O$5=\"Course 1\",Général!K$158,IF($O$5=\"Course 2\",Général!K$160,IF($O$5=\"Course 3\",Général!K$162,Général!K$164)))","v":"Paris Sorbone"},{"$f":"IF($P$5=\"Course 1\",Général!K$168,IF($P$5=\"Course 2\",Général!K$170,IF($P$5=\"Course 3\",Général!K$172,Général!K$174)))","v":"IMT Nantes"},{"$f":"IF($Q$5=\"Course 1\",Général!K$178,IF($Q$5=\"Course 2\",Général!K$180,IF($Q$5=\"Course 3\",Général!K$182,Général!K$184)))","v":"Paris Sorbone"},{"$f":"IF($R$5=\"Course 1\",Général!K$188,IF($R$5=\"Course 2\",Général!K$190,IF($R$5=\"Course 3\",Général!K$192,Général!K$194)))","v":"Paris Sorbone"},{"$f":"IF($S$5=\"Course 1\",Général!K$198,IF($S$5=\"Course 2\",Général!K$200,IF($S$5=\"Course 3\",Général!K$202,Général!K$204)))","v":"Univ Nantes 2"},{"$f":"IF($T$5=\"Course 1\",Général!K$208,IF($T$5=\"Course 2\",Général!K$210,IF($T$5=\"Course 3\",Général!K$212,Général!K$214)))","v":"Paris Cité"},null,{"$f":"Général!B19","v":"Hannover"},7]
[null,null,null,null,null,null,null,null,null,null,null,null,null,null,null,null,null,null,null,null,null,{"$f":"Général!B20","v":"ENSTA 2"},5]
[null,null,null,null,null,null,null,null,null,null,null,null,null,null,null,null,null,null,null,null,null,{"$f":"Général!B21","v":"Southampton"},3]
[null,null,null,null,null,null,null,null,null,null,null,null,null,null,null,null,null,null,null,null,null,{"$f":"Général!B22","v":"La Rochelle 1"},5]
[null,null,null,null,null,null,null,null,null,null,null,null,null,null,null,null,null,null,null,null,null,{"$f":"Général!B23","v":"Centrale Nantes 1"},6]
[null,null,null,null,null,null,null,null,null,null,null,null,null,null,null,null,null,null,null,null,null,{"$f":"Général!B24","v":"ST Brieuc 2"},5]
[null,null,null,null,null,null,null,null,null,null,null,null,null,null,null,null,null,null,null,null,null,{"$f":"Général!B25","v":"UNIV Nantes 1"},4]
[null,null,null,null,null,null,null,null,null,null,null,null,null,null,null,null,null,null,null,null,null,{"$f":"Général!B26","v":"Intechmer"},3]
[null,null,null,null,null,null,null,null,null,null,null,null,null,null,null,null,null,null,null,null,null,{"$f":"Général!B27","v":"IMT Nantes"},7]
[null,null,null,null,null,null,null,null,null,null,null,null,null,null,null,null,null,null,null,null,null,{"$f":"Général!B28","v":"INSA Lyon"},5]
[null,null,null,null,null,null,null,null,null,null,null,null,null,null,null,null,null,null,null,null,null,{"$f":"Général!B29","v":"Centrale Nantes 2"},5]
[null,null,null,null,null,null,null,null,null,null,null,null,null,null,null,null,null,null,null,null,null,{"$f":"Général!B30","v":"UBS Lorient 2"},5]
[null,null,null,null,null,null,null,null,null,null,null,null,null,null,null,null,null,null,null,null,null,{"$f":"Général!B31","v":"La Rochelle 2"},7]
[null,null,null,null,null,null,null,null,null,null,null,null,null,null,null,null,null,null,null,null,null,{"$f":"Général!B32","v":"UBO 1"},4]
[null,null,null,null,null,null,null,null,null,null,null,null,null,null,null,null,null,null,null,null,null,{"$f":"Général!B33","v":"Eq.31"},0]
[null,null,null,null,null,null,null,null,null,null,null,null,null,null,null,null,null,null,null,null,null,{"$f":"Général!B34","v":"Eq.32"},0]

{"sheet":"Eq.3","index":8,"n_rows":32,"n_cols":23,"rows_kept":32,"cut":false,"hidden":false,"merged":[[7,0,7,1],[0,0,1,5],[0,6,1,10],[3,0,3,1],[4,0,4,1],[5,0,5,1],[14,0,14,1],[15,0,15,1],[16,0,16,1],[8,0,8,1],[9,0,9,1],[10,0,10,1],[11,0,11,1],[12,0,12,1],[13,0,13,1]]}
["Equipage ",null,null,null,null,null,{"$f":"Général!B5","v":"UBS Lorient 1"},null,null,null,null,null,null,null,null,null,null,null,null,null,null,{"$f":"Général!B3","v":"UBO 2"},{"$f":"COUNTIF(C$8:T$16,V1)","v":1}]
[null,null,null,null,null,null,null,null,null,null,null,null,null,null,null,null,null,null,null,null,null,{"$f":"Général!B4","v":"Paris Sorbone"},{"$f":"COUNTIF($C$8:$T$16,V2)","v":5}]
[null,null,null,null,null,null,null,null,null,null,null,null,null,null,null,null,null,null,null,null,null,{"$f":"Général!B5","v":"UBS Lorient 1"},{"$f":"COUNTIF($C$8:$T$16,V3)","v":17}]
[null,null,"FLIGHT 1","FLIGHT 2","FLIGHT 3","FLIGHT 4","FLIGHT 5","FLIGHT 6","FLIGHT 7","FLIGHT 8","FLIGHT 9","FLIGHT 10","FLIGHT 11","FLIGHT 12","FLIGHT 13","FLIGHT 14","FLIGHT 15","FLIGHT 16","FLIGHT 17","FLIGHT 18",null,{"$f":"Général!B6","v":"Univ Nantes 3"},4]
["N° de course",null,{"$f":"IF(COUNTIF(Général!B38:K38,$G$1)=1,\"Course 1\",IF(COUNTIF(Général!B40:K40,$G$1)=1,\"Course 2\",IF(COUNTIF(Général!B42:K42,$G$1)=1,\"Course 3\",\"Course 4\")))","v":"Course 3"},{"$f":"IF(COUNTIF(Général!B48:K48,$G$1)=1,\"Course 1\",IF(COUNTIF(Général!B50:K50,$G$1)=1,\"Course 2\",IF(COUNTIF(Général!B52:K52,$G$1)=1,\"Course 3\",\"Course 4\")))","v":"Course 1"},{"$f":"IF(COUNTIF(Général!B58:K58,$G$1)=1,\"Course 1\",IF(COUNTIF(Général!B60:K60,$G$1)=1,\"Course 2\",IF(COUNTIF(Général!B62:K62,$G$1)=1,\"Course 3\",\"Course 4\")))","v":"Course 3"},{"$f":"IF(COUNTIF(Général!B68:K68,$G$1)=1,\"Course 1\",IF(COUNTIF(Général!B70:K70,$G$1)=1,\"Course 2\",IF(COUNTIF(Général!B72:K72,$G$1)=1,\"Course 3\",\"Course 4\")))","v":"Course 1"},{"$f":"IF(COUNTIF(Général!B78:K78,$G$1)=1,\"Course 1\",IF(COUNTIF(Général!B80:K80,$G$1)=1,\"Course 2\",IF(COUNTIF(Général!B82:K82,$G$1)=1,\"Course 3\",\"Course 4\")))","v":"Course 2"},{"$f":"IF(COUNTIF(Général!B88:K88,$G$1)=1,\"Course 1\",IF(COUNTIF(Général!B90:K90,$G$1)=1,\"Course 2\",IF(COUNTIF(Général!B92:K92,$G$1)=1,\"Course 3\",\"Course 4\")))","v":"Course 3"},{"$f":"IF(COUNTIF(Général!B98:K98,$G$1)=1,\"Course 1\",IF(COUNTIF(Général!B100:K100,$G$1)=1,\"Course 2\",IF(COUNTIF(Général!B102:K102,$G$1)=1,\"Course 3\",\"Course 4\")))","v":"Course 2"},{"$f":"IF(COUNTIF(Général!B108:K108,$G$1)=1,\"Course 1\",IF(COUNTIF(Général!B110:K110,$G$1)=1,\"Course 2\",IF(COUNTIF(Général!B112:K112,$G$1)=1,\"Course 3\",\"Course 4\")))","v":"Course 3"},{"$f":"IF(COUNTIF(Général!B118:K118,$G$1)=1,\"Course 1\",IF(COUNTIF(Général!B120:K120,$G$1)=1,\"Course 2\",IF(COUNTIF(Général!B122:K122,$G$1)=1,\"Course 3\",\"Course 4\")))","v":"Course 1"},{"$f":"IF(COUNTIF(Général!B128:K128,$G$1)=1,\"Course 1\",IF(COUNTIF(Général!B130:K130,$G$1)=1,\"Course 2\",IF(COUNTIF(Général!B132:K132,$G$1)=1,\"Course 3\",\"Course 4\")))","v":"Course 3"},{"$f":"IF(COUNTIF(Général!B138:K138,$G$1)=1,\"Course 1\",IF(COUNTIF(Général!B140:K140,$G$1)=1,\"Course 2\",IF(COUNTIF(Général!B142:K142,$G$1)=1,\"Course 3\",\"Course 4\")))","v":"Course 1"},{"$f":"IF(COUNTIF(Général!B148:K148,$G$1)=1,\"Course 1\",IF(COUNTIF(Général!B150:K150,$G$1)=1,\"Course 2\",IF(COUNTIF(Général!B152:K152,$G$1)=1,\"Course 3\",\"Course 4\")))","v":"Course 2"},{"$f":"IF(COUNTIF(Général!B158:K158,$G$1)=1,\"Course 1\",IF(COUNTIF(Général!B160:K160,$G$1)=1,\"Course 2\",IF(COUNTIF(Général!B162:K162,$G$1)=1,\"Course 3\",\"Course 4\")))","v":"Course 1"},{"$f":"IF(COUNTIF(Général!B168:K168,$G$1)=1,\"Course 1\",IF(COUNTIF(Général!B170:K170,$G$1)=1,\"Course 2\",IF(COUNTIF(Général!B172:K172,$G$1)=1,\"Course 3\",\"Course 4\")))","v":"Course 3"},{"$f":"IF(COUNTIF(Général!B178:K178,$G$1)=1,\"Course 1\",IF(COUNTIF(Général!B180:K180,$G$1)=1,\"Course 2\",IF(COUNTIF(Général!B182:K182,$G$1)=1,\"Course 3\",\"Course 4\")))","v":"Course 2"},{"$f":"IF(COUNTIF(Général!B188:K188,$G$1)=1,\"Course 1\",IF(COUNTIF(Général!B190:K190,$G$1)=1,\"Course 2\",IF(COUNTIF(Général!B192:K192,$G$1)=1,\"Course 3\",\"Course 4\")))","v":"Course 2"},{"$f":"IF(COUNTIF(Général!B198:K198,$G$1)=1,\"Course 1\",IF(COUNTIF(Général!B200:K200,$G$1)=1,\"Course 2\",IF(COUNTIF(Général!B202:K202,$G$1)=1,\"Course 3\",\"Course 4\")))","v":"Course 2"},{"$f":"IF(COUNTIF(Général!B208:K208,$G$1)=1,\"Course 1\",IF(COUNTIF(Général!B210:K210,$G$1)=1,\"Course 2\",IF(COUNTIF(Général!B212:K212,$G$1)=1,\"Course 3\",\"Course 4\")))","v":"Course 2"},null,{"$f":"Général!B7","v":"Paris Cité"},3]
["Bateau",null,{"$f":"IF(COUNTIF(Général!B38:B44,$G$1)=1,\"Boat 1\",IF(COUNTIF(Général!C38:C44,$G$1)=1,\"Boat 2\",IF(COUNTIF(Général!D38:D44,$G$1)=1,\"Boat 3\", IF(COUNTIF(Général!E38:E44,$G$1)=1,\"Boat 4\", IF(COUNTIF(Général!F38:F44,$G$1)=1,\"Boat 5\", IF(COUNTIF(Général!G38:G44,$G$1)=1,\"Boat 6\", IF(COUNTIF(Général!H38:H44,$G$1)=1,\"Boat 7\",IF(COUNTIF(Général!I38:I44,$G$1)=1,\"Boat 8\",\"Boat 9\"))))))))","v":"Boat 2"},{"$f":"IF(COUNTIF(Général!B48:B54,$G$1)=1,\"Boat 1\",IF(COUNTIF(Général!C48:C54,$G$1)=1,\"Boat 2\",IF(COUNTIF(Général!D48:D54,$G$1)=1,\"Boat 3\", IF(COUNTIF(Général!E48:E54,$G$1)=1,\"Boat 4\", IF(COUNTIF(Général!F48:F54,$G$1)=1,\"Boat 5\", IF(COUNTIF(Général!G48:G54,$G$1)=1,\"Boat 6\", IF(COUNTIF(Général!H48:H54,$G$1)=1,\"Boat 7\",IF(COUNTIF(Général!I38:I44,$G$1)=1,\"Boat 8\",\"Boat 9\"))))))))","v":"Boat 2"},{"$f":"IF(COUNTIF(Général!B58:B64,$G$1)=1,\"Boat 1\",IF(COUNTIF(Général!C58:C64,$G$1)=1,\"Boat 2\",IF(COUNTIF(Général!D58:D64,$G$1)=1,\"Boat 3\", IF(COUNTIF(Général!E58:E64,$G$1)=1,\"Boat 4\", IF(COUNTIF(Général!F58:F64,$G$1)=1,\"Boat 5\", IF(COUNTIF(Général!G58:G64,$G$1)=1,\"Boat 6\", IF(COUNTIF(Général!H58:H64,$G$1)=1,\"Boat 7\",IF(COUNTIF(Général!I38:I44,$G$1)=1,\"Boat 8\",\"Boat 9\"))))))))","v":"Boat 5"},{"$f":"IF(COUNTIF(Général!B68:B74,$G$1)=1,\"Boat 1\",IF(COUNTIF(Général!C68:C74,$G$1)=1,\"Boat 2\",IF(COUNTIF(Général!D68:D74,$G$1)=1,\"Boat 3\", IF(COUNTIF(Général!E68:E74,$G$1)=1,\"Boat 4\", IF(COUNTIF(Général!F68:F74,$G$1)=1,\"Boat 5\", IF(COUNTIF(Général!G68:G74,$G$1)=1,\"Boat 6\", IF(COUNTIF(Général!H68:H74,$G$1)=1,\"Boat 7\",IF(COUNTIF(Général!I38:I44,$G$1)=1,\"Boat 8\",\"Boat 9\"))))))))","v":"Boat 5"},{"$f":"IF(COUNTIF(Général!B78:B84,$G$1)=1,\"Boat 1\",IF(COUNTIF(Général!C78:C84,$G$1)=1,\"Boat 2\",IF(COUNTIF(Général!D78:D84,$G$1)=1,\"Boat 3\", IF(COUNTIF(Général!E78:E84,$G$1)=1,\"Boat 4\", IF(COUNTIF(Général!F78:F84,$G$1)=1,\"Boat 5\", IF(COUNTIF(Général!G78:G84,$G$1)=1,\"Boat 6\", IF(COUNTIF(Général!H78:H84,$G$1)=1,\"Boat 7\",IF(COUNTIF(Général!I38:I44,$G$1)=1,\"Boat 8\",\"Boat 9\"))))))))","v":"Boat 9"},{"$f":"IF(COUNTIF(Général!B88:B94,$G$1)=1,\"Boat 1\",IF(COUNTIF(Général!C88:C94,$G$1)=1,\"Boat 2\",IF(COUNTIF(Général!D88:D94,$G$1)=1,\"Boat 3\", IF(COUNTIF(Général!E88:E94,$G$1)=1,\"Boat 4\", IF(COUNTIF(Général!F88:F94,$G$1)=1,\"Boat 5\", IF(COUNTIF(Général!G88:G94,$G$1)=1,\"Boat 6\", IF(COUNTIF(Général!H88:H94,$G$1)=1,\"Boat 7\",IF(COUNTIF(Général!I38:I44,$G$1)=1,\"Boat 8\",\"Boat 9\"))))))))","v":"Boat 4"},{"$f":"IF(COUNTIF(Général!B98:B104,$G$1)=1,\"Boat 1\",IF(COUNTIF(Général!C98:C104,$G$1)=1,\"Boat 2\",IF(COUNTIF(Général!D98:D104,$G$1)=1,\"Boat 3\", IF(COUNTIF(Général!E98:E104,$G$1)=1,\"Boat 4\", IF(COUNTIF(Général!F98:F104,$G$1)=1,\"Boat 5\", IF(COUNTIF(Général!G98:G104,$G$1)=1,\"Boat 6\", IF(COUNTIF(Général!H98:H104,$G$1)=1,\"Boat 7\",IF(COUNTIF(Général!I38:I44,$G$1)=1,\"Boat 8\",\"Boat 9\"))))))))","v":"Boat 5"},{"$f":"IF(COUNTIF(Général!B108:B114,$G$1)=1,\"Boat 1\",IF(COUNTIF(Général!C108:C114,$G$1)=1,\"Boat 2\",IF(COUNTIF(Général!D108:D114,$G$1)=1,\"Boat 3\", IF(COUNTIF(Général!E108:E114,$G$1)=1,\"Boat 4\", IF(COUNTIF(Général!F108:F114,$G$1)=1,\"Boat 5\", IF(COUNTIF(Général!G108:G114,$G$1)=1,\"Boat 6\", IF(COUNTIF(Général!H108:H114,$G$1)=1,\"Boat 7\",IF(COUNTIF(Général!I38:I44,$G$1)=1,\"Boat 8\",\"Boat 9\"))))))))","v":"Boat 2"},{"$f":"IF(COUNTIF(Général!B118:B124,$G$1)=1,\"Boat 1\",IF(COUNTIF(Général!C118:C124,$G$1)=1,\"Boat 2\",IF(COUNTIF(Général!D118:D124,$G$1)=1,\"Boat 3\", IF(COUNTIF(Général!E118:E124,$G$1)=1,\"Boat 4\", IF(COUNTIF(Général!F118:F124,$G$1)=1,\"Boat 5\", IF(COUNTIF(Général!G118:G124,$G$1)=1,\"Boat 6\", IF(COUNTIF(Général!H118:H124,$G$1)=1,\"Boat 7\",IF(COUNTIF(Général!I38:I44,$G$1)=1,\"Boat 8\",\"Boat 9\"))))))))","v":"Boat 2"},{"$f":"IF(COUNTIF(Général!B128:B134,$G$1)=1,\"Boat 1\",IF(COUNTIF(Général!C128:C134,$G$1)=1,\"Boat 2\",IF(COUNTIF(Général!D128:D134,$G$1)=1,\"Boat 3\", IF(COUNTIF(Général!E128:E134,$G$1)=1,\"Boat 4\", IF(COUNTIF(Général!F128:F134,$G$1)=1,\"Boat 5\", IF(COUNTIF(Général!G128:G134,$G$1)=1,\"Boat 6\", IF(COUNTIF(Général!H128:H134,$G$1)=1,\"Boat 7\",IF(COUNTIF(Général!I38:I44,$G$1)=1,\"Boat 8\",\"Boat 9\"))))))))","v":"Boat 3"},{"$f":"IF(COUNTIF(Général!B138:B144,$G$1)=1,\"Boat 1\",IF(COUNTIF(Général!C138:C144,$G$1)=1,\"Boat 2\",IF(COUNTIF(Général!C138:D144,$G$1)=1,\"Boat 3\", IF(COUNTIF(Général!C138:E144,$G$1)=1,\"Boat 4\", IF(COUNTIF(Général!F138:F144,$G$1)=1,\"Boat 5\", IF(COUNTIF(Général!G138:G144,$G$1)=1,\"Boat 6\", IF(COUNTIF(Général!H138:H144,$G$1)=1,\"Boat 7\",IF(COUNTIF(Général!I38:I44,$G$1)=1,\"Boat 8\",\"Boat 9\"))))))))","v":"Boat 3"},{"$f":"IF(COUNTIF(Général!B148:B154,$G$1)=1,\"Boat 1\",IF(COUNTIF(Général!C148:C154,$G$1)=1,\"Boat 2\",IF(COUNTIF(Général!D148:D154,$G$1)=1,\"Boat 3\", IF(COUNTIF(Général!E148:E154,$G$1)=1,\"Boat 4\", IF(COUNTIF(Général!F148:F154,$G$1)=1,\"Boat 5\", IF(COUNTIF(Général!G148:G154,$G$1)=1,\"Boat 6\", IF(COUNTIF(Général!H148:H154,$G$1)=1,\"Boat 7\",IF(COUNTIF(Général!I38:I44,$G$1)=1,\"Boat 8\",\"Boat 9\"))))))))","v":"Boat 4"},{"$f":"IF(COUNTIF(Général!B158:B164,$G$1)=1,\"Boat 1\",IF(COUNTIF(Général!C158:C164,$G$1)=1,\"Boat 2\",IF(COUNTIF(Général!D160:D164,$G$1)=1,\"Boat 3\", IF(COUNTIF(Général!E158:E164,$G$1)=1,\"Boat 4\", IF(COUNTIF(Général!F158:F164,$G$1)=1,\"Boat 5\", IF(COUNTIF(Général!G158:G164,$G$1)=1,\"Boat 6\", IF(COUNTIF(Général!H158:H164,$G$1)=1,\"Boat 7\",IF(COUNTIF(Général!I38:I44,$G$1)=1,\"Boat 8\",\"Boat 9\"))))))))","v":"Boat 9"},{"$f":"IF(COUNTIF(Général!B168:B174,$G$1)=1,\"Boat 1\",IF(COUNTIF(Général!C168:C174,$G$1)=1,\"Boat 2\",IF(COUNTIF(Général!D168:D174,$G$1)=1,\"Boat 3\", IF(COUNTIF(Général!E168:E174,$G$1)=1,\"Boat 4\", IF(COUNTIF(Général!F178:F184,$G$1)=1,\"Boat 5\", IF(COUNTIF(Général!G178:G184,$G$1)=1,\"Boat 6\", IF(COUNTIF(Général!H178:H184,$G$1)=1,\"Boat 7\",IF(COUNTIF(Général!I38:I44,$G$1)=1,\"Boat 8\",\"Boat 9\"))))))))","v":"Boat 9"},{"$f":"IF(COUNTIF(Général!B178:B184,$G$1)=1,\"Boat 1\",IF(COUNTIF(Général!C178:C184,$G$1)=1,\"Boat 2\",IF(COUNTIF(Général!D178:D184,$G$1)=1,\"Boat 3\", IF(COUNTIF(Général!E178:E184,$G$1)=1,\"Boat 4\", IF(COUNTIF(Général!F178:F184,$G$1)=1,\"Boat 5\", IF(COUNTIF(Général!G178:G184,$G$1)=1,\"Boat 6\", IF(COUNTIF(Général!H178:H184,$G$1)=1,\"Boat 7\",IF(COUNTIF(Général!I38:I44,$G$1)=1,\"Boat 8\",\"Boat 9\"))))))))","v":"Boat 3"},{"$f":"IF(COUNTIF(Général!B188:B194,$G$1)=1,\"Boat 1\",IF(COUNTIF(Général!C188:C194,$G$1)=1,\"Boat 2\",IF(COUNTIF(Général!D188:D194,$G$1)=1,\"Boat 3\", IF(COUNTIF(Général!E188:E194,$G$1)=1,\"Boat 4\", IF(COUNTIF(Général!F188:F194,$G$1)=1,\"Boat 5\", IF(COUNTIF(Général!G188:G194,$G$1)=1,\"Boat 6\", IF(COUNTIF(Général!H188:H194,$G$1)=1,\"Boat 7\",IF(COUNTIF(Général!I38:I44,$G$1)=1,\"Boat 8\",\"Boat 9\"))))))))","v":"Boat 9"},{"$f":"IF(COUNTIF(Général!B198:B204,$G$1)=1,\"Boat 1\",IF(COUNTIF(Général!C198:C204,$G$1)=1,\"Boat 2\",IF(COUNTIF(Général!D198:D204,$G$1)=1,\"Boat 3\", IF(COUNTIF(Général!E198:E204,$G$1)=1,\"Boat 4\", IF(COUNTIF(Général!F198:F204,$G$1)=1,\"Boat 5\", IF(COUNTIF(Général!G198:G204,$G$1)=1,\"Boat 6\", IF(COUNTIF(Général!H198:H204,$G$1)=1,\"Boat 7\",IF(COUNTIF(Général!I38:I44,$G$1)=1,\"Boat 8\",\"Boat 9\"))))))))","v":"Boat 6"},{"$f":"IF(COUNTIF(Général!B208:B214,$G$1)=1,\"Boat 1\",IF(COUNTIF(Général!C208:C214,$G$1)=1,\"Boat 2\",IF(COUNTIF(Général!D208:D214,$G$1)=1,\"Boat 3\", IF(COUNTIF(Général!E208:E214,$G$1)=1,\"Boat 4\", IF(COUNTIF(Général!F208:F214,$G$1)=1,\"Boat 5\", IF(COUNTIF(Général!G208:G214,$G$1)=1,\"Boat 6\", IF(COUNTIF(Général!H208:H214,$G$1)=1,\"Boat 7\",IF(COUNTIF(Général!I38:I44,$G$1)=1,\"Boat 8\",\"Boat 9\"))))))))","v":"Boat 5"},null,{"$f":"Général!B8","v":"Plymouth"},7]
[null,null,null,null,null,null,null,null,null,null,null,null,null,null,null,null,null,null,null,null,null,{"$f":"Général!B9","v":"Unicaen 2"},5]
["1er Equipage",null,{"$f":"IF($C$5=\"Course 1\",Général!B38,IF($C$5=\"Course 2\",Général!B40,IF($C$5=\"Course 3\",Général!B42,Général!B44)))","v":"La Rochelle 1"},{"$f":"IF($D$5=\"Course 1\",Général!B48,IF($D$5=\"Course 2\",Général!B50,IF($D$5=\"Course 3\",Général!B52,Général!B54)))","v":"ENSTA 1"},{"$f":"IF($E$5=\"Course 1\",Général!B58,IF($E$5=\"Course 2\",Général!B60,IF($E$5=\"Course 3\",Général!B62,Général!B64)))","v":"ST Brieuc 2"},{"$f":"IF($F$5=\"Course 1\",Général!B$68,IF($F$5=\"Course 2\",Général!B$70,IF($F$5=\"Course 3\",Général!B$72,Général!B$74)))","v":"ST Brieuc 2"},{"$f":"IF($G$5=\"Course 1\",Général!B$78,IF($G$5=\"Course 2\",Général!B$80,IF($G$5=\"Course 3\",Général!B$82,Général!B$84)))","v":"Plymouth"},{"$f":"IF($H$5=\"Course 1\",Général!B$88,IF($H$5=\"Course 2\",Général!B$90,IF($H$5=\"Course 3\",Général!B$92,Général!B$94)))","v":"Unicaen 2"},{"$f":"IF($I$5=\"Course 1\",Général!B$98,IF($I$5=\"Course 2\",Général!B$100,IF($I$5=\"Course 3\",Général!B$102,Général!B$104)))","v":"Unicaen 1"},{"$f":"IF($J$5=\"Course 1\",Général!B$108,IF($J$5=\"Course 2\",Général!B$110,IF($J$5=\"Course 3\",Général!B$112,Général!B$114)))","v":"UNIV Nantes 1"},{"$f":"IF($K$5=\"Course 1\",Général!B$118,IF($K$5=\"Course 2\",Général!B$120,IF($K$5=\"Course 3\",Général!B$122,Général!B$124)))","v":"UNIV Nantes 1"},{"$f":"IF($L$5=\"Course 1\",Général!B$128,IF($L$5=\"Course 2\",Général!B$130,IF($L$5=\"Course 3\",Général!B$132,Général!B$134)))","v":"IMT Brest 2"},{"$f":"IF($M$5=\"Course 1\",Général!B$138,IF($M$5=\"Course 2\",Général!B$140,IF($M$5=\"Course 3\",Général!B$142,Général!B$144)))","v":"IMT Brest 2"},{"$f":"IF($N$5=\"Course 1\",Général!B$148,IF($N$5=\"Course 2\",Général!B$150,IF($N$5=\"Course 3\",Général!B$152,Général!B$154)))","v":"UBS Lorient 2"},{"$f":"IF($O$5=\"Course 1\",Général!B$158,IF($O$5=\"Course 2\",Général!B$160,IF($O$5=\"Course 3\",Général!B$162,Général!B$164)))","v":"La Rochelle 1"},{"$f":"IF($P$5=\"Course 1\",Général!B$168,IF($P$5=\"Course 2\",Général!B$170,IF($P$5=\"Course 3\",Général!B$172,Général!B$174)))","v":"Plymouth"},{"$f":"IF($Q$5=\"Course 1\",Général!B$178,IF($Q$5=\"Course 2\",Général!B$180,IF($Q$5=\"Course 3\",Général!B$182,Général!B$184)))","v":"La Rochelle 2"},{"$f":"IF($R$5=\"Course 1\",Général!B$188,IF($R$5=\"Course 2\",Général!B$190,IF($R$5=\"Course 3\",Général!B$192,Général!B$194)))","v":"Karlsruhe"},{"$f":"IF($S$5=\"Course 1\",Général!B$198,IF($S$5=\"Course 2\",Général!B$200,IF($S$5=\"Course 3\",Général!B$202,Général!B$204)))","v":"ENSTA 2"},{"$f":"IF($T$5=\"Course 1\",Général!B$208,IF($T$5=\"Course 2\",Général!B$210,IF($T$5=\"Course 3\",Général!B$212,Général!B$214)))","v":"UBO 1"},null,{"$f":"Général!B10","v":"Univ Nantes 2"},5]
["2nd Equipage",null,{"$f":"IF($C$5=\"Course 1\",Général!C38,IF($C$5=\"Course 2\",Général!C40,IF($C$5=\"Course 3\",Général!C42,Général!C44)))","v":"UBS Lorient 1"},{"$f":"IF($D$5=\"Course 1\",Général!C48,IF($D$5=\"Course 2\",Général!C50,IF($D$5=\"Course 3\",Général!C52,Général!C54)))","v":"UBS Lorient 1"},{"$f":"IF($E$5=\"Course 1\",Général!C58,IF($E$5=\"Course 2\",Général!C60,IF($E$5=\"Course 3\",Général!C62,Général!C64)))","v":"La Rochelle 1"},{"$f":"IF($F$5=\"Course 1\",Général!C$68,IF($F$5=\"Course 2\",Général!C$70,IF($F$5=\"Course 3\",Général!C$72,Général!C$74)))","v":"La Rochelle 1"},{"$f":"IF($G$5=\"Course 1\",Général!C$78,IF($G$5=\"Course 2\",Général!C$80,IF($G$5=\"Course 3\",Général!C$82,Général!C$84)))","v":"Univ Nantes 3"},{"$f":"IF($H$5=\"Course 1\",Général!C$88,IF($H$5=\"Course 2\",Général!C$90,IF($H$5=\"Course 3\",Général!C$92,Général!C$94)))","v":"Paris Sorbone"},{"$f":"IF($I$5=\"Course 1\",Général!C$98,IF($I$5=\"Course 2\",Général!C$100,IF($I$5=\"Course 3\",Général!C$102,Général!C$104)))","v":"La Rochelle 1"},{"$f":"IF($J$5=\"Course 1\",Général!C$108,IF($J$5=\"Course 2\",Général!C$110,IF($J$5=\"Course 3\",Général!C$112,Général!C$114)))","v":"UBS Lorient 1"},{"$f":"IF($K$5=\"Course 1\",Général!C$118,IF($K$5=\"Course 2\",Général!C$120,IF($K$5=\"Course 3\",Général!C$122,Général!C$124)))","v":"UBS Lorient 1"},{"$f":"IF($L$5=\"Course 1\",Général!C$128,IF($L$5=\"Course 2\",Général!C$130,IF($L$5=\"Course 3\",Général!C$132,Général!C$134)))","v":"UNIV Nantes 1"},{"$f":"IF($M$5=\"Course 1\",Général!C$138,IF($M$5=\"Course 2\",Général!C$140,IF($M$5=\"Course 3\",Général!C$142,Général!C$144)))","v":"UNIV Nantes 1"},{"$f":"IF($N$5=\"Course 1\",Général!C$148,IF($N$5=\"Course 2\",Général!C$150,IF($N$5=\"Course 3\",Général!C$152,Général!C$154)))","v":"UBO 1"},{"$f":"IF($O$5=\"Course 1\",Général!C$158,IF($O$5=\"Course 2\",Général!C$160,IF($O$5=\"Course 3\",Général!C$162,Général!C$164)))","v":"IMT Brest 1"},{"$f":"IF($P$5=\"Course 1\",Général!C$168,IF($P$5=\"Course 2\",Général!C$170,IF($P$5=\"Course 3\",Général!C$172,Général!C$174)))","v":"La Rochelle 2"},{"$f":"IF($Q$5=\"Course 1\",Général!C$178,IF($Q$5=\"Course 2\",Général!C$180,IF($Q$5=\"Course 3\",Général!C$182,Général!C$184)))","v":"Unicaen 2"},{"$f":"IF($R$5=\"Course 1\",Général!C$188,IF($R$5=\"Course 2\",Général!C$190,IF($R$5=\"Course 3\",Général!C$192,Général!C$194)))","v":"ST Brieuc 2"},{"$f":"IF($S$5=\"Course 1\",Général!C$198,IF($S$5=\"Course 2\",Général!C$200,IF($S$5=\"Course 3\",Général!C$202,Général!C$204)))","v":"Southampton"},{"$f":"IF($T$5=\"Course 1\",Général!C$208,IF($T$5=\"Course 2\",Général!C$210,IF($T$5=\"Course 3\",Général!C$212,Général!C$214)))","v":"Paris Sorbone"},null,{"$f":"Général!B11","v":"Karlsruhe"},5]
["3ème Equipage",null,{"$f":"IF($C$5=\"Course 1\",Général!D38,IF($C$5=\"Course 2\",Général!D40,IF($C$5=\"Course 3\",Général!D42,Général!D44)))","v":"UBO 1"},{"$f":"IF($D$5=\"Course 1\",Général!D48,IF($D$5=\"Course 2\",Général!D50,IF($D$5=\"Course 3\",Général!D52,Général!D54)))","v":"Paris Sorbone"},{"$f":"IF($E$5=\"Course 1\",Général!D58,IF($E$5=\"Course 2\",Général!D60,IF($E$5=\"Course 3\",Général!D62,Général!D64)))","v":"St Brieuc 1"},{"$f":"IF($F$5=\"Course 1\",Général!D$68,IF($F$5=\"Course 2\",Général!D$70,IF($F$5=\"Course 3\",Général!D$72,Général!D$74)))","v":"Centrale Nantes 1"},{"$f":"IF($G$5=\"Course 1\",Général!D$78,IF($G$5=\"Course 2\",Général!D$80,IF($G$5=\"Course 3\",Général!D$82,Général!D$84)))","v":"Paris Sorbone"},{"$f":"IF($H$5=\"Course 1\",Général!D$88,IF($H$5=\"Course 2\",Général!D$90,IF($H$5=\"Course 3\",Général!D$92,Général!D$94)))","v":"UBS Lorient 2"},{"$f":"IF($I$5=\"Course 1\",Général!D$98,IF($I$5=\"Course 2\",Général!D$100,IF($I$5=\"Course 3\",Général!D$102,Général!D$104)))","v":"Southampton"},{"$f":"IF($J$5=\"Course 1\",Général!D$108,IF($J$5=\"Course 2\",Général!D$110,IF($J$5=\"Course 3\",Général!D$112,Général!D$114)))","v":"IMT Brest 1"},{"$f":"IF($K$5=\"Course 1\",Général!D$118,IF($K$5=\"Course 2\",Général!D$120,IF($K$5=\"Course 3\",Général!D$122,Général!D$124)))","v":"ENSMAC"},{"$f":"IF($L$5=\"Course 1\",Général!D$128,IF($L$5=\"Course 2\",Général!D$130,IF($L$5=\"Course 3\",Général!D$132,Général!D$134)))","v":"UBS Lorient 1"},{"$f":"IF($M$5=\"Course 1\",Général!D$138,IF($M$5=\"Course 2\",Général!D$140,IF($M$5=\"Course 3\",Général!D$142,Général!D$144)))","v":"UBS Lorient 1"},{"$f":"IF($N$5=\"Course 1\",Général!D$148,IF($N$5=\"Course 2\",Général!D$150,IF($N$5=\"Course 3\",Général!D$152,Général!D$154)))","v":"Centrale Nantes 2"},{"$f":"IF($O$5=\"Course 1\",Général!D$158,IF($O$5=\"Course 2\",Général!D$160,IF($O$5=\"Course 3\",Général!D$162,Général!D$164)))","v":"IMT Nantes"},{"$f":"IF($P$5=\"Course 1\",Général!D$168,IF($P$5=\"Course 2\",Général!D$170,IF($P$5=\"Course 3\",Général!D$172,Général!D$174)))","v":"Karlsruhe"},{"$f":"IF($Q$5=\"Course 1\",Général!D$178,IF($Q$5=\"Course 2\",Général!D$180,IF($Q$5=\"Course 3\",Général!D$182,Général!D$184)))","v":"UBS Lorient 1"},{"$f":"IF($R$5=\"Course 1\",Général!D$188,IF($R$5=\"Course 2\",Général!D$190,IF($R$5=\"Course 3\",Général!D$192,Général!D$194)))","v":"Orléans"},{"$f":"IF($S$5=\"Course 1\",Général!D$198,IF($S$5=\"Course 2\",Général!D$200,IF($S$5=\"Course 3\",Général!D$202,Général!D$204)))","v":"Paris Cité"},{"$f":"IF($T$5=\"Course 1\",Général!D$208,IF($T$5=\"Course 2\",Général!D$210,IF($T$5=\"Course 3\",Général!D$212,Général!D$214)))","v":"ENSMAC"},null,{"$f":"Général!B12","v":"IMT Brest 2"},5]
["4ème Equipage",null,{"$f":"IF($C$5=\"Course 1\",Général!E38,IF($C$5=\"Course 2\",Général!E40,IF($C$5=\"Course 3\",Général!E42,Général!E44)))","v":"Southampton"},{"$f":"IF($D$5=\"Course 1\",Général!E48,IF($D$5=\"Course 2\",Général!E50,IF($D$5=\"Course 3\",Général!E52,Général!E54)))","v":"IMT Nantes"},{"$f":"IF($E$5=\"Course 1\",Général!E58,IF($E$5=\"Course 2\",Général!E60,IF($E$5=\"Course 3\",Général!E62,Général!E64)))","v":"Plymouth"},{"$f":"IF($F$5=\"Course 1\",Général!E$68,IF($F$5=\"Course 2\",Général!E$70,IF($F$5=\"Course 3\",Général!E$72,Général!E$74)))","v":"Plymouth"},{"$f":"IF($G$5=\"Course 1\",Général!E$78,IF($G$5=\"Course 2\",Général!E$80,IF($G$5=\"Course 3\",Général!E$82,Général!E$84)))","v":"St Brieuc 1"},{"$f":"IF($H$5=\"Course 1\",Général!E$88,IF($H$5=\"Course 2\",Général!E$90,IF($H$5=\"Course 3\",Général!E$92,Général!E$94)))","v":"UBS Lorient 1"},{"$f":"IF($I$5=\"Course 1\",Général!E$98,IF($I$5=\"Course 2\",Général!E$100,IF($I$5=\"Course 3\",Général!E$102,Général!E$104)))","v":"Karlsruhe"},{"$f":"IF($J$5=\"Course 1\",Général!E$108,IF($J$5=\"Course 2\",Général!E$110,IF($J$5=\"Course 3\",Général!E$112,Général!E$114)))","v":"UBS Lorient 2"},{"$f":"IF($K$5=\"Course 1\",Général!E$118,IF($K$5=\"Course 2\",Général!E$120,IF($K$5=\"Course 3\",Général!E$122,Général!E$124)))","v":"UBS Lorient 2"},{"$f":"IF($L$5=\"Course 1\",Général!E$128,IF($L$5=\"Course 2\",Général!E$130,IF($L$5=\"Course 3\",Général!E$132,Général!E$134)))","v":"Karlsruhe"},{"$f":"IF($M$5=\"Course 1\",Général!E$138,IF($M$5=\"Course 2\",Général!E$140,IF($M$5=\"Course 3\",Général!E$142,Général!E$144)))","v":"Orléans"},{"$f":"IF($N$5=\"Course 1\",Général!E$148,IF($N$5=\"Course 2\",Général!E$150,IF($N$5=\"Course 3\",Général!E$152,Général!E$154)))","v":"UBS Lorient 1"},{"$f":"IF($O$5=\"Course 1\",Général!E$158,IF($O$5=\"Course 2\",Général!E$160,IF($O$5=\"Course 3\",Général!E$162,Général!E$164)))","v":"ST Brieuc 2"},{"$f":"IF($P$5=\"Course 1\",Général!E$168,IF($P$5=\"Course 2\",Général!E$170,IF($P$5=\"Course 3\",Général!E$172,Général!E$174)))","v":"UBO 1"},{"$f":"IF($Q$5=\"Course 1\",Général!E$178,IF($Q$5=\"Course 2\",Général!E$180,IF($Q$5=\"Course 3\",Général!E$182,Général!E$184)))","v":"St Brieuc 1"},{"$f":"IF($R$5=\"Course 1\",Général!E$188,IF($R$5=\"Course 2\",Général!E$190,IF($R$5=\"Course 3\",Général!E$192,Général!E$194)))","v":"Paris Cité"},{"$f":"IF($S$5=\"Course 1\",Général!E$198,IF($S$5=\"Course 2\",Général!E$200,IF($S$5=\"Course 3\",Général!E$202,Général!E$204)))","v":"ENSMAC"},{"$f":"IF($T$5=\"Course 1\",Général!E$208,IF($T$5=\"Course 2\",Général!E$210,IF($T$5=\"Course 3\",Général!E$212,Général!E$214)))","v":"Univ Nantes 3"},null,{"$f":"Général!B13","v":"Unicaen 1"},3]
["5ème Equipage",null,{"$f":"IF($C$5=\"Course 1\",Général!F38,IF($C$5=\"Course 2\",Général!F40,IF($C$5=\"Course 3\",Général!F42,Général!F44)))","v":"ENSTA 2"},{"$f":"IF($D$5=\"Course 1\",Général!F48,IF($D$5=\"Course 2\",Général!F50,IF($D$5=\"Course 3\",Général!F52,Général!F54)))","v":"Hannover"},{"$f":"IF($E$5=\"Course 1\",Général!F58,IF($E$5=\"Course 2\",Général!F60,IF($E$5=\"Course 3\",Général!F62,Général!F64)))","v":"UBS Lorient 1"},{"$f":"IF($F$5=\"Course 1\",Général!F$68,IF($F$5=\"Course 2\",Général!F$70,IF($F$5=\"Course 3\",Général!F$72,Général!F$74)))","v":"UBS Lorient 1"},{"$f":"IF($G$5=\"Course 1\",Général!F$78,IF($G$5=\"Course 2\",Général!F$80,IF($G$5=\"Course 3\",Général!F$82,Général!F$84)))","v":"INSA Lyon"},{"$f":"IF($H$5=\"Course 1\",Général!F$88,IF($H$5=\"Course 2\",Général!F$90,IF($H$5=\"Course 3\",Général!F$92,Général!F$94)))","v":"IMT Brest 1"},{"$f":"IF($I$5=\"Course 1\",Général!F$98,IF($I$5=\"Course 2\",Général!F$100,IF($I$5=\"Course 3\",Général!F$102,Général!F$104)))","v":"UBS Lorient 1"},{"$f":"IF($J$5=\"Course 1\",Général!F$108,IF($J$5=\"Course 2\",Général!F$110,IF($J$5=\"Course 3\",Général!F$112,Général!F$114)))","v":"Intechmer"},{"$f":"IF($K$5=\"Course 1\",Général!F$118,IF($K$5=\"Course 2\",Général!F$120,IF($K$5=\"Course 3\",Général!F$122,Général!F$124)))","v":"Centrale Nantes 1"},{"$f":"IF($L$5=\"Course 1\",Général!F$128,IF($L$5=\"Course 2\",Général!$F130,IF($L$5=\"Course 3\",Général!F$132,Général!F$134)))","v":"Paris Sorbone"},{"$f":"IF($M$5=\"Course 1\",Général!F$138,IF($M$5=\"Course 2\",Général!F$140,IF($M$5=\"Course 3\",Général!F$142,Général!F$144)))","v":"Paris Cité"},{"$f":"IF($N$5=\"Course 1\",Général!F$148,IF($N$5=\"Course 2\",Général!F$150,IF($N$5=\"Course 3\",Général!F$152,Général!F$154)))","v":"ST Brieuc 2"},{"$f":"IF($O$5=\"Course 1\",Général!F$158,IF($O$5=\"Course 2\",Général!F$160,IF($O$5=\"Course 3\",Général!F$162,Général!F$164)))","v":"Unicaen 1"},{"$f":"IF($P$5=\"Course 1\",Général!F$168,IF($P$5=\"Course 2\",Général!F$170,IF($P$5=\"Course 3\",Général!F$172,Général!F$174)))","v":"Hannover"},{"$f":"IF($Q$5=\"Course 1\",Général!F$178,IF($Q$5=\"Course 2\",Général!F$180,IF($Q$5=\"Course 3\",Général!F$182,Général!F$184)))","v":"ENSTA 2"},{"$f":"IF($R$5=\"Course 1\",Général!F$188,IF($R$5=\"Course 2\",Général!F$190,IF($R$5=\"Course 3\",Général!F$192,Général!F$194)))","v":"ENSMAC"},{"$f":"IF($S$5=\"Course 1\",Général!F$198,IF($S$5=\"Course 2\",Général!F$200,IF($S$5=\"Course 3\",Général!F$202,Général!F$204)))","v":"Unicaen 2"},{"$f":"IF($T$5=\"Course 1\",Général!F$208,IF($T$5=\"Course 2\",Général!F$210,IF($T$5=\"Course 3\",Général!F$212,Général!F$214)))","v":"UBS Lorient 1"},null,{"$f":"Général!B14","v":"ENSTA 1"},5]
["6ème Equipage",null,{"$f":"IF($C$5=\"Course 1\",Général!G38,IF($C$5=\"Course 2\",Général!G40,IF($C$5=\"Course 3\",Général!G42,Général!G44)))","v":"Plymouth"},{"$f":"IF($D$5=\"Course 1\",Général!G48,IF($D$5=\"Course 2\",Général!G50,IF($D$5=\"Course 3\",Général!G52,Général!G54)))","v":"Plymouth"},{"$f":"IF($E$5=\"Course 1\",Général!G58,IF($E$5=\"Course 2\",Général!G60,IF($E$5=\"Course 3\",Général!G62,Général!G64)))","v":"IMT Brest 1"},{"$f":"IF($F$5=\"Course 1\",Général!G$68,IF($F$5=\"Course 2\",Général!G$70,IF($F$5=\"Course 3\",Général!G$72,Général!G$74)))","v":"IMT Brest 1"},{"$f":"IF($G$5=\"Course 1\",Général!G$78,IF($G$5=\"Course 2\",Général!G$80,IF($G$5=\"Course 3\",Général!G$82,Général!G$84)))","v":"Centrale Nantes 1"},{"$f":"IF($H$5=\"Course 1\",Général!G$88,IF($H$5=\"Course 2\",Général!G$90,IF($H$5=\"Course 3\",Général!G$92,Général!G$94)))","v":"IMT Brest 2"},{"$f":"IF($I$5=\"Course 1\",Général!G$98,IF($I$5=\"Course 2\",Général!G$100,IF($I$5=\"Course 3\",Général!G$102,Général!G$104)))","v":"Univ Nantes 3"},{"$f":"IF($J$5=\"Course 1\",Général!G$108,IF($J$5=\"Course 2\",Général!G$110,IF($J$5=\"Course 3\",Général!G$112,Général!G$114)))","v":"ENSTA 1"},{"$f":"IF($K$5=\"Course 1\",Général!G$118,IF($K$5=\"Course 2\",Général!G$120,IF($K$5=\"Course 3\",Général!G$122,Général!G$124)))","v":"St Brieuc 1"},{"$f":"IF($L$5=\"Course 1\",Général!G$128,IF($L$5=\"Course 2\",Général!G$130,IF($L$5=\"Course 3\",Général!G$132,Général!G$134)))","v":"ENSTA 2"},{"$f":"IF($M$5=\"Course 1\",Général!G$138,IF($M$5=\"Course 2\",Général!G$140,IF($M$5=\"Course 3\",Général!G$142,Général!G$144)))","v":"Unicaen 1"},{"$f":"IF($N$5=\"Course 1\",Général!G$148,IF($N$5=\"Course 2\",Général!G$150,IF($N$5=\"Course 3\",Général!G$152,Général!G$154)))","v":"Univ Nantes 2"},{"$f":"IF($O$5=\"Course 1\",Général!G$158,IF($O$5=\"Course 2\",Général!G$160,IF($O$5=\"Course 3\",Général!G$162,Général!G$164)))","v":"Hannover"},{"$f":"IF($P$5=\"Course 1\",Général!G$168,IF($P$5=\"Course 2\",Général!G$170,IF($P$5=\"Course 3\",Général!G$172,Général!G$174)))","v":"UBS Lorient 2"},{"$f":"IF($Q$5=\"Course 1\",Général!G$178,IF($Q$5=\"Course 2\",Général!G$180,IF($Q$5=\"Course 3\",Général!G$182,Général!G$184)))","v":"ENSMAC"},{"$f":"IF($R$5=\"Course 1\",Général!G$188,IF($R$5=\"Course 2\",Général!G$190,IF($R$5=\"Course 3\",Général!G$192,Général!G$194)))","v":"IMT Brest 1"},{"$f":"IF($S$5=\"Course 1\",Général!G$198,IF($S$5=\"Course 2\",Général!G$200,IF($S$5=\"Course 3\",Général!G$202,Général!G$204)))","v":"UBS Lorient 1"},{"$f":"IF($T$5=\"Course 1\",Général!G$208,IF($T$5=\"Course 2\",Général!G$210,IF($T$5=\"Course 3\",Général!G$212,Général!G$214)))","v":"INSA Lyon"},null,{"$f":"Général!B15","v":"Orléans"},6]
["7ème Equipage",null,{"$f":"IF($C$5=\"Course 1\",Général!H38,IF($C$5=\"Course 2\",Général!H40,IF($C$5=\"Course 3\",Général!H42,Général!H44)))","v":"Univ Nantes 2"},{"$f":"IF($D$5=\"Course 1\",Général!H48,IF($D$5=\"Course 2\",Général!H50,IF($D$5=\"Course 3\",Général!H52,Général!H54)))","v":"Univ Nantes 2"},{"$f":"IF($E$5=\"Course 1\",Général!H58,IF($E$5=\"Course 2\",Général!H60,IF($E$5=\"Course 3\",Général!H62,Général!H64)))","v":"Centrale Nantes 2"},{"$f":"IF($F$5=\"Course 1\",Général!H$68,IF($F$5=\"Course 2\",Général!H$70,IF($F$5=\"Course 3\",Général!H$72,Général!H$74)))","v":"IMT Brest 2"},{"$f":"IF($G$5=\"Course 1\",Général!H$78,IF($G$5=\"Course 2\",Général!H$80,IF($G$5=\"Course 3\",Général!H$82,Général!H$84)))","v":"La Rochelle 2"},{"$f":"IF($H$5=\"Course 1\",Général!H$88,IF($H$5=\"Course 2\",Général!H$90,IF($H$5=\"Course 3\",Général!H$92,Général!H$94)))","v":"ST Brieuc 2"},{"$f":"IF($I$5=\"Course 1\",Général!H$98,IF($I$5=\"Course 2\",Général!H$100,IF($I$5=\"Course 3\",Général!H$102,Général!H$104)))","v":"Plymouth"},{"$f":"IF($J$5=\"Course 1\",Général!H$108,IF($J$5=\"Course 2\",Général!H$110,IF($J$5=\"Course 3\",Général!H$112,Général!H$114)))","v":"Hannover"},{"$f":"IF($K$5=\"Course 1\",Général!H$118,IF($K$5=\"Course 2\",Général!H$120,IF($K$5=\"Course 3\",Général!H$122,Général!H$124)))","v":"Orléans"},{"$f":"IF($L$5=\"Course 1\",Général!H$128,IF($L$5=\"Course 2\",Général!H$130,IF($L$5=\"Course 3\",Général!H$132,Général!H$134)))","v":"Centrale Nantes 1"},{"$f":"IF($M$5=\"Course 1\",Général!H$138,IF($M$5=\"Course 2\",Général!H$140,IF($M$5=\"Course 3\",Général!H$142,Général!H$144)))","v":"Centrale Nantes 1"},{"$f":"IF($N$5=\"Course 1\",Général!H$148,IF($N$5=\"Course 2\",Général!H$150,IF($N$5=\"Course 3\",Général!H$152,Général!H$154)))","v":"ENSMAC"},{"$f":"IF($O$5=\"Course 1\",Général!H$158,IF($O$5=\"Course 2\",Général!H$160,IF($O$5=\"Course 3\",Général!H$162,Général!H$164)))","v":"La Rochelle 2"},{"$f":"IF($P$5=\"Course 1\",Général!H$168,IF($P$5=\"Course 2\",Général!H$170,IF($P$5=\"Course 3\",Général!H$172,Général!H$174)))","v":"UBS Lorient 1"},{"$f":"IF($Q$5=\"Course 1\",Général!H$178,IF($Q$5=\"Course 2\",Général!H$180,IF($Q$5=\"Course 3\",Général!H$182,Général!H$184)))","v":"Karlsruhe"},{"$f":"IF($R$5=\"Course 1\",Général!H$188,IF($R$5=\"Course 2\",Général!H$190,IF($R$5=\"Course 3\",Général!H$192,Général!H$194)))","v":"Centrale Nantes 1"},{"$f":"IF($S$5=\"Course 1\",Général!H$198,IF($S$5=\"Course 2\",Général!H$200,IF($S$5=\"Course 3\",Général!H$202,Général!H$204)))","v":"UBO 1"},{"$f":"IF($T$5=\"Course 1\",Général!H$208,IF($T$5=\"Course 2\",Général!H$210,IF($T$5=\"Course 3\",Général!H$212,Général!H$214)))","v":"Univ Nantes 2"},null,{"$f":"Général!B16","v":"IMT Brest 1"},7]
["8ème Equipage",null,{"$f":"IF($C$5=\"Course 1\",Général!I38,IF($C$5=\"Course 2\",Général!I40,IF($C$5=\"Course 3\",Général!I42,Général!I44)))","v":"INSA Lyon"},{"$f":"IF($D$5=\"Course 1\",Général!I48,IF($D$5=\"Course 2\",Général!I50,IF($D$5=\"Course 3\",Général!I52,Général!I54)))","v":"Orléans"},{"$f":"IF($E$5=\"Course 1\",Général!I58,IF($E$5=\"Course 2\",Général!I60,IF($E$5=\"Course 3\",Général!I62,Général!I64)))","v":"Unicaen 2"},{"$f":"IF($F$5=\"Course 1\",Général!I$68,IF($F$5=\"Course 2\",Général!I$70,IF($F$5=\"Course 3\",Général!I$72,Général!I$74)))","v":"UBO 1"},{"$f":"IF($G$5=\"Course 1\",Général!I$78,IF($G$5=\"Course 2\",Général!I$80,IF($G$5=\"Course 3\",Général!I$82,Général!I$84)))","v":"Centrale Nantes 2"},{"$f":"IF($H$5=\"Course 1\",Général!I$88,IF($H$5=\"Course 2\",Général!I$90,IF($H$5=\"Course 3\",Général!I$92,Général!I$94)))","v":"UBO 2"},{"$f":"IF($I$5=\"Course 1\",Général!I$98,IF($I$5=\"Course 2\",Général!I$100,IF($I$5=\"Course 3\",Général!I$102,Général!I$104)))","v":"IMT Nantes"},{"$f":"IF($J$5=\"Course 1\",Général!I$108,IF($J$5=\"Course 2\",Général!I$110,IF($J$5=\"Course 3\",Général!I$112,Général!I$114)))","v":"Southampton"},{"$f":"IF($K$5=\"Course 1\",Général!I$118,IF($K$5=\"Course 2\",Général!I$120,IF($K$5=\"Course 3\",Général!I$122,Général!I$124)))","v":"Univ Nantes 2"},{"$f":"IF($L$5=\"Course 1\",Général!I$128,IF($L$5=\"Course 2\",Général!I$130,IF($L$5=\"Course 3\",Général!I$132,Général!I$134)))","v":"Hannover"},{"$f":"IF($M$5=\"Course 1\",Général!I$138,IF($M$5=\"Course 2\",Général!I$140,IF($M$5=\"Course 3\",Général!I$142,Général!I$144)))","v":"Hannover"},{"$f":"IF($N$5=\"Course 1\",Général!I$148,IF($N$5=\"Course 2\",Général!I$150,IF($N$5=\"Course 3\",Général!I$152,Général!I$154)))","v":"Univ Nantes 3"},{"$f":"IF($O$5=\"Course 1\",Général!I$158,IF($O$5=\"Course 2\",Général!I$160,IF($O$5=\"Course 3\",Général!I$162,Général!I$164)))","v":"Orléans"},{"$f":"IF($P$5=\"Course 1\",Général!I$168,IF($P$5=\"Course 2\",Général!I$170,IF($P$5=\"Course 3\",Général!I$172,Général!I$174)))","v":"Unicaen 2"},{"$f":"IF($Q$5=\"Course 1\",Général!I$178,IF($Q$5=\"Course 2\",Général!I$180,IF($Q$5=\"Course 3\",Général!I$182,Général!I$184)))","v":"Orléans"},{"$f":"IF($R$5=\"Course 1\",Général!I$188,IF($R$5=\"Course 2\",Général!I$190,IF($R$5=\"Course 3\",Général!I$192,Général!I$194)))","v":"UBS Lorient 2"},{"$f":"IF($S$5=\"Course 1\",Général!I$198,IF($S$5=\"Course 2\",Général!I$200,IF($S$5=\"Course 3\",Général!I$202,Général!I$204)))","v":"IMT Brest 1"},{"$f":"IF($T$5=\"Course 1\",Général!I$208,IF($T$5=\"Course 2\",Général!I$210,IF($T$5=\"Course 3\",Général!I$212,Général!I$214)))","v":"UNIV Nantes 1"},null,{"$f":"Général!B17","v":"ENSMAC"},6]
["9ème Equipage",null,{"$f":"IF($C$5=\"Course 1\",Général!J38,IF($C$5=\"Course 2\",Général!J40,IF($C$5=\"Course 3\",Général!J42,Général!J44)))","v":"Centrale Nantes 1"},{"$f":"IF($D$5=\"Course 1\",Général!J48,IF($D$5=\"Course 2\",Général!J50,IF($D$5=\"Course 3\",Général!J52,Général!J54)))","v":"Intechmer"},{"$f":"IF($E$5=\"Course 1\",Général!J58,IF($E$5=\"Course 2\",Général!J60,IF($E$5=\"Course 3\",Général!J62,Général!J64)))","v":"ENSTA 1"},{"$f":"IF($F$5=\"Course 1\",Général!J$68,IF($F$5=\"Course 2\",Général!J$70,IF($F$5=\"Course 3\",Général!J$72,Général!J$74)))","v":"ENSTA 1"},{"$f":"IF($G$5=\"Course 1\",Général!J$78,IF($G$5=\"Course 2\",Général!J$80,IF($G$5=\"Course 3\",Général!J$82,Général!J$84)))","v":"UBS Lorient 2"},{"$f":"IF($H$5=\"Course 1\",Général!J$88,IF($H$5=\"Course 2\",Général!J$90,IF($H$5=\"Course 3\",Général!$J92,Général!J$94)))","v":"INSA Lyon"},{"$f":"IF($I$5=\"Course 1\",Général!J$98,IF($I$5=\"Course 2\",Général!J$100,IF($I$5=\"Course 3\",Général!J$102,Général!J$104)))","v":"ENSTA 1"},{"$f":"IF($J$5=\"Course 1\",Général!J$108,IF($J$5=\"Course 2\",Général!J$110,IF($J$5=\"Course 3\",Général!J$112,Général!J$114)))","v":"La Rochelle 1"},{"$f":"IF($K$5=\"Course 1\",Général!J$118,IF($K$5=\"Course 2\",Général!J$120,IF($K$5=\"Course 3\",Général!J$122,Général!J$124)))","v":"La Rochelle 1"},{"$f":"IF($L$5=\"Course 1\",Général!J$128,IF($L$5=\"Course 2\",Général!J$130,IF($L$5=\"Course 3\",Général!J$132,Général!J$134)))","v":"St Brieuc 1"},{"$f":"IF($M$5=\"Course 1\",Général!J$138,IF($M$5=\"Course 2\",Général!J$140,IF($M$5=\"Course 3\",Général!J$142,Général!J$144)))","v":"St Brieuc 1"},{"$f":"IF($N$5=\"Course 1\",Général!J$148,IF($N$5=\"Course 2\",Général!J$150,IF($N$5=\"Course 3\",Général!J$152,Général!J$154)))","v":"ENSTA 2"},{"$f":"IF($O$5=\"Course 1\",Général!J$158,IF($O$5=\"Course 2\",Général!J$160,IF($O$5=\"Course 3\",Général!J$162,Général!J$164)))","v":"UBS Lorient 1"},{"$f":"IF($P$5=\"Course 1\",Général!J$168,IF($P$5=\"Course 2\",Général!J$170,IF($P$5=\"Course 3\",Général!J$172,Général!J$174)))","v":"IMT Brest 2"},{"$f":"IF($Q$5=\"Course 1\",Général!J$178,IF($Q$5=\"Course 2\",Général!J$180,IF($Q$5=\"Course 3\",Général!J$182,Général!J$184)))","v":"IMT Nantes"},{"$f":"IF($R$5=\"Course 1\",Général!J$188,IF($R$5=\"Course 2\",Général!J$190,IF($R$5=\"Course 3\",Général!J$192,Général!J$194)))","v":"UBS Lorient 1"},{"$f":"IF($S$5=\"Course 1\",Général!J$198,IF($S$5=\"Course 2\",Général!J$200,IF($S$5=\"Course 3\",Général!J$202,Général!J$204)))","v":"Hannover"},{"$f":"IF($T$5=\"Course 1\",Général!J$208,IF($T$5=\"Course 2\",Général!J$210,IF($T$5=\"Course 3\",Général!J$212,Général!J$214)))","v":"Centrale Nantes 2"},null,{"$f":"Général!B18","v":"St Brieuc 1"},6]
["10ème Equipage",null,{"$f":"IF($C$5=\"Course 1\",Général!K38,IF($C$5=\"Course 2\",Général!K40,IF($C$5=\"Course 3\",Général!K42,Général!K44)))","v":"Centrale Nantes 2"},{"$f":"IF($D$5=\"Course 1\",Général!K48,IF($D$5=\"Course 2\",Général!K50,IF($D$5=\"Course 3\",Général!K52,Général!K54)))","v":"IMT Brest 1"},{"$f":"IF($E$5=\"Course 1\",Général!K58,IF($E$5=\"Course 2\",Général!K60,IF($E$5=\"Course 3\",Général!K62,Général!K64)))","v":"Karlsruhe"},{"$f":"IF($F$5=\"Course 1\",Général!K$68,IF($F$5=\"Course 2\",Général!K$70,IF($F$5=\"Course 3\",Général!K$72,Général!K$74)))","v":"Orléans"},{"$f":"IF($G$5=\"Course 1\",Général!K$78,IF($G$5=\"Course 2\",Général!K$80,IF($G$5=\"Course 3\",Général!K$82,Général!K$84)))","v":"UBS Lorient 1"},{"$f":"IF($H$5=\"Course 1\",Général!K$88,IF($H$5=\"Course 2\",Général!K$90,IF($H$5=\"Course 3\",Général!$K92,Général!K$94)))","v":"St Brieuc 1"},{"$f":"IF($I$5=\"Course 1\",Général!K$98,IF($I$5=\"Course 2\",Général!K$100,IF($I$5=\"Course 3\",Général!K$102,Général!K$104)))","v":"Orléans"},{"$f":"IF($J$5=\"Course 1\",Général!K$108,IF($J$5=\"Course 2\",Général!K$110,IF($J$5=\"Course 3\",Général!K$112,Général!K$114)))","v":"IMT Brest 2"},{"$f":"IF($K$5=\"Course 1\",Général!K$118,IF($K$5=\"Course 2\",Général!K$120,IF($K$5=\"Course 3\",Général!K$122,Général!K$124)))","v":"Univ Nantes 3"},{"$f":"IF($L$5=\"Course 1\",Général!K$128,IF($L$5=\"Course 2\",Général!K$130,IF($L$5=\"Course 3\",Général!K$132,Général!K$134)))","v":"INSA Lyon"},{"$f":"IF($M$5=\"Course 1\",Général!K$138,IF($M$5=\"Course 2\",Général!K$140,IF($M$5=\"Course 3\",Général!K$142,Général!K$144)))","v":"IMT Brest 1"},{"$f":"IF($N$5=\"Course 1\",Général!K$148,IF($N$5=\"Course 2\",Général!K$150,IF($N$5=\"Course 3\",Général!K$152,Général!K$154)))","v":"ENSTA 1"},{"$f":"IF($O$5=\"Course 1\",Général!K$158,IF($O$5=\"Course 2\",Général!K$160,IF($O$5=\"Course 3\",Général!K$162,Général!K$164)))","v":"Paris Sorbone"},{"$f":"IF($P$5=\"Course 1\",Général!K$168,IF($P$5=\"Course 2\",Général!K$170,IF($P$5=\"Course 3\",Général!K$172,Général!K$174)))","v":"Centrale Nantes 1"},{"$f":"IF($Q$5=\"Course 1\",Général!K$178,IF($Q$5=\"Course 2\",Général!K$180,IF($Q$5=\"Course 3\",Général!K$182,Général!K$184)))","v":"Paris Sorbone"},{"$f":"IF($R$5=\"Course 1\",Général!K$188,IF($R$5=\"Course 2\",Général!K$190,IF($R$5=\"Course 3\",Général!K$192,Général!K$194)))","v":"UBO 1"},{"$f":"IF($S$5=\"Course 1\",Général!K$198,IF($S$5=\"Course 2\",Général!K$200,IF($S$5=\"Course 3\",Général!K$202,Général!K$204)))","v":"Univ Nantes 3"},{"$f":"IF($T$5=\"Course 1\",Général!K$208,IF($T$5=\"Course 2\",Général!K$210,IF($T$5=\"Course 3\",Général!K$212,Général!K$214)))","v":"Paris Cité"},null,{"$f":"Général!B19","v":"Hannover"},7]
[null,null,null,null,null,null,null,null,null,null,null,null,null,null,null,null,null,null,null,null,null,{"$f":"Général!B20","v":"ENSTA 2"},5]
[null,null,null,null,null,null,null,null,null,null,null,null,null,null,null,null,null,null,null,null,null,{"$f":"Général!B21","v":"Southampton"},4]
[null,null,null,null,null,null,null,null,null,null,null,null,null,null,null,null,null,null,null,null,null,{"$f":"Général!B22","v":"La Rochelle 1"},7]
[null,null,null,null,null,null,null,null,null,null,null,null,null,null,null,null,null,null,null,null,null,{"$f":"Général!B23","v":"Centrale Nantes 1"},7]
[null,null,null,null,null,null,null,null,null,null,null,null,null,null,null,null,null,null,null,null,null,{"$f":"Général!B24","v":"ST Brieuc 2"},6]
[null,null,null,null,null,null,null,null,null,null,null,null,null,null,null,null,null,null,null,null,null,{"$f":"Général!B25","v":"UNIV Nantes 1"},5]
[null,null,null,null,null,null,null,null,null,null,null,null,null,null,null,null,null,null,null,null,null,{"$f":"Général!B26","v":"Intechmer"},2]
[null,null,null,null,null,null,null,null,null,null,null,null,null,null,null,null,null,null,null,null,null,{"$f":"Général!B27","v":"IMT Nantes"},4]
[null,null,null,null,null,null,null,null,null,null,null,null,null,null,null,null,null,null,null,null,null,{"$f":"Général!B28","v":"INSA Lyon"},4]
[null,null,null,null,null,null,null,null,null,null,null,null,null,null,null,null,null,null,null,null,null,{"$f":"Général!B29","v":"Centrale Nantes 2"},4]
[null,null,null,null,null,null,null,null,null,null,null,null,null,null,null,null,null,null,null,null,null,{"$f":"Général!B30","v":"UBS Lorient 2"},7]
[null,null,null,null,null,null,null,null,null,null,null,null,null,null,null,null,null,null,null,null,null,{"$f":"Général!B31","v":"La Rochelle 2"},4]
[null,null,null,null,null,null,null,null,null,null,null,null,null,null,null,null,null,null,null,null,null,{"$f":"Général!B32","v":"UBO 1"},6]
[null,null,null,null,null,null,null,null,null,null,null,null,null,null,null,null,null,null,null,null,null,{"$f":"Général!B33","v":"Eq.31"},0]
[null,null,null,null,null,null,null,null,null,null,null,null,null,null,null,null,null,null,null,null,null,{"$f":"Général!B34","v":"Eq.32"},0]

{"sheet":"Eq.4","index":9,"n_rows":32,"n_cols":23,"rows_kept":32,"cut":false,"hidden":false,"merged":[[7,0,7,1],[0,0,1,5],[0,6,1,10],[3,0,3,1],[4,0,4,1],[5,0,5,1],[14,0,14,1],[15,0,15,1],[16,0,16,1],[8,0,8,1],[9,0,9,1],[10,0,10,1],[11,0,11,1],[12,0,12,1],[13,0,13,1]]}
["Equipage ",null,null,null,null,null,{"$f":"Général!B6","v":"Univ Nantes 3"},null,null,null,null,null,null,null,null,null,null,null,null,null,null,{"$f":"Général!B3","v":"UBO 2"},{"$f":"COUNTIF(C$8:T$16,V1)","v":5}]
[null,null,null,null,null,null,null,null,null,null,null,null,null,null,null,null,null,null,null,null,null,{"$f":"Général!B4","v":"Paris Sorbone"},{"$f":"COUNTIF($C$8:$T$16,V2)","v":4}]
[null,null,null,null,null,null,null,null,null,null,null,null,null,null,null,null,null,null,null,null,null,{"$f":"Général!B5","v":"UBS Lorient 1"},{"$f":"COUNTIF($C$8:$T$16,V3)","v":5}]
[null,null,"FLIGHT 1","FLIGHT 2","FLIGHT 3","FLIGHT 4","FLIGHT 5","FLIGHT 6","FLIGHT 7","FLIGHT 8","FLIGHT 9","FLIGHT 10","FLIGHT 11","FLIGHT 12","FLIGHT 13","FLIGHT 14","FLIGHT 15","FLIGHT 16","FLIGHT 17","FLIGHT 18",null,{"$f":"Général!B6","v":"Univ Nantes 3"},14]
["N° de course",null,{"$f":"IF(COUNTIF(Général!B38:K38,$G$1)=1,\"Course 1\",IF(COUNTIF(Général!B40:K40,$G$1)=1,\"Course 2\",IF(COUNTIF(Général!B42:K42,$G$1)=1,\"Course 3\",\"Course 4\")))","v":"Course 1"},{"$f":"IF(COUNTIF(Général!B48:K48,$G$1)=1,\"Course 1\",IF(COUNTIF(Général!B50:K50,$G$1)=1,\"Course 2\",IF(COUNTIF(Général!B52:K52,$G$1)=1,\"Course 3\",\"Course 4\")))","v":"Course 2"},{"$f":"IF(COUNTIF(Général!B58:K58,$G$1)=1,\"Course 1\",IF(COUNTIF(Général!B60:K60,$G$1)=1,\"Course 2\",IF(COUNTIF(Général!B62:K62,$G$1)=1,\"Course 3\",\"Course 4\")))","v":"Course 2"},{"$f":"IF(COUNTIF(Général!B68:K68,$G$1)=1,\"Course 1\",IF(COUNTIF(Général!B70:K70,$G$1)=1,\"Course 2\",IF(COUNTIF(Général!B72:K72,$G$1)=1,\"Course 3\",\"Course 4\")))","v":"Course 2"},{"$f":"IF(COUNTIF(Général!B78:K78,$G$1)=1,\"Course 1\",IF(COUNTIF(Général!B80:K80,$G$1)=1,\"Course 2\",IF(COUNTIF(Général!B82:K82,$G$1)=1,\"Course 3\",\"Course 4\")))","v":"Course 2"},{"$f":"IF(COUNTIF(Général!B88:K88,$G$1)=1,\"Course 1\",IF(COUNTIF(Général!B90:K90,$G$1)=1,\"Course 2\",IF(COUNTIF(Général!B92:K92,$G$1)=1,\"Course 3\",\"Course 4\")))","v":"Course 2"},{"$f":"IF(COUNTIF(Général!B98:K98,$G$1)=1,\"Course 1\",IF(COUNTIF(Général!B100:K100,$G$1)=1,\"Course 2\",IF(COUNTIF(Général!B102:K102,$G$1)=1,\"Course 3\",\"Course 4\")))","v":"Course 2"},{"$f":"IF(COUNTIF(Général!B108:K108,$G$1)=1,\"Course 1\",IF(COUNTIF(Général!B110:K110,$G$1)=1,\"Course 2\",IF(COUNTIF(Général!B112:K112,$G$1)=1,\"Course 3\",\"Course 4\")))","v":"Course 1"},{"$f":"IF(COUNTIF(Général!B118:K118,$G$1)=1,\"Course 1\",IF(COUNTIF(Général!B120:K120,$G$1)=1,\"Course 2\",IF(COUNTIF(Général!B122:K122,$G$1)=1,\"Course 3\",\"Course 4\")))","v":"Course 1"},{"$f":"IF(COUNTIF(Général!B128:K128,$G$1)=1,\"Course 1\",IF(COUNTIF(Général!B130:K130,$G$1)=1,\"Course 2\",IF(COUNTIF(Général!B132:K132,$G$1)=1,\"Course 3\",\"Course 4\")))","v":"Course 1"},{"$f":"IF(COUNTIF(Général!B138:K138,$G$1)=1,\"Course 1\",IF(COUNTIF(Général!B140:K140,$G$1)=1,\"Course 2\",IF(COUNTIF(Général!B142:K142,$G$1)=1,\"Course 3\",\"Course 4\")))","v":"Course 2"},{"$f":"IF(COUNTIF(Général!B148:K148,$G$1)=1,\"Course 1\",IF(COUNTIF(Général!B150:K150,$G$1)=1,\"Course 2\",IF(COUNTIF(Général!B152:K152,$G$1)=1,\"Course 3\",\"Course 4\")))","v":"Course 2"},{"$f":"IF(COUNTIF(Général!B158:K158,$G$1)=1,\"Course 1\",IF(COUNTIF(Général!B160:K160,$G$1)=1,\"Course 2\",IF(COUNTIF(Général!B162:K162,$G$1)=1,\"Course 3\",\"Course 4\")))","v":"Course 3"},{"$f":"IF(COUNTIF(Général!B168:K168,$G$1)=1,\"Course 1\",IF(COUNTIF(Général!B170:K170,$G$1)=1,\"Course 2\",IF(COUNTIF(Général!B172:K172,$G$1)=1,\"Course 3\",\"Course 4\")))","v":"Course 2"},{"$f":"IF(COUNTIF(Général!B178:K178,$G$1)=1,\"Course 1\",IF(COUNTIF(Général!B180:K180,$G$1)=1,\"Course 2\",IF(COUNTIF(Général!B182:K182,$G$1)=1,\"Course 3\",\"Course 4\")))","v":"Course 3"},{"$f":"IF(COUNTIF(Général!B188:K188,$G$1)=1,\"Course 1\",IF(COUNTIF(Général!B190:K190,$G$1)=1,\"Course 2\",IF(COUNTIF(Général!B192:K192,$G$1)=1,\"Course 3\",\"Course 4\")))","v":"Course 1"},{"$f":"IF(COUNTIF(Général!B198:K198,$G$1)=1,\"Course 1\",IF(COUNTIF(Général!B200:K200,$G$1)=1,\"Course 2\",IF(COUNTIF(Général!B202:K202,$G$1)=1,\"Course 3\",\"Course 4\")))","v":"Course 2"},{"$f":"IF(COUNTIF(Général!B208:K208,$G$1)=1,\"Course 1\",IF(COUNTIF(Général!B210:K210,$G$1)=1,\"Course 2\",IF(COUNTIF(Général!B212:K212,$G$1)=1,\"Course 3\",\"Course 4\")))","v":"Course 2"},null,{"$f":"Général!B7","v":"Paris Cité"},5]
["Bateau",null,{"$f":"IF(COUNTIF(Général!B38:B44,$G$1)=1,\"Boat 1\",IF(COUNTIF(Général!C38:C44,$G$1)=1,\"Boat 2\",IF(COUNTIF(Général!D38:D44,$G$1)=1,\"Boat 3\", IF(COUNTIF(Général!E38:E44,$G$1)=1,\"Boat 4\", IF(COUNTIF(Général!F38:F44,$G$1)=1,\"Boat 5\", IF(COUNTIF(Général!G38:G44,$G$1)=1,\"Boat 6\", IF(COUNTIF(Général!H38:H44,$G$1)=1,\"Boat 7\",IF(COUNTIF(Général!I38:I44,$G$1)=1,\"Boat 8\",\"Boat 9\"))))))))","v":"Boat 8"},{"$f":"IF(COUNTIF(Général!B48:B54,$G$1)=1,\"Boat 1\",IF(COUNTIF(Général!C48:C54,$G$1)=1,\"Boat 2\",IF(COUNTIF(Général!D48:D54,$G$1)=1,\"Boat 3\", IF(COUNTIF(Général!E48:E54,$G$1)=1,\"Boat 4\", IF(COUNTIF(Général!F48:F54,$G$1)=1,\"Boat 5\", IF(COUNTIF(Général!G48:G54,$G$1)=1,\"Boat 6\", IF(COUNTIF(Général!H48:H54,$G$1)=1,\"Boat 7\",IF(COUNTIF(Général!I38:I44,$G$1)=1,\"Boat 8\",\"Boat 9\"))))))))","v":"Boat 2"},{"$f":"IF(COUNTIF(Général!B58:B64,$G$1)=1,\"Boat 1\",IF(COUNTIF(Général!C58:C64,$G$1)=1,\"Boat 2\",IF(COUNTIF(Général!D58:D64,$G$1)=1,\"Boat 3\", IF(COUNTIF(Général!E58:E64,$G$1)=1,\"Boat 4\", IF(COUNTIF(Général!F58:F64,$G$1)=1,\"Boat 5\", IF(COUNTIF(Général!G58:G64,$G$1)=1,\"Boat 6\", IF(COUNTIF(Général!H58:H64,$G$1)=1,\"Boat 7\",IF(COUNTIF(Général!I38:I44,$G$1)=1,\"Boat 8\",\"Boat 9\"))))))))","v":"Boat 1"},{"$f":"IF(COUNTIF(Général!B68:B74,$G$1)=1,\"Boat 1\",IF(COUNTIF(Général!C68:C74,$G$1)=1,\"Boat 2\",IF(COUNTIF(Général!D68:D74,$G$1)=1,\"Boat 3\", IF(COUNTIF(Général!E68:E74,$G$1)=1,\"Boat 4\", IF(COUNTIF(Général!F68:F74,$G$1)=1,\"Boat 5\", IF(COUNTIF(Général!G68:G74,$G$1)=1,\"Boat 6\", IF(COUNTIF(Général!H68:H74,$G$1)=1,\"Boat 7\",IF(COUNTIF(Général!I38:I44,$G$1)=1,\"Boat 8\",\"Boat 9\"))))))))","v":"Boat 1"},{"$f":"IF(COUNTIF(Général!B78:B84,$G$1)=1,\"Boat 1\",IF(COUNTIF(Général!C78:C84,$G$1)=1,\"Boat 2\",IF(COUNTIF(Général!D78:D84,$G$1)=1,\"Boat 3\", IF(COUNTIF(Général!E78:E84,$G$1)=1,\"Boat 4\", IF(COUNTIF(Général!F78:F84,$G$1)=1,\"Boat 5\", IF(COUNTIF(Général!G78:G84,$G$1)=1,\"Boat 6\", IF(COUNTIF(Général!H78:H84,$G$1)=1,\"Boat 7\",IF(COUNTIF(Général!I38:I44,$G$1)=1,\"Boat 8\",\"Boat 9\"))))))))","v":"Boat 2"},{"$f":"IF(COUNTIF(Général!B88:B94,$G$1)=1,\"Boat 1\",IF(COUNTIF(Général!C88:C94,$G$1)=1,\"Boat 2\",IF(COUNTIF(Général!D88:D94,$G$1)=1,\"Boat 3\", IF(COUNTIF(Général!E88:E94,$G$1)=1,\"Boat 4\", IF(COUNTIF(Général!F88:F94,$G$1)=1,\"Boat 5\", IF(COUNTIF(Général!G88:G94,$G$1)=1,\"Boat 6\", IF(COUNTIF(Général!H88:H94,$G$1)=1,\"Boat 7\",IF(COUNTIF(Général!I38:I44,$G$1)=1,\"Boat 8\",\"Boat 9\"))))))))","v":"Boat 8"},{"$f":"IF(COUNTIF(Général!B98:B104,$G$1)=1,\"Boat 1\",IF(COUNTIF(Général!C98:C104,$G$1)=1,\"Boat 2\",IF(COUNTIF(Général!D98:D104,$G$1)=1,\"Boat 3\", IF(COUNTIF(Général!E98:E104,$G$1)=1,\"Boat 4\", IF(COUNTIF(Général!F98:F104,$G$1)=1,\"Boat 5\", IF(COUNTIF(Général!G98:G104,$G$1)=1,\"Boat 6\", IF(COUNTIF(Général!H98:H104,$G$1)=1,\"Boat 7\",IF(COUNTIF(Général!I38:I44,$G$1)=1,\"Boat 8\",\"Boat 9\"))))))))","v":"Boat 6"},{"$f":"IF(COUNTIF(Général!B108:B114,$G$1)=1,\"Boat 1\",IF(COUNTIF(Général!C108:C114,$G$1)=1,\"Boat 2\",IF(COUNTIF(Général!D108:D114,$G$1)=1,\"Boat 3\", IF(COUNTIF(Général!E108:E114,$G$1)=1,\"Boat 4\", IF(COUNTIF(Général!F108:F114,$G$1)=1,\"Boat 5\", IF(COUNTIF(Général!G108:G114,$G$1)=1,\"Boat 6\", IF(COUNTIF(Général!H108:H114,$G$1)=1,\"Boat 7\",IF(COUNTIF(Général!I38:I44,$G$1)=1,\"Boat 8\",\"Boat 9\"))))))))","v":"Boat 8"},{"$f":"IF(COUNTIF(Général!B118:B124,$G$1)=1,\"Boat 1\",IF(COUNTIF(Général!C118:C124,$G$1)=1,\"Boat 2\",IF(COUNTIF(Général!D118:D124,$G$1)=1,\"Boat 3\", IF(COUNTIF(Général!E118:E124,$G$1)=1,\"Boat 4\", IF(COUNTIF(Général!F118:F124,$G$1)=1,\"Boat 5\", IF(COUNTIF(Général!G118:G124,$G$1)=1,\"Boat 6\", IF(COUNTIF(Général!H118:H124,$G$1)=1,\"Boat 7\",IF(COUNTIF(Général!I38:I44,$G$1)=1,\"Boat 8\",\"Boat 9\"))))))))","v":"Boat 8"},{"$f":"IF(COUNTIF(Général!B128:B134,$G$1)=1,\"Boat 1\",IF(COUNTIF(Général!C128:C134,$G$1)=1,\"Boat 2\",IF(COUNTIF(Général!D128:D134,$G$1)=1,\"Boat 3\", IF(COUNTIF(Général!E128:E134,$G$1)=1,\"Boat 4\", IF(COUNTIF(Général!F128:F134,$G$1)=1,\"Boat 5\", IF(COUNTIF(Général!G128:G134,$G$1)=1,\"Boat 6\", IF(COUNTIF(Général!H128:H134,$G$1)=1,\"Boat 7\",IF(COUNTIF(Général!I38:I44,$G$1)=1,\"Boat 8\",\"Boat 9\"))))))))","v":"Boat 2"},{"$f":"IF(COUNTIF(Général!B138:B144,$G$1)=1,\"Boat 1\",IF(COUNTIF(Général!C138:C144,$G$1)=1,\"Boat 2\",IF(COUNTIF(Général!C138:D144,$G$1)=1,\"Boat 3\", IF(COUNTIF(Général!C138:E144,$G$1)=1,\"Boat 4\", IF(COUNTIF(Général!F138:F144,$G$1)=1,\"Boat 5\", IF(COUNTIF(Général!G138:G144,$G$1)=1,\"Boat 6\", IF(COUNTIF(Général!H138:H144,$G$1)=1,\"Boat 7\",IF(COUNTIF(Général!I38:I44,$G$1)=1,\"Boat 8\",\"Boat 9\"))))))))","v":"Boat 6"},{"$f":"IF(COUNTIF(Général!B148:B154,$G$1)=1,\"Boat 1\",IF(COUNTIF(Général!C148:C154,$G$1)=1,\"Boat 2\",IF(COUNTIF(Général!D148:D154,$G$1)=1,\"Boat 3\", IF(COUNTIF(Général!E148:E154,$G$1)=1,\"Boat 4\", IF(COUNTIF(Général!F148:F154,$G$1)=1,\"Boat 5\", IF(COUNTIF(Général!G148:G154,$G$1)=1,\"Boat 6\", IF(COUNTIF(Général!H148:H154,$G$1)=1,\"Boat 7\",IF(COUNTIF(Général!I38:I44,$G$1)=1,\"Boat 8\",\"Boat 9\"))))))))","v":"Boat 8"},{"$f":"IF(COUNTIF(Général!B158:B164,$G$1)=1,\"Boat 1\",IF(COUNTIF(Général!C158:C164,$G$1)=1,\"Boat 2\",IF(COUNTIF(Général!D160:D164,$G$1)=1,\"Boat 3\", IF(COUNTIF(Général!E158:E164,$G$1)=1,\"Boat 4\", IF(COUNTIF(Général!F158:F164,$G$1)=1,\"Boat 5\", IF(COUNTIF(Général!G158:G164,$G$1)=1,\"Boat 6\", IF(COUNTIF(Général!H158:H164,$G$1)=1,\"Boat 7\",IF(COUNTIF(Général!I38:I44,$G$1)=1,\"Boat 8\",\"Boat 9\"))))))))","v":"Boat 7"},{"$f":"IF(COUNTIF(Général!B168:B174,$G$1)=1,\"Boat 1\",IF(COUNTIF(Général!C168:C174,$G$1)=1,\"Boat 2\",IF(COUNTIF(Général!D168:D174,$G$1)=1,\"Boat 3\", IF(COUNTIF(Général!E168:E174,$G$1)=1,\"Boat 4\", IF(COUNTIF(Général!F178:F184,$G$1)=1,\"Boat 5\", IF(COUNTIF(Général!G178:G184,$G$1)=1,\"Boat 6\", IF(COUNTIF(Général!H178:H184,$G$1)=1,\"Boat 7\",IF(COUNTIF(Général!I38:I44,$G$1)=1,\"Boat 8\",\"Boat 9\"))))))))","v":"Boat 2"},{"$f":"IF(COUNTIF(Général!B178:B184,$G$1)=1,\"Boat 1\",IF(COUNTIF(Général!C178:C184,$G$1)=1,\"Boat 2\",IF(COUNTIF(Général!D178:D184,$G$1)=1,\"Boat 3\", IF(COUNTIF(Général!E178:E184,$G$1)=1,\"Boat 4\", IF(COUNTIF(Général!F178:F184,$G$1)=1,\"Boat 5\", IF(COUNTIF(Général!G178:G184,$G$1)=1,\"Boat 6\", IF(COUNTIF(Général!H178:H184,$G$1)=1,\"Boat 7\",IF(COUNTIF(Général!I38:I44,$G$1)=1,\"Boat 8\",\"Boat 9\"))))))))","v":"Boat 8"},{"$f":"IF(COUNTIF(Général!B188:B194,$G$1)=1,\"Boat 1\",IF(COUNTIF(Général!C188:C194,$G$1)=1,\"Boat 2\",IF(COUNTIF(Général!D188:D194,$G$1)=1,\"Boat 3\", IF(COUNTIF(Général!E188:E194,$G$1)=1,\"Boat 4\", IF(COUNTIF(Général!F188:F194,$G$1)=1,\"Boat 5\", IF(COUNTIF(Général!G188:G194,$G$1)=1,\"Boat 6\", IF(COUNTIF(Général!H188:H194,$G$1)=1,\"Boat 7\",IF(COUNTIF(Général!I38:I44,$G$1)=1,\"Boat 8\",\"Boat 9\"))))))))","v":"Boat 8"},{"$f":"IF(COUNTIF(Général!B198:B204,$G$1)=1,\"Boat 1\",IF(COUNTIF(Général!C198:C204,$G$1)=1,\"Boat 2\",IF(COUNTIF(Général!D198:D204,$G$1)=1,\"Boat 3\", IF(COUNTIF(Général!E198:E204,$G$1)=1,\"Boat 4\", IF(COUNTIF(Général!F198:F204,$G$1)=1,\"Boat 5\", IF(COUNTIF(Général!G198:G204,$G$1)=1,\"Boat 6\", IF(COUNTIF(Général!H198:H204,$G$1)=1,\"Boat 7\",IF(COUNTIF(Général!I38:I44,$G$1)=1,\"Boat 8\",\"Boat 9\"))))))))","v":"Boat 8"},{"$f":"IF(COUNTIF(Général!B208:B214,$G$1)=1,\"Boat 1\",IF(COUNTIF(Général!C208:C214,$G$1)=1,\"Boat 2\",IF(COUNTIF(Général!D208:D214,$G$1)=1,\"Boat 3\", IF(COUNTIF(Général!E208:E214,$G$1)=1,\"Boat 4\", IF(COUNTIF(Général!F208:F214,$G$1)=1,\"Boat 5\", IF(COUNTIF(Général!G208:G214,$G$1)=1,\"Boat 6\", IF(COUNTIF(Général!H208:H214,$G$1)=1,\"Boat 7\",IF(COUNTIF(Général!I38:I44,$G$1)=1,\"Boat 8\",\"Boat 9\"))))))))","v":"Boat 4"},null,{"$f":"Général!B8","v":"Plymouth"},4]
[null,null,null,null,null,null,null,null,null,null,null,null,null,null,null,null,null,null,null,null,null,{"$f":"Général!B9","v":"Unicaen 2"},6]
["1er Equipage",null,{"$f":"IF($C$5=\"Course 1\",Général!B38,IF($C$5=\"Course 2\",Général!B40,IF($C$5=\"Course 3\",Général!B42,Général!B44)))","v":"IMT Nantes"},{"$f":"IF($D$5=\"Course 1\",Général!B48,IF($D$5=\"Course 2\",Général!B50,IF($D$5=\"Course 3\",Général!B52,Général!B54)))","v":"St Brieuc 1"},{"$f":"IF($E$5=\"Course 1\",Général!B58,IF($E$5=\"Course 2\",Général!B60,IF($E$5=\"Course 3\",Général!B62,Général!B64)))","v":"Univ Nantes 3"},{"$f":"IF($F$5=\"Course 1\",Général!B$68,IF($F$5=\"Course 2\",Général!B$70,IF($F$5=\"Course 3\",Général!B$72,Général!B$74)))","v":"Univ Nantes 3"},{"$f":"IF($G$5=\"Course 1\",Général!B$78,IF($G$5=\"Course 2\",Général!B$80,IF($G$5=\"Course 3\",Général!B$82,Général!B$84)))","v":"Plymouth"},{"$f":"IF($H$5=\"Course 1\",Général!B$88,IF($H$5=\"Course 2\",Général!B$90,IF($H$5=\"Course 3\",Général!B$92,Général!B$94)))","v":"Univ Nantes 2"},{"$f":"IF($I$5=\"Course 1\",Général!B$98,IF($I$5=\"Course 2\",Général!B$100,IF($I$5=\"Course 3\",Général!B$102,Général!B$104)))","v":"Unicaen 1"},{"$f":"IF($J$5=\"Course 1\",Général!B$108,IF($J$5=\"Course 2\",Général!B$110,IF($J$5=\"Course 3\",Général!B$112,Général!B$114)))","v":"La Rochelle 2"},{"$f":"IF($K$5=\"Course 1\",Général!B$118,IF($K$5=\"Course 2\",Général!B$120,IF($K$5=\"Course 3\",Général!B$122,Général!B$124)))","v":"UNIV Nantes 1"},{"$f":"IF($L$5=\"Course 1\",Général!B$128,IF($L$5=\"Course 2\",Général!B$130,IF($L$5=\"Course 3\",Général!B$132,Général!B$134)))","v":"UBO 2"},{"$f":"IF($M$5=\"Course 1\",Général!B$138,IF($M$5=\"Course 2\",Général!B$140,IF($M$5=\"Course 3\",Général!B$142,Général!B$144)))","v":"Plymouth"},{"$f":"IF($N$5=\"Course 1\",Général!B$148,IF($N$5=\"Course 2\",Général!B$150,IF($N$5=\"Course 3\",Général!B$152,Général!B$154)))","v":"UBS Lorient 2"},{"$f":"IF($O$5=\"Course 1\",Général!B$158,IF($O$5=\"Course 2\",Général!B$160,IF($O$5=\"Course 3\",Général!B$162,Général!B$164)))","v":"St Brieuc 1"},{"$f":"IF($P$5=\"Course 1\",Général!B$168,IF($P$5=\"Course 2\",Général!B$170,IF($P$5=\"Course 3\",Général!B$172,Général!B$174)))","v":"ENSMAC"},{"$f":"IF($Q$5=\"Course 1\",Général!B$178,IF($Q$5=\"Course 2\",Général!B$180,IF($Q$5=\"Course 3\",Général!B$182,Général!B$184)))","v":"Paris Cité"},{"$f":"IF($R$5=\"Course 1\",Général!B$188,IF($R$5=\"Course 2\",Général!B$190,IF($R$5=\"Course 3\",Général!B$192,Général!B$194)))","v":"IMT Brest 2"},{"$f":"IF($S$5=\"Course 1\",Général!B$198,IF($S$5=\"Course 2\",Général!B$200,IF($S$5=\"Course 3\",Général!B$202,Général!B$204)))","v":"ENSTA 2"},{"$f":"IF($T$5=\"Course 1\",Général!B$208,IF($T$5=\"Course 2\",Général!B$210,IF($T$5=\"Course 3\",Général!B$212,Général!B$214)))","v":"UBO 1"},null,{"$f":"Général!B10","v":"Univ Nantes 2"},8]
["2nd Equipage",null,{"$f":"IF($C$5=\"Course 1\",Général!C38,IF($C$5=\"Course 2\",Général!C40,IF($C$5=\"Course 3\",Général!C42,Général!C44)))","v":"Unicaen 1"},{"$f":"IF($D$5=\"Course 1\",Général!C48,IF($D$5=\"Course 2\",Général!C50,IF($D$5=\"Course 3\",Général!C52,Général!C54)))","v":"Univ Nantes 3"},{"$f":"IF($E$5=\"Course 1\",Général!C58,IF($E$5=\"Course 2\",Général!C60,IF($E$5=\"Course 3\",Général!C62,Général!C64)))","v":"IMT Nantes"},{"$f":"IF($F$5=\"Course 1\",Général!C$68,IF($F$5=\"Course 2\",Général!C$70,IF($F$5=\"Course 3\",Général!C$72,Général!C$74)))","v":"Paris Cité"},{"$f":"IF($G$5=\"Course 1\",Général!C$78,IF($G$5=\"Course 2\",Général!C$80,IF($G$5=\"Course 3\",Général!C$82,Général!C$84)))","v":"Univ Nantes 3"},{"$f":"IF($H$5=\"Course 1\",Général!C$88,IF($H$5=\"Course 2\",Général!C$90,IF($H$5=\"Course 3\",Général!C$92,Général!C$94)))","v":"La Rochelle 2"},{"$f":"IF($I$5=\"Course 1\",Général!C$98,IF($I$5=\"Course 2\",Général!C$100,IF($I$5=\"Course 3\",Général!C$102,Général!C$104)))","v":"La Rochelle 1"},{"$f":"IF($J$5=\"Course 1\",Général!C$108,IF($J$5=\"Course 2\",Général!C$110,IF($J$5=\"Course 3\",Général!C$112,Général!C$114)))","v":"ENSTA 2"},{"$f":"IF($K$5=\"Course 1\",Général!C$118,IF($K$5=\"Course 2\",Général!C$120,IF($K$5=\"Course 3\",Général!C$122,Général!C$124)))","v":"UBS Lorient 1"},{"$f":"IF($L$5=\"Course 1\",Général!C$128,IF($L$5=\"Course 2\",Général!C$130,IF($L$5=\"Course 3\",Général!C$132,Général!C$134)))","v":"Univ Nantes 3"},{"$f":"IF($M$5=\"Course 1\",Général!C$138,IF($M$5=\"Course 2\",Général!C$140,IF($M$5=\"Course 3\",Général!C$142,Général!C$144)))","v":"Karlsruhe"},{"$f":"IF($N$5=\"Course 1\",Général!C$148,IF($N$5=\"Course 2\",Général!C$150,IF($N$5=\"Course 3\",Général!C$152,Général!C$154)))","v":"UBO 1"},{"$f":"IF($O$5=\"Course 1\",Général!C$158,IF($O$5=\"Course 2\",Général!C$160,IF($O$5=\"Course 3\",Général!C$162,Général!C$164)))","v":"Karlsruhe"},{"$f":"IF($P$5=\"Course 1\",Général!C$168,IF($P$5=\"Course 2\",Général!C$170,IF($P$5=\"Course 3\",Général!C$172,Général!C$174)))","v":"Univ Nantes 3"},{"$f":"IF($Q$5=\"Course 1\",Général!C$178,IF($Q$5=\"Course 2\",Général!C$180,IF($Q$5=\"Course 3\",Général!C$182,Général!C$184)))","v":"ENSTA 1"},{"$f":"IF($R$5=\"Course 1\",Général!C$188,IF($R$5=\"Course 2\",Général!C$190,IF($R$5=\"Course 3\",Général!C$192,Général!C$194)))","v":"IMT Nantes"},{"$f":"IF($S$5=\"Course 1\",Général!C$198,IF($S$5=\"Course 2\",Général!C$200,IF($S$5=\"Course 3\",Général!C$202,Général!C$204)))","v":"Southampton"},{"$f":"IF($T$5=\"Course 1\",Général!C$208,IF($T$5=\"Course 2\",Général!C$210,IF($T$5=\"Course 3\",Général!C$212,Général!C$214)))","v":"Paris Sorbone"},null,{"$f":"Général!B11","v":"Karlsruhe"},5]
["3ème Equipage",null,{"$f":"IF($C$5=\"Course 1\",Général!D38,IF($C$5=\"Course 2\",Général!D40,IF($C$5=\"Course 3\",Général!D42,Général!D44)))","v":"St Brieuc 1"},{"$f":"IF($D$5=\"Course 1\",Général!D48,IF($D$5=\"Course 2\",Général!D50,IF($D$5=\"Course 3\",Général!D52,Général!D54)))","v":"UBS Lorient 2"},{"$f":"IF($E$5=\"Course 1\",Général!D58,IF($E$5=\"Course 2\",Général!D60,IF($E$5=\"Course 3\",Général!D62,Général!D64)))","v":"ENSTA 2"},{"$f":"IF($F$5=\"Course 1\",Général!D$68,IF($F$5=\"Course 2\",Général!D$70,IF($F$5=\"Course 3\",Général!D$72,Général!D$74)))","v":"Unicaen 2"},{"$f":"IF($G$5=\"Course 1\",Général!D$78,IF($G$5=\"Course 2\",Général!D$80,IF($G$5=\"Course 3\",Général!D$82,Général!D$84)))","v":"Paris Sorbone"},{"$f":"IF($H$5=\"Course 1\",Général!D$88,IF($H$5=\"Course 2\",Général!D$90,IF($H$5=\"Course 3\",Général!D$92,Général!D$94)))","v":"UNIV Nantes 1"},{"$f":"IF($I$5=\"Course 1\",Général!D$98,IF($I$5=\"Course 2\",Général!D$100,IF($I$5=\"Course 3\",Général!D$102,Général!D$104)))","v":"Southampton"},{"$f":"IF($J$5=\"Course 1\",Général!D$108,IF($J$5=\"Course 2\",Général!D$110,IF($J$5=\"Course 3\",Général!D$112,Général!D$114)))","v":"UBO 2"},{"$f":"IF($K$5=\"Course 1\",Général!D$118,IF($K$5=\"Course 2\",Général!D$120,IF($K$5=\"Course 3\",Général!D$122,Général!D$124)))","v":"ENSMAC"},{"$f":"IF($L$5=\"Course 1\",Général!D$128,IF($L$5=\"Course 2\",Général!D$130,IF($L$5=\"Course 3\",Général!D$132,Général!D$134)))","v":"Orléans"},{"$f":"IF($M$5=\"Course 1\",Général!D$138,IF($M$5=\"Course 2\",Général!D$140,IF($M$5=\"Course 3\",Général!D$142,Général!D$144)))","v":"Paris Sorbone"},{"$f":"IF($N$5=\"Course 1\",Général!D$148,IF($N$5=\"Course 2\",Général!D$150,IF($N$5=\"Course 3\",Général!D$152,Général!D$154)))","v":"Centrale Nantes 2"},{"$f":"IF($O$5=\"Course 1\",Général!D$158,IF($O$5=\"Course 2\",Général!D$160,IF($O$5=\"Course 3\",Général!D$162,Général!D$164)))","v":"ENSTA 1"},{"$f":"IF($P$5=\"Course 1\",Général!D$168,IF($P$5=\"Course 2\",Général!D$170,IF($P$5=\"Course 3\",Général!D$172,Général!D$174)))","v":"Intechmer"},{"$f":"IF($Q$5=\"Course 1\",Général!D$178,IF($Q$5=\"Course 2\",Général!D$180,IF($Q$5=\"Course 3\",Général!D$182,Général!D$184)))","v":"La Rochelle 1"},{"$f":"IF($R$5=\"Course 1\",Général!D$188,IF($R$5=\"Course 2\",Général!D$190,IF($R$5=\"Course 3\",Général!D$192,Général!D$194)))","v":"La Rochelle 1"},{"$f":"IF($S$5=\"Course 1\",Général!D$198,IF($S$5=\"Course 2\",Général!D$200,IF($S$5=\"Course 3\",Général!D$202,Général!D$204)))","v":"Paris Cité"},{"$f":"IF($T$5=\"Course 1\",Général!D$208,IF($T$5=\"Course 2\",Général!D$210,IF($T$5=\"Course 3\",Général!D$212,Général!D$214)))","v":"ENSMAC"},null,{"$f":"Général!B12","v":"IMT Brest 2"},1]
["4ème Equipage",null,{"$f":"IF($C$5=\"Course 1\",Général!E38,IF($C$5=\"Course 2\",Général!E40,IF($C$5=\"Course 3\",Général!E42,Général!E44)))","v":"La Rochelle 2"},{"$f":"IF($D$5=\"Course 1\",Général!E48,IF($D$5=\"Course 2\",Général!E50,IF($D$5=\"Course 3\",Général!E52,Général!E54)))","v":"ENSTA 2"},{"$f":"IF($E$5=\"Course 1\",Général!E58,IF($E$5=\"Course 2\",Général!E60,IF($E$5=\"Course 3\",Général!E62,Général!E64)))","v":"Paris Cité"},{"$f":"IF($F$5=\"Course 1\",Général!E$68,IF($F$5=\"Course 2\",Général!E$70,IF($F$5=\"Course 3\",Général!E$72,Général!E$74)))","v":"Univ Nantes 2"},{"$f":"IF($G$5=\"Course 1\",Général!E$78,IF($G$5=\"Course 2\",Général!E$80,IF($G$5=\"Course 3\",Général!E$82,Général!E$84)))","v":"St Brieuc 1"},{"$f":"IF($H$5=\"Course 1\",Général!E$88,IF($H$5=\"Course 2\",Général!E$90,IF($H$5=\"Course 3\",Général!E$92,Général!E$94)))","v":"Karlsruhe"},{"$f":"IF($I$5=\"Course 1\",Général!E$98,IF($I$5=\"Course 2\",Général!E$100,IF($I$5=\"Course 3\",Général!E$102,Général!E$104)))","v":"Karlsruhe"},{"$f":"IF($J$5=\"Course 1\",Général!E$108,IF($J$5=\"Course 2\",Général!E$110,IF($J$5=\"Course 3\",Général!E$112,Général!E$114)))","v":"Paris Sorbone"},{"$f":"IF($K$5=\"Course 1\",Général!E$118,IF($K$5=\"Course 2\",Général!E$120,IF($K$5=\"Course 3\",Général!E$122,Général!E$124)))","v":"UBS Lorient 2"},{"$f":"IF($L$5=\"Course 1\",Général!E$128,IF($L$5=\"Course 2\",Général!E$130,IF($L$5=\"Course 3\",Général!E$132,Général!E$134)))","v":"IMT Brest 1"},{"$f":"IF($M$5=\"Course 1\",Général!E$138,IF($M$5=\"Course 2\",Général!E$140,IF($M$5=\"Course 3\",Général!E$142,Général!E$144)))","v":"UBO 2"},{"$f":"IF($N$5=\"Course 1\",Général!E$148,IF($N$5=\"Course 2\",Général!E$150,IF($N$5=\"Course 3\",Général!E$152,Général!E$154)))","v":"UBS Lorient 1"},{"$f":"IF($O$5=\"Course 1\",Général!E$158,IF($O$5=\"Course 2\",Général!E$160,IF($O$5=\"Course 3\",Général!E$162,Général!E$164)))","v":"Univ Nantes 2"},{"$f":"IF($P$5=\"Course 1\",Général!E$168,IF($P$5=\"Course 2\",Général!E$170,IF($P$5=\"Course 3\",Général!E$172,Général!E$174)))","v":"INSA Lyon"},{"$f":"IF($Q$5=\"Course 1\",Général!E$178,IF($Q$5=\"Course 2\",Général!E$180,IF($Q$5=\"Course 3\",Général!E$182,Général!E$184)))","v":"Centrale Nantes 1"},{"$f":"IF($R$5=\"Course 1\",Général!E$188,IF($R$5=\"Course 2\",Général!E$190,IF($R$5=\"Course 3\",Général!E$192,Général!E$194)))","v":"St Brieuc 1"},{"$f":"IF($S$5=\"Course 1\",Général!E$198,IF($S$5=\"Course 2\",Général!E$200,IF($S$5=\"Course 3\",Général!E$202,Général!E$204)))","v":"ENSMAC"},{"$f":"IF($T$5=\"Course 1\",Général!E$208,IF($T$5=\"Course 2\",Général!E$210,IF($T$5=\"Course 3\",Général!E$212,Général!E$214)))","v":"Univ Nantes 3"},null,{"$f":"Général!B13","v":"Unicaen 1"},7]
["5ème Equipage",null,{"$f":"IF($C$5=\"Course 1\",Général!F38,IF($C$5=\"Course 2\",Général!F40,IF($C$5=\"Course 3\",Général!F42,Général!F44)))","v":"UBO 2"},{"$f":"IF($D$5=\"Course 1\",Général!F48,IF($D$5=\"Course 2\",Général!F50,IF($D$5=\"Course 3\",Général!F52,Général!F54)))","v":"ST Brieuc 2"},{"$f":"IF($E$5=\"Course 1\",Général!F58,IF($E$5=\"Course 2\",Général!F60,IF($E$5=\"Course 3\",Général!F62,Général!F64)))","v":"UBO 2"},{"$f":"IF($F$5=\"Course 1\",Général!F$68,IF($F$5=\"Course 2\",Général!F$70,IF($F$5=\"Course 3\",Général!F$72,Général!F$74)))","v":"La Rochelle 2"},{"$f":"IF($G$5=\"Course 1\",Général!F$78,IF($G$5=\"Course 2\",Général!F$80,IF($G$5=\"Course 3\",Général!F$82,Général!F$84)))","v":"INSA Lyon"},{"$f":"IF($H$5=\"Course 1\",Général!F$88,IF($H$5=\"Course 2\",Général!F$90,IF($H$5=\"Course 3\",Général!F$92,Général!F$94)))","v":"Plymouth"},{"$f":"IF($I$5=\"Course 1\",Général!F$98,IF($I$5=\"Course 2\",Général!F$100,IF($I$5=\"Course 3\",Général!F$102,Général!F$104)))","v":"UBS Lorient 1"},{"$f":"IF($J$5=\"Course 1\",Général!F$108,IF($J$5=\"Course 2\",Général!F$110,IF($J$5=\"Course 3\",Général!F$112,Général!F$114)))","v":"ST Brieuc 2"},{"$f":"IF($K$5=\"Course 1\",Général!F$118,IF($K$5=\"Course 2\",Général!F$120,IF($K$5=\"Course 3\",Général!F$122,Général!F$124)))","v":"Centrale Nantes 1"},{"$f":"IF($L$5=\"Course 1\",Général!F$128,IF($L$5=\"Course 2\",Général!$F130,IF($L$5=\"Course 3\",Général!F$132,Général!F$134)))","v":"Univ Nantes 2"},{"$f":"IF($M$5=\"Course 1\",Général!F$138,IF($M$5=\"Course 2\",Général!F$140,IF($M$5=\"Course 3\",Général!F$142,Général!F$144)))","v":"ENSTA 2"},{"$f":"IF($N$5=\"Course 1\",Général!F$148,IF($N$5=\"Course 2\",Général!F$150,IF($N$5=\"Course 3\",Général!F$152,Général!F$154)))","v":"ST Brieuc 2"},{"$f":"IF($O$5=\"Course 1\",Général!F$158,IF($O$5=\"Course 2\",Général!F$160,IF($O$5=\"Course 3\",Général!F$162,Général!F$164)))","v":"UNIV Nantes 1"},{"$f":"IF($P$5=\"Course 1\",Général!F$168,IF($P$5=\"Course 2\",Général!F$170,IF($P$5=\"Course 3\",Général!F$172,Général!F$174)))","v":"ENSTA 2"},{"$f":"IF($Q$5=\"Course 1\",Général!F$178,IF($Q$5=\"Course 2\",Général!F$180,IF($Q$5=\"Course 3\",Général!F$182,Général!F$184)))","v":"Hannover"},{"$f":"IF($R$5=\"Course 1\",Général!F$188,IF($R$5=\"Course 2\",Général!F$190,IF($R$5=\"Course 3\",Général!F$192,Général!F$194)))","v":"Hannover"},{"$f":"IF($S$5=\"Course 1\",Général!F$198,IF($S$5=\"Course 2\",Général!F$200,IF($S$5=\"Course 3\",Général!F$202,Général!F$204)))","v":"Unicaen 2"},{"$f":"IF($T$5=\"Course 1\",Général!F$208,IF($T$5=\"Course 2\",Général!F$210,IF($T$5=\"Course 3\",Général!F$212,Général!F$214)))","v":"UBS Lorient 1"},null,{"$f":"Général!B14","v":"ENSTA 1"},4]
["6ème Equipage",null,{"$f":"IF($C$5=\"Course 1\",Général!G38,IF($C$5=\"Course 2\",Général!G40,IF($C$5=\"Course 3\",Général!G42,Général!G44)))","v":"ENSTA 1"},{"$f":"IF($D$5=\"Course 1\",Général!G48,IF($D$5=\"Course 2\",Général!G50,IF($D$5=\"Course 3\",Général!G52,Général!G54)))","v":"La Rochelle 1"},{"$f":"IF($E$5=\"Course 1\",Général!G58,IF($E$5=\"Course 2\",Général!G60,IF($E$5=\"Course 3\",Général!G62,Général!G64)))","v":"ENSMAC"},{"$f":"IF($F$5=\"Course 1\",Général!G$68,IF($F$5=\"Course 2\",Général!G$70,IF($F$5=\"Course 3\",Général!G$72,Général!G$74)))","v":"ENSTA 2"},{"$f":"IF($G$5=\"Course 1\",Général!G$78,IF($G$5=\"Course 2\",Général!G$80,IF($G$5=\"Course 3\",Général!G$82,Général!G$84)))","v":"Centrale Nantes 1"},{"$f":"IF($H$5=\"Course 1\",Général!G$88,IF($H$5=\"Course 2\",Général!G$90,IF($H$5=\"Course 3\",Général!G$92,Général!G$94)))","v":"ENSMAC"},{"$f":"IF($I$5=\"Course 1\",Général!G$98,IF($I$5=\"Course 2\",Général!G$100,IF($I$5=\"Course 3\",Général!G$102,Général!G$104)))","v":"Univ Nantes 3"},{"$f":"IF($J$5=\"Course 1\",Général!G$108,IF($J$5=\"Course 2\",Général!G$110,IF($J$5=\"Course 3\",Général!G$112,Général!G$114)))","v":"Centrale Nantes 2"},{"$f":"IF($K$5=\"Course 1\",Général!G$118,IF($K$5=\"Course 2\",Général!G$120,IF($K$5=\"Course 3\",Général!G$122,Général!G$124)))","v":"St Brieuc 1"},{"$f":"IF($L$5=\"Course 1\",Général!G$128,IF($L$5=\"Course 2\",Général!G$130,IF($L$5=\"Course 3\",Général!G$132,Général!G$134)))","v":"Unicaen 1"},{"$f":"IF($M$5=\"Course 1\",Général!G$138,IF($M$5=\"Course 2\",Général!G$140,IF($M$5=\"Course 3\",Général!G$142,Général!G$144)))","v":"Univ Nantes 3"},{"$f":"IF($N$5=\"Course 1\",Général!G$148,IF($N$5=\"Course 2\",Général!G$150,IF($N$5=\"Course 3\",Général!G$152,Général!G$154)))","v":"Univ Nantes 2"},{"$f":"IF($O$5=\"Course 1\",Général!G$158,IF($O$5=\"Course 2\",Général!G$160,IF($O$5=\"Course 3\",Général!G$162,Général!G$164)))","v":"Unicaen 2"},{"$f":"IF($P$5=\"Course 1\",Général!G$168,IF($P$5=\"Course 2\",Général!G$170,IF($P$5=\"Course 3\",Général!G$172,Général!G$174)))","v":"ST Brieuc 2"},{"$f":"IF($Q$5=\"Course 1\",Général!G$178,IF($Q$5=\"Course 2\",Général!G$180,IF($Q$5=\"Course 3\",Général!G$182,Général!G$184)))","v":"Centrale Nantes 2"},{"$f":"IF($R$5=\"Course 1\",Général!G$188,IF($R$5=\"Course 2\",Général!G$190,IF($R$5=\"Course 3\",Général!G$192,Général!G$194)))","v":"Unicaen 2"},{"$f":"IF($S$5=\"Course 1\",Général!G$198,IF($S$5=\"Course 2\",Général!G$200,IF($S$5=\"Course 3\",Général!G$202,Général!G$204)))","v":"UBS Lorient 1"},{"$f":"IF($T$5=\"Course 1\",Général!G$208,IF($T$5=\"Course 2\",Général!G$210,IF($T$5=\"Course 3\",Général!G$212,Général!G$214)))","v":"INSA Lyon"},null,{"$f":"Général!B15","v":"Orléans"},2]
["7ème Equipage",null,{"$f":"IF($C$5=\"Course 1\",Général!H38,IF($C$5=\"Course 2\",Général!H40,IF($C$5=\"Course 3\",Général!H42,Général!H44)))","v":"IMT Brest 1"},{"$f":"IF($D$5=\"Course 1\",Général!H48,IF($D$5=\"Course 2\",Général!H50,IF($D$5=\"Course 3\",Général!H52,Général!H54)))","v":"Unicaen 2"},{"$f":"IF($E$5=\"Course 1\",Général!H58,IF($E$5=\"Course 2\",Général!H60,IF($E$5=\"Course 3\",Général!H62,Général!H64)))","v":"Hannover"},{"$f":"IF($F$5=\"Course 1\",Général!H$68,IF($F$5=\"Course 2\",Général!H$70,IF($F$5=\"Course 3\",Général!H$72,Général!H$74)))","v":"UBS Lorient 2"},{"$f":"IF($G$5=\"Course 1\",Général!H$78,IF($G$5=\"Course 2\",Général!H$80,IF($G$5=\"Course 3\",Général!H$82,Général!H$84)))","v":"La Rochelle 2"},{"$f":"IF($H$5=\"Course 1\",Général!H$88,IF($H$5=\"Course 2\",Général!H$90,IF($H$5=\"Course 3\",Général!H$92,Général!H$94)))","v":"Intechmer"},{"$f":"IF($I$5=\"Course 1\",Général!H$98,IF($I$5=\"Course 2\",Général!H$100,IF($I$5=\"Course 3\",Général!H$102,Général!H$104)))","v":"Plymouth"},{"$f":"IF($J$5=\"Course 1\",Général!H$108,IF($J$5=\"Course 2\",Général!H$110,IF($J$5=\"Course 3\",Général!H$112,Général!H$114)))","v":"St Brieuc 1"},{"$f":"IF($K$5=\"Course 1\",Général!H$118,IF($K$5=\"Course 2\",Général!H$120,IF($K$5=\"Course 3\",Général!H$122,Général!H$124)))","v":"Orléans"},{"$f":"IF($L$5=\"Course 1\",Général!H$128,IF($L$5=\"Course 2\",Général!H$130,IF($L$5=\"Course 3\",Général!H$132,Général!H$134)))","v":"UBO 1"},{"$f":"IF($M$5=\"Course 1\",Général!H$138,IF($M$5=\"Course 2\",Général!H$140,IF($M$5=\"Course 3\",Général!H$142,Général!H$144)))","v":"Univ Nantes 2"},{"$f":"IF($N$5=\"Course 1\",Général!H$148,IF($N$5=\"Course 2\",Général!H$150,IF($N$5=\"Course 3\",Général!H$152,Général!H$154)))","v":"ENSMAC"},{"$f":"IF($O$5=\"Course 1\",Général!H$158,IF($O$5=\"Course 2\",Général!H$160,IF($O$5=\"Course 3\",Général!H$162,Général!H$164)))","v":"Univ Nantes 3"},{"$f":"IF($P$5=\"Course 1\",Général!H$168,IF($P$5=\"Course 2\",Général!H$170,IF($P$5=\"Course 3\",Général!H$172,Général!H$174)))","v":"UNIV Nantes 1"},{"$f":"IF($Q$5=\"Course 1\",Général!H$178,IF($Q$5=\"Course 2\",Général!H$180,IF($Q$5=\"Course 3\",Général!H$182,Général!H$184)))","v":"IMT Brest 1"},{"$f":"IF($R$5=\"Course 1\",Général!H$188,IF($R$5=\"Course 2\",Général!H$190,IF($R$5=\"Course 3\",Général!H$192,Général!H$194)))","v":"Unicaen 1"},{"$f":"IF($S$5=\"Course 1\",Général!H$198,IF($S$5=\"Course 2\",Général!H$200,IF($S$5=\"Course 3\",Général!H$202,Général!H$204)))","v":"UBO 1"},{"$f":"IF($T$5=\"Course 1\",Général!H$208,IF($T$5=\"Course 2\",Général!H$210,IF($T$5=\"Course 3\",Général!H$212,Général!H$214)))","v":"Univ Nantes 2"},null,{"$f":"Général!B16","v":"IMT Brest 1"},4]
["8ème Equipage",null,{"$f":"IF($C$5=\"Course 1\",Général!I38,IF($C$5=\"Course 2\",Général!I40,IF($C$5=\"Course 3\",Général!I42,Général!I44)))","v":"Univ Nantes 3"},{"$f":"IF($D$5=\"Course 1\",Général!I48,IF($D$5=\"Course 2\",Général!I50,IF($D$5=\"Course 3\",Général!I52,Général!I54)))","v":"UNIV Nantes 1"},{"$f":"IF($E$5=\"Course 1\",Général!I58,IF($E$5=\"Course 2\",Général!I60,IF($E$5=\"Course 3\",Général!I62,Général!I64)))","v":"Unicaen 1"},{"$f":"IF($F$5=\"Course 1\",Général!I$68,IF($F$5=\"Course 2\",Général!I$70,IF($F$5=\"Course 3\",Général!I$72,Général!I$74)))","v":"INSA Lyon"},{"$f":"IF($G$5=\"Course 1\",Général!I$78,IF($G$5=\"Course 2\",Général!I$80,IF($G$5=\"Course 3\",Général!I$82,Général!I$84)))","v":"Centrale Nantes 2"},{"$f":"IF($H$5=\"Course 1\",Général!I$88,IF($H$5=\"Course 2\",Général!I$90,IF($H$5=\"Course 3\",Général!I$92,Général!I$94)))","v":"Unicaen 1"},{"$f":"IF($I$5=\"Course 1\",Général!I$98,IF($I$5=\"Course 2\",Général!I$100,IF($I$5=\"Course 3\",Général!I$102,Général!I$104)))","v":"IMT Nantes"},{"$f":"IF($J$5=\"Course 1\",Général!I$108,IF($J$5=\"Course 2\",Général!I$110,IF($J$5=\"Course 3\",Général!I$112,Général!I$114)))","v":"Paris Cité"},{"$f":"IF($K$5=\"Course 1\",Général!I$118,IF($K$5=\"Course 2\",Général!I$120,IF($K$5=\"Course 3\",Général!I$122,Général!I$124)))","v":"Univ Nantes 2"},{"$f":"IF($L$5=\"Course 1\",Général!I$128,IF($L$5=\"Course 2\",Général!I$130,IF($L$5=\"Course 3\",Général!I$132,Général!I$134)))","v":"Unicaen 2"},{"$f":"IF($M$5=\"Course 1\",Général!I$138,IF($M$5=\"Course 2\",Général!I$140,IF($M$5=\"Course 3\",Général!I$142,Général!I$144)))","v":"ST Brieuc 2"},{"$f":"IF($N$5=\"Course 1\",Général!I$148,IF($N$5=\"Course 2\",Général!I$150,IF($N$5=\"Course 3\",Général!I$152,Général!I$154)))","v":"Univ Nantes 3"},{"$f":"IF($O$5=\"Course 1\",Général!I$158,IF($O$5=\"Course 2\",Général!I$160,IF($O$5=\"Course 3\",Général!I$162,Général!I$164)))","v":"UBS Lorient 2"},{"$f":"IF($P$5=\"Course 1\",Général!I$168,IF($P$5=\"Course 2\",Général!I$170,IF($P$5=\"Course 3\",Général!I$172,Général!I$174)))","v":"Centrale Nantes 2"},{"$f":"IF($Q$5=\"Course 1\",Général!I$178,IF($Q$5=\"Course 2\",Général!I$180,IF($Q$5=\"Course 3\",Général!I$182,Général!I$184)))","v":"Univ Nantes 3"},{"$f":"IF($R$5=\"Course 1\",Général!I$188,IF($R$5=\"Course 2\",Général!I$190,IF($R$5=\"Course 3\",Général!I$192,Général!I$194)))","v":"Univ Nantes 3"},{"$f":"IF($S$5=\"Course 1\",Général!I$198,IF($S$5=\"Course 2\",Général!I$200,IF($S$5=\"Course 3\",Général!I$202,Général!I$204)))","v":"IMT Brest 1"},{"$f":"IF($T$5=\"Course 1\",Général!I$208,IF($T$5=\"Course 2\",Général!I$210,IF($T$5=\"Course 3\",Général!I$212,Général!I$214)))","v":"UNIV Nantes 1"},null,{"$f":"Général!B17","v":"ENSMAC"},7]
["9ème Equipage",null,{"$f":"IF($C$5=\"Course 1\",Général!J38,IF($C$5=\"Course 2\",Général!J40,IF($C$5=\"Course 3\",Général!J42,Général!J44)))","v":"Karlsruhe"},{"$f":"IF($D$5=\"Course 1\",Général!J48,IF($D$5=\"Course 2\",Général!J50,IF($D$5=\"Course 3\",Général!J52,Général!J54)))","v":"Southampton"},{"$f":"IF($E$5=\"Course 1\",Général!J58,IF($E$5=\"Course 2\",Général!J60,IF($E$5=\"Course 3\",Général!J62,Général!J64)))","v":"Southampton"},{"$f":"IF($F$5=\"Course 1\",Général!J$68,IF($F$5=\"Course 2\",Général!J$70,IF($F$5=\"Course 3\",Général!J$72,Général!J$74)))","v":"Unicaen 1"},{"$f":"IF($G$5=\"Course 1\",Général!J$78,IF($G$5=\"Course 2\",Général!J$80,IF($G$5=\"Course 3\",Général!J$82,Général!J$84)))","v":"UBS Lorient 2"},{"$f":"IF($H$5=\"Course 1\",Général!J$88,IF($H$5=\"Course 2\",Général!J$90,IF($H$5=\"Course 3\",Général!$J92,Général!J$94)))","v":"Centrale Nantes 2"},{"$f":"IF($I$5=\"Course 1\",Général!J$98,IF($I$5=\"Course 2\",Général!J$100,IF($I$5=\"Course 3\",Général!J$102,Général!J$104)))","v":"ENSTA 1"},{"$f":"IF($J$5=\"Course 1\",Général!J$108,IF($J$5=\"Course 2\",Général!J$110,IF($J$5=\"Course 3\",Général!J$112,Général!J$114)))","v":"UBO 1"},{"$f":"IF($K$5=\"Course 1\",Général!J$118,IF($K$5=\"Course 2\",Général!J$120,IF($K$5=\"Course 3\",Général!J$122,Général!J$124)))","v":"La Rochelle 1"},{"$f":"IF($L$5=\"Course 1\",Général!J$128,IF($L$5=\"Course 2\",Général!J$130,IF($L$5=\"Course 3\",Général!J$132,Général!J$134)))","v":"Centrale Nantes 2"},{"$f":"IF($M$5=\"Course 1\",Général!J$138,IF($M$5=\"Course 2\",Général!J$140,IF($M$5=\"Course 3\",Général!J$142,Général!J$144)))","v":"La Rochelle 1"},{"$f":"IF($N$5=\"Course 1\",Général!J$148,IF($N$5=\"Course 2\",Général!J$150,IF($N$5=\"Course 3\",Général!J$152,Général!J$154)))","v":"ENSTA 2"},{"$f":"IF($O$5=\"Course 1\",Général!J$158,IF($O$5=\"Course 2\",Général!J$160,IF($O$5=\"Course 3\",Général!J$162,Général!J$164)))","v":"Southampton"},{"$f":"IF($P$5=\"Course 1\",Général!J$168,IF($P$5=\"Course 2\",Général!J$170,IF($P$5=\"Course 3\",Général!J$172,Général!J$174)))","v":"Southampton"},{"$f":"IF($Q$5=\"Course 1\",Général!J$178,IF($Q$5=\"Course 2\",Général!J$180,IF($Q$5=\"Course 3\",Général!J$182,Général!J$184)))","v":"Intechmer"},{"$f":"IF($R$5=\"Course 1\",Général!J$188,IF($R$5=\"Course 2\",Général!J$190,IF($R$5=\"Course 3\",Général!J$192,Général!J$194)))","v":"Southampton"},{"$f":"IF($S$5=\"Course 1\",Général!J$198,IF($S$5=\"Course 2\",Général!J$200,IF($S$5=\"Course 3\",Général!J$202,Général!J$204)))","v":"Hannover"},{"$f":"IF($T$5=\"Course 1\",Général!J$208,IF($T$5=\"Course 2\",Général!J$210,IF($T$5=\"Course 3\",Général!J$212,Général!J$214)))","v":"Centrale Nantes 2"},null,{"$f":"Général!B18","v":"St Brieuc 1"},7]
["10ème Equipage",null,{"$f":"IF($C$5=\"Course 1\",Général!K38,IF($C$5=\"Course 2\",Général!K40,IF($C$5=\"Course 3\",Général!K42,Général!K44)))","v":"Intechmer"},{"$f":"IF($D$5=\"Course 1\",Général!K48,IF($D$5=\"Course 2\",Général!K50,IF($D$5=\"Course 3\",Général!K52,Général!K54)))","v":"ENSMAC"},{"$f":"IF($E$5=\"Course 1\",Général!K58,IF($E$5=\"Course 2\",Général!K60,IF($E$5=\"Course 3\",Général!K62,Général!K64)))","v":"UBO 1"},{"$f":"IF($F$5=\"Course 1\",Général!K$68,IF($F$5=\"Course 2\",Général!K$70,IF($F$5=\"Course 3\",Général!K$72,Général!K$74)))","v":"Hannover"},{"$f":"IF($G$5=\"Course 1\",Général!K$78,IF($G$5=\"Course 2\",Général!K$80,IF($G$5=\"Course 3\",Général!K$82,Général!K$84)))","v":"UBS Lorient 1"},{"$f":"IF($H$5=\"Course 1\",Général!K$88,IF($H$5=\"Course 2\",Général!K$90,IF($H$5=\"Course 3\",Général!$K92,Général!K$94)))","v":"Univ Nantes 3"},{"$f":"IF($I$5=\"Course 1\",Général!K$98,IF($I$5=\"Course 2\",Général!K$100,IF($I$5=\"Course 3\",Général!K$102,Général!K$104)))","v":"Orléans"},{"$f":"IF($J$5=\"Course 1\",Général!K$108,IF($J$5=\"Course 2\",Général!K$110,IF($J$5=\"Course 3\",Général!K$112,Général!K$114)))","v":"Univ Nantes 3"},{"$f":"IF($K$5=\"Course 1\",Général!K$118,IF($K$5=\"Course 2\",Général!K$120,IF($K$5=\"Course 3\",Général!K$122,Général!K$124)))","v":"Univ Nantes 3"},{"$f":"IF($L$5=\"Course 1\",Général!K$128,IF($L$5=\"Course 2\",Général!K$130,IF($L$5=\"Course 3\",Général!K$132,Général!K$134)))","v":"La Rochelle 1"},{"$f":"IF($M$5=\"Course 1\",Général!K$138,IF($M$5=\"Course 2\",Général!K$140,IF($M$5=\"Course 3\",Général!K$142,Général!K$144)))","v":"UBS Lorient 2"},{"$f":"IF($N$5=\"Course 1\",Général!K$148,IF($N$5=\"Course 2\",Général!K$150,IF($N$5=\"Course 3\",Général!K$152,Général!K$154)))","v":"ENSTA 1"},{"$f":"IF($O$5=\"Course 1\",Général!K$158,IF($O$5=\"Course 2\",Général!K$160,IF($O$5=\"Course 3\",Général!K$162,Général!K$164)))","v":"Centrale Nantes 1"},{"$f":"IF($P$5=\"Course 1\",Général!K$168,IF($P$5=\"Course 2\",Général!K$170,IF($P$5=\"Course 3\",Général!K$172,Général!K$174)))","v":"UBO 2"},{"$f":"IF($Q$5=\"Course 1\",Général!K$178,IF($Q$5=\"Course 2\",Général!K$180,IF($Q$5=\"Course 3\",Général!K$182,Général!K$184)))","v":"ST Brieuc 2"},{"$f":"IF($R$5=\"Course 1\",Général!K$188,IF($R$5=\"Course 2\",Général!K$190,IF($R$5=\"Course 3\",Général!K$192,Général!K$194)))","v":"Paris Sorbone"},{"$f":"IF($S$5=\"Course 1\",Général!K$198,IF($S$5=\"Course 2\",Général!K$200,IF($S$5=\"Course 3\",Général!K$202,Général!K$204)))","v":"Univ Nantes 3"},{"$f":"IF($T$5=\"Course 1\",Général!K$208,IF($T$5=\"Course 2\",Général!K$210,IF($T$5=\"Course 3\",Général!K$212,Général!K$214)))","v":"Paris Cité"},null,{"$f":"Général!B19","v":"Hannover"},4]
[null,null,null,null,null,null,null,null,null,null,null,null,null,null,null,null,null,null,null,null,null,{"$f":"Général!B20","v":"ENSTA 2"},8]
[null,null,null,null,null,null,null,null,null,null,null,null,null,null,null,null,null,null,null,null,null,{"$f":"Général!B21","v":"Southampton"},7]
[null,null,null,null,null,null,null,null,null,null,null,null,null,null,null,null,null,null,null,null,null,{"$f":"Général!B22","v":"La Rochelle 1"},6]
[null,null,null,null,null,null,null,null,null,null,null,null,null,null,null,null,null,null,null,null,null,{"$f":"Général!B23","v":"Centrale Nantes 1"},3]
[null,null,null,null,null,null,null,null,null,null,null,null,null,null,null,null,null,null,null,null,null,{"$f":"Général!B24","v":"ST Brieuc 2"},5]
[null,null,null,null,null,null,null,null,null,null,null,null,null,null,null,null,null,null,null,null,null,{"$f":"Général!B25","v":"UNIV Nantes 1"},6]
[null,null,null,null,null,null,null,null,null,null,null,null,null,null,null,null,null,null,null,null,null,{"$f":"Général!B26","v":"Intechmer"},3]
[null,null,null,null,null,null,null,null,null,null,null,null,null,null,null,null,null,null,null,null,null,{"$f":"Général!B27","v":"IMT Nantes"},4]
[null,null,null,null,null,null,null,null,null,null,null,null,null,null,null,null,null,null,null,null,null,{"$f":"Général!B28","v":"INSA Lyon"},4]
[null,null,null,null,null,null,null,null,null,null,null,null,null,null,null,null,null,null,null,null,null,{"$f":"Général!B29","v":"Centrale Nantes 2"},8]
[null,null,null,null,null,null,null,null,null,null,null,null,null,null,null,null,null,null,null,null,null,{"$f":"Général!B30","v":"UBS Lorient 2"},6]
[null,null,null,null,null,null,null,null,null,null,null,null,null,null,null,null,null,null,null,null,null,{"$f":"Général!B31","v":"La Rochelle 2"},5]
[null,null,null,null,null,null,null,null,null,null,null,null,null,null,null,null,null,null,null,null,null,{"$f":"Général!B32","v":"UBO 1"},5]
[null,null,null,null,null,null,null,null,null,null,null,null,null,null,null,null,null,null,null,null,null,{"$f":"Général!B33","v":"Eq.31"},0]
[null,null,null,null,null,null,null,null,null,null,null,null,null,null,null,null,null,null,null,null,null,{"$f":"Général!B34","v":"Eq.32"},0]

{"sheet":"Eq.5","index":10,"n_rows":32,"n_cols":23,"rows_kept":32,"cut":false,"hidden":false,"merged":[[7,0,7,1],[0,0,1,5],[0,6,1,10],[3,0,3,1],[4,0,4,1],[5,0,5,1],[14,0,14,1],[15,0,15,1],[16,0,16,1],[8,0,8,1],[9,0,9,1],[10,0,10,1],[11,0,11,1],[12,0,12,1],[13,0,13,1]]}
["Equipage ",null,null,null,null,null,{"$f":"Général!B7","v":"Paris Cité"},null,null,null,null,null,null,null,null,null,null,null,null,null,null,{"$f":"Général!B3","v":"UBO 2"},{"$f":"COUNTIF(C$8:T$16,V1)","v":5}]
[null,null,null,null,null,null,null,null,null,null,null,null,null,null,null,null,null,null,null,null,null,{"$f":"Général!B4","v":"Paris Sorbone"},{"$f":"COUNTIF($C$8:$T$16,V2)","v":4}]
[null,null,null,null,null,null,null,null,null,null,null,null,null,null,null,null,null,null,null,null,null,{"$f":"Général!B5","v":"UBS Lorient 1"},{"$f":"COUNTIF($C$8:$T$16,V3)","v":4}]
[null,null,"FLIGHT 1","FLIGHT 2","FLIGHT 3","FLIGHT 4","FLIGHT 5","FLIGHT 6","FLIGHT 7","FLIGHT 8","FLIGHT 9","FLIGHT 10","FLIGHT 11","FLIGHT 12","FLIGHT 13","FLIGHT 14","FLIGHT 15","FLIGHT 16","FLIGHT 17","FLIGHT 18",null,{"$f":"Général!B6","v":"Univ Nantes 3"},4]
["N° de course",null,{"$f":"IF(COUNTIF(Général!B38:K38,$G$1)=1,\"Course 1\",IF(COUNTIF(Général!B40:K40,$G$1)=1,\"Course 2\",IF(COUNTIF(Général!B42:K42,$G$1)=1,\"Course 3\",\"Course 4\")))","v":"Course 2"},{"$f":"IF(COUNTIF(Général!B48:K48,$G$1)=1,\"Course 1\",IF(COUNTIF(Général!B50:K50,$G$1)=1,\"Course 2\",IF(COUNTIF(Général!B52:K52,$G$1)=1,\"Course 3\",\"Course 4\")))","v":"Course 3"},{"$f":"IF(COUNTIF(Général!B58:K58,$G$1)=1,\"Course 1\",IF(COUNTIF(Général!B60:K60,$G$1)=1,\"Course 2\",IF(COUNTIF(Général!B62:K62,$G$1)=1,\"Course 3\",\"Course 4\")))","v":"Course 2"},{"$f":"IF(COUNTIF(Général!B68:K68,$G$1)=1,\"Course 1\",IF(COUNTIF(Général!B70:K70,$G$1)=1,\"Course 2\",IF(COUNTIF(Général!B72:K72,$G$1)=1,\"Course 3\",\"Course 4\")))","v":"Course 2"},{"$f":"IF(COUNTIF(Général!B78:K78,$G$1)=1,\"Course 1\",IF(COUNTIF(Général!B80:K80,$G$1)=1,\"Course 2\",IF(COUNTIF(Général!B82:K82,$G$1)=1,\"Course 3\",\"Course 4\")))","v":"Course 3"},{"$f":"IF(COUNTIF(Général!B88:K88,$G$1)=1,\"Course 1\",IF(COUNTIF(Général!B90:K90,$G$1)=1,\"Course 2\",IF(COUNTIF(Général!B92:K92,$G$1)=1,\"Course 3\",\"Course 4\")))","v":"Course 1"},{"$f":"IF(COUNTIF(Général!B98:K98,$G$1)=1,\"Course 1\",IF(COUNTIF(Général!B100:K100,$G$1)=1,\"Course 2\",IF(COUNTIF(Général!B102:K102,$G$1)=1,\"Course 3\",\"Course 4\")))","v":"Course 1"},{"$f":"IF(COUNTIF(Général!B108:K108,$G$1)=1,\"Course 1\",IF(COUNTIF(Général!B110:K110,$G$1)=1,\"Course 2\",IF(COUNTIF(Général!B112:K112,$G$1)=1,\"Course 3\",\"Course 4\")))","v":"Course 1"},{"$f":"IF(COUNTIF(Général!B118:K118,$G$1)=1,\"Course 1\",IF(COUNTIF(Général!B120:K120,$G$1)=1,\"Course 2\",IF(COUNTIF(Général!B122:K122,$G$1)=1,\"Course 3\",\"Course 4\")))","v":"Course 2"},{"$f":"IF(COUNTIF(Général!B128:K128,$G$1)=1,\"Course 1\",IF(COUNTIF(Général!B130:K130,$G$1)=1,\"Course 2\",IF(COUNTIF(Général!B132:K132,$G$1)=1,\"Course 3\",\"Course 4\")))","v":"Course 2"},{"$f":"IF(COUNTIF(Général!B138:K138,$G$1)=1,\"Course 1\",IF(COUNTIF(Général!B140:K140,$G$1)=1,\"Course 2\",IF(COUNTIF(Général!B142:K142,$G$1)=1,\"Course 3\",\"Course 4\")))","v":"Course 1"},{"$f":"IF(COUNTIF(Général!B148:K148,$G$1)=1,\"Course 1\",IF(COUNTIF(Général!B150:K150,$G$1)=1,\"Course 2\",IF(COUNTIF(Général!B152:K152,$G$1)=1,\"Course 3\",\"Course 4\")))","v":"Course 1"},{"$f":"IF(COUNTIF(Général!B158:K158,$G$1)=1,\"Course 1\",IF(COUNTIF(Général!B160:K160,$G$1)=1,\"Course 2\",IF(COUNTIF(Général!B162:K162,$G$1)=1,\"Course 3\",\"Course 4\")))","v":"Course 2"},{"$f":"IF(COUNTIF(Général!B168:K168,$G$1)=1,\"Course 1\",IF(COUNTIF(Général!B170:K170,$G$1)=1,\"Course 2\",IF(COUNTIF(Général!B172:K172,$G$1)=1,\"Course 3\",\"Course 4\")))","v":"Course 1"},{"$f":"IF(COUNTIF(Général!B178:K178,$G$1)=1,\"Course 1\",IF(COUNTIF(Général!B180:K180,$G$1)=1,\"Course 2\",IF(COUNTIF(Général!B182:K182,$G$1)=1,\"Course 3\",\"Course 4\")))","v":"Course 3"},{"$f":"IF(COUNTIF(Général!B188:K188,$G$1)=1,\"Course 1\",IF(COUNTIF(Général!B190:K190,$G$1)=1,\"Course 2\",IF(COUNTIF(Général!B192:K192,$G$1)=1,\"Course 3\",\"Course 4\")))","v":"Course 2"},{"$f":"IF(COUNTIF(Général!B198:K198,$G$1)=1,\"Course 1\",IF(COUNTIF(Général!B200:K200,$G$1)=1,\"Course 2\",IF(COUNTIF(Général!B202:K202,$G$1)=1,\"Course 3\",\"Course 4\")))","v":"Course 2"},{"$f":"IF(COUNTIF(Général!B208:K208,$G$1)=1,\"Course 1\",IF(COUNTIF(Général!B210:K210,$G$1)=1,\"Course 2\",IF(COUNTIF(Général!B212:K212,$G$1)=1,\"Course 3\",\"Course 4\")))","v":"Course 2"},null,{"$f":"Général!B7","v":"Paris Cité"},17]
["Bateau",null,{"$f":"IF(COUNTIF(Général!B38:B44,$G$1)=1,\"Boat 1\",IF(COUNTIF(Général!C38:C44,$G$1)=1,\"Boat 2\",IF(COUNTIF(Général!D38:D44,$G$1)=1,\"Boat 3\", IF(COUNTIF(Général!E38:E44,$G$1)=1,\"Boat 4\", IF(COUNTIF(Général!F38:F44,$G$1)=1,\"Boat 5\", IF(COUNTIF(Général!G38:G44,$G$1)=1,\"Boat 6\", IF(COUNTIF(Général!H38:H44,$G$1)=1,\"Boat 7\",IF(COUNTIF(Général!I38:I44,$G$1)=1,\"Boat 8\",\"Boat 9\"))))))))","v":"Boat 8"},{"$f":"IF(COUNTIF(Général!B48:B54,$G$1)=1,\"Boat 1\",IF(COUNTIF(Général!C48:C54,$G$1)=1,\"Boat 2\",IF(COUNTIF(Général!D48:D54,$G$1)=1,\"Boat 3\", IF(COUNTIF(Général!E48:E54,$G$1)=1,\"Boat 4\", IF(COUNTIF(Général!F48:F54,$G$1)=1,\"Boat 5\", IF(COUNTIF(Général!G48:G54,$G$1)=1,\"Boat 6\", IF(COUNTIF(Général!H48:H54,$G$1)=1,\"Boat 7\",IF(COUNTIF(Général!I38:I44,$G$1)=1,\"Boat 8\",\"Boat 9\"))))))))","v":"Boat 4"},{"$f":"IF(COUNTIF(Général!B58:B64,$G$1)=1,\"Boat 1\",IF(COUNTIF(Général!C58:C64,$G$1)=1,\"Boat 2\",IF(COUNTIF(Général!D58:D64,$G$1)=1,\"Boat 3\", IF(COUNTIF(Général!E58:E64,$G$1)=1,\"Boat 4\", IF(COUNTIF(Général!F58:F64,$G$1)=1,\"Boat 5\", IF(COUNTIF(Général!G58:G64,$G$1)=1,\"Boat 6\", IF(COUNTIF(Général!H58:H64,$G$1)=1,\"Boat 7\",IF(COUNTIF(Général!I38:I44,$G$1)=1,\"Boat 8\",\"Boat 9\"))))))))","v":"Boat 4"},{"$f":"IF(COUNTIF(Général!B68:B74,$G$1)=1,\"Boat 1\",IF(COUNTIF(Général!C68:C74,$G$1)=1,\"Boat 2\",IF(COUNTIF(Général!D68:D74,$G$1)=1,\"Boat 3\", IF(COUNTIF(Général!E68:E74,$G$1)=1,\"Boat 4\", IF(COUNTIF(Général!F68:F74,$G$1)=1,\"Boat 5\", IF(COUNTIF(Général!G68:G74,$G$1)=1,\"Boat 6\", IF(COUNTIF(Général!H68:H74,$G$1)=1,\"Boat 7\",IF(COUNTIF(Général!I38:I44,$G$1)=1,\"Boat 8\",\"Boat 9\"))))))))","v":"Boat 2"},{"$f":"IF(COUNTIF(Général!B78:B84,$G$1)=1,\"Boat 1\",IF(COUNTIF(Général!C78:C84,$G$1)=1,\"Boat 2\",IF(COUNTIF(Général!D78:D84,$G$1)=1,\"Boat 3\", IF(COUNTIF(Général!E78:E84,$G$1)=1,\"Boat 4\", IF(COUNTIF(Général!F78:F84,$G$1)=1,\"Boat 5\", IF(COUNTIF(Général!G78:G84,$G$1)=1,\"Boat 6\", IF(COUNTIF(Général!H78:H84,$G$1)=1,\"Boat 7\",IF(COUNTIF(Général!I38:I44,$G$1)=1,\"Boat 8\",\"Boat 9\"))))))))","v":"Boat 6"},{"$f":"IF(COUNTIF(Général!B88:B94,$G$1)=1,\"Boat 1\",IF(COUNTIF(Général!C88:C94,$G$1)=1,\"Boat 2\",IF(COUNTIF(Général!D88:D94,$G$1)=1,\"Boat 3\", IF(COUNTIF(Général!E88:E94,$G$1)=1,\"Boat 4\", IF(COUNTIF(Général!F88:F94,$G$1)=1,\"Boat 5\", IF(COUNTIF(Général!G88:G94,$G$1)=1,\"Boat 6\", IF(COUNTIF(Général!H88:H94,$G$1)=1,\"Boat 7\",IF(COUNTIF(Général!I38:I44,$G$1)=1,\"Boat 8\",\"Boat 9\"))))))))","v":"Boat 6"},{"$f":"IF(COUNTIF(Général!B98:B104,$G$1)=1,\"Boat 1\",IF(COUNTIF(Général!C98:C104,$G$1)=1,\"Boat 2\",IF(COUNTIF(Général!D98:D104,$G$1)=1,\"Boat 3\", IF(COUNTIF(Général!E98:E104,$G$1)=1,\"Boat 4\", IF(COUNTIF(Général!F98:F104,$G$1)=1,\"Boat 5\", IF(COUNTIF(Général!G98:G104,$G$1)=1,\"Boat 6\", IF(COUNTIF(Général!H98:H104,$G$1)=1,\"Boat 7\",IF(COUNTIF(Général!I38:I44,$G$1)=1,\"Boat 8\",\"Boat 9\"))))))))","v":"Boat 8"},{"$f":"IF(COUNTIF(Général!B108:B114,$G$1)=1,\"Boat 1\",IF(COUNTIF(Général!C108:C114,$G$1)=1,\"Boat 2\",IF(COUNTIF(Général!D108:D114,$G$1)=1,\"Boat 3\", IF(COUNTIF(Général!E108:E114,$G$1)=1,\"Boat 4\", IF(COUNTIF(Général!F108:F114,$G$1)=1,\"Boat 5\", IF(COUNTIF(Général!G108:G114,$G$1)=1,\"Boat 6\", IF(COUNTIF(Général!H108:H114,$G$1)=1,\"Boat 7\",IF(COUNTIF(Général!I38:I44,$G$1)=1,\"Boat 8\",\"Boat 9\"))))))))","v":"Boat 8"},{"$f":"IF(COUNTIF(Général!B118:B124,$G$1)=1,\"Boat 1\",IF(COUNTIF(Général!C118:C124,$G$1)=1,\"Boat 2\",IF(COUNTIF(Général!D118:D124,$G$1)=1,\"Boat 3\", IF(COUNTIF(Général!E118:E124,$G$1)=1,\"Boat 4\", IF(COUNTIF(Général!F118:F124,$G$1)=1,\"Boat 5\", IF(COUNTIF(Général!G118:G124,$G$1)=1,\"Boat 6\", IF(COUNTIF(Général!H118:H124,$G$1)=1,\"Boat 7\",IF(COUNTIF(Général!I38:I44,$G$1)=1,\"Boat 8\",\"Boat 9\"))))))))","v":"Boat 2"},{"$f":"IF(COUNTIF(Général!B128:B134,$G$1)=1,\"Boat 1\",IF(COUNTIF(Général!C128:C134,$G$1)=1,\"Boat 2\",IF(COUNTIF(Général!D128:D134,$G$1)=1,\"Boat 3\", IF(COUNTIF(Général!E128:E134,$G$1)=1,\"Boat 4\", IF(COUNTIF(Général!F128:F134,$G$1)=1,\"Boat 5\", IF(COUNTIF(Général!G128:G134,$G$1)=1,\"Boat 6\", IF(COUNTIF(Général!H128:H134,$G$1)=1,\"Boat 7\",IF(COUNTIF(Général!I38:I44,$G$1)=1,\"Boat 8\",\"Boat 9\"))))))))","v":"Boat 4"},{"$f":"IF(COUNTIF(Général!B138:B144,$G$1)=1,\"Boat 1\",IF(COUNTIF(Général!C138:C144,$G$1)=1,\"Boat 2\",IF(COUNTIF(Général!C138:D144,$G$1)=1,\"Boat 3\", IF(COUNTIF(Général!C138:E144,$G$1)=1,\"Boat 4\", IF(COUNTIF(Général!F138:F144,$G$1)=1,\"Boat 5\", IF(COUNTIF(Général!G138:G144,$G$1)=1,\"Boat 6\", IF(COUNTIF(Général!H138:H144,$G$1)=1,\"Boat 7\",IF(COUNTIF(Général!I38:I44,$G$1)=1,\"Boat 8\",\"Boat 9\"))))))))","v":"Boat 5"},{"$f":"IF(COUNTIF(Général!B148:B154,$G$1)=1,\"Boat 1\",IF(COUNTIF(Général!C148:C154,$G$1)=1,\"Boat 2\",IF(COUNTIF(Général!D148:D154,$G$1)=1,\"Boat 3\", IF(COUNTIF(Général!E148:E154,$G$1)=1,\"Boat 4\", IF(COUNTIF(Général!F148:F154,$G$1)=1,\"Boat 5\", IF(COUNTIF(Général!G148:G154,$G$1)=1,\"Boat 6\", IF(COUNTIF(Général!H148:H154,$G$1)=1,\"Boat 7\",IF(COUNTIF(Général!I38:I44,$G$1)=1,\"Boat 8\",\"Boat 9\"))))))))","v":"Boat 5"},{"$f":"IF(COUNTIF(Général!B158:B164,$G$1)=1,\"Boat 1\",IF(COUNTIF(Général!C158:C164,$G$1)=1,\"Boat 2\",IF(COUNTIF(Général!D160:D164,$G$1)=1,\"Boat 3\", IF(COUNTIF(Général!E158:E164,$G$1)=1,\"Boat 4\", IF(COUNTIF(Général!F158:F164,$G$1)=1,\"Boat 5\", IF(COUNTIF(Général!G158:G164,$G$1)=1,\"Boat 6\", IF(COUNTIF(Général!H158:H164,$G$1)=1,\"Boat 7\",IF(COUNTIF(Général!I38:I44,$G$1)=1,\"Boat 8\",\"Boat 9\"))))))))","v":"Boat 7"},{"$f":"IF(COUNTIF(Général!B168:B174,$G$1)=1,\"Boat 1\",IF(COUNTIF(Général!C168:C174,$G$1)=1,\"Boat 2\",IF(COUNTIF(Général!D168:D174,$G$1)=1,\"Boat 3\", IF(COUNTIF(Général!E168:E174,$G$1)=1,\"Boat 4\", IF(COUNTIF(Général!F178:F184,$G$1)=1,\"Boat 5\", IF(COUNTIF(Général!G178:G184,$G$1)=1,\"Boat 6\", IF(COUNTIF(Général!H178:H184,$G$1)=1,\"Boat 7\",IF(COUNTIF(Général!I38:I44,$G$1)=1,\"Boat 8\",\"Boat 9\"))))))))","v":"Boat 8"},{"$f":"IF(COUNTIF(Général!B178:B184,$G$1)=1,\"Boat 1\",IF(COUNTIF(Général!C178:C184,$G$1)=1,\"Boat 2\",IF(COUNTIF(Général!D178:D184,$G$1)=1,\"Boat 3\", IF(COUNTIF(Général!E178:E184,$G$1)=1,\"Boat 4\", IF(COUNTIF(Général!F178:F184,$G$1)=1,\"Boat 5\", IF(COUNTIF(Général!G178:G184,$G$1)=1,\"Boat 6\", IF(COUNTIF(Général!H178:H184,$G$1)=1,\"Boat 7\",IF(COUNTIF(Général!I38:I44,$G$1)=1,\"Boat 8\",\"Boat 9\"))))))))","v":"Boat 1"},{"$f":"IF(COUNTIF(Général!B188:B194,$G$1)=1,\"Boat 1\",IF(COUNTIF(Général!C188:C194,$G$1)=1,\"Boat 2\",IF(COUNTIF(Général!D188:D194,$G$1)=1,\"Boat 3\", IF(COUNTIF(Général!E188:E194,$G$1)=1,\"Boat 4\", IF(COUNTIF(Général!F188:F194,$G$1)=1,\"Boat 5\", IF(COUNTIF(Général!G188:G194,$G$1)=1,\"Boat 6\", IF(COUNTIF(Général!H188:H194,$G$1)=1,\"Boat 7\",IF(COUNTIF(Général!I38:I44,$G$1)=1,\"Boat 8\",\"Boat 9\"))))))))","v":"Boat 4"},{"$f":"IF(COUNTIF(Général!B198:B204,$G$1)=1,\"Boat 1\",IF(COUNTIF(Général!C198:C204,$G$1)=1,\"Boat 2\",IF(COUNTIF(Général!D198:D204,$G$1)=1,\"Boat 3\", IF(COUNTIF(Général!E198:E204,$G$1)=1,\"Boat 4\", IF(COUNTIF(Général!F198:F204,$G$1)=1,\"Boat 5\", IF(COUNTIF(Général!G198:G204,$G$1)=1,\"Boat 6\", IF(COUNTIF(Général!H198:H204,$G$1)=1,\"Boat 7\",IF(COUNTIF(Général!I38:I44,$G$1)=1,\"Boat 8\",\"Boat 9\"))))))))","v":"Boat 3"},{"$f":"IF(COUNTIF(Général!B208:B214,$G$1)=1,\"Boat 1\",IF(COUNTIF(Général!C208:C214,$G$1)=1,\"Boat 2\",IF(COUNTIF(Général!D208:D214,$G$1)=1,\"Boat 3\", IF(COUNTIF(Général!E208:E214,$G$1)=1,\"Boat 4\", IF(COUNTIF(Général!F208:F214,$G$1)=1,\"Boat 5\", IF(COUNTIF(Général!G208:G214,$G$1)=1,\"Boat 6\", IF(COUNTIF(Général!H208:H214,$G$1)=1,\"Boat 7\",IF(COUNTIF(Général!I38:I44,$G$1)=1,\"Boat 8\",\"Boat 9\"))))))))","v":"Boat 8"},null,{"$f":"Général!B8","v":"Plymouth"},3]
[null,null,null,null,null,null,null,null,null,null,null,null,null,null,null,null,null,null,null,null,null,{"$f":"Général!B9","v":"Unicaen 2"},6]
["1er Equipage",null,{"$f":"IF($C$5=\"Course 1\",Général!B38,IF($C$5=\"Course 2\",Général!B40,IF($C$5=\"Course 3\",Général!B42,Général!B44)))","v":"ST Brieuc 2"},{"$f":"IF($D$5=\"Course 1\",Général!B48,IF($D$5=\"Course 2\",Général!B50,IF($D$5=\"Course 3\",Général!B52,Général!B54)))","v":"UBO 1"},{"$f":"IF($E$5=\"Course 1\",Général!B58,IF($E$5=\"Course 2\",Général!B60,IF($E$5=\"Course 3\",Général!B62,Général!B64)))","v":"Univ Nantes 3"},{"$f":"IF($F$5=\"Course 1\",Général!B$68,IF($F$5=\"Course 2\",Général!B$70,IF($F$5=\"Course 3\",Général!B$72,Général!B$74)))","v":"Univ Nantes 3"},{"$f":"IF($G$5=\"Course 1\",Général!B$78,IF($G$5=\"Course 2\",Général!B$80,IF($G$5=\"Course 3\",Général!B$82,Général!B$84)))","v":"ENSTA 2"},{"$f":"IF($H$5=\"Course 1\",Général!B$88,IF($H$5=\"Course 2\",Général!B$90,IF($H$5=\"Course 3\",Général!B$92,Général!B$94)))","v":"ENSTA 2"},{"$f":"IF($I$5=\"Course 1\",Général!B$98,IF($I$5=\"Course 2\",Général!B$100,IF($I$5=\"Course 3\",Général!B$102,Général!B$104)))","v":"Centrale Nantes 2"},{"$f":"IF($J$5=\"Course 1\",Général!B$108,IF($J$5=\"Course 2\",Général!B$110,IF($J$5=\"Course 3\",Général!B$112,Général!B$114)))","v":"La Rochelle 2"},{"$f":"IF($K$5=\"Course 1\",Général!B$118,IF($K$5=\"Course 2\",Général!B$120,IF($K$5=\"Course 3\",Général!B$122,Général!B$124)))","v":"Hannover"},{"$f":"IF($L$5=\"Course 1\",Général!B$128,IF($L$5=\"Course 2\",Général!B$130,IF($L$5=\"Course 3\",Général!B$132,Général!B$134)))","v":"Plymouth"},{"$f":"IF($M$5=\"Course 1\",Général!B$138,IF($M$5=\"Course 2\",Général!B$140,IF($M$5=\"Course 3\",Général!B$142,Général!B$144)))","v":"IMT Brest 2"},{"$f":"IF($N$5=\"Course 1\",Général!B$148,IF($N$5=\"Course 2\",Général!B$150,IF($N$5=\"Course 3\",Général!B$152,Général!B$154)))","v":"St Brieuc 1"},{"$f":"IF($O$5=\"Course 1\",Général!B$158,IF($O$5=\"Course 2\",Général!B$160,IF($O$5=\"Course 3\",Général!B$162,Général!B$164)))","v":"ENSMAC"},{"$f":"IF($P$5=\"Course 1\",Général!B$168,IF($P$5=\"Course 2\",Général!B$170,IF($P$5=\"Course 3\",Général!B$172,Général!B$174)))","v":"St Brieuc 1"},{"$f":"IF($Q$5=\"Course 1\",Général!B$178,IF($Q$5=\"Course 2\",Général!B$180,IF($Q$5=\"Course 3\",Général!B$182,Général!B$184)))","v":"Paris Cité"},{"$f":"IF($R$5=\"Course 1\",Général!B$188,IF($R$5=\"Course 2\",Général!B$190,IF($R$5=\"Course 3\",Général!B$192,Général!B$194)))","v":"Karlsruhe"},{"$f":"IF($S$5=\"Course 1\",Général!B$198,IF($S$5=\"Course 2\",Général!B$200,IF($S$5=\"Course 3\",Général!B$202,Général!B$204)))","v":"ENSTA 2"},{"$f":"IF($T$5=\"Course 1\",Général!B$208,IF($T$5=\"Course 2\",Général!B$210,IF($T$5=\"Course 3\",Général!B$212,Général!B$214)))","v":"UBO 1"},null,{"$f":"Général!B10","v":"Univ Nantes 2"},5]
["2nd Equipage",null,{"$f":"IF($C$5=\"Course 1\",Général!C38,IF($C$5=\"Course 2\",Général!C40,IF($C$5=\"Course 3\",Général!C42,Général!C44)))","v":"UBS Lorient 2"},{"$f":"IF($D$5=\"Course 1\",Général!C48,IF($D$5=\"Course 2\",Général!C50,IF($D$5=\"Course 3\",Général!C52,Général!C54)))","v":"Centrale Nantes 2"},{"$f":"IF($E$5=\"Course 1\",Général!C58,IF($E$5=\"Course 2\",Général!C60,IF($E$5=\"Course 3\",Général!C62,Général!C64)))","v":"IMT Nantes"},{"$f":"IF($F$5=\"Course 1\",Général!C$68,IF($F$5=\"Course 2\",Général!C$70,IF($F$5=\"Course 3\",Général!C$72,Général!C$74)))","v":"Paris Cité"},{"$f":"IF($G$5=\"Course 1\",Général!C$78,IF($G$5=\"Course 2\",Général!C$80,IF($G$5=\"Course 3\",Général!C$82,Général!C$84)))","v":"IMT Brest 2"},{"$f":"IF($H$5=\"Course 1\",Général!C$88,IF($H$5=\"Course 2\",Général!C$90,IF($H$5=\"Course 3\",Général!C$92,Général!C$94)))","v":"Southampton"},{"$f":"IF($I$5=\"Course 1\",Général!C$98,IF($I$5=\"Course 2\",Général!C$100,IF($I$5=\"Course 3\",Général!C$102,Général!C$104)))","v":"Intechmer"},{"$f":"IF($J$5=\"Course 1\",Général!C$108,IF($J$5=\"Course 2\",Général!C$110,IF($J$5=\"Course 3\",Général!C$112,Général!C$114)))","v":"ENSTA 2"},{"$f":"IF($K$5=\"Course 1\",Général!C$118,IF($K$5=\"Course 2\",Général!C$120,IF($K$5=\"Course 3\",Général!C$122,Général!C$124)))","v":"Paris Cité"},{"$f":"IF($L$5=\"Course 1\",Général!C$128,IF($L$5=\"Course 2\",Général!C$130,IF($L$5=\"Course 3\",Général!C$132,Général!C$134)))","v":"ENSMAC"},{"$f":"IF($M$5=\"Course 1\",Général!C$138,IF($M$5=\"Course 2\",Général!C$140,IF($M$5=\"Course 3\",Général!C$142,Général!C$144)))","v":"UNIV Nantes 1"},{"$f":"IF($N$5=\"Course 1\",Général!C$148,IF($N$5=\"Course 2\",Général!C$150,IF($N$5=\"Course 3\",Général!C$152,Général!C$154)))","v":"Centrale Nantes 1"},{"$f":"IF($O$5=\"Course 1\",Général!C$158,IF($O$5=\"Course 2\",Général!C$160,IF($O$5=\"Course 3\",Général!C$162,Général!C$164)))","v":"UBO 2"},{"$f":"IF($P$5=\"Course 1\",Général!C$168,IF($P$5=\"Course 2\",Général!C$170,IF($P$5=\"Course 3\",Général!C$172,Général!C$174)))","v":"Paris Sorbone"},{"$f":"IF($Q$5=\"Course 1\",Général!C$178,IF($Q$5=\"Course 2\",Général!C$180,IF($Q$5=\"Course 3\",Général!C$182,Général!C$184)))","v":"ENSTA 1"},{"$f":"IF($R$5=\"Course 1\",Général!C$188,IF($R$5=\"Course 2\",Général!C$190,IF($R$5=\"Course 3\",Général!C$192,Général!C$194)))","v":"ST Brieuc 2"},{"$f":"IF($S$5=\"Course 1\",Général!C$198,IF($S$5=\"Course 2\",Général!C$200,IF($S$5=\"Course 3\",Général!C$202,Général!C$204)))","v":"Southampton"},{"$f":"IF($T$5=\"Course 1\",Général!C$208,IF($T$5=\"Course 2\",Général!C$210,IF($T$5=\"Course 3\",Général!C$212,Général!C$214)))","v":"Paris Sorbone"},null,{"$f":"Général!B11","v":"Karlsruhe"},2]
["3ème Equipage",null,{"$f":"IF($C$5=\"Course 1\",Général!D38,IF($C$5=\"Course 2\",Général!D40,IF($C$5=\"Course 3\",Général!D42,Général!D44)))","v":"UNIV Nantes 1"},{"$f":"IF($D$5=\"Course 1\",Général!D48,IF($D$5=\"Course 2\",Général!D50,IF($D$5=\"Course 3\",Général!D52,Général!D54)))","v":"IMT Brest 2"},{"$f":"IF($E$5=\"Course 1\",Général!D58,IF($E$5=\"Course 2\",Général!D60,IF($E$5=\"Course 3\",Général!D62,Général!D64)))","v":"ENSTA 2"},{"$f":"IF($F$5=\"Course 1\",Général!D$68,IF($F$5=\"Course 2\",Général!D$70,IF($F$5=\"Course 3\",Général!D$72,Général!D$74)))","v":"Unicaen 2"},{"$f":"IF($G$5=\"Course 1\",Général!D$78,IF($G$5=\"Course 2\",Général!D$80,IF($G$5=\"Course 3\",Général!D$82,Général!D$84)))","v":"Unicaen 1"},{"$f":"IF($H$5=\"Course 1\",Général!D$88,IF($H$5=\"Course 2\",Général!D$90,IF($H$5=\"Course 3\",Général!D$92,Général!D$94)))","v":"UBO 1"},{"$f":"IF($I$5=\"Course 1\",Général!D$98,IF($I$5=\"Course 2\",Général!D$100,IF($I$5=\"Course 3\",Général!D$102,Général!D$104)))","v":"UBS Lorient 2"},{"$f":"IF($J$5=\"Course 1\",Général!D$108,IF($J$5=\"Course 2\",Général!D$110,IF($J$5=\"Course 3\",Général!D$112,Général!D$114)))","v":"UBO 2"},{"$f":"IF($K$5=\"Course 1\",Général!D$118,IF($K$5=\"Course 2\",Général!D$120,IF($K$5=\"Course 3\",Général!D$122,Général!D$124)))","v":"Unicaen 2"},{"$f":"IF($L$5=\"Course 1\",Général!D$128,IF($L$5=\"Course 2\",Général!D$130,IF($L$5=\"Course 3\",Général!D$132,Général!D$134)))","v":"ENSTA 1"},{"$f":"IF($M$5=\"Course 1\",Général!D$138,IF($M$5=\"Course 2\",Général!D$140,IF($M$5=\"Course 3\",Général!D$142,Général!D$144)))","v":"UBS Lorient 1"},{"$f":"IF($N$5=\"Course 1\",Général!D$148,IF($N$5=\"Course 2\",Général!D$150,IF($N$5=\"Course 3\",Général!D$152,Général!D$154)))","v":"Unicaen 1"},{"$f":"IF($O$5=\"Course 1\",Général!D$158,IF($O$5=\"Course 2\",Général!D$160,IF($O$5=\"Course 3\",Général!D$162,Général!D$164)))","v":"ENSTA 2"},{"$f":"IF($P$5=\"Course 1\",Général!D$168,IF($P$5=\"Course 2\",Général!D$170,IF($P$5=\"Course 3\",Général!D$172,Général!D$174)))","v":"ENSTA 1"},{"$f":"IF($Q$5=\"Course 1\",Général!D$178,IF($Q$5=\"Course 2\",Général!D$180,IF($Q$5=\"Course 3\",Général!D$182,Général!D$184)))","v":"La Rochelle 1"},{"$f":"IF($R$5=\"Course 1\",Général!D$188,IF($R$5=\"Course 2\",Général!D$190,IF($R$5=\"Course 3\",Général!D$192,Général!D$194)))","v":"Orléans"},{"$f":"IF($S$5=\"Course 1\",Général!D$198,IF($S$5=\"Course 2\",Général!D$200,IF($S$5=\"Course 3\",Général!D$202,Général!D$204)))","v":"Paris Cité"},{"$f":"IF($T$5=\"Course 1\",Général!D$208,IF($T$5=\"Course 2\",Général!D$210,IF($T$5=\"Course 3\",Général!D$212,Général!D$214)))","v":"ENSMAC"},null,{"$f":"Général!B12","v":"IMT Brest 2"},4]
["4ème Equipage",null,{"$f":"IF($C$5=\"Course 1\",Général!E38,IF($C$5=\"Course 2\",Général!E40,IF($C$5=\"Course 3\",Général!E42,Général!E44)))","v":"Orléans"},{"$f":"IF($D$5=\"Course 1\",Général!E48,IF($D$5=\"Course 2\",Général!E50,IF($D$5=\"Course 3\",Général!E52,Général!E54)))","v":"Paris Cité"},{"$f":"IF($E$5=\"Course 1\",Général!E58,IF($E$5=\"Course 2\",Général!E60,IF($E$5=\"Course 3\",Général!E62,Général!E64)))","v":"Paris Cité"},{"$f":"IF($F$5=\"Course 1\",Général!E$68,IF($F$5=\"Course 2\",Général!E$70,IF($F$5=\"Course 3\",Général!E$72,Général!E$74)))","v":"Univ Nantes 2"},{"$f":"IF($G$5=\"Course 1\",Général!E$78,IF($G$5=\"Course 2\",Général!E$80,IF($G$5=\"Course 3\",Général!E$82,Général!E$84)))","v":"La Rochelle 1"},{"$f":"IF($H$5=\"Course 1\",Général!E$88,IF($H$5=\"Course 2\",Général!E$90,IF($H$5=\"Course 3\",Général!E$92,Général!E$94)))","v":"La Rochelle 1"},{"$f":"IF($I$5=\"Course 1\",Général!E$98,IF($I$5=\"Course 2\",Général!E$100,IF($I$5=\"Course 3\",Général!E$102,Général!E$104)))","v":"UNIV Nantes 1"},{"$f":"IF($J$5=\"Course 1\",Général!E$108,IF($J$5=\"Course 2\",Général!E$110,IF($J$5=\"Course 3\",Général!E$112,Général!E$114)))","v":"Paris Sorbone"},{"$f":"IF($K$5=\"Course 1\",Général!E$118,IF($K$5=\"Course 2\",Général!E$120,IF($K$5=\"Course 3\",Général!E$122,Général!E$124)))","v":"UBO 1"},{"$f":"IF($L$5=\"Course 1\",Général!E$128,IF($L$5=\"Course 2\",Général!E$130,IF($L$5=\"Course 3\",Général!E$132,Général!E$134)))","v":"Paris Cité"},{"$f":"IF($M$5=\"Course 1\",Général!E$138,IF($M$5=\"Course 2\",Général!E$140,IF($M$5=\"Course 3\",Général!E$142,Général!E$144)))","v":"Orléans"},{"$f":"IF($N$5=\"Course 1\",Général!E$148,IF($N$5=\"Course 2\",Général!E$150,IF($N$5=\"Course 3\",Général!E$152,Général!E$154)))","v":"Orléans"},{"$f":"IF($O$5=\"Course 1\",Général!E$158,IF($O$5=\"Course 2\",Général!E$160,IF($O$5=\"Course 3\",Général!E$162,Général!E$164)))","v":"UBO 1"},{"$f":"IF($P$5=\"Course 1\",Général!E$168,IF($P$5=\"Course 2\",Général!E$170,IF($P$5=\"Course 3\",Général!E$172,Général!E$174)))","v":"Univ Nantes 2"},{"$f":"IF($Q$5=\"Course 1\",Général!E$178,IF($Q$5=\"Course 2\",Général!E$180,IF($Q$5=\"Course 3\",Général!E$182,Général!E$184)))","v":"Centrale Nantes 1"},{"$f":"IF($R$5=\"Course 1\",Général!E$188,IF($R$5=\"Course 2\",Général!E$190,IF($R$5=\"Course 3\",Général!E$192,Général!E$194)))","v":"Paris Cité"},{"$f":"IF($S$5=\"Course 1\",Général!E$198,IF($S$5=\"Course 2\",Général!E$200,IF($S$5=\"Course 3\",Général!E$202,Général!E$204)))","v":"ENSMAC"},{"$f":"IF($T$5=\"Course 1\",Général!E$208,IF($T$5=\"Course 2\",Général!E$210,IF($T$5=\"Course 3\",Général!E$212,Général!E$214)))","v":"Univ Nantes 3"},null,{"$f":"Général!B13","v":"Unicaen 1"},6]
["5ème Equipage",null,{"$f":"IF($C$5=\"Course 1\",Général!F38,IF($C$5=\"Course 2\",Général!F40,IF($C$5=\"Course 3\",Général!F42,Général!F44)))","v":"Unicaen 2"},{"$f":"IF($D$5=\"Course 1\",Général!F48,IF($D$5=\"Course 2\",Général!F50,IF($D$5=\"Course 3\",Général!F52,Général!F54)))","v":"UBO 2"},{"$f":"IF($E$5=\"Course 1\",Général!F58,IF($E$5=\"Course 2\",Général!F60,IF($E$5=\"Course 3\",Général!F62,Général!F64)))","v":"UBO 2"},{"$f":"IF($F$5=\"Course 1\",Général!F$68,IF($F$5=\"Course 2\",Général!F$70,IF($F$5=\"Course 3\",Général!F$72,Général!F$74)))","v":"La Rochelle 2"},{"$f":"IF($G$5=\"Course 1\",Général!F$78,IF($G$5=\"Course 2\",Général!F$80,IF($G$5=\"Course 3\",Général!F$82,Général!F$84)))","v":"Orléans"},{"$f":"IF($H$5=\"Course 1\",Général!F$88,IF($H$5=\"Course 2\",Général!F$90,IF($H$5=\"Course 3\",Général!F$92,Général!F$94)))","v":"Orléans"},{"$f":"IF($I$5=\"Course 1\",Général!F$98,IF($I$5=\"Course 2\",Général!F$100,IF($I$5=\"Course 3\",Général!F$102,Général!F$104)))","v":"IMT Brest 1"},{"$f":"IF($J$5=\"Course 1\",Général!F$108,IF($J$5=\"Course 2\",Général!F$110,IF($J$5=\"Course 3\",Général!F$112,Général!F$114)))","v":"ST Brieuc 2"},{"$f":"IF($K$5=\"Course 1\",Général!F$118,IF($K$5=\"Course 2\",Général!F$120,IF($K$5=\"Course 3\",Général!F$122,Général!F$124)))","v":"ENSTA 1"},{"$f":"IF($L$5=\"Course 1\",Général!F$128,IF($L$5=\"Course 2\",Général!$F130,IF($L$5=\"Course 3\",Général!F$132,Général!F$134)))","v":"La Rochelle 2"},{"$f":"IF($M$5=\"Course 1\",Général!F$138,IF($M$5=\"Course 2\",Général!F$140,IF($M$5=\"Course 3\",Général!F$142,Général!F$144)))","v":"Paris Cité"},{"$f":"IF($N$5=\"Course 1\",Général!F$148,IF($N$5=\"Course 2\",Général!F$150,IF($N$5=\"Course 3\",Général!F$152,Général!F$154)))","v":"Paris Cité"},{"$f":"IF($O$5=\"Course 1\",Général!F$158,IF($O$5=\"Course 2\",Général!F$160,IF($O$5=\"Course 3\",Général!F$162,Général!F$164)))","v":"INSA Lyon"},{"$f":"IF($P$5=\"Course 1\",Général!F$168,IF($P$5=\"Course 2\",Général!F$170,IF($P$5=\"Course 3\",Général!F$172,Général!F$174)))","v":"Unicaen 1"},{"$f":"IF($Q$5=\"Course 1\",Général!F$178,IF($Q$5=\"Course 2\",Général!F$180,IF($Q$5=\"Course 3\",Général!F$182,Général!F$184)))","v":"Hannover"},{"$f":"IF($R$5=\"Course 1\",Général!F$188,IF($R$5=\"Course 2\",Général!F$190,IF($R$5=\"Course 3\",Général!F$192,Général!F$194)))","v":"ENSMAC"},{"$f":"IF($S$5=\"Course 1\",Général!F$198,IF($S$5=\"Course 2\",Général!F$200,IF($S$5=\"Course 3\",Général!F$202,Général!F$204)))","v":"Unicaen 2"},{"$f":"IF($T$5=\"Course 1\",Général!F$208,IF($T$5=\"Course 2\",Général!F$210,IF($T$5=\"Course 3\",Général!F$212,Général!F$214)))","v":"UBS Lorient 1"},null,{"$f":"Général!B14","v":"ENSTA 1"},4]
["6ème Equipage",null,{"$f":"IF($C$5=\"Course 1\",Général!G38,IF($C$5=\"Course 2\",Général!G40,IF($C$5=\"Course 3\",Général!G42,Général!G44)))","v":"Hannover"},{"$f":"IF($D$5=\"Course 1\",Général!G48,IF($D$5=\"Course 2\",Général!G50,IF($D$5=\"Course 3\",Général!G52,Général!G54)))","v":"La Rochelle 2"},{"$f":"IF($E$5=\"Course 1\",Général!G58,IF($E$5=\"Course 2\",Général!G60,IF($E$5=\"Course 3\",Général!G62,Général!G64)))","v":"ENSMAC"},{"$f":"IF($F$5=\"Course 1\",Général!G$68,IF($F$5=\"Course 2\",Général!G$70,IF($F$5=\"Course 3\",Général!G$72,Général!G$74)))","v":"ENSTA 2"},{"$f":"IF($G$5=\"Course 1\",Général!G$78,IF($G$5=\"Course 2\",Général!G$80,IF($G$5=\"Course 3\",Général!G$82,Général!G$84)))","v":"Paris Cité"},{"$f":"IF($H$5=\"Course 1\",Général!G$88,IF($H$5=\"Course 2\",Général!G$90,IF($H$5=\"Course 3\",Général!G$92,Général!G$94)))","v":"Paris Cité"},{"$f":"IF($I$5=\"Course 1\",Général!G$98,IF($I$5=\"Course 2\",Général!G$100,IF($I$5=\"Course 3\",Général!G$102,Général!G$104)))","v":"Univ Nantes 2"},{"$f":"IF($J$5=\"Course 1\",Général!G$108,IF($J$5=\"Course 2\",Général!G$110,IF($J$5=\"Course 3\",Général!G$112,Général!G$114)))","v":"Centrale Nantes 2"},{"$f":"IF($K$5=\"Course 1\",Général!G$118,IF($K$5=\"Course 2\",Général!G$120,IF($K$5=\"Course 3\",Général!G$122,Général!G$124)))","v":"La Rochelle 2"},{"$f":"IF($L$5=\"Course 1\",Général!G$128,IF($L$5=\"Course 2\",Général!G$130,IF($L$5=\"Course 3\",Général!G$132,Général!G$134)))","v":"Intechmer"},{"$f":"IF($M$5=\"Course 1\",Général!G$138,IF($M$5=\"Course 2\",Général!G$140,IF($M$5=\"Course 3\",Général!G$142,Général!G$144)))","v":"Unicaen 1"},{"$f":"IF($N$5=\"Course 1\",Général!G$148,IF($N$5=\"Course 2\",Général!G$150,IF($N$5=\"Course 3\",Général!G$152,Général!G$154)))","v":"Southampton"},{"$f":"IF($O$5=\"Course 1\",Général!G$158,IF($O$5=\"Course 2\",Général!G$160,IF($O$5=\"Course 3\",Général!G$162,Général!G$164)))","v":"Plymouth"},{"$f":"IF($P$5=\"Course 1\",Général!G$168,IF($P$5=\"Course 2\",Général!G$170,IF($P$5=\"Course 3\",Général!G$172,Général!G$174)))","v":"Paris Cité"},{"$f":"IF($Q$5=\"Course 1\",Général!G$178,IF($Q$5=\"Course 2\",Général!G$180,IF($Q$5=\"Course 3\",Général!G$182,Général!G$184)))","v":"Centrale Nantes 2"},{"$f":"IF($R$5=\"Course 1\",Général!G$188,IF($R$5=\"Course 2\",Général!G$190,IF($R$5=\"Course 3\",Général!G$192,Général!G$194)))","v":"IMT Brest 1"},{"$f":"IF($S$5=\"Course 1\",Général!G$198,IF($S$5=\"Course 2\",Général!G$200,IF($S$5=\"Course 3\",Général!G$202,Général!G$204)))","v":"UBS Lorient 1"},{"$f":"IF($T$5=\"Course 1\",Général!G$208,IF($T$5=\"Course 2\",Général!G$210,IF($T$5=\"Course 3\",Général!G$212,Général!G$214)))","v":"INSA Lyon"},null,{"$f":"Général!B15","v":"Orléans"},7]
["7ème Equipage",null,{"$f":"IF($C$5=\"Course 1\",Général!H38,IF($C$5=\"Course 2\",Général!H40,IF($C$5=\"Course 3\",Général!H42,Général!H44)))","v":"IMT Brest 2"},{"$f":"IF($D$5=\"Course 1\",Général!H48,IF($D$5=\"Course 2\",Général!H50,IF($D$5=\"Course 3\",Général!H52,Général!H54)))","v":"Karlsruhe"},{"$f":"IF($E$5=\"Course 1\",Général!H58,IF($E$5=\"Course 2\",Général!H60,IF($E$5=\"Course 3\",Général!H62,Général!H64)))","v":"Hannover"},{"$f":"IF($F$5=\"Course 1\",Général!H$68,IF($F$5=\"Course 2\",Général!H$70,IF($F$5=\"Course 3\",Général!H$72,Général!H$74)))","v":"UBS Lorient 2"},{"$f":"IF($G$5=\"Course 1\",Général!H$78,IF($G$5=\"Course 2\",Général!H$80,IF($G$5=\"Course 3\",Général!H$82,Général!H$84)))","v":"Univ Nantes 2"},{"$f":"IF($H$5=\"Course 1\",Général!H$88,IF($H$5=\"Course 2\",Général!H$90,IF($H$5=\"Course 3\",Général!H$92,Général!H$94)))","v":"Hannover"},{"$f":"IF($I$5=\"Course 1\",Général!H$98,IF($I$5=\"Course 2\",Général!H$100,IF($I$5=\"Course 3\",Général!H$102,Général!H$104)))","v":"ST Brieuc 2"},{"$f":"IF($J$5=\"Course 1\",Général!H$108,IF($J$5=\"Course 2\",Général!H$110,IF($J$5=\"Course 3\",Général!H$112,Général!H$114)))","v":"St Brieuc 1"},{"$f":"IF($K$5=\"Course 1\",Général!H$118,IF($K$5=\"Course 2\",Général!H$120,IF($K$5=\"Course 3\",Général!H$122,Général!H$124)))","v":"IMT Nantes"},{"$f":"IF($L$5=\"Course 1\",Général!H$128,IF($L$5=\"Course 2\",Général!H$130,IF($L$5=\"Course 3\",Général!H$132,Général!H$134)))","v":"IMT Nantes"},{"$f":"IF($M$5=\"Course 1\",Général!H$138,IF($M$5=\"Course 2\",Général!H$140,IF($M$5=\"Course 3\",Général!H$142,Général!H$144)))","v":"Centrale Nantes 1"},{"$f":"IF($N$5=\"Course 1\",Général!H$148,IF($N$5=\"Course 2\",Général!H$150,IF($N$5=\"Course 3\",Général!H$152,Général!H$154)))","v":"IMT Brest 1"},{"$f":"IF($O$5=\"Course 1\",Général!H$158,IF($O$5=\"Course 2\",Général!H$160,IF($O$5=\"Course 3\",Général!H$162,Général!H$164)))","v":"Paris Cité"},{"$f":"IF($P$5=\"Course 1\",Général!H$168,IF($P$5=\"Course 2\",Général!H$170,IF($P$5=\"Course 3\",Général!H$172,Général!H$174)))","v":"Orléans"},{"$f":"IF($Q$5=\"Course 1\",Général!H$178,IF($Q$5=\"Course 2\",Général!H$180,IF($Q$5=\"Course 3\",Général!H$182,Général!H$184)))","v":"IMT Brest 1"},{"$f":"IF($R$5=\"Course 1\",Général!H$188,IF($R$5=\"Course 2\",Général!H$190,IF($R$5=\"Course 3\",Général!H$192,Général!H$194)))","v":"Centrale Nantes 1"},{"$f":"IF($S$5=\"Course 1\",Général!H$198,IF($S$5=\"Course 2\",Général!H$200,IF($S$5=\"Course 3\",Général!H$202,Général!H$204)))","v":"UBO 1"},{"$f":"IF($T$5=\"Course 1\",Général!H$208,IF($T$5=\"Course 2\",Général!H$210,IF($T$5=\"Course 3\",Général!H$212,Général!H$214)))","v":"Univ Nantes 2"},null,{"$f":"Général!B16","v":"IMT Brest 1"},6]
["8ème Equipage",null,{"$f":"IF($C$5=\"Course 1\",Général!I38,IF($C$5=\"Course 2\",Général!I40,IF($C$5=\"Course 3\",Général!I42,Général!I44)))","v":"Paris Cité"},{"$f":"IF($D$5=\"Course 1\",Général!I48,IF($D$5=\"Course 2\",Général!I50,IF($D$5=\"Course 3\",Général!I52,Général!I54)))","v":"Centrale Nantes 1"},{"$f":"IF($E$5=\"Course 1\",Général!I58,IF($E$5=\"Course 2\",Général!I60,IF($E$5=\"Course 3\",Général!I62,Général!I64)))","v":"Unicaen 1"},{"$f":"IF($F$5=\"Course 1\",Général!I$68,IF($F$5=\"Course 2\",Général!I$70,IF($F$5=\"Course 3\",Général!I$72,Général!I$74)))","v":"INSA Lyon"},{"$f":"IF($G$5=\"Course 1\",Général!I$78,IF($G$5=\"Course 2\",Général!I$80,IF($G$5=\"Course 3\",Général!I$82,Général!I$84)))","v":"IMT Nantes"},{"$f":"IF($H$5=\"Course 1\",Général!I$88,IF($H$5=\"Course 2\",Général!I$90,IF($H$5=\"Course 3\",Général!I$92,Général!I$94)))","v":"IMT Nantes"},{"$f":"IF($I$5=\"Course 1\",Général!I$98,IF($I$5=\"Course 2\",Général!I$100,IF($I$5=\"Course 3\",Général!I$102,Général!I$104)))","v":"UBO 2"},{"$f":"IF($J$5=\"Course 1\",Général!I$108,IF($J$5=\"Course 2\",Général!I$110,IF($J$5=\"Course 3\",Général!I$112,Général!I$114)))","v":"Paris Cité"},{"$f":"IF($K$5=\"Course 1\",Général!I$118,IF($K$5=\"Course 2\",Général!I$120,IF($K$5=\"Course 3\",Général!I$122,Général!I$124)))","v":"Plymouth"},{"$f":"IF($L$5=\"Course 1\",Général!I$128,IF($L$5=\"Course 2\",Général!I$130,IF($L$5=\"Course 3\",Général!I$132,Général!I$134)))","v":"UBS Lorient 2"},{"$f":"IF($M$5=\"Course 1\",Général!I$138,IF($M$5=\"Course 2\",Général!I$140,IF($M$5=\"Course 3\",Général!I$142,Général!I$144)))","v":"Hannover"},{"$f":"IF($N$5=\"Course 1\",Général!I$148,IF($N$5=\"Course 2\",Général!I$150,IF($N$5=\"Course 3\",Général!I$152,Général!I$154)))","v":"Unicaen 2"},{"$f":"IF($O$5=\"Course 1\",Général!I$158,IF($O$5=\"Course 2\",Général!I$160,IF($O$5=\"Course 3\",Général!I$162,Général!I$164)))","v":"Centrale Nantes 2"},{"$f":"IF($P$5=\"Course 1\",Général!I$168,IF($P$5=\"Course 2\",Général!I$170,IF($P$5=\"Course 3\",Général!I$172,Général!I$174)))","v":"La Rochelle 1"},{"$f":"IF($Q$5=\"Course 1\",Général!I$178,IF($Q$5=\"Course 2\",Général!I$180,IF($Q$5=\"Course 3\",Général!I$182,Général!I$184)))","v":"Univ Nantes 3"},{"$f":"IF($R$5=\"Course 1\",Général!I$188,IF($R$5=\"Course 2\",Général!I$190,IF($R$5=\"Course 3\",Général!I$192,Général!I$194)))","v":"UBS Lorient 2"},{"$f":"IF($S$5=\"Course 1\",Général!I$198,IF($S$5=\"Course 2\",Général!I$200,IF($S$5=\"Course 3\",Général!I$202,Général!I$204)))","v":"IMT Brest 1"},{"$f":"IF($T$5=\"Course 1\",Général!I$208,IF($T$5=\"Course 2\",Général!I$210,IF($T$5=\"Course 3\",Général!I$212,Général!I$214)))","v":"UNIV Nantes 1"},null,{"$f":"Général!B17","v":"ENSMAC"},7]
["9ème Equipage",null,{"$f":"IF($C$5=\"Course 1\",Général!J38,IF($C$5=\"Course 2\",Général!J40,IF($C$5=\"Course 3\",Général!J42,Général!J44)))","v":"ENSMAC"},{"$f":"IF($D$5=\"Course 1\",Général!J48,IF($D$5=\"Course 2\",Général!J50,IF($D$5=\"Course 3\",Général!J52,Général!J54)))","v":"INSA Lyon"},{"$f":"IF($E$5=\"Course 1\",Général!J58,IF($E$5=\"Course 2\",Général!J60,IF($E$5=\"Course 3\",Général!J62,Général!J64)))","v":"Southampton"},{"$f":"IF($F$5=\"Course 1\",Général!J$68,IF($F$5=\"Course 2\",Général!J$70,IF($F$5=\"Course 3\",Général!J$72,Général!J$74)))","v":"Unicaen 1"},{"$f":"IF($G$5=\"Course 1\",Général!J$78,IF($G$5=\"Course 2\",Général!J$80,IF($G$5=\"Course 3\",Général!J$82,Général!J$84)))","v":"Unicaen 2"},{"$f":"IF($H$5=\"Course 1\",Général!J$88,IF($H$5=\"Course 2\",Général!J$90,IF($H$5=\"Course 3\",Général!$J92,Général!J$94)))","v":"Centrale Nantes 1"},{"$f":"IF($I$5=\"Course 1\",Général!J$98,IF($I$5=\"Course 2\",Général!J$100,IF($I$5=\"Course 3\",Général!J$102,Général!J$104)))","v":"Paris Cité"},{"$f":"IF($J$5=\"Course 1\",Général!J$108,IF($J$5=\"Course 2\",Général!J$110,IF($J$5=\"Course 3\",Général!J$112,Général!J$114)))","v":"UBO 1"},{"$f":"IF($K$5=\"Course 1\",Général!J$118,IF($K$5=\"Course 2\",Général!J$120,IF($K$5=\"Course 3\",Général!J$122,Général!J$124)))","v":"Paris Sorbone"},{"$f":"IF($L$5=\"Course 1\",Général!J$128,IF($L$5=\"Course 2\",Général!J$130,IF($L$5=\"Course 3\",Général!J$132,Général!J$134)))","v":"ST Brieuc 2"},{"$f":"IF($M$5=\"Course 1\",Général!J$138,IF($M$5=\"Course 2\",Général!J$140,IF($M$5=\"Course 3\",Général!J$142,Général!J$144)))","v":"St Brieuc 1"},{"$f":"IF($N$5=\"Course 1\",Général!J$148,IF($N$5=\"Course 2\",Général!J$150,IF($N$5=\"Course 3\",Général!J$152,Général!J$154)))","v":"IMT Nantes"},{"$f":"IF($O$5=\"Course 1\",Général!J$158,IF($O$5=\"Course 2\",Général!J$160,IF($O$5=\"Course 3\",Général!J$162,Général!J$164)))","v":"Intechmer"},{"$f":"IF($P$5=\"Course 1\",Général!J$168,IF($P$5=\"Course 2\",Général!J$170,IF($P$5=\"Course 3\",Général!J$172,Général!J$174)))","v":"IMT Brest 1"},{"$f":"IF($Q$5=\"Course 1\",Général!J$178,IF($Q$5=\"Course 2\",Général!J$180,IF($Q$5=\"Course 3\",Général!J$182,Général!J$184)))","v":"Intechmer"},{"$f":"IF($R$5=\"Course 1\",Général!J$188,IF($R$5=\"Course 2\",Général!J$190,IF($R$5=\"Course 3\",Général!J$192,Général!J$194)))","v":"UBS Lorient 1"},{"$f":"IF($S$5=\"Course 1\",Général!J$198,IF($S$5=\"Course 2\",Général!J$200,IF($S$5=\"Course 3\",Général!J$202,Général!J$204)))","v":"Hannover"},{"$f":"IF($T$5=\"Course 1\",Général!J$208,IF($T$5=\"Course 2\",Général!J$210,IF($T$5=\"Course 3\",Général!J$212,Général!J$214)))","v":"Centrale Nantes 2"},null,{"$f":"Général!B18","v":"St Brieuc 1"},4]
["10ème Equipage",null,{"$f":"IF($C$5=\"Course 1\",Général!K38,IF($C$5=\"Course 2\",Général!K40,IF($C$5=\"Course 3\",Général!K42,Général!K44)))","v":"Paris Sorbone"},{"$f":"IF($D$5=\"Course 1\",Général!K48,IF($D$5=\"Course 2\",Général!K50,IF($D$5=\"Course 3\",Général!K52,Général!K54)))","v":"Unicaen 1"},{"$f":"IF($E$5=\"Course 1\",Général!K58,IF($E$5=\"Course 2\",Général!K60,IF($E$5=\"Course 3\",Général!K62,Général!K64)))","v":"UBO 1"},{"$f":"IF($F$5=\"Course 1\",Général!K$68,IF($F$5=\"Course 2\",Général!K$70,IF($F$5=\"Course 3\",Général!K$72,Général!K$74)))","v":"Hannover"},{"$f":"IF($G$5=\"Course 1\",Général!K$78,IF($G$5=\"Course 2\",Général!K$80,IF($G$5=\"Course 3\",Général!K$82,Général!K$84)))","v":"Intechmer"},{"$f":"IF($H$5=\"Course 1\",Général!K$88,IF($H$5=\"Course 2\",Général!K$90,IF($H$5=\"Course 3\",Général!$K92,Général!K$94)))","v":"ENSTA 1"},{"$f":"IF($I$5=\"Course 1\",Général!K$98,IF($I$5=\"Course 2\",Général!K$100,IF($I$5=\"Course 3\",Général!K$102,Général!K$104)))","v":"St Brieuc 1"},{"$f":"IF($J$5=\"Course 1\",Général!K$108,IF($J$5=\"Course 2\",Général!K$110,IF($J$5=\"Course 3\",Général!K$112,Général!K$114)))","v":"Univ Nantes 3"},{"$f":"IF($K$5=\"Course 1\",Général!K$118,IF($K$5=\"Course 2\",Général!K$120,IF($K$5=\"Course 3\",Général!K$122,Général!K$124)))","v":"UBO 2"},{"$f":"IF($L$5=\"Course 1\",Général!K$128,IF($L$5=\"Course 2\",Général!K$130,IF($L$5=\"Course 3\",Général!K$132,Général!K$134)))","v":"Southampton"},{"$f":"IF($M$5=\"Course 1\",Général!K$138,IF($M$5=\"Course 2\",Général!K$140,IF($M$5=\"Course 3\",Général!K$142,Général!K$144)))","v":"IMT Brest 1"},{"$f":"IF($N$5=\"Course 1\",Général!K$148,IF($N$5=\"Course 2\",Général!K$150,IF($N$5=\"Course 3\",Général!K$152,Général!K$154)))","v":"Paris Sorbone"},{"$f":"IF($O$5=\"Course 1\",Général!K$158,IF($O$5=\"Course 2\",Général!K$160,IF($O$5=\"Course 3\",Général!K$162,Général!K$164)))","v":"IMT Brest 2"},{"$f":"IF($P$5=\"Course 1\",Général!K$168,IF($P$5=\"Course 2\",Général!K$170,IF($P$5=\"Course 3\",Général!K$172,Général!K$174)))","v":"IMT Nantes"},{"$f":"IF($Q$5=\"Course 1\",Général!K$178,IF($Q$5=\"Course 2\",Général!K$180,IF($Q$5=\"Course 3\",Général!K$182,Général!K$184)))","v":"ST Brieuc 2"},{"$f":"IF($R$5=\"Course 1\",Général!K$188,IF($R$5=\"Course 2\",Général!K$190,IF($R$5=\"Course 3\",Général!K$192,Général!K$194)))","v":"UBO 1"},{"$f":"IF($S$5=\"Course 1\",Général!K$198,IF($S$5=\"Course 2\",Général!K$200,IF($S$5=\"Course 3\",Général!K$202,Général!K$204)))","v":"Univ Nantes 3"},{"$f":"IF($T$5=\"Course 1\",Général!K$208,IF($T$5=\"Course 2\",Général!K$210,IF($T$5=\"Course 3\",Général!K$212,Général!K$214)))","v":"Paris Cité"},null,{"$f":"Général!B19","v":"Hannover"},7]
[null,null,null,null,null,null,null,null,null,null,null,null,null,null,null,null,null,null,null,null,null,{"$f":"Général!B20","v":"ENSTA 2"},7]
[null,null,null,null,null,null,null,null,null,null,null,null,null,null,null,null,null,null,null,null,null,{"$f":"Général!B21","v":"Southampton"},4]
[null,null,null,null,null,null,null,null,null,null,null,null,null,null,null,null,null,null,null,null,null,{"$f":"Général!B22","v":"La Rochelle 1"},4]
[null,null,null,null,null,null,null,null,null,null,null,null,null,null,null,null,null,null,null,null,null,{"$f":"Général!B23","v":"Centrale Nantes 1"},6]
[null,null,null,null,null,null,null,null,null,null,null,null,null,null,null,null,null,null,null,null,null,{"$f":"Général!B24","v":"ST Brieuc 2"},5]
[null,null,null,null,null,null,null,null,null,null,null,null,null,null,null,null,null,null,null,null,null,{"$f":"Général!B25","v":"UNIV Nantes 1"},4]
[null,null,null,null,null,null,null,null,null,null,null,null,null,null,null,null,null,null,null,null,null,{"$f":"Général!B26","v":"Intechmer"},4]
[null,null,null,null,null,null,null,null,null,null,null,null,null,null,null,null,null,null,null,null,null,{"$f":"Général!B27","v":"IMT Nantes"},6]
[null,null,null,null,null,null,null,null,null,null,null,null,null,null,null,null,null,null,null,null,null,{"$f":"Général!B28","v":"INSA Lyon"},4]
[null,null,null,null,null,null,null,null,null,null,null,null,null,null,null,null,null,null,null,null,null,{"$f":"Général!B29","v":"Centrale Nantes 2"},6]
[null,null,null,null,null,null,null,null,null,null,null,null,null,null,null,null,null,null,null,null,null,{"$f":"Général!B30","v":"UBS Lorient 2"},5]
[null,null,null,null,null,null,null,null,null,null,null,null,null,null,null,null,null,null,null,null,null,{"$f":"Général!B31","v":"La Rochelle 2"},5]
[null,null,null,null,null,null,null,null,null,null,null,null,null,null,null,null,null,null,null,null,null,{"$f":"Général!B32","v":"UBO 1"},7]
[null,null,null,null,null,null,null,null,null,null,null,null,null,null,null,null,null,null,null,null,null,{"$f":"Général!B33","v":"Eq.31"},0]
[null,null,null,null,null,null,null,null,null,null,null,null,null,null,null,null,null,null,null,null,null,{"$f":"Général!B34","v":"Eq.32"},0]

{"sheet":"Eq.6","index":11,"n_rows":32,"n_cols":23,"rows_kept":32,"cut":false,"hidden":false,"merged":[[7,0,7,1],[0,0,1,5],[0,6,1,10],[3,0,3,1],[4,0,4,1],[5,0,5,1],[14,0,14,1],[15,0,15,1],[16,0,16,1],[8,0,8,1],[9,0,9,1],[10,0,10,1],[11,0,11,1],[12,0,12,1],[13,0,13,1]]}
["Equipage ",null,null,null,null,null,{"$f":"Général!B8","v":"Plymouth"},null,null,null,null,null,null,null,null,null,null,null,null,null,null,{"$f":"Général!B3","v":"UBO 2"},{"$f":"COUNTIF(C$8:T$16,V1)","v":5}]
[null,null,null,null,null,null,null,null,null,null,null,null,null,null,null,null,null,null,null,null,null,{"$f":"Général!B4","v":"Paris Sorbone"},{"$f":"COUNTIF($C$8:$T$16,V2)","v":4}]
[null,null,null,null,null,null,null,null,null,null,null,null,null,null,null,null,null,null,null,null,null,{"$f":"Général!B5","v":"UBS Lorient 1"},{"$f":"COUNTIF($C$8:$T$16,V3)","v":6}]
[null,null,"FLIGHT 1","FLIGHT 2","FLIGHT 3","FLIGHT 4","FLIGHT 5","FLIGHT 6","FLIGHT 7","FLIGHT 8","FLIGHT 9","FLIGHT 10","FLIGHT 11","FLIGHT 12","FLIGHT 13","FLIGHT 14","FLIGHT 15","FLIGHT 16","FLIGHT 17","FLIGHT 18",null,{"$f":"Général!B6","v":"Univ Nantes 3"},3]
["N° de course",null,{"$f":"IF(COUNTIF(Général!B38:K38,$G$1)=1,\"Course 1\",IF(COUNTIF(Général!B40:K40,$G$1)=1,\"Course 2\",IF(COUNTIF(Général!B42:K42,$G$1)=1,\"Course 3\",\"Course 4\")))","v":"Course 3"},{"$f":"IF(COUNTIF(Général!B48:K48,$G$1)=1,\"Course 1\",IF(COUNTIF(Général!B50:K50,$G$1)=1,\"Course 2\",IF(COUNTIF(Général!B52:K52,$G$1)=1,\"Course 3\",\"Course 4\")))","v":"Course 1"},{"$f":"IF(COUNTIF(Général!B58:K58,$G$1)=1,\"Course 1\",IF(COUNTIF(Général!B60:K60,$G$1)=1,\"Course 2\",IF(COUNTIF(Général!B62:K62,$G$1)=1,\"Course 3\",\"Course 4\")))","v":"Course 3"},{"$f":"IF(COUNTIF(Général!B68:K68,$G$1)=1,\"Course 1\",IF(COUNTIF(Général!B70:K70,$G$1)=1,\"Course 2\",IF(COUNTIF(Général!B72:K72,$G$1)=1,\"Course 3\",\"Course 4\")))","v":"Course 1"},{"$f":"IF(COUNTIF(Général!B78:K78,$G$1)=1,\"Course 1\",IF(COUNTIF(Général!B80:K80,$G$1)=1,\"Course 2\",IF(COUNTIF(Général!B82:K82,$G$1)=1,\"Course 3\",\"Course 4\")))","v":"Course 2"},{"$f":"IF(COUNTIF(Général!B88:K88,$G$1)=1,\"Course 1\",IF(COUNTIF(Général!B90:K90,$G$1)=1,\"Course 2\",IF(COUNTIF(Général!B92:K92,$G$1)=1,\"Course 3\",\"Course 4\")))","v":"Course 2"},{"$f":"IF(COUNTIF(Général!B98:K98,$G$1)=1,\"Course 1\",IF(COUNTIF(Général!B100:K100,$G$1)=1,\"Course 2\",IF(COUNTIF(Général!B102:K102,$G$1)=1,\"Course 3\",\"Course 4\")))","v":"Course 2"},{"$f":"IF(COUNTIF(Général!B108:K108,$G$1)=1,\"Course 1\",IF(COUNTIF(Général!B110:K110,$G$1)=1,\"Course 2\",IF(COUNTIF(Général!B112:K112,$G$1)=1,\"Course 3\",\"Course 4\")))","v":"Course 2"},{"$f":"IF(COUNTIF(Général!B118:K118,$G$1)=1,\"Course 1\",IF(COUNTIF(Général!B120:K120,$G$1)=1,\"Course 2\",IF(COUNTIF(Général!B122:K122,$G$1)=1,\"Course 3\",\"Course 4\")))","v":"Course 2"},{"$f":"IF(COUNTIF(Général!B128:K128,$G$1)=1,\"Course 1\",IF(COUNTIF(Général!B130:K130,$G$1)=1,\"Course 2\",IF(COUNTIF(Général!B132:K132,$G$1)=1,\"Course 3\",\"Course 4\")))","v":"Course 2"},{"$f":"IF(COUNTIF(Général!B138:K138,$G$1)=1,\"Course 1\",IF(COUNTIF(Général!B140:K140,$G$1)=1,\"Course 2\",IF(COUNTIF(Général!B142:K142,$G$1)=1,\"Course 3\",\"Course 4\")))","v":"Course 2"},{"$f":"IF(COUNTIF(Général!B148:K148,$G$1)=1,\"Course 1\",IF(COUNTIF(Général!B150:K150,$G$1)=1,\"Course 2\",IF(COUNTIF(Général!B152:K152,$G$1)=1,\"Course 3\",\"Course 4\")))","v":"Course 3"},{"$f":"IF(COUNTIF(Général!B158:K158,$G$1)=1,\"Course 1\",IF(COUNTIF(Général!B160:K160,$G$1)=1,\"Course 2\",IF(COUNTIF(Général!B162:K162,$G$1)=1,\"Course 3\",\"Course 4\")))","v":"Course 2"},{"$f":"IF(COUNTIF(Général!B168:K168,$G$1)=1,\"Course 1\",IF(COUNTIF(Général!B170:K170,$G$1)=1,\"Course 2\",IF(COUNTIF(Général!B172:K172,$G$1)=1,\"Course 3\",\"Course 4\")))","v":"Course 3"},{"$f":"IF(COUNTIF(Général!B178:K178,$G$1)=1,\"Course 1\",IF(COUNTIF(Général!B180:K180,$G$1)=1,\"Course 2\",IF(COUNTIF(Général!B182:K182,$G$1)=1,\"Course 3\",\"Course 4\")))","v":"Course 1"},{"$f":"IF(COUNTIF(Général!B188:K188,$G$1)=1,\"Course 1\",IF(COUNTIF(Général!B190:K190,$G$1)=1,\"Course 2\",IF(COUNTIF(Général!B192:K192,$G$1)=1,\"Course 3\",\"Course 4\")))","v":"Course 3"},{"$f":"IF(COUNTIF(Général!B198:K198,$G$1)=1,\"Course 1\",IF(COUNTIF(Général!B200:K200,$G$1)=1,\"Course 2\",IF(COUNTIF(Général!B202:K202,$G$1)=1,\"Course 3\",\"Course 4\")))","v":"Course 1"},{"$f":"IF(COUNTIF(Général!B208:K208,$G$1)=1,\"Course 1\",IF(COUNTIF(Général!B210:K210,$G$1)=1,\"Course 2\",IF(COUNTIF(Général!B212:K212,$G$1)=1,\"Course 3\",\"Course 4\")))","v":"Course 3"},null,{"$f":"Général!B7","v":"Paris Cité"},3]
["Bateau",null,{"$f":"IF(COUNTIF(Général!B38:B44,$G$1)=1,\"Boat 1\",IF(COUNTIF(Général!C38:C44,$G$1)=1,\"Boat 2\",IF(COUNTIF(Général!D38:D44,$G$1)=1,\"Boat 3\", IF(COUNTIF(Général!E38:E44,$G$1)=1,\"Boat 4\", IF(COUNTIF(Général!F38:F44,$G$1)=1,\"Boat 5\", IF(COUNTIF(Général!G38:G44,$G$1)=1,\"Boat 6\", IF(COUNTIF(Général!H38:H44,$G$1)=1,\"Boat 7\",IF(COUNTIF(Général!I38:I44,$G$1)=1,\"Boat 8\",\"Boat 9\"))))))))","v":"Boat 6"},{"$f":"IF(COUNTIF(Général!B48:B54,$G$1)=1,\"Boat 1\",IF(COUNTIF(Général!C48:C54,$G$1)=1,\"Boat 2\",IF(COUNTIF(Général!D48:D54,$G$1)=1,\"Boat 3\", IF(COUNTIF(Général!E48:E54,$G$1)=1,\"Boat 4\", IF(COUNTIF(Général!F48:F54,$G$1)=1,\"Boat 5\", IF(COUNTIF(Général!G48:G54,$G$1)=1,\"Boat 6\", IF(COUNTIF(Général!H48:H54,$G$1)=1,\"Boat 7\",IF(COUNTIF(Général!I38:I44,$G$1)=1,\"Boat 8\",\"Boat 9\"))))))))","v":"Boat 6"},{"$f":"IF(COUNTIF(Général!B58:B64,$G$1)=1,\"Boat 1\",IF(COUNTIF(Général!C58:C64,$G$1)=1,\"Boat 2\",IF(COUNTIF(Général!D58:D64,$G$1)=1,\"Boat 3\", IF(COUNTIF(Général!E58:E64,$G$1)=1,\"Boat 4\", IF(COUNTIF(Général!F58:F64,$G$1)=1,\"Boat 5\", IF(COUNTIF(Général!G58:G64,$G$1)=1,\"Boat 6\", IF(COUNTIF(Général!H58:H64,$G$1)=1,\"Boat 7\",IF(COUNTIF(Général!I38:I44,$G$1)=1,\"Boat 8\",\"Boat 9\"))))))))","v":"Boat 4"},{"$f":"IF(COUNTIF(Général!B68:B74,$G$1)=1,\"Boat 1\",IF(COUNTIF(Général!C68:C74,$G$1)=1,\"Boat 2\",IF(COUNTIF(Général!D68:D74,$G$1)=1,\"Boat 3\", IF(COUNTIF(Général!E68:E74,$G$1)=1,\"Boat 4\", IF(COUNTIF(Général!F68:F74,$G$1)=1,\"Boat 5\", IF(COUNTIF(Général!G68:G74,$G$1)=1,\"Boat 6\", IF(COUNTIF(Général!H68:H74,$G$1)=1,\"Boat 7\",IF(COUNTIF(Général!I38:I44,$G$1)=1,\"Boat 8\",\"Boat 9\"))))))))","v":"Boat 4"},{"$f":"IF(COUNTIF(Général!B78:B84,$G$1)=1,\"Boat 1\",IF(COUNTIF(Général!C78:C84,$G$1)=1,\"Boat 2\",IF(COUNTIF(Général!D78:D84,$G$1)=1,\"Boat 3\", IF(COUNTIF(Général!E78:E84,$G$1)=1,\"Boat 4\", IF(COUNTIF(Général!F78:F84,$G$1)=1,\"Boat 5\", IF(COUNTIF(Général!G78:G84,$G$1)=1,\"Boat 6\", IF(COUNTIF(Général!H78:H84,$G$1)=1,\"Boat 7\",IF(COUNTIF(Général!I38:I44,$G$1)=1,\"Boat 8\",\"Boat 9\"))))))))","v":"Boat 1"},{"$f":"IF(COUNTIF(Général!B88:B94,$G$1)=1,\"Boat 1\",IF(COUNTIF(Général!C88:C94,$G$1)=1,\"Boat 2\",IF(COUNTIF(Général!D88:D94,$G$1)=1,\"Boat 3\", IF(COUNTIF(Général!E88:E94,$G$1)=1,\"Boat 4\", IF(COUNTIF(Général!F88:F94,$G$1)=1,\"Boat 5\", IF(COUNTIF(Général!G88:G94,$G$1)=1,\"Boat 6\", IF(COUNTIF(Général!H88:H94,$G$1)=1,\"Boat 7\",IF(COUNTIF(Général!I38:I44,$G$1)=1,\"Boat 8\",\"Boat 9\"))))))))","v":"Boat 5"},{"$f":"IF(COUNTIF(Général!B98:B104,$G$1)=1,\"Boat 1\",IF(COUNTIF(Général!C98:C104,$G$1)=1,\"Boat 2\",IF(COUNTIF(Général!D98:D104,$G$1)=1,\"Boat 3\", IF(COUNTIF(Général!E98:E104,$G$1)=1,\"Boat 4\", IF(COUNTIF(Général!F98:F104,$G$1)=1,\"Boat 5\", IF(COUNTIF(Général!G98:G104,$G$1)=1,\"Boat 6\", IF(COUNTIF(Général!H98:H104,$G$1)=1,\"Boat 7\",IF(COUNTIF(Général!I38:I44,$G$1)=1,\"Boat 8\",\"Boat 9\"))))))))","v":"Boat 7"},{"$f":"IF(COUNTIF(Général!B108:B114,$G$1)=1,\"Boat 1\",IF(COUNTIF(Général!C108:C114,$G$1)=1,\"Boat 2\",IF(COUNTIF(Général!D108:D114,$G$1)=1,\"Boat 3\", IF(COUNTIF(Général!E108:E114,$G$1)=1,\"Boat 4\", IF(COUNTIF(Général!F108:F114,$G$1)=1,\"Boat 5\", IF(COUNTIF(Général!G108:G114,$G$1)=1,\"Boat 6\", IF(COUNTIF(Général!H108:H114,$G$1)=1,\"Boat 7\",IF(COUNTIF(Général!I38:I44,$G$1)=1,\"Boat 8\",\"Boat 9\"))))))))","v":"Boat 9"},{"$f":"IF(COUNTIF(Général!B118:B124,$G$1)=1,\"Boat 1\",IF(COUNTIF(Général!C118:C124,$G$1)=1,\"Boat 2\",IF(COUNTIF(Général!D118:D124,$G$1)=1,\"Boat 3\", IF(COUNTIF(Général!E118:E124,$G$1)=1,\"Boat 4\", IF(COUNTIF(Général!F118:F124,$G$1)=1,\"Boat 5\", IF(COUNTIF(Général!G118:G124,$G$1)=1,\"Boat 6\", IF(COUNTIF(Général!H118:H124,$G$1)=1,\"Boat 7\",IF(COUNTIF(Général!I38:I44,$G$1)=1,\"Boat 8\",\"Boat 9\"))))))))","v":"Boat 9"},{"$f":"IF(COUNTIF(Général!B128:B134,$G$1)=1,\"Boat 1\",IF(COUNTIF(Général!C128:C134,$G$1)=1,\"Boat 2\",IF(COUNTIF(Général!D128:D134,$G$1)=1,\"Boat 3\", IF(COUNTIF(Général!E128:E134,$G$1)=1,\"Boat 4\", IF(COUNTIF(Général!F128:F134,$G$1)=1,\"Boat 5\", IF(COUNTIF(Général!G128:G134,$G$1)=1,\"Boat 6\", IF(COUNTIF(Général!H128:H134,$G$1)=1,\"Boat 7\",IF(COUNTIF(Général!I38:I44,$G$1)=1,\"Boat 8\",\"Boat 9\"))))))))","v":"Boat 1"},{"$f":"IF(COUNTIF(Général!B138:B144,$G$1)=1,\"Boat 1\",IF(COUNTIF(Général!C138:C144,$G$1)=1,\"Boat 2\",IF(COUNTIF(Général!C138:D144,$G$1)=1,\"Boat 3\", IF(COUNTIF(Général!C138:E144,$G$1)=1,\"Boat 4\", IF(COUNTIF(Général!F138:F144,$G$1)=1,\"Boat 5\", IF(COUNTIF(Général!G138:G144,$G$1)=1,\"Boat 6\", IF(COUNTIF(Général!H138:H144,$G$1)=1,\"Boat 7\",IF(COUNTIF(Général!I38:I44,$G$1)=1,\"Boat 8\",\"Boat 9\"))))))))","v":"Boat 1"},{"$f":"IF(COUNTIF(Général!B148:B154,$G$1)=1,\"Boat 1\",IF(COUNTIF(Général!C148:C154,$G$1)=1,\"Boat 2\",IF(COUNTIF(Général!D148:D154,$G$1)=1,\"Boat 3\", IF(COUNTIF(Général!E148:E154,$G$1)=1,\"Boat 4\", IF(COUNTIF(Général!F148:F154,$G$1)=1,\"Boat 5\", IF(COUNTIF(Général!G148:G154,$G$1)=1,\"Boat 6\", IF(COUNTIF(Général!H148:H154,$G$1)=1,\"Boat 7\",IF(COUNTIF(Général!I38:I44,$G$1)=1,\"Boat 8\",\"Boat 9\"))))))))","v":"Boat 9"},{"$f":"IF(COUNTIF(Général!B158:B164,$G$1)=1,\"Boat 1\",IF(COUNTIF(Général!C158:C164,$G$1)=1,\"Boat 2\",IF(COUNTIF(Général!D160:D164,$G$1)=1,\"Boat 3\", IF(COUNTIF(Général!E158:E164,$G$1)=1,\"Boat 4\", IF(COUNTIF(Général!F158:F164,$G$1)=1,\"Boat 5\", IF(COUNTIF(Général!G158:G164,$G$1)=1,\"Boat 6\", IF(COUNTIF(Général!H158:H164,$G$1)=1,\"Boat 7\",IF(COUNTIF(Général!I38:I44,$G$1)=1,\"Boat 8\",\"Boat 9\"))))))))","v":"Boat 6"},{"$f":"IF(COUNTIF(Général!B168:B174,$G$1)=1,\"Boat 1\",IF(COUNTIF(Général!C168:C174,$G$1)=1,\"Boat 2\",IF(COUNTIF(Général!D168:D174,$G$1)=1,\"Boat 3\", IF(COUNTIF(Général!E168:E174,$G$1)=1,\"Boat 4\", IF(COUNTIF(Général!F178:F184,$G$1)=1,\"Boat 5\", IF(COUNTIF(Général!G178:G184,$G$1)=1,\"Boat 6\", IF(COUNTIF(Général!H178:H184,$G$1)=1,\"Boat 7\",IF(COUNTIF(Général!I38:I44,$G$1)=1,\"Boat 8\",\"Boat 9\"))))))))","v":"Boat 1"},{"$f":"IF(COUNTIF(Général!B178:B184,$G$1)=1,\"Boat 1\",IF(COUNTIF(Général!C178:C184,$G$1)=1,\"Boat 2\",IF(COUNTIF(Général!D178:D184,$G$1)=1,\"Boat 3\", IF(COUNTIF(Général!E178:E184,$G$1)=1,\"Boat 4\", IF(COUNTIF(Général!F178:F184,$G$1)=1,\"Boat 5\", IF(COUNTIF(Général!G178:G184,$G$1)=1,\"Boat 6\", IF(COUNTIF(Général!H178:H184,$G$1)=1,\"Boat 7\",IF(COUNTIF(Général!I38:I44,$G$1)=1,\"Boat 8\",\"Boat 9\"))))))))","v":"Boat 1"},{"$f":"IF(COUNTIF(Général!B188:B194,$G$1)=1,\"Boat 1\",IF(COUNTIF(Général!C188:C194,$G$1)=1,\"Boat 2\",IF(COUNTIF(Général!D188:D194,$G$1)=1,\"Boat 3\", IF(COUNTIF(Général!E188:E194,$G$1)=1,\"Boat 4\", IF(COUNTIF(Général!F188:F194,$G$1)=1,\"Boat 5\", IF(COUNTIF(Général!G188:G194,$G$1)=1,\"Boat 6\", IF(COUNTIF(Général!H188:H194,$G$1)=1,\"Boat 7\",IF(COUNTIF(Général!I38:I44,$G$1)=1,\"Boat 8\",\"Boat 9\"))))))))","v":"Boat 9"},{"$f":"IF(COUNTIF(Général!B198:B204,$G$1)=1,\"Boat 1\",IF(COUNTIF(Général!C198:C204,$G$1)=1,\"Boat 2\",IF(COUNTIF(Général!D198:D204,$G$1)=1,\"Boat 3\", IF(COUNTIF(Général!E198:E204,$G$1)=1,\"Boat 4\", IF(COUNTIF(Général!F198:F204,$G$1)=1,\"Boat 5\", IF(COUNTIF(Général!G198:G204,$G$1)=1,\"Boat 6\", IF(COUNTIF(Général!H198:H204,$G$1)=1,\"Boat 7\",IF(COUNTIF(Général!I38:I44,$G$1)=1,\"Boat 8\",\"Boat 9\"))))))))","v":"Boat 9"},{"$f":"IF(COUNTIF(Général!B208:B214,$G$1)=1,\"Boat 1\",IF(COUNTIF(Général!C208:C214,$G$1)=1,\"Boat 2\",IF(COUNTIF(Général!D208:D214,$G$1)=1,\"Boat 3\", IF(COUNTIF(Général!E208:E214,$G$1)=1,\"Boat 4\", IF(COUNTIF(Général!F208:F214,$G$1)=1,\"Boat 5\", IF(COUNTIF(Général!G208:G214,$G$1)=1,\"Boat 6\", IF(COUNTIF(Général!H208:H214,$G$1)=1,\"Boat 7\",IF(COUNTIF(Général!I38:I44,$G$1)=1,\"Boat 8\",\"Boat 9\"))))))))","v":"Boat 4"},null,{"$f":"Général!B8","v":"Plymouth"},17]
[null,null,null,null,null,null,null,null,null,null,null,null,null,null,null,null,null,null,null,null,null,{"$f":"Général!B9","v":"Unicaen 2"},4]
["1er Equipage",null,{"$f":"IF($C$5=\"Course 1\",Général!B38,IF($C$5=\"Course 2\",Général!B40,IF($C$5=\"Course 3\",Général!B42,Général!B44)))","v":"La Rochelle 1"},{"$f":"IF($D$5=\"Course 1\",Général!B48,IF($D$5=\"Course 2\",Général!B50,IF($D$5=\"Course 3\",Général!B52,Général!B54)))","v":"ENSTA 1"},{"$f":"IF($E$5=\"Course 1\",Général!B58,IF($E$5=\"Course 2\",Général!B60,IF($E$5=\"Course 3\",Général!B62,Général!B64)))","v":"ST Brieuc 2"},{"$f":"IF($F$5=\"Course 1\",Général!B$68,IF($F$5=\"Course 2\",Général!B$70,IF($F$5=\"Course 3\",Général!B$72,Général!B$74)))","v":"ST Brieuc 2"},{"$f":"IF($G$5=\"Course 1\",Général!B$78,IF($G$5=\"Course 2\",Général!B$80,IF($G$5=\"Course 3\",Général!B$82,Général!B$84)))","v":"Plymouth"},{"$f":"IF($H$5=\"Course 1\",Général!B$88,IF($H$5=\"Course 2\",Général!B$90,IF($H$5=\"Course 3\",Général!B$92,Général!B$94)))","v":"Univ Nantes 2"},{"$f":"IF($I$5=\"Course 1\",Général!B$98,IF($I$5=\"Course 2\",Général!B$100,IF($I$5=\"Course 3\",Général!B$102,Général!B$104)))","v":"Unicaen 1"},{"$f":"IF($J$5=\"Course 1\",Général!B$108,IF($J$5=\"Course 2\",Général!B$110,IF($J$5=\"Course 3\",Général!B$112,Général!B$114)))","v":"Centrale Nantes 1"},{"$f":"IF($K$5=\"Course 1\",Général!B$118,IF($K$5=\"Course 2\",Général!B$120,IF($K$5=\"Course 3\",Général!B$122,Général!B$124)))","v":"Hannover"},{"$f":"IF($L$5=\"Course 1\",Général!B$128,IF($L$5=\"Course 2\",Général!B$130,IF($L$5=\"Course 3\",Général!B$132,Général!B$134)))","v":"Plymouth"},{"$f":"IF($M$5=\"Course 1\",Général!B$138,IF($M$5=\"Course 2\",Général!B$140,IF($M$5=\"Course 3\",Général!B$142,Général!B$144)))","v":"Plymouth"},{"$f":"IF($N$5=\"Course 1\",Général!B$148,IF($N$5=\"Course 2\",Général!B$150,IF($N$5=\"Course 3\",Général!B$152,Général!B$154)))","v":"La Rochelle 1"},{"$f":"IF($O$5=\"Course 1\",Général!B$158,IF($O$5=\"Course 2\",Général!B$160,IF($O$5=\"Course 3\",Général!B$162,Général!B$164)))","v":"ENSMAC"},{"$f":"IF($P$5=\"Course 1\",Général!B$168,IF($P$5=\"Course 2\",Général!B$170,IF($P$5=\"Course 3\",Général!B$172,Général!B$174)))","v":"Plymouth"},{"$f":"IF($Q$5=\"Course 1\",Général!B$178,IF($Q$5=\"Course 2\",Général!B$180,IF($Q$5=\"Course 3\",Général!B$182,Général!B$184)))","v":"Plymouth"},{"$f":"IF($R$5=\"Course 1\",Général!B$188,IF($R$5=\"Course 2\",Général!B$190,IF($R$5=\"Course 3\",Général!B$192,Général!B$194)))","v":"ENSTA 1"},{"$f":"IF($S$5=\"Course 1\",Général!B$198,IF($S$5=\"Course 2\",Général!B$200,IF($S$5=\"Course 3\",Général!B$202,Général!B$204)))","v":"ENSTA 1"},{"$f":"IF($T$5=\"Course 1\",Général!B$208,IF($T$5=\"Course 2\",Général!B$210,IF($T$5=\"Course 3\",Général!B$212,Général!B$214)))","v":"IMT Brest 1"},null,{"$f":"Général!B10","v":"Univ Nantes 2"},7]
["2nd Equipage",null,{"$f":"IF($C$5=\"Course 1\",Général!C38,IF($C$5=\"Course 2\",Général!C40,IF($C$5=\"Course 3\",Général!C42,Général!C44)))","v":"UBS Lorient 1"},{"$f":"IF($D$5=\"Course 1\",Général!C48,IF($D$5=\"Course 2\",Général!C50,IF($D$5=\"Course 3\",Général!C52,Général!C54)))","v":"UBS Lorient 1"},{"$f":"IF($E$5=\"Course 1\",Général!C58,IF($E$5=\"Course 2\",Général!C60,IF($E$5=\"Course 3\",Général!C62,Général!C64)))","v":"La Rochelle 1"},{"$f":"IF($F$5=\"Course 1\",Général!C$68,IF($F$5=\"Course 2\",Général!C$70,IF($F$5=\"Course 3\",Général!C$72,Général!C$74)))","v":"La Rochelle 1"},{"$f":"IF($G$5=\"Course 1\",Général!C$78,IF($G$5=\"Course 2\",Général!C$80,IF($G$5=\"Course 3\",Général!C$82,Général!C$84)))","v":"Univ Nantes 3"},{"$f":"IF($H$5=\"Course 1\",Général!C$88,IF($H$5=\"Course 2\",Général!C$90,IF($H$5=\"Course 3\",Général!C$92,Général!C$94)))","v":"La Rochelle 2"},{"$f":"IF($I$5=\"Course 1\",Général!C$98,IF($I$5=\"Course 2\",Général!C$100,IF($I$5=\"Course 3\",Général!C$102,Général!C$104)))","v":"La Rochelle 1"},{"$f":"IF($J$5=\"Course 1\",Général!C$108,IF($J$5=\"Course 2\",Général!C$110,IF($J$5=\"Course 3\",Général!C$112,Général!C$114)))","v":"ENSMAC"},{"$f":"IF($K$5=\"Course 1\",Général!C$118,IF($K$5=\"Course 2\",Général!C$120,IF($K$5=\"Course 3\",Général!C$122,Général!C$124)))","v":"Paris Cité"},{"$f":"IF($L$5=\"Course 1\",Général!C$128,IF($L$5=\"Course 2\",Général!C$130,IF($L$5=\"Course 3\",Général!C$132,Général!C$134)))","v":"ENSMAC"},{"$f":"IF($M$5=\"Course 1\",Général!C$138,IF($M$5=\"Course 2\",Général!C$140,IF($M$5=\"Course 3\",Général!C$142,Général!C$144)))","v":"Karlsruhe"},{"$f":"IF($N$5=\"Course 1\",Général!C$148,IF($N$5=\"Course 2\",Général!C$150,IF($N$5=\"Course 3\",Général!C$152,Général!C$154)))","v":"Intechmer"},{"$f":"IF($O$5=\"Course 1\",Général!C$158,IF($O$5=\"Course 2\",Général!C$160,IF($O$5=\"Course 3\",Général!C$162,Général!C$164)))","v":"UBO 2"},{"$f":"IF($P$5=\"Course 1\",Général!C$168,IF($P$5=\"Course 2\",Général!C$170,IF($P$5=\"Course 3\",Général!C$172,Général!C$174)))","v":"La Rochelle 2"},{"$f":"IF($Q$5=\"Course 1\",Général!C$178,IF($Q$5=\"Course 2\",Général!C$180,IF($Q$5=\"Course 3\",Général!C$182,Général!C$184)))","v":"UNIV Nantes 1"},{"$f":"IF($R$5=\"Course 1\",Général!C$188,IF($R$5=\"Course 2\",Général!C$190,IF($R$5=\"Course 3\",Général!C$192,Général!C$194)))","v":"INSA Lyon"},{"$f":"IF($S$5=\"Course 1\",Général!C$198,IF($S$5=\"Course 2\",Général!C$200,IF($S$5=\"Course 3\",Général!C$202,Général!C$204)))","v":"INSA Lyon"},{"$f":"IF($T$5=\"Course 1\",Général!C$208,IF($T$5=\"Course 2\",Général!C$210,IF($T$5=\"Course 3\",Général!C$212,Général!C$214)))","v":"Hannover"},null,{"$f":"Général!B11","v":"Karlsruhe"},5]
["3ème Equipage",null,{"$f":"IF($C$5=\"Course 1\",Général!D38,IF($C$5=\"Course 2\",Général!D40,IF($C$5=\"Course 3\",Général!D42,Général!D44)))","v":"UBO 1"},{"$f":"IF($D$5=\"Course 1\",Général!D48,IF($D$5=\"Course 2\",Général!D50,IF($D$5=\"Course 3\",Général!D52,Général!D54)))","v":"Paris Sorbone"},{"$f":"IF($E$5=\"Course 1\",Général!D58,IF($E$5=\"Course 2\",Général!D60,IF($E$5=\"Course 3\",Général!D62,Général!D64)))","v":"St Brieuc 1"},{"$f":"IF($F$5=\"Course 1\",Général!D$68,IF($F$5=\"Course 2\",Général!D$70,IF($F$5=\"Course 3\",Général!D$72,Général!D$74)))","v":"Centrale Nantes 1"},{"$f":"IF($G$5=\"Course 1\",Général!D$78,IF($G$5=\"Course 2\",Général!D$80,IF($G$5=\"Course 3\",Général!D$82,Général!D$84)))","v":"Paris Sorbone"},{"$f":"IF($H$5=\"Course 1\",Général!D$88,IF($H$5=\"Course 2\",Général!D$90,IF($H$5=\"Course 3\",Général!D$92,Général!D$94)))","v":"UNIV Nantes 1"},{"$f":"IF($I$5=\"Course 1\",Général!D$98,IF($I$5=\"Course 2\",Général!D$100,IF($I$5=\"Course 3\",Général!D$102,Général!D$104)))","v":"Southampton"},{"$f":"IF($J$5=\"Course 1\",Général!D$108,IF($J$5=\"Course 2\",Général!D$110,IF($J$5=\"Course 3\",Général!D$112,Général!D$114)))","v":"INSA Lyon"},{"$f":"IF($K$5=\"Course 1\",Général!D$118,IF($K$5=\"Course 2\",Général!D$120,IF($K$5=\"Course 3\",Général!D$122,Général!D$124)))","v":"Unicaen 2"},{"$f":"IF($L$5=\"Course 1\",Général!D$128,IF($L$5=\"Course 2\",Général!D$130,IF($L$5=\"Course 3\",Général!D$132,Général!D$134)))","v":"ENSTA 1"},{"$f":"IF($M$5=\"Course 1\",Général!D$138,IF($M$5=\"Course 2\",Général!D$140,IF($M$5=\"Course 3\",Général!D$142,Général!D$144)))","v":"Paris Sorbone"},{"$f":"IF($N$5=\"Course 1\",Général!D$148,IF($N$5=\"Course 2\",Général!D$150,IF($N$5=\"Course 3\",Général!D$152,Général!D$154)))","v":"IMT Brest 2"},{"$f":"IF($O$5=\"Course 1\",Général!D$158,IF($O$5=\"Course 2\",Général!D$160,IF($O$5=\"Course 3\",Général!D$162,Général!D$164)))","v":"ENSTA 2"},{"$f":"IF($P$5=\"Course 1\",Général!D$168,IF($P$5=\"Course 2\",Général!D$170,IF($P$5=\"Course 3\",Général!D$172,Général!D$174)))","v":"Karlsruhe"},{"$f":"IF($Q$5=\"Course 1\",Général!D$178,IF($Q$5=\"Course 2\",Général!D$180,IF($Q$5=\"Course 3\",Général!D$182,Général!D$184)))","v":"Univ Nantes 2"},{"$f":"IF($R$5=\"Course 1\",Général!D$188,IF($R$5=\"Course 2\",Général!D$190,IF($R$5=\"Course 3\",Général!D$192,Général!D$194)))","v":"Intechmer"},{"$f":"IF($S$5=\"Course 1\",Général!D$198,IF($S$5=\"Course 2\",Général!D$200,IF($S$5=\"Course 3\",Général!D$202,Général!D$204)))","v":"Intechmer"},{"$f":"IF($T$5=\"Course 1\",Général!D$208,IF($T$5=\"Course 2\",Général!D$210,IF($T$5=\"Course 3\",Général!D$212,Général!D$214)))","v":"La Rochelle 2"},null,{"$f":"Général!B12","v":"IMT Brest 2"},4]
["4ème Equipage",null,{"$f":"IF($C$5=\"Course 1\",Général!E38,IF($C$5=\"Course 2\",Général!E40,IF($C$5=\"Course 3\",Général!E42,Général!E44)))","v":"Southampton"},{"$f":"IF($D$5=\"Course 1\",Général!E48,IF($D$5=\"Course 2\",Général!E50,IF($D$5=\"Course 3\",Général!E52,Général!E54)))","v":"IMT Nantes"},{"$f":"IF($E$5=\"Course 1\",Général!E58,IF($E$5=\"Course 2\",Général!E60,IF($E$5=\"Course 3\",Général!E62,Général!E64)))","v":"Plymouth"},{"$f":"IF($F$5=\"Course 1\",Général!E$68,IF($F$5=\"Course 2\",Général!E$70,IF($F$5=\"Course 3\",Général!E$72,Général!E$74)))","v":"Plymouth"},{"$f":"IF($G$5=\"Course 1\",Général!E$78,IF($G$5=\"Course 2\",Général!E$80,IF($G$5=\"Course 3\",Général!E$82,Général!E$84)))","v":"St Brieuc 1"},{"$f":"IF($H$5=\"Course 1\",Général!E$88,IF($H$5=\"Course 2\",Général!E$90,IF($H$5=\"Course 3\",Général!E$92,Général!E$94)))","v":"Karlsruhe"},{"$f":"IF($I$5=\"Course 1\",Général!E$98,IF($I$5=\"Course 2\",Général!E$100,IF($I$5=\"Course 3\",Général!E$102,Général!E$104)))","v":"Karlsruhe"},{"$f":"IF($J$5=\"Course 1\",Général!E$108,IF($J$5=\"Course 2\",Général!E$110,IF($J$5=\"Course 3\",Général!E$112,Général!E$114)))","v":"Univ Nantes 2"},{"$f":"IF($K$5=\"Course 1\",Général!E$118,IF($K$5=\"Course 2\",Général!E$120,IF($K$5=\"Course 3\",Général!E$122,Général!E$124)))","v":"UBO 1"},{"$f":"IF($L$5=\"Course 1\",Général!E$128,IF($L$5=\"Course 2\",Général!E$130,IF($L$5=\"Course 3\",Général!E$132,Général!E$134)))","v":"Paris Cité"},{"$f":"IF($M$5=\"Course 1\",Général!E$138,IF($M$5=\"Course 2\",Général!E$140,IF($M$5=\"Course 3\",Général!E$142,Général!E$144)))","v":"UBO 2"},{"$f":"IF($N$5=\"Course 1\",Général!E$148,IF($N$5=\"Course 2\",Général!E$150,IF($N$5=\"Course 3\",Général!E$152,Général!E$154)))","v":"UBO 2"},{"$f":"IF($O$5=\"Course 1\",Général!E$158,IF($O$5=\"Course 2\",Général!E$160,IF($O$5=\"Course 3\",Général!E$162,Général!E$164)))","v":"UBO 1"},{"$f":"IF($P$5=\"Course 1\",Général!E$168,IF($P$5=\"Course 2\",Général!E$170,IF($P$5=\"Course 3\",Général!E$172,Général!E$174)))","v":"UBO 1"},{"$f":"IF($Q$5=\"Course 1\",Général!E$178,IF($Q$5=\"Course 2\",Général!E$180,IF($Q$5=\"Course 3\",Général!E$182,Général!E$184)))","v":"UBO 1"},{"$f":"IF($R$5=\"Course 1\",Général!E$188,IF($R$5=\"Course 2\",Général!E$190,IF($R$5=\"Course 3\",Général!E$192,Général!E$194)))","v":"Univ Nantes 2"},{"$f":"IF($S$5=\"Course 1\",Général!E$198,IF($S$5=\"Course 2\",Général!E$200,IF($S$5=\"Course 3\",Général!E$202,Général!E$204)))","v":"St Brieuc 1"},{"$f":"IF($T$5=\"Course 1\",Général!E$208,IF($T$5=\"Course 2\",Général!E$210,IF($T$5=\"Course 3\",Général!E$212,Général!E$214)))","v":"Plymouth"},null,{"$f":"Général!B13","v":"Unicaen 1"},5]
["5ème Equipage",null,{"$f":"IF($C$5=\"Course 1\",Général!F38,IF($C$5=\"Course 2\",Général!F40,IF($C$5=\"Course 3\",Général!F42,Général!F44)))","v":"ENSTA 2"},{"$f":"IF($D$5=\"Course 1\",Général!F48,IF($D$5=\"Course 2\",Général!F50,IF($D$5=\"Course 3\",Général!F52,Général!F54)))","v":"Hannover"},{"$f":"IF($E$5=\"Course 1\",Général!F58,IF($E$5=\"Course 2\",Général!F60,IF($E$5=\"Course 3\",Général!F62,Général!F64)))","v":"UBS Lorient 1"},{"$f":"IF($F$5=\"Course 1\",Général!F$68,IF($F$5=\"Course 2\",Général!F$70,IF($F$5=\"Course 3\",Général!F$72,Général!F$74)))","v":"UBS Lorient 1"},{"$f":"IF($G$5=\"Course 1\",Général!F$78,IF($G$5=\"Course 2\",Général!F$80,IF($G$5=\"Course 3\",Général!F$82,Général!F$84)))","v":"INSA Lyon"},{"$f":"IF($H$5=\"Course 1\",Général!F$88,IF($H$5=\"Course 2\",Général!F$90,IF($H$5=\"Course 3\",Général!F$92,Général!F$94)))","v":"Plymouth"},{"$f":"IF($I$5=\"Course 1\",Général!F$98,IF($I$5=\"Course 2\",Général!F$100,IF($I$5=\"Course 3\",Général!F$102,Général!F$104)))","v":"UBS Lorient 1"},{"$f":"IF($J$5=\"Course 1\",Général!F$108,IF($J$5=\"Course 2\",Général!F$110,IF($J$5=\"Course 3\",Général!F$112,Général!F$114)))","v":"IMT Nantes"},{"$f":"IF($K$5=\"Course 1\",Général!F$118,IF($K$5=\"Course 2\",Général!F$120,IF($K$5=\"Course 3\",Général!F$122,Général!F$124)))","v":"ENSTA 1"},{"$f":"IF($L$5=\"Course 1\",Général!F$128,IF($L$5=\"Course 2\",Général!$F130,IF($L$5=\"Course 3\",Général!F$132,Général!F$134)))","v":"La Rochelle 2"},{"$f":"IF($M$5=\"Course 1\",Général!F$138,IF($M$5=\"Course 2\",Général!F$140,IF($M$5=\"Course 3\",Général!F$142,Général!F$144)))","v":"ENSTA 2"},{"$f":"IF($N$5=\"Course 1\",Général!F$148,IF($N$5=\"Course 2\",Général!F$150,IF($N$5=\"Course 3\",Général!F$152,Général!F$154)))","v":"INSA Lyon"},{"$f":"IF($O$5=\"Course 1\",Général!F$158,IF($O$5=\"Course 2\",Général!F$160,IF($O$5=\"Course 3\",Général!F$162,Général!F$164)))","v":"INSA Lyon"},{"$f":"IF($P$5=\"Course 1\",Général!F$168,IF($P$5=\"Course 2\",Général!F$170,IF($P$5=\"Course 3\",Général!F$172,Général!F$174)))","v":"Hannover"},{"$f":"IF($Q$5=\"Course 1\",Général!F$178,IF($Q$5=\"Course 2\",Général!F$180,IF($Q$5=\"Course 3\",Général!F$182,Général!F$184)))","v":"INSA Lyon"},{"$f":"IF($R$5=\"Course 1\",Général!F$188,IF($R$5=\"Course 2\",Général!F$190,IF($R$5=\"Course 3\",Général!F$192,Général!F$194)))","v":"ENSTA 2"},{"$f":"IF($S$5=\"Course 1\",Général!F$198,IF($S$5=\"Course 2\",Général!F$200,IF($S$5=\"Course 3\",Général!F$202,Général!F$204)))","v":"IMT Nantes"},{"$f":"IF($T$5=\"Course 1\",Général!F$208,IF($T$5=\"Course 2\",Général!F$210,IF($T$5=\"Course 3\",Général!F$212,Général!F$214)))","v":"La Rochelle 1"},null,{"$f":"Général!B14","v":"ENSTA 1"},8]
["6ème Equipage",null,{"$f":"IF($C$5=\"Course 1\",Général!G38,IF($C$5=\"Course 2\",Général!G40,IF($C$5=\"Course 3\",Général!G42,Général!G44)))","v":"Plymouth"},{"$f":"IF($D$5=\"Course 1\",Général!G48,IF($D$5=\"Course 2\",Général!G50,IF($D$5=\"Course 3\",Général!G52,Général!G54)))","v":"Plymouth"},{"$f":"IF($E$5=\"Course 1\",Général!G58,IF($E$5=\"Course 2\",Général!G60,IF($E$5=\"Course 3\",Général!G62,Général!G64)))","v":"IMT Brest 1"},{"$f":"IF($F$5=\"Course 1\",Général!G$68,IF($F$5=\"Course 2\",Général!G$70,IF($F$5=\"Course 3\",Général!G$72,Général!G$74)))","v":"IMT Brest 1"},{"$f":"IF($G$5=\"Course 1\",Général!G$78,IF($G$5=\"Course 2\",Général!G$80,IF($G$5=\"Course 3\",Général!G$82,Général!G$84)))","v":"Centrale Nantes 1"},{"$f":"IF($H$5=\"Course 1\",Général!G$88,IF($H$5=\"Course 2\",Général!G$90,IF($H$5=\"Course 3\",Général!G$92,Général!G$94)))","v":"ENSMAC"},{"$f":"IF($I$5=\"Course 1\",Général!G$98,IF($I$5=\"Course 2\",Général!G$100,IF($I$5=\"Course 3\",Général!G$102,Général!G$104)))","v":"Univ Nantes 3"},{"$f":"IF($J$5=\"Course 1\",Général!G$108,IF($J$5=\"Course 2\",Général!G$110,IF($J$5=\"Course 3\",Général!G$112,Général!G$114)))","v":"Karlsruhe"},{"$f":"IF($K$5=\"Course 1\",Général!G$118,IF($K$5=\"Course 2\",Général!G$120,IF($K$5=\"Course 3\",Général!G$122,Général!G$124)))","v":"La Rochelle 2"},{"$f":"IF($L$5=\"Course 1\",Général!G$128,IF($L$5=\"Course 2\",Général!G$130,IF($L$5=\"Course 3\",Général!G$132,Général!G$134)))","v":"Intechmer"},{"$f":"IF($M$5=\"Course 1\",Général!G$138,IF($M$5=\"Course 2\",Général!G$140,IF($M$5=\"Course 3\",Général!G$142,Général!G$144)))","v":"Univ Nantes 3"},{"$f":"IF($N$5=\"Course 1\",Général!G$148,IF($N$5=\"Course 2\",Général!G$150,IF($N$5=\"Course 3\",Général!G$152,Général!G$154)))","v":"Hannover"},{"$f":"IF($O$5=\"Course 1\",Général!G$158,IF($O$5=\"Course 2\",Général!G$160,IF($O$5=\"Course 3\",Général!G$162,Général!G$164)))","v":"Plymouth"},{"$f":"IF($P$5=\"Course 1\",Général!G$168,IF($P$5=\"Course 2\",Général!G$170,IF($P$5=\"Course 3\",Général!G$172,Général!G$174)))","v":"UBS Lorient 2"},{"$f":"IF($Q$5=\"Course 1\",Général!G$178,IF($Q$5=\"Course 2\",Général!G$180,IF($Q$5=\"Course 3\",Général!G$182,Général!G$184)))","v":"UBS Lorient 2"},{"$f":"IF($R$5=\"Course 1\",Général!G$188,IF($R$5=\"Course 2\",Général!G$190,IF($R$5=\"Course 3\",Général!G$192,Général!G$194)))","v":"La Rochelle 2"},{"$f":"IF($S$5=\"Course 1\",Général!G$198,IF($S$5=\"Course 2\",Général!G$200,IF($S$5=\"Course 3\",Général!G$202,Général!G$204)))","v":"La Rochelle 2"},{"$f":"IF($T$5=\"Course 1\",Général!G$208,IF($T$5=\"Course 2\",Général!G$210,IF($T$5=\"Course 3\",Général!G$212,Général!G$214)))","v":"Southampton"},null,{"$f":"Général!B15","v":"Orléans"},2]
["7ème Equipage",null,{"$f":"IF($C$5=\"Course 1\",Général!H38,IF($C$5=\"Course 2\",Général!H40,IF($C$5=\"Course 3\",Général!H42,Général!H44)))","v":"Univ Nantes 2"},{"$f":"IF($D$5=\"Course 1\",Général!H48,IF($D$5=\"Course 2\",Général!H50,IF($D$5=\"Course 3\",Général!H52,Général!H54)))","v":"Univ Nantes 2"},{"$f":"IF($E$5=\"Course 1\",Général!H58,IF($E$5=\"Course 2\",Général!H60,IF($E$5=\"Course 3\",Général!H62,Général!H64)))","v":"Centrale Nantes 2"},{"$f":"IF($F$5=\"Course 1\",Général!H$68,IF($F$5=\"Course 2\",Général!H$70,IF($F$5=\"Course 3\",Général!H$72,Général!H$74)))","v":"IMT Brest 2"},{"$f":"IF($G$5=\"Course 1\",Général!H$78,IF($G$5=\"Course 2\",Général!H$80,IF($G$5=\"Course 3\",Général!H$82,Général!H$84)))","v":"La Rochelle 2"},{"$f":"IF($H$5=\"Course 1\",Général!H$88,IF($H$5=\"Course 2\",Général!H$90,IF($H$5=\"Course 3\",Général!H$92,Général!H$94)))","v":"Intechmer"},{"$f":"IF($I$5=\"Course 1\",Général!H$98,IF($I$5=\"Course 2\",Général!H$100,IF($I$5=\"Course 3\",Général!H$102,Général!H$104)))","v":"Plymouth"},{"$f":"IF($J$5=\"Course 1\",Général!H$108,IF($J$5=\"Course 2\",Général!H$110,IF($J$5=\"Course 3\",Général!H$112,Général!H$114)))","v":"Unicaen 2"},{"$f":"IF($K$5=\"Course 1\",Général!H$118,IF($K$5=\"Course 2\",Général!H$120,IF($K$5=\"Course 3\",Général!H$122,Général!H$124)))","v":"IMT Nantes"},{"$f":"IF($L$5=\"Course 1\",Général!H$128,IF($L$5=\"Course 2\",Général!H$130,IF($L$5=\"Course 3\",Général!H$132,Général!H$134)))","v":"IMT Nantes"},{"$f":"IF($M$5=\"Course 1\",Général!H$138,IF($M$5=\"Course 2\",Général!H$140,IF($M$5=\"Course 3\",Général!H$142,Général!H$144)))","v":"Univ Nantes 2"},{"$f":"IF($N$5=\"Course 1\",Général!H$148,IF($N$5=\"Course 2\",Général!H$150,IF($N$5=\"Course 3\",Général!H$152,Général!H$154)))","v":"La Rochelle 2"},{"$f":"IF($O$5=\"Course 1\",Général!H$158,IF($O$5=\"Course 2\",Général!H$160,IF($O$5=\"Course 3\",Général!H$162,Général!H$164)))","v":"Paris Cité"},{"$f":"IF($P$5=\"Course 1\",Général!H$168,IF($P$5=\"Course 2\",Général!H$170,IF($P$5=\"Course 3\",Général!H$172,Général!H$174)))","v":"UBS Lorient 1"},{"$f":"IF($Q$5=\"Course 1\",Général!H$178,IF($Q$5=\"Course 2\",Général!H$180,IF($Q$5=\"Course 3\",Général!H$182,Général!H$184)))","v":"UBO 2"},{"$f":"IF($R$5=\"Course 1\",Général!H$188,IF($R$5=\"Course 2\",Général!H$190,IF($R$5=\"Course 3\",Général!H$192,Général!H$194)))","v":"UBO 2"},{"$f":"IF($S$5=\"Course 1\",Général!H$198,IF($S$5=\"Course 2\",Général!H$200,IF($S$5=\"Course 3\",Général!H$202,Général!H$204)))","v":"Unicaen 1"},{"$f":"IF($T$5=\"Course 1\",Général!H$208,IF($T$5=\"Course 2\",Général!H$210,IF($T$5=\"Course 3\",Général!H$212,Général!H$214)))","v":"Unicaen 1"},null,{"$f":"Général!B16","v":"IMT Brest 1"},3]
["8ème Equipage",null,{"$f":"IF($C$5=\"Course 1\",Général!I38,IF($C$5=\"Course 2\",Général!I40,IF($C$5=\"Course 3\",Général!I42,Général!I44)))","v":"INSA Lyon"},{"$f":"IF($D$5=\"Course 1\",Général!I48,IF($D$5=\"Course 2\",Général!I50,IF($D$5=\"Course 3\",Général!I52,Général!I54)))","v":"Orléans"},{"$f":"IF($E$5=\"Course 1\",Général!I58,IF($E$5=\"Course 2\",Général!I60,IF($E$5=\"Course 3\",Général!I62,Général!I64)))","v":"Unicaen 2"},{"$f":"IF($F$5=\"Course 1\",Général!I$68,IF($F$5=\"Course 2\",Général!I$70,IF($F$5=\"Course 3\",Général!I$72,Général!I$74)))","v":"UBO 1"},{"$f":"IF($G$5=\"Course 1\",Général!I$78,IF($G$5=\"Course 2\",Général!I$80,IF($G$5=\"Course 3\",Général!I$82,Général!I$84)))","v":"Centrale Nantes 2"},{"$f":"IF($H$5=\"Course 1\",Général!I$88,IF($H$5=\"Course 2\",Général!I$90,IF($H$5=\"Course 3\",Général!I$92,Général!I$94)))","v":"Unicaen 1"},{"$f":"IF($I$5=\"Course 1\",Général!I$98,IF($I$5=\"Course 2\",Général!I$100,IF($I$5=\"Course 3\",Général!I$102,Général!I$104)))","v":"IMT Nantes"},{"$f":"IF($J$5=\"Course 1\",Général!I$108,IF($J$5=\"Course 2\",Général!I$110,IF($J$5=\"Course 3\",Général!I$112,Général!I$114)))","v":"Unicaen 1"},{"$f":"IF($K$5=\"Course 1\",Général!I$118,IF($K$5=\"Course 2\",Général!I$120,IF($K$5=\"Course 3\",Général!I$122,Général!I$124)))","v":"Plymouth"},{"$f":"IF($L$5=\"Course 1\",Général!I$128,IF($L$5=\"Course 2\",Général!I$130,IF($L$5=\"Course 3\",Général!I$132,Général!I$134)))","v":"UBS Lorient 2"},{"$f":"IF($M$5=\"Course 1\",Général!I$138,IF($M$5=\"Course 2\",Général!I$140,IF($M$5=\"Course 3\",Général!I$142,Général!I$144)))","v":"ST Brieuc 2"},{"$f":"IF($N$5=\"Course 1\",Général!I$148,IF($N$5=\"Course 2\",Général!I$150,IF($N$5=\"Course 3\",Général!I$152,Général!I$154)))","v":"UNIV Nantes 1"},{"$f":"IF($O$5=\"Course 1\",Général!I$158,IF($O$5=\"Course 2\",Général!I$160,IF($O$5=\"Course 3\",Général!I$162,Général!I$164)))","v":"Centrale Nantes 2"},{"$f":"IF($P$5=\"Course 1\",Général!I$168,IF($P$5=\"Course 2\",Général!I$170,IF($P$5=\"Course 3\",Général!I$172,Général!I$174)))","v":"Unicaen 2"},{"$f":"IF($Q$5=\"Course 1\",Général!I$178,IF($Q$5=\"Course 2\",Général!I$180,IF($Q$5=\"Course 3\",Général!I$182,Général!I$184)))","v":"Southampton"},{"$f":"IF($R$5=\"Course 1\",Général!I$188,IF($R$5=\"Course 2\",Général!I$190,IF($R$5=\"Course 3\",Général!I$192,Général!I$194)))","v":"Plymouth"},{"$f":"IF($S$5=\"Course 1\",Général!I$198,IF($S$5=\"Course 2\",Général!I$200,IF($S$5=\"Course 3\",Général!I$202,Général!I$204)))","v":"Plymouth"},{"$f":"IF($T$5=\"Course 1\",Général!I$208,IF($T$5=\"Course 2\",Général!I$210,IF($T$5=\"Course 3\",Général!I$212,Général!I$214)))","v":"Centrale Nantes 1"},null,{"$f":"Général!B17","v":"ENSMAC"},4]
["9ème Equipage",null,{"$f":"IF($C$5=\"Course 1\",Général!J38,IF($C$5=\"Course 2\",Général!J40,IF($C$5=\"Course 3\",Général!J42,Général!J44)))","v":"Centrale Nantes 1"},{"$f":"IF($D$5=\"Course 1\",Général!J48,IF($D$5=\"Course 2\",Général!J50,IF($D$5=\"Course 3\",Général!J52,Général!J54)))","v":"Intechmer"},{"$f":"IF($E$5=\"Course 1\",Général!J58,IF($E$5=\"Course 2\",Général!J60,IF($E$5=\"Course 3\",Général!J62,Général!J64)))","v":"ENSTA 1"},{"$f":"IF($F$5=\"Course 1\",Général!J$68,IF($F$5=\"Course 2\",Général!J$70,IF($F$5=\"Course 3\",Général!J$72,Général!J$74)))","v":"ENSTA 1"},{"$f":"IF($G$5=\"Course 1\",Général!J$78,IF($G$5=\"Course 2\",Général!J$80,IF($G$5=\"Course 3\",Général!J$82,Général!J$84)))","v":"UBS Lorient 2"},{"$f":"IF($H$5=\"Course 1\",Général!J$88,IF($H$5=\"Course 2\",Général!J$90,IF($H$5=\"Course 3\",Général!$J92,Général!J$94)))","v":"Centrale Nantes 2"},{"$f":"IF($I$5=\"Course 1\",Général!J$98,IF($I$5=\"Course 2\",Général!J$100,IF($I$5=\"Course 3\",Général!J$102,Général!J$104)))","v":"ENSTA 1"},{"$f":"IF($J$5=\"Course 1\",Général!J$108,IF($J$5=\"Course 2\",Général!J$110,IF($J$5=\"Course 3\",Général!J$112,Général!J$114)))","v":"Orléans"},{"$f":"IF($K$5=\"Course 1\",Général!J$118,IF($K$5=\"Course 2\",Général!J$120,IF($K$5=\"Course 3\",Général!J$122,Général!J$124)))","v":"Paris Sorbone"},{"$f":"IF($L$5=\"Course 1\",Général!J$128,IF($L$5=\"Course 2\",Général!J$130,IF($L$5=\"Course 3\",Général!J$132,Général!J$134)))","v":"ST Brieuc 2"},{"$f":"IF($M$5=\"Course 1\",Général!J$138,IF($M$5=\"Course 2\",Général!J$140,IF($M$5=\"Course 3\",Général!J$142,Général!J$144)))","v":"La Rochelle 1"},{"$f":"IF($N$5=\"Course 1\",Général!J$148,IF($N$5=\"Course 2\",Général!J$150,IF($N$5=\"Course 3\",Général!J$152,Général!J$154)))","v":"Plymouth"},{"$f":"IF($O$5=\"Course 1\",Général!J$158,IF($O$5=\"Course 2\",Général!J$160,IF($O$5=\"Course 3\",Général!J$162,Général!J$164)))","v":"Intechmer"},{"$f":"IF($P$5=\"Course 1\",Général!J$168,IF($P$5=\"Course 2\",Général!J$170,IF($P$5=\"Course 3\",Général!J$172,Général!J$174)))","v":"IMT Brest 2"},{"$f":"IF($Q$5=\"Course 1\",Général!J$178,IF($Q$5=\"Course 2\",Général!J$180,IF($Q$5=\"Course 3\",Général!J$182,Général!J$184)))","v":"IMT Brest 2"},{"$f":"IF($R$5=\"Course 1\",Général!J$188,IF($R$5=\"Course 2\",Général!J$190,IF($R$5=\"Course 3\",Général!J$192,Général!J$194)))","v":"UNIV Nantes 1"},{"$f":"IF($S$5=\"Course 1\",Général!J$198,IF($S$5=\"Course 2\",Général!J$200,IF($S$5=\"Course 3\",Général!J$202,Général!J$204)))","v":"UNIV Nantes 1"},{"$f":"IF($T$5=\"Course 1\",Général!J$208,IF($T$5=\"Course 2\",Général!J$210,IF($T$5=\"Course 3\",Général!J$212,Général!J$214)))","v":"Intechmer"},null,{"$f":"Général!B18","v":"St Brieuc 1"},3]
["10ème Equipage",null,{"$f":"IF($C$5=\"Course 1\",Général!K38,IF($C$5=\"Course 2\",Général!K40,IF($C$5=\"Course 3\",Général!K42,Général!K44)))","v":"Centrale Nantes 2"},{"$f":"IF($D$5=\"Course 1\",Général!K48,IF($D$5=\"Course 2\",Général!K50,IF($D$5=\"Course 3\",Général!K52,Général!K54)))","v":"IMT Brest 1"},{"$f":"IF($E$5=\"Course 1\",Général!K58,IF($E$5=\"Course 2\",Général!K60,IF($E$5=\"Course 3\",Général!K62,Général!K64)))","v":"Karlsruhe"},{"$f":"IF($F$5=\"Course 1\",Général!K$68,IF($F$5=\"Course 2\",Général!K$70,IF($F$5=\"Course 3\",Général!K$72,Général!K$74)))","v":"Orléans"},{"$f":"IF($G$5=\"Course 1\",Général!K$78,IF($G$5=\"Course 2\",Général!K$80,IF($G$5=\"Course 3\",Général!K$82,Général!K$84)))","v":"UBS Lorient 1"},{"$f":"IF($H$5=\"Course 1\",Général!K$88,IF($H$5=\"Course 2\",Général!K$90,IF($H$5=\"Course 3\",Général!$K92,Général!K$94)))","v":"Univ Nantes 3"},{"$f":"IF($I$5=\"Course 1\",Général!K$98,IF($I$5=\"Course 2\",Général!K$100,IF($I$5=\"Course 3\",Général!K$102,Général!K$104)))","v":"Orléans"},{"$f":"IF($J$5=\"Course 1\",Général!K$108,IF($J$5=\"Course 2\",Général!K$110,IF($J$5=\"Course 3\",Général!K$112,Général!K$114)))","v":"Plymouth"},{"$f":"IF($K$5=\"Course 1\",Général!K$118,IF($K$5=\"Course 2\",Général!K$120,IF($K$5=\"Course 3\",Général!K$122,Général!K$124)))","v":"UBO 2"},{"$f":"IF($L$5=\"Course 1\",Général!K$128,IF($L$5=\"Course 2\",Général!K$130,IF($L$5=\"Course 3\",Général!K$132,Général!K$134)))","v":"Southampton"},{"$f":"IF($M$5=\"Course 1\",Général!K$138,IF($M$5=\"Course 2\",Général!K$140,IF($M$5=\"Course 3\",Général!K$142,Général!K$144)))","v":"UBS Lorient 2"},{"$f":"IF($N$5=\"Course 1\",Général!K$148,IF($N$5=\"Course 2\",Général!K$150,IF($N$5=\"Course 3\",Général!K$152,Général!K$154)))","v":"Karlsruhe"},{"$f":"IF($O$5=\"Course 1\",Général!K$158,IF($O$5=\"Course 2\",Général!K$160,IF($O$5=\"Course 3\",Général!K$162,Général!K$164)))","v":"IMT Brest 2"},{"$f":"IF($P$5=\"Course 1\",Général!K$168,IF($P$5=\"Course 2\",Général!K$170,IF($P$5=\"Course 3\",Général!K$172,Général!K$174)))","v":"Centrale Nantes 1"},{"$f":"IF($Q$5=\"Course 1\",Général!K$178,IF($Q$5=\"Course 2\",Général!K$180,IF($Q$5=\"Course 3\",Général!K$182,Général!K$184)))","v":"Unicaen 1"},{"$f":"IF($R$5=\"Course 1\",Général!K$188,IF($R$5=\"Course 2\",Général!K$190,IF($R$5=\"Course 3\",Général!K$192,Général!K$194)))","v":"Centrale Nantes 2"},{"$f":"IF($S$5=\"Course 1\",Général!K$198,IF($S$5=\"Course 2\",Général!K$200,IF($S$5=\"Course 3\",Général!K$202,Général!K$204)))","v":"ST Brieuc 2"},{"$f":"IF($T$5=\"Course 1\",Général!K$208,IF($T$5=\"Course 2\",Général!K$210,IF($T$5=\"Course 3\",Général!K$212,Général!K$214)))","v":"ENSTA 2"},null,{"$f":"Général!B19","v":"Hannover"},5]
[null,null,null,null,null,null,null,null,null,null,null,null,null,null,null,null,null,null,null,null,null,{"$f":"Général!B20","v":"ENSTA 2"},4]
[null,null,null,null,null,null,null,null,null,null,null,null,null,null,null,null,null,null,null,null,null,{"$f":"Général!B21","v":"Southampton"},4]
[null,null,null,null,null,null,null,null,null,null,null,null,null,null,null,null,null,null,null,null,null,{"$f":"Général!B22","v":"La Rochelle 1"},7]
[null,null,null,null,null,null,null,null,null,null,null,null,null,null,null,null,null,null,null,null,null,{"$f":"Général!B23","v":"Centrale Nantes 1"},5]
[null,null,null,null,null,null,null,null,null,null,null,null,null,null,null,null,null,null,null,null,null,{"$f":"Général!B24","v":"ST Brieuc 2"},4]
[null,null,null,null,null,null,null,null,null,null,null,null,null,null,null,null,null,null,null,null,null,{"$f":"Général!B25","v":"UNIV Nantes 1"},5]
[null,null,null,null,null,null,null,null,null,null,null,null,null,null,null,null,null,null,null,null,null,{"$f":"Général!B26","v":"Intechmer"},8]
[null,null,null,null,null,null,null,null,null,null,null,null,null,null,null,null,null,null,null,null,null,{"$f":"Général!B27","v":"IMT Nantes"},6]
[null,null,null,null,null,null,null,null,null,null,null,null,null,null,null,null,null,null,null,null,null,{"$f":"Général!B28","v":"INSA Lyon"},8]
[null,null,null,null,null,null,null,null,null,null,null,null,null,null,null,null,null,null,null,null,null,{"$f":"Général!B29","v":"Centrale Nantes 2"},4]
[null,null,null,null,null,null,null,null,null,null,null,null,null,null,null,null,null,null,null,null,null,{"$f":"Général!B30","v":"UBS Lorient 2"},4]
[null,null,null,null,null,null,null,null,null,null,null,null,null,null,null,null,null,null,null,null,null,{"$f":"Général!B31","v":"La Rochelle 2"},9]
[null,null,null,null,null,null,null,null,null,null,null,null,null,null,null,null,null,null,null,null,null,{"$f":"Général!B32","v":"UBO 1"},6]
[null,null,null,null,null,null,null,null,null,null,null,null,null,null,null,null,null,null,null,null,null,{"$f":"Général!B33","v":"Eq.31"},0]
[null,null,null,null,null,null,null,null,null,null,null,null,null,null,null,null,null,null,null,null,null,{"$f":"Général!B34","v":"Eq.32"},0]

{"sheet":"Eq.7","index":12,"n_rows":32,"n_cols":23,"rows_kept":32,"cut":false,"hidden":false,"merged":[[7,0,7,1],[0,0,1,5],[0,6,1,10],[3,0,3,1],[4,0,4,1],[5,0,5,1],[14,0,14,1],[15,0,15,1],[16,0,16,1],[8,0,8,1],[9,0,9,1],[10,0,10,1],[11,0,11,1],[12,0,12,1],[13,0,13,1]]}
["Equipage ",null,null,null,null,null,{"$f":"Général!B9","v":"Unicaen 2"},null,null,null,null,null,null,null,null,null,null,null,null,null,null,{"$f":"Général!B3","v":"UBO 2"},{"$f":"COUNTIF(C$8:T$16,V1)","v":3}]
[null,null,null,null,null,null,null,null,null,null,null,null,null,null,null,null,null,null,null,null,null,{"$f":"Général!B4","v":"Paris Sorbone"},{"$f":"COUNTIF($C$8:$T$16,V2)","v":3}]
[null,null,null,null,null,null,null,null,null,null,null,null,null,null,null,null,null,null,null,null,null,{"$f":"Général!B5","v":"UBS Lorient 1"},{"$f":"COUNTIF($C$8:$T$16,V3)","v":5}]
[null,null,"FLIGHT 1","FLIGHT 2","FLIGHT 3","FLIGHT 4","FLIGHT 5","FLIGHT 6","FLIGHT 7","FLIGHT 8","FLIGHT 9","FLIGHT 10","FLIGHT 11","FLIGHT 12","FLIGHT 13","FLIGHT 14","FLIGHT 15","FLIGHT 16","FLIGHT 17","FLIGHT 18",null,{"$f":"Général!B6","v":"Univ Nantes 3"},5]
["N° de course",null,{"$f":"IF(COUNTIF(Général!B38:K38,$G$1)=1,\"Course 1\",IF(COUNTIF(Général!B40:K40,$G$1)=1,\"Course 2\",IF(COUNTIF(Général!B42:K42,$G$1)=1,\"Course 3\",\"Course 4\")))","v":"Course 2"},{"$f":"IF(COUNTIF(Général!B48:K48,$G$1)=1,\"Course 1\",IF(COUNTIF(Général!B50:K50,$G$1)=1,\"Course 2\",IF(COUNTIF(Général!B52:K52,$G$1)=1,\"Course 3\",\"Course 4\")))","v":"Course 2"},{"$f":"IF(COUNTIF(Général!B58:K58,$G$1)=1,\"Course 1\",IF(COUNTIF(Général!B60:K60,$G$1)=1,\"Course 2\",IF(COUNTIF(Général!B62:K62,$G$1)=1,\"Course 3\",\"Course 4\")))","v":"Course 3"},{"$f":"IF(COUNTIF(Général!B68:K68,$G$1)=1,\"Course 1\",IF(COUNTIF(Général!B70:K70,$G$1)=1,\"Course 2\",IF(COUNTIF(Général!B72:K72,$G$1)=1,\"Course 3\",\"Course 4\")))","v":"Course 2"},{"$f":"IF(COUNTIF(Général!B78:K78,$G$1)=1,\"Course 1\",IF(COUNTIF(Général!B80:K80,$G$1)=1,\"Course 2\",IF(COUNTIF(Général!B82:K82,$G$1)=1,\"Course 3\",\"Course 4\")))","v":"Course 3"},{"$f":"IF(COUNTIF(Général!B88:K88,$G$1)=1,\"Course 1\",IF(COUNTIF(Général!B90:K90,$G$1)=1,\"Course 2\",IF(COUNTIF(Général!B92:K92,$G$1)=1,\"Course 3\",\"Course 4\")))","v":"Course 3"},{"$f":"IF(COUNTIF(Général!B98:K98,$G$1)=1,\"Course 1\",IF(COUNTIF(Général!B100:K100,$G$1)=1,\"Course 2\",IF(COUNTIF(Général!B102:K102,$G$1)=1,\"Course 3\",\"Course 4\")))","v":"Course 3"},{"$f":"IF(COUNTIF(Général!B108:K108,$G$1)=1,\"Course 1\",IF(COUNTIF(Général!B110:K110,$G$1)=1,\"Course 2\",IF(COUNTIF(Général!B112:K112,$G$1)=1,\"Course 3\",\"Course 4\")))","v":"Course 2"},{"$f":"IF(COUNTIF(Général!B118:K118,$G$1)=1,\"Course 1\",IF(COUNTIF(Général!B120:K120,$G$1)=1,\"Course 2\",IF(COUNTIF(Général!B122:K122,$G$1)=1,\"Course 3\",\"Course 4\")))","v":"Course 2"},{"$f":"IF(COUNTIF(Général!B128:K128,$G$1)=1,\"Course 1\",IF(COUNTIF(Général!B130:K130,$G$1)=1,\"Course 2\",IF(COUNTIF(Général!B132:K132,$G$1)=1,\"Course 3\",\"Course 4\")))","v":"Course 1"},{"$f":"IF(COUNTIF(Général!B138:K138,$G$1)=1,\"Course 1\",IF(COUNTIF(Général!B140:K140,$G$1)=1,\"Course 2\",IF(COUNTIF(Général!B142:K142,$G$1)=1,\"Course 3\",\"Course 4\")))","v":"Course 3"},{"$f":"IF(COUNTIF(Général!B148:K148,$G$1)=1,\"Course 1\",IF(COUNTIF(Général!B150:K150,$G$1)=1,\"Course 2\",IF(COUNTIF(Général!B152:K152,$G$1)=1,\"Course 3\",\"Course 4\")))","v":"Course 1"},{"$f":"IF(COUNTIF(Général!B158:K158,$G$1)=1,\"Course 1\",IF(COUNTIF(Général!B160:K160,$G$1)=1,\"Course 2\",IF(COUNTIF(Général!B162:K162,$G$1)=1,\"Course 3\",\"Course 4\")))","v":"Course 3"},{"$f":"IF(COUNTIF(Général!B168:K168,$G$1)=1,\"Course 1\",IF(COUNTIF(Général!B170:K170,$G$1)=1,\"Course 2\",IF(COUNTIF(Général!B172:K172,$G$1)=1,\"Course 3\",\"Course 4\")))","v":"Course 3"},{"$f":"IF(COUNTIF(Général!B178:K178,$G$1)=1,\"Course 1\",IF(COUNTIF(Général!B180:K180,$G$1)=1,\"Course 2\",IF(COUNTIF(Général!B182:K182,$G$1)=1,\"Course 3\",\"Course 4\")))","v":"Course 2"},{"$f":"IF(COUNTIF(Général!B188:K188,$G$1)=1,\"Course 1\",IF(COUNTIF(Général!B190:K190,$G$1)=1,\"Course 2\",IF(COUNTIF(Général!B192:K192,$G$1)=1,\"Course 3\",\"Course 4\")))","v":"Course 1"},{"$f":"IF(COUNTIF(Général!B198:K198,$G$1)=1,\"Course 1\",IF(COUNTIF(Général!B200:K200,$G$1)=1,\"Course 2\",IF(COUNTIF(Général!B202:K202,$G$1)=1,\"Course 3\",\"Course 4\")))","v":"Course 2"},{"$f":"IF(COUNTIF(Général!B208:K208,$G$1)=1,\"Course 1\",IF(COUNTIF(Général!B210:K210,$G$1)=1,\"Course 2\",IF(COUNTIF(Général!B212:K212,$G$1)=1,\"Course 3\",\"Course 4\")))","v":"Course 1"},null,{"$f":"Général!B7","v":"Paris Cité"},6]
["Bateau",null,{"$f":"IF(COUNTIF(Général!B38:B44,$G$1)=1,\"Boat 1\",IF(COUNTIF(Général!C38:C44,$G$1)=1,\"Boat 2\",IF(COUNTIF(Général!D38:D44,$G$1)=1,\"Boat 3\", IF(COUNTIF(Général!E38:E44,$G$1)=1,\"Boat 4\", IF(COUNTIF(Général!F38:F44,$G$1)=1,\"Boat 5\", IF(COUNTIF(Général!G38:G44,$G$1)=1,\"Boat 6\", IF(COUNTIF(Général!H38:H44,$G$1)=1,\"Boat 7\",IF(COUNTIF(Général!I38:I44,$G$1)=1,\"Boat 8\",\"Boat 9\"))))))))","v":"Boat 5"},{"$f":"IF(COUNTIF(Général!B48:B54,$G$1)=1,\"Boat 1\",IF(COUNTIF(Général!C48:C54,$G$1)=1,\"Boat 2\",IF(COUNTIF(Général!D48:D54,$G$1)=1,\"Boat 3\", IF(COUNTIF(Général!E48:E54,$G$1)=1,\"Boat 4\", IF(COUNTIF(Général!F48:F54,$G$1)=1,\"Boat 5\", IF(COUNTIF(Général!G48:G54,$G$1)=1,\"Boat 6\", IF(COUNTIF(Général!H48:H54,$G$1)=1,\"Boat 7\",IF(COUNTIF(Général!I38:I44,$G$1)=1,\"Boat 8\",\"Boat 9\"))))))))","v":"Boat 7"},{"$f":"IF(COUNTIF(Général!B58:B64,$G$1)=1,\"Boat 1\",IF(COUNTIF(Général!C58:C64,$G$1)=1,\"Boat 2\",IF(COUNTIF(Général!D58:D64,$G$1)=1,\"Boat 3\", IF(COUNTIF(Général!E58:E64,$G$1)=1,\"Boat 4\", IF(COUNTIF(Général!F58:F64,$G$1)=1,\"Boat 5\", IF(COUNTIF(Général!G58:G64,$G$1)=1,\"Boat 6\", IF(COUNTIF(Général!H58:H64,$G$1)=1,\"Boat 7\",IF(COUNTIF(Général!I38:I44,$G$1)=1,\"Boat 8\",\"Boat 9\"))))))))","v":"Boat 9"},{"$f":"IF(COUNTIF(Général!B68:B74,$G$1)=1,\"Boat 1\",IF(COUNTIF(Général!C68:C74,$G$1)=1,\"Boat 2\",IF(COUNTIF(Général!D68:D74,$G$1)=1,\"Boat 3\", IF(COUNTIF(Général!E68:E74,$G$1)=1,\"Boat 4\", IF(COUNTIF(Général!F68:F74,$G$1)=1,\"Boat 5\", IF(COUNTIF(Général!G68:G74,$G$1)=1,\"Boat 6\", IF(COUNTIF(Général!H68:H74,$G$1)=1,\"Boat 7\",IF(COUNTIF(Général!I38:I44,$G$1)=1,\"Boat 8\",\"Boat 9\"))))))))","v":"Boat 3"},{"$f":"IF(COUNTIF(Général!B78:B84,$G$1)=1,\"Boat 1\",IF(COUNTIF(Général!C78:C84,$G$1)=1,\"Boat 2\",IF(COUNTIF(Général!D78:D84,$G$1)=1,\"Boat 3\", IF(COUNTIF(Général!E78:E84,$G$1)=1,\"Boat 4\", IF(COUNTIF(Général!F78:F84,$G$1)=1,\"Boat 5\", IF(COUNTIF(Général!G78:G84,$G$1)=1,\"Boat 6\", IF(COUNTIF(Général!H78:H84,$G$1)=1,\"Boat 7\",IF(COUNTIF(Général!I38:I44,$G$1)=1,\"Boat 8\",\"Boat 9\"))))))))","v":"Boat 9"},{"$f":"IF(COUNTIF(Général!B88:B94,$G$1)=1,\"Boat 1\",IF(COUNTIF(Général!C88:C94,$G$1)=1,\"Boat 2\",IF(COUNTIF(Général!D88:D94,$G$1)=1,\"Boat 3\", IF(COUNTIF(Général!E88:E94,$G$1)=1,\"Boat 4\", IF(COUNTIF(Général!F88:F94,$G$1)=1,\"Boat 5\", IF(COUNTIF(Général!G88:G94,$G$1)=1,\"Boat 6\", IF(COUNTIF(Général!H88:H94,$G$1)=1,\"Boat 7\",IF(COUNTIF(Général!I38:I44,$G$1)=1,\"Boat 8\",\"Boat 9\"))))))))","v":"Boat 1"},{"$f":"IF(COUNTIF(Général!B98:B104,$G$1)=1,\"Boat 1\",IF(COUNTIF(Général!C98:C104,$G$1)=1,\"Boat 2\",IF(COUNTIF(Général!D98:D104,$G$1)=1,\"Boat 3\", IF(COUNTIF(Général!E98:E104,$G$1)=1,\"Boat 4\", IF(COUNTIF(Général!F98:F104,$G$1)=1,\"Boat 5\", IF(COUNTIF(Général!G98:G104,$G$1)=1,\"Boat 6\", IF(COUNTIF(Général!H98:H104,$G$1)=1,\"Boat 7\",IF(COUNTIF(Général!I38:I44,$G$1)=1,\"Boat 8\",\"Boat 9\"))))))))","v":"Boat 6"},{"$f":"IF(COUNTIF(Général!B108:B114,$G$1)=1,\"Boat 1\",IF(COUNTIF(Général!C108:C114,$G$1)=1,\"Boat 2\",IF(COUNTIF(Général!D108:D114,$G$1)=1,\"Boat 3\", IF(COUNTIF(Général!E108:E114,$G$1)=1,\"Boat 4\", IF(COUNTIF(Général!F108:F114,$G$1)=1,\"Boat 5\", IF(COUNTIF(Général!G108:G114,$G$1)=1,\"Boat 6\", IF(COUNTIF(Général!H108:H114,$G$1)=1,\"Boat 7\",IF(COUNTIF(Général!I38:I44,$G$1)=1,\"Boat 8\",\"Boat 9\"))))))))","v":"Boat 7"},{"$f":"IF(COUNTIF(Général!B118:B124,$G$1)=1,\"Boat 1\",IF(COUNTIF(Général!C118:C124,$G$1)=1,\"Boat 2\",IF(COUNTIF(Général!D118:D124,$G$1)=1,\"Boat 3\", IF(COUNTIF(Général!E118:E124,$G$1)=1,\"Boat 4\", IF(COUNTIF(Général!F118:F124,$G$1)=1,\"Boat 5\", IF(COUNTIF(Général!G118:G124,$G$1)=1,\"Boat 6\", IF(COUNTIF(Général!H118:H124,$G$1)=1,\"Boat 7\",IF(COUNTIF(Général!I38:I44,$G$1)=1,\"Boat 8\",\"Boat 9\"))))))))","v":"Boat 3"},{"$f":"IF(COUNTIF(Général!B128:B134,$G$1)=1,\"Boat 1\",IF(COUNTIF(Général!C128:C134,$G$1)=1,\"Boat 2\",IF(COUNTIF(Général!D128:D134,$G$1)=1,\"Boat 3\", IF(COUNTIF(Général!E128:E134,$G$1)=1,\"Boat 4\", IF(COUNTIF(Général!F128:F134,$G$1)=1,\"Boat 5\", IF(COUNTIF(Général!G128:G134,$G$1)=1,\"Boat 6\", IF(COUNTIF(Général!H128:H134,$G$1)=1,\"Boat 7\",IF(COUNTIF(Général!I38:I44,$G$1)=1,\"Boat 8\",\"Boat 9\"))))))))","v":"Boat 9"},{"$f":"IF(COUNTIF(Général!B138:B144,$G$1)=1,\"Boat 1\",IF(COUNTIF(Général!C138:C144,$G$1)=1,\"Boat 2\",IF(COUNTIF(Général!C138:D144,$G$1)=1,\"Boat 3\", IF(COUNTIF(Général!C138:E144,$G$1)=1,\"Boat 4\", IF(COUNTIF(Général!F138:F144,$G$1)=1,\"Boat 5\", IF(COUNTIF(Général!G138:G144,$G$1)=1,\"Boat 6\", IF(COUNTIF(Général!H138:H144,$G$1)=1,\"Boat 7\",IF(COUNTIF(Général!I38:I44,$G$1)=1,\"Boat 8\",\"Boat 9\"))))))))","v":"Boat 9"},{"$f":"IF(COUNTIF(Général!B148:B154,$G$1)=1,\"Boat 1\",IF(COUNTIF(Général!C148:C154,$G$1)=1,\"Boat 2\",IF(COUNTIF(Général!D148:D154,$G$1)=1,\"Boat 3\", IF(COUNTIF(Général!E148:E154,$G$1)=1,\"Boat 4\", IF(COUNTIF(Général!F148:F154,$G$1)=1,\"Boat 5\", IF(COUNTIF(Général!G148:G154,$G$1)=1,\"Boat 6\", IF(COUNTIF(Général!H148:H154,$G$1)=1,\"Boat 7\",IF(COUNTIF(Général!I38:I44,$G$1)=1,\"Boat 8\",\"Boat 9\"))))))))","v":"Boat 9"},{"$f":"IF(COUNTIF(Général!B158:B164,$G$1)=1,\"Boat 1\",IF(COUNTIF(Général!C158:C164,$G$1)=1,\"Boat 2\",IF(COUNTIF(Général!D160:D164,$G$1)=1,\"Boat 3\", IF(COUNTIF(Général!E158:E164,$G$1)=1,\"Boat 4\", IF(COUNTIF(Général!F158:F164,$G$1)=1,\"Boat 5\", IF(COUNTIF(Général!G158:G164,$G$1)=1,\"Boat 6\", IF(COUNTIF(Général!H158:H164,$G$1)=1,\"Boat 7\",IF(COUNTIF(Général!I38:I44,$G$1)=1,\"Boat 8\",\"Boat 9\"))))))))","v":"Boat 6"},{"$f":"IF(COUNTIF(Général!B168:B174,$G$1)=1,\"Boat 1\",IF(COUNTIF(Général!C168:C174,$G$1)=1,\"Boat 2\",IF(COUNTIF(Général!D168:D174,$G$1)=1,\"Boat 3\", IF(COUNTIF(Général!E168:E174,$G$1)=1,\"Boat 4\", IF(COUNTIF(Général!F178:F184,$G$1)=1,\"Boat 5\", IF(COUNTIF(Général!G178:G184,$G$1)=1,\"Boat 6\", IF(COUNTIF(Général!H178:H184,$G$1)=1,\"Boat 7\",IF(COUNTIF(Général!I38:I44,$G$1)=1,\"Boat 8\",\"Boat 9\"))))))))","v":"Boat 9"},{"$f":"IF(COUNTIF(Général!B178:B184,$G$1)=1,\"Boat 1\",IF(COUNTIF(Général!C178:C184,$G$1)=1,\"Boat 2\",IF(COUNTIF(Général!D178:D184,$G$1)=1,\"Boat 3\", IF(COUNTIF(Général!E178:E184,$G$1)=1,\"Boat 4\", IF(COUNTIF(Général!F178:F184,$G$1)=1,\"Boat 5\", IF(COUNTIF(Général!G178:G184,$G$1)=1,\"Boat 6\", IF(COUNTIF(Général!H178:H184,$G$1)=1,\"Boat 7\",IF(COUNTIF(Général!I38:I44,$G$1)=1,\"Boat 8\",\"Boat 9\"))))))))","v":"Boat 2"},{"$f":"IF(COUNTIF(Général!B188:B194,$G$1)=1,\"Boat 1\",IF(COUNTIF(Général!C188:C194,$G$1)=1,\"Boat 2\",IF(COUNTIF(Général!D188:D194,$G$1)=1,\"Boat 3\", IF(COUNTIF(Général!E188:E194,$G$1)=1,\"Boat 4\", IF(COUNTIF(Général!F188:F194,$G$1)=1,\"Boat 5\", IF(COUNTIF(Général!G188:G194,$G$1)=1,\"Boat 6\", IF(COUNTIF(Général!H188:H194,$G$1)=1,\"Boat 7\",IF(COUNTIF(Général!I38:I44,$G$1)=1,\"Boat 8\",\"Boat 9\"))))))))","v":"Boat 6"},{"$f":"IF(COUNTIF(Général!B198:B204,$G$1)=1,\"Boat 1\",IF(COUNTIF(Général!C198:C204,$G$1)=1,\"Boat 2\",IF(COUNTIF(Général!D198:D204,$G$1)=1,\"Boat 3\", IF(COUNTIF(Général!E198:E204,$G$1)=1,\"Boat 4\", IF(COUNTIF(Général!F198:F204,$G$1)=1,\"Boat 5\", IF(COUNTIF(Général!G198:G204,$G$1)=1,\"Boat 6\", IF(COUNTIF(Général!H198:H204,$G$1)=1,\"Boat 7\",IF(COUNTIF(Général!I38:I44,$G$1)=1,\"Boat 8\",\"Boat 9\"))))))))","v":"Boat 5"},{"$f":"IF(COUNTIF(Général!B208:B214,$G$1)=1,\"Boat 1\",IF(COUNTIF(Général!C208:C214,$G$1)=1,\"Boat 2\",IF(COUNTIF(Général!D208:D214,$G$1)=1,\"Boat 3\", IF(COUNTIF(Général!E208:E214,$G$1)=1,\"Boat 4\", IF(COUNTIF(Général!F208:F214,$G$1)=1,\"Boat 5\", IF(COUNTIF(Général!G208:G214,$G$1)=1,\"Boat 6\", IF(COUNTIF(Général!H208:H214,$G$1)=1,\"Boat 7\",IF(COUNTIF(Général!I38:I44,$G$1)=1,\"Boat 8\",\"Boat 9\"))))))))","v":"Boat 2"},null,{"$f":"Général!B8","v":"Plymouth"},3]
[null,null,null,null,null,null,null,null,null,null,null,null,null,null,null,null,null,null,null,null,null,{"$f":"Général!B9","v":"Unicaen 2"},18]
["1er Equipage",null,{"$f":"IF($C$5=\"Course 1\",Général!B38,IF($C$5=\"Course 2\",Général!B40,IF($C$5=\"Course 3\",Général!B42,Général!B44)))","v":"ST Brieuc 2"},{"$f":"IF($D$5=\"Course 1\",Général!B48,IF($D$5=\"Course 2\",Général!B50,IF($D$5=\"Course 3\",Général!B52,Général!B54)))","v":"St Brieuc 1"},{"$f":"IF($E$5=\"Course 1\",Général!B58,IF($E$5=\"Course 2\",Général!B60,IF($E$5=\"Course 3\",Général!B62,Général!B64)))","v":"ST Brieuc 2"},{"$f":"IF($F$5=\"Course 1\",Général!B$68,IF($F$5=\"Course 2\",Général!B$70,IF($F$5=\"Course 3\",Général!B$72,Général!B$74)))","v":"Univ Nantes 3"},{"$f":"IF($G$5=\"Course 1\",Général!B$78,IF($G$5=\"Course 2\",Général!B$80,IF($G$5=\"Course 3\",Général!B$82,Général!B$84)))","v":"ENSTA 2"},{"$f":"IF($H$5=\"Course 1\",Général!B$88,IF($H$5=\"Course 2\",Général!B$90,IF($H$5=\"Course 3\",Général!B$92,Général!B$94)))","v":"Unicaen 2"},{"$f":"IF($I$5=\"Course 1\",Général!B$98,IF($I$5=\"Course 2\",Général!B$100,IF($I$5=\"Course 3\",Général!B$102,Général!B$104)))","v":"La Rochelle 2"},{"$f":"IF($J$5=\"Course 1\",Général!B$108,IF($J$5=\"Course 2\",Général!B$110,IF($J$5=\"Course 3\",Général!B$112,Général!B$114)))","v":"Centrale Nantes 1"},{"$f":"IF($K$5=\"Course 1\",Général!B$118,IF($K$5=\"Course 2\",Général!B$120,IF($K$5=\"Course 3\",Général!B$122,Général!B$124)))","v":"Hannover"},{"$f":"IF($L$5=\"Course 1\",Général!B$128,IF($L$5=\"Course 2\",Général!B$130,IF($L$5=\"Course 3\",Général!B$132,Général!B$134)))","v":"UBO 2"},{"$f":"IF($M$5=\"Course 1\",Général!B$138,IF($M$5=\"Course 2\",Général!B$140,IF($M$5=\"Course 3\",Général!B$142,Général!B$144)))","v":"ENSTA 1"},{"$f":"IF($N$5=\"Course 1\",Général!B$148,IF($N$5=\"Course 2\",Général!B$150,IF($N$5=\"Course 3\",Général!B$152,Général!B$154)))","v":"St Brieuc 1"},{"$f":"IF($O$5=\"Course 1\",Général!B$158,IF($O$5=\"Course 2\",Général!B$160,IF($O$5=\"Course 3\",Général!B$162,Général!B$164)))","v":"St Brieuc 1"},{"$f":"IF($P$5=\"Course 1\",Général!B$168,IF($P$5=\"Course 2\",Général!B$170,IF($P$5=\"Course 3\",Général!B$172,Général!B$174)))","v":"Plymouth"},{"$f":"IF($Q$5=\"Course 1\",Général!B$178,IF($Q$5=\"Course 2\",Général!B$180,IF($Q$5=\"Course 3\",Général!B$182,Général!B$184)))","v":"La Rochelle 2"},{"$f":"IF($R$5=\"Course 1\",Général!B$188,IF($R$5=\"Course 2\",Général!B$190,IF($R$5=\"Course 3\",Général!B$192,Général!B$194)))","v":"IMT Brest 2"},{"$f":"IF($S$5=\"Course 1\",Général!B$198,IF($S$5=\"Course 2\",Général!B$200,IF($S$5=\"Course 3\",Général!B$202,Général!B$204)))","v":"ENSTA 2"},{"$f":"IF($T$5=\"Course 1\",Général!B$208,IF($T$5=\"Course 2\",Général!B$210,IF($T$5=\"Course 3\",Général!B$212,Général!B$214)))","v":"UBS Lorient 2"},null,{"$f":"Général!B10","v":"Univ Nantes 2"},5]
["2nd Equipage",null,{"$f":"IF($C$5=\"Course 1\",Général!C38,IF($C$5=\"Course 2\",Général!C40,IF($C$5=\"Course 3\",Général!C42,Général!C44)))","v":"UBS Lorient 2"},{"$f":"IF($D$5=\"Course 1\",Général!C48,IF($D$5=\"Course 2\",Général!C50,IF($D$5=\"Course 3\",Général!C52,Général!C54)))","v":"Univ Nantes 3"},{"$f":"IF($E$5=\"Course 1\",Général!C58,IF($E$5=\"Course 2\",Général!C60,IF($E$5=\"Course 3\",Général!C62,Général!C64)))","v":"La Rochelle 1"},{"$f":"IF($F$5=\"Course 1\",Général!C$68,IF($F$5=\"Course 2\",Général!C$70,IF($F$5=\"Course 3\",Général!C$72,Général!C$74)))","v":"Paris Cité"},{"$f":"IF($G$5=\"Course 1\",Général!C$78,IF($G$5=\"Course 2\",Général!C$80,IF($G$5=\"Course 3\",Général!C$82,Général!C$84)))","v":"IMT Brest 2"},{"$f":"IF($H$5=\"Course 1\",Général!C$88,IF($H$5=\"Course 2\",Général!C$90,IF($H$5=\"Course 3\",Général!C$92,Général!C$94)))","v":"Paris Sorbone"},{"$f":"IF($I$5=\"Course 1\",Général!C$98,IF($I$5=\"Course 2\",Général!C$100,IF($I$5=\"Course 3\",Général!C$102,Général!C$104)))","v":"ENSTA 2"},{"$f":"IF($J$5=\"Course 1\",Général!C$108,IF($J$5=\"Course 2\",Général!C$110,IF($J$5=\"Course 3\",Général!C$112,Général!C$114)))","v":"ENSMAC"},{"$f":"IF($K$5=\"Course 1\",Général!C$118,IF($K$5=\"Course 2\",Général!C$120,IF($K$5=\"Course 3\",Général!C$122,Général!C$124)))","v":"Paris Cité"},{"$f":"IF($L$5=\"Course 1\",Général!C$128,IF($L$5=\"Course 2\",Général!C$130,IF($L$5=\"Course 3\",Général!C$132,Général!C$134)))","v":"Univ Nantes 3"},{"$f":"IF($M$5=\"Course 1\",Général!C$138,IF($M$5=\"Course 2\",Général!C$140,IF($M$5=\"Course 3\",Général!C$142,Général!C$144)))","v":"Intechmer"},{"$f":"IF($N$5=\"Course 1\",Général!C$148,IF($N$5=\"Course 2\",Général!C$150,IF($N$5=\"Course 3\",Général!C$152,Général!C$154)))","v":"Centrale Nantes 1"},{"$f":"IF($O$5=\"Course 1\",Général!C$158,IF($O$5=\"Course 2\",Général!C$160,IF($O$5=\"Course 3\",Général!C$162,Général!C$164)))","v":"Karlsruhe"},{"$f":"IF($P$5=\"Course 1\",Général!C$168,IF($P$5=\"Course 2\",Général!C$170,IF($P$5=\"Course 3\",Général!C$172,Général!C$174)))","v":"La Rochelle 2"},{"$f":"IF($Q$5=\"Course 1\",Général!C$178,IF($Q$5=\"Course 2\",Général!C$180,IF($Q$5=\"Course 3\",Général!C$182,Général!C$184)))","v":"Unicaen 2"},{"$f":"IF($R$5=\"Course 1\",Général!C$188,IF($R$5=\"Course 2\",Général!C$190,IF($R$5=\"Course 3\",Général!C$192,Général!C$194)))","v":"IMT Nantes"},{"$f":"IF($S$5=\"Course 1\",Général!C$198,IF($S$5=\"Course 2\",Général!C$200,IF($S$5=\"Course 3\",Général!C$202,Général!C$204)))","v":"Southampton"},{"$f":"IF($T$5=\"Course 1\",Général!C$208,IF($T$5=\"Course 2\",Général!C$210,IF($T$5=\"Course 3\",Général!C$212,Général!C$214)))","v":"Unicaen 2"},null,{"$f":"Général!B11","v":"Karlsruhe"},5]
["3ème Equipage",null,{"$f":"IF($C$5=\"Course 1\",Général!D38,IF($C$5=\"Course 2\",Général!D40,IF($C$5=\"Course 3\",Général!D42,Général!D44)))","v":"UNIV Nantes 1"},{"$f":"IF($D$5=\"Course 1\",Général!D48,IF($D$5=\"Course 2\",Général!D50,IF($D$5=\"Course 3\",Général!D52,Général!D54)))","v":"UBS Lorient 2"},{"$f":"IF($E$5=\"Course 1\",Général!D58,IF($E$5=\"Course 2\",Général!D60,IF($E$5=\"Course 3\",Général!D62,Général!D64)))","v":"St Brieuc 1"},{"$f":"IF($F$5=\"Course 1\",Général!D$68,IF($F$5=\"Course 2\",Général!D$70,IF($F$5=\"Course 3\",Général!D$72,Général!D$74)))","v":"Unicaen 2"},{"$f":"IF($G$5=\"Course 1\",Général!D$78,IF($G$5=\"Course 2\",Général!D$80,IF($G$5=\"Course 3\",Général!D$82,Général!D$84)))","v":"Unicaen 1"},{"$f":"IF($H$5=\"Course 1\",Général!D$88,IF($H$5=\"Course 2\",Général!D$90,IF($H$5=\"Course 3\",Général!D$92,Général!D$94)))","v":"UBS Lorient 2"},{"$f":"IF($I$5=\"Course 1\",Général!D$98,IF($I$5=\"Course 2\",Général!D$100,IF($I$5=\"Course 3\",Général!D$102,Général!D$104)))","v":"Hannover"},{"$f":"IF($J$5=\"Course 1\",Général!D$108,IF($J$5=\"Course 2\",Général!D$110,IF($J$5=\"Course 3\",Général!D$112,Général!D$114)))","v":"INSA Lyon"},{"$f":"IF($K$5=\"Course 1\",Général!D$118,IF($K$5=\"Course 2\",Général!D$120,IF($K$5=\"Course 3\",Général!D$122,Général!D$124)))","v":"Unicaen 2"},{"$f":"IF($L$5=\"Course 1\",Général!D$128,IF($L$5=\"Course 2\",Général!D$130,IF($L$5=\"Course 3\",Général!D$132,Général!D$134)))","v":"Orléans"},{"$f":"IF($M$5=\"Course 1\",Général!D$138,IF($M$5=\"Course 2\",Général!D$140,IF($M$5=\"Course 3\",Général!D$142,Général!D$144)))","v":"La Rochelle 2"},{"$f":"IF($N$5=\"Course 1\",Général!D$148,IF($N$5=\"Course 2\",Général!D$150,IF($N$5=\"Course 3\",Général!D$152,Général!D$154)))","v":"Unicaen 1"},{"$f":"IF($O$5=\"Course 1\",Général!D$158,IF($O$5=\"Course 2\",Général!D$160,IF($O$5=\"Course 3\",Général!D$162,Général!D$164)))","v":"ENSTA 1"},{"$f":"IF($P$5=\"Course 1\",Général!D$168,IF($P$5=\"Course 2\",Général!D$170,IF($P$5=\"Course 3\",Général!D$172,Général!D$174)))","v":"Karlsruhe"},{"$f":"IF($Q$5=\"Course 1\",Général!D$178,IF($Q$5=\"Course 2\",Général!D$180,IF($Q$5=\"Course 3\",Général!D$182,Général!D$184)))","v":"UBS Lorient 1"},{"$f":"IF($R$5=\"Course 1\",Général!D$188,IF($R$5=\"Course 2\",Général!D$190,IF($R$5=\"Course 3\",Général!D$192,Général!D$194)))","v":"La Rochelle 1"},{"$f":"IF($S$5=\"Course 1\",Général!D$198,IF($S$5=\"Course 2\",Général!D$200,IF($S$5=\"Course 3\",Général!D$202,Général!D$204)))","v":"Paris Cité"},{"$f":"IF($T$5=\"Course 1\",Général!D$208,IF($T$5=\"Course 2\",Général!D$210,IF($T$5=\"Course 3\",Général!D$212,Général!D$214)))","v":"IMT Brest 2"},null,{"$f":"Général!B12","v":"IMT Brest 2"},7]
["4ème Equipage",null,{"$f":"IF($C$5=\"Course 1\",Général!E38,IF($C$5=\"Course 2\",Général!E40,IF($C$5=\"Course 3\",Général!E42,Général!E44)))","v":"Orléans"},{"$f":"IF($D$5=\"Course 1\",Général!E48,IF($D$5=\"Course 2\",Général!E50,IF($D$5=\"Course 3\",Général!E52,Général!E54)))","v":"ENSTA 2"},{"$f":"IF($E$5=\"Course 1\",Général!E58,IF($E$5=\"Course 2\",Général!E60,IF($E$5=\"Course 3\",Général!E62,Général!E64)))","v":"Plymouth"},{"$f":"IF($F$5=\"Course 1\",Général!E$68,IF($F$5=\"Course 2\",Général!E$70,IF($F$5=\"Course 3\",Général!E$72,Général!E$74)))","v":"Univ Nantes 2"},{"$f":"IF($G$5=\"Course 1\",Général!E$78,IF($G$5=\"Course 2\",Général!E$80,IF($G$5=\"Course 3\",Général!E$82,Général!E$84)))","v":"La Rochelle 1"},{"$f":"IF($H$5=\"Course 1\",Général!E$88,IF($H$5=\"Course 2\",Général!E$90,IF($H$5=\"Course 3\",Général!E$92,Général!E$94)))","v":"UBS Lorient 1"},{"$f":"IF($I$5=\"Course 1\",Général!E$98,IF($I$5=\"Course 2\",Général!E$100,IF($I$5=\"Course 3\",Général!E$102,Général!E$104)))","v":"Paris Sorbone"},{"$f":"IF($J$5=\"Course 1\",Général!E$108,IF($J$5=\"Course 2\",Général!E$110,IF($J$5=\"Course 3\",Général!E$112,Général!E$114)))","v":"Univ Nantes 2"},{"$f":"IF($K$5=\"Course 1\",Général!E$118,IF($K$5=\"Course 2\",Général!E$120,IF($K$5=\"Course 3\",Général!E$122,Général!E$124)))","v":"UBO 1"},{"$f":"IF($L$5=\"Course 1\",Général!E$128,IF($L$5=\"Course 2\",Général!E$130,IF($L$5=\"Course 3\",Général!E$132,Général!E$134)))","v":"IMT Brest 1"},{"$f":"IF($M$5=\"Course 1\",Général!E$138,IF($M$5=\"Course 2\",Général!E$140,IF($M$5=\"Course 3\",Général!E$142,Général!E$144)))","v":"ENSMAC"},{"$f":"IF($N$5=\"Course 1\",Général!E$148,IF($N$5=\"Course 2\",Général!E$150,IF($N$5=\"Course 3\",Général!E$152,Général!E$154)))","v":"Orléans"},{"$f":"IF($O$5=\"Course 1\",Général!E$158,IF($O$5=\"Course 2\",Général!E$160,IF($O$5=\"Course 3\",Général!E$162,Général!E$164)))","v":"Univ Nantes 2"},{"$f":"IF($P$5=\"Course 1\",Général!E$168,IF($P$5=\"Course 2\",Général!E$170,IF($P$5=\"Course 3\",Général!E$172,Général!E$174)))","v":"UBO 1"},{"$f":"IF($Q$5=\"Course 1\",Général!E$178,IF($Q$5=\"Course 2\",Général!E$180,IF($Q$5=\"Course 3\",Général!E$182,Général!E$184)))","v":"St Brieuc 1"},{"$f":"IF($R$5=\"Course 1\",Général!E$188,IF($R$5=\"Course 2\",Général!E$190,IF($R$5=\"Course 3\",Général!E$192,Général!E$194)))","v":"St Brieuc 1"},{"$f":"IF($S$5=\"Course 1\",Général!E$198,IF($S$5=\"Course 2\",Général!E$200,IF($S$5=\"Course 3\",Général!E$202,Général!E$204)))","v":"ENSMAC"},{"$f":"IF($T$5=\"Course 1\",Général!E$208,IF($T$5=\"Course 2\",Général!E$210,IF($T$5=\"Course 3\",Général!E$212,Général!E$214)))","v":"IMT Nantes"},null,{"$f":"Général!B13","v":"Unicaen 1"},6]
["5ème Equipage",null,{"$f":"IF($C$5=\"Course 1\",Général!F38,IF($C$5=\"Course 2\",Général!F40,IF($C$5=\"Course 3\",Général!F42,Général!F44)))","v":"Unicaen 2"},{"$f":"IF($D$5=\"Course 1\",Général!F48,IF($D$5=\"Course 2\",Général!F50,IF($D$5=\"Course 3\",Général!F52,Général!F54)))","v":"ST Brieuc 2"},{"$f":"IF($E$5=\"Course 1\",Général!F58,IF($E$5=\"Course 2\",Général!F60,IF($E$5=\"Course 3\",Général!F62,Général!F64)))","v":"UBS Lorient 1"},{"$f":"IF($F$5=\"Course 1\",Général!F$68,IF($F$5=\"Course 2\",Général!F$70,IF($F$5=\"Course 3\",Général!F$72,Général!F$74)))","v":"La Rochelle 2"},{"$f":"IF($G$5=\"Course 1\",Général!F$78,IF($G$5=\"Course 2\",Général!F$80,IF($G$5=\"Course 3\",Général!F$82,Général!F$84)))","v":"Orléans"},{"$f":"IF($H$5=\"Course 1\",Général!F$88,IF($H$5=\"Course 2\",Général!F$90,IF($H$5=\"Course 3\",Général!F$92,Général!F$94)))","v":"IMT Brest 1"},{"$f":"IF($I$5=\"Course 1\",Général!F$98,IF($I$5=\"Course 2\",Général!F$100,IF($I$5=\"Course 3\",Général!F$102,Général!F$104)))","v":"Centrale Nantes 1"},{"$f":"IF($J$5=\"Course 1\",Général!F$108,IF($J$5=\"Course 2\",Général!F$110,IF($J$5=\"Course 3\",Général!F$112,Général!F$114)))","v":"IMT Nantes"},{"$f":"IF($K$5=\"Course 1\",Général!F$118,IF($K$5=\"Course 2\",Général!F$120,IF($K$5=\"Course 3\",Général!F$122,Général!F$124)))","v":"ENSTA 1"},{"$f":"IF($L$5=\"Course 1\",Général!F$128,IF($L$5=\"Course 2\",Général!$F130,IF($L$5=\"Course 3\",Général!F$132,Général!F$134)))","v":"Univ Nantes 2"},{"$f":"IF($M$5=\"Course 1\",Général!F$138,IF($M$5=\"Course 2\",Général!F$140,IF($M$5=\"Course 3\",Général!F$142,Général!F$144)))","v":"UBO 1"},{"$f":"IF($N$5=\"Course 1\",Général!F$148,IF($N$5=\"Course 2\",Général!F$150,IF($N$5=\"Course 3\",Général!F$152,Général!F$154)))","v":"Paris Cité"},{"$f":"IF($O$5=\"Course 1\",Général!F$158,IF($O$5=\"Course 2\",Général!F$160,IF($O$5=\"Course 3\",Général!F$162,Général!F$164)))","v":"UNIV Nantes 1"},{"$f":"IF($P$5=\"Course 1\",Général!F$168,IF($P$5=\"Course 2\",Général!F$170,IF($P$5=\"Course 3\",Général!F$172,Général!F$174)))","v":"Hannover"},{"$f":"IF($Q$5=\"Course 1\",Général!F$178,IF($Q$5=\"Course 2\",Général!F$180,IF($Q$5=\"Course 3\",Général!F$182,Général!F$184)))","v":"ENSTA 2"},{"$f":"IF($R$5=\"Course 1\",Général!F$188,IF($R$5=\"Course 2\",Général!F$190,IF($R$5=\"Course 3\",Général!F$192,Général!F$194)))","v":"Hannover"},{"$f":"IF($S$5=\"Course 1\",Général!F$198,IF($S$5=\"Course 2\",Général!F$200,IF($S$5=\"Course 3\",Général!F$202,Général!F$204)))","v":"Unicaen 2"},{"$f":"IF($T$5=\"Course 1\",Général!F$208,IF($T$5=\"Course 2\",Général!F$210,IF($T$5=\"Course 3\",Général!F$212,Général!F$214)))","v":"ST Brieuc 2"},null,{"$f":"Général!B14","v":"ENSTA 1"},4]
["6ème Equipage",null,{"$f":"IF($C$5=\"Course 1\",Général!G38,IF($C$5=\"Course 2\",Général!G40,IF($C$5=\"Course 3\",Général!G42,Général!G44)))","v":"Hannover"},{"$f":"IF($D$5=\"Course 1\",Général!G48,IF($D$5=\"Course 2\",Général!G50,IF($D$5=\"Course 3\",Général!G52,Général!G54)))","v":"La Rochelle 1"},{"$f":"IF($E$5=\"Course 1\",Général!G58,IF($E$5=\"Course 2\",Général!G60,IF($E$5=\"Course 3\",Général!G62,Général!G64)))","v":"IMT Brest 1"},{"$f":"IF($F$5=\"Course 1\",Général!G$68,IF($F$5=\"Course 2\",Général!G$70,IF($F$5=\"Course 3\",Général!G$72,Général!G$74)))","v":"ENSTA 2"},{"$f":"IF($G$5=\"Course 1\",Général!G$78,IF($G$5=\"Course 2\",Général!G$80,IF($G$5=\"Course 3\",Général!G$82,Général!G$84)))","v":"Paris Cité"},{"$f":"IF($H$5=\"Course 1\",Général!G$88,IF($H$5=\"Course 2\",Général!G$90,IF($H$5=\"Course 3\",Général!G$92,Général!G$94)))","v":"IMT Brest 2"},{"$f":"IF($I$5=\"Course 1\",Général!G$98,IF($I$5=\"Course 2\",Général!G$100,IF($I$5=\"Course 3\",Général!G$102,Général!G$104)))","v":"Unicaen 2"},{"$f":"IF($J$5=\"Course 1\",Général!G$108,IF($J$5=\"Course 2\",Général!G$110,IF($J$5=\"Course 3\",Général!G$112,Général!G$114)))","v":"Karlsruhe"},{"$f":"IF($K$5=\"Course 1\",Général!G$118,IF($K$5=\"Course 2\",Général!G$120,IF($K$5=\"Course 3\",Général!G$122,Général!G$124)))","v":"La Rochelle 2"},{"$f":"IF($L$5=\"Course 1\",Général!G$128,IF($L$5=\"Course 2\",Général!G$130,IF($L$5=\"Course 3\",Général!G$132,Général!G$134)))","v":"Unicaen 1"},{"$f":"IF($M$5=\"Course 1\",Général!G$138,IF($M$5=\"Course 2\",Général!G$140,IF($M$5=\"Course 3\",Général!G$142,Général!G$144)))","v":"Southampton"},{"$f":"IF($N$5=\"Course 1\",Général!G$148,IF($N$5=\"Course 2\",Général!G$150,IF($N$5=\"Course 3\",Général!G$152,Général!G$154)))","v":"Southampton"},{"$f":"IF($O$5=\"Course 1\",Général!G$158,IF($O$5=\"Course 2\",Général!G$160,IF($O$5=\"Course 3\",Général!G$162,Général!G$164)))","v":"Unicaen 2"},{"$f":"IF($P$5=\"Course 1\",Général!G$168,IF($P$5=\"Course 2\",Général!G$170,IF($P$5=\"Course 3\",Général!G$172,Général!G$174)))","v":"UBS Lorient 2"},{"$f":"IF($Q$5=\"Course 1\",Général!G$178,IF($Q$5=\"Course 2\",Général!G$180,IF($Q$5=\"Course 3\",Général!G$182,Général!G$184)))","v":"ENSMAC"},{"$f":"IF($R$5=\"Course 1\",Général!G$188,IF($R$5=\"Course 2\",Général!G$190,IF($R$5=\"Course 3\",Général!G$192,Général!G$194)))","v":"Unicaen 2"},{"$f":"IF($S$5=\"Course 1\",Général!G$198,IF($S$5=\"Course 2\",Général!G$200,IF($S$5=\"Course 3\",Général!G$202,Général!G$204)))","v":"UBS Lorient 1"},{"$f":"IF($T$5=\"Course 1\",Général!G$208,IF($T$5=\"Course 2\",Général!G$210,IF($T$5=\"Course 3\",Général!G$212,Général!G$214)))","v":"Orléans"},null,{"$f":"Général!B15","v":"Orléans"},7]
["7ème Equipage",null,{"$f":"IF($C$5=\"Course 1\",Général!H38,IF($C$5=\"Course 2\",Général!H40,IF($C$5=\"Course 3\",Général!H42,Général!H44)))","v":"IMT Brest 2"},{"$f":"IF($D$5=\"Course 1\",Général!H48,IF($D$5=\"Course 2\",Général!H50,IF($D$5=\"Course 3\",Général!H52,Général!H54)))","v":"Unicaen 2"},{"$f":"IF($E$5=\"Course 1\",Général!H58,IF($E$5=\"Course 2\",Général!H60,IF($E$5=\"Course 3\",Général!H62,Général!H64)))","v":"Centrale Nantes 2"},{"$f":"IF($F$5=\"Course 1\",Général!H$68,IF($F$5=\"Course 2\",Général!H$70,IF($F$5=\"Course 3\",Général!H$72,Général!H$74)))","v":"UBS Lorient 2"},{"$f":"IF($G$5=\"Course 1\",Général!H$78,IF($G$5=\"Course 2\",Général!H$80,IF($G$5=\"Course 3\",Général!H$82,Général!H$84)))","v":"Univ Nantes 2"},{"$f":"IF($H$5=\"Course 1\",Général!H$88,IF($H$5=\"Course 2\",Général!H$90,IF($H$5=\"Course 3\",Général!H$92,Général!H$94)))","v":"ST Brieuc 2"},{"$f":"IF($I$5=\"Course 1\",Général!H$98,IF($I$5=\"Course 2\",Général!H$100,IF($I$5=\"Course 3\",Général!H$102,Général!H$104)))","v":"IMT Brest 2"},{"$f":"IF($J$5=\"Course 1\",Général!H$108,IF($J$5=\"Course 2\",Général!H$110,IF($J$5=\"Course 3\",Général!H$112,Général!H$114)))","v":"Unicaen 2"},{"$f":"IF($K$5=\"Course 1\",Général!H$118,IF($K$5=\"Course 2\",Général!H$120,IF($K$5=\"Course 3\",Général!H$122,Général!H$124)))","v":"IMT Nantes"},{"$f":"IF($L$5=\"Course 1\",Général!H$128,IF($L$5=\"Course 2\",Général!H$130,IF($L$5=\"Course 3\",Général!H$132,Général!H$134)))","v":"UBO 1"},{"$f":"IF($M$5=\"Course 1\",Général!H$138,IF($M$5=\"Course 2\",Général!H$140,IF($M$5=\"Course 3\",Général!H$142,Général!H$144)))","v":"Centrale Nantes 2"},{"$f":"IF($N$5=\"Course 1\",Général!H$148,IF($N$5=\"Course 2\",Général!H$150,IF($N$5=\"Course 3\",Général!H$152,Général!H$154)))","v":"IMT Brest 1"},{"$f":"IF($O$5=\"Course 1\",Général!H$158,IF($O$5=\"Course 2\",Général!H$160,IF($O$5=\"Course 3\",Général!H$162,Général!H$164)))","v":"Univ Nantes 3"},{"$f":"IF($P$5=\"Course 1\",Général!H$168,IF($P$5=\"Course 2\",Général!H$170,IF($P$5=\"Course 3\",Général!H$172,Général!H$174)))","v":"UBS Lorient 1"},{"$f":"IF($Q$5=\"Course 1\",Général!H$178,IF($Q$5=\"Course 2\",Général!H$180,IF($Q$5=\"Course 3\",Général!H$182,Général!H$184)))","v":"Karlsruhe"},{"$f":"IF($R$5=\"Course 1\",Général!H$188,IF($R$5=\"Course 2\",Général!H$190,IF($R$5=\"Course 3\",Général!H$192,Général!H$194)))","v":"Unicaen 1"},{"$f":"IF($S$5=\"Course 1\",Général!H$198,IF($S$5=\"Course 2\",Général!H$200,IF($S$5=\"Course 3\",Général!H$202,Général!H$204)))","v":"UBO 1"},{"$f":"IF($T$5=\"Course 1\",Général!H$208,IF($T$5=\"Course 2\",Général!H$210,IF($T$5=\"Course 3\",Général!H$212,Général!H$214)))","v":"St Brieuc 1"},null,{"$f":"Général!B16","v":"IMT Brest 1"},5]
["8ème Equipage",null,{"$f":"IF($C$5=\"Course 1\",Général!I38,IF($C$5=\"Course 2\",Général!I40,IF($C$5=\"Course 3\",Général!I42,Général!I44)))","v":"Paris Cité"},{"$f":"IF($D$5=\"Course 1\",Général!I48,IF($D$5=\"Course 2\",Général!I50,IF($D$5=\"Course 3\",Général!I52,Général!I54)))","v":"UNIV Nantes 1"},{"$f":"IF($E$5=\"Course 1\",Général!I58,IF($E$5=\"Course 2\",Général!I60,IF($E$5=\"Course 3\",Général!I62,Général!I64)))","v":"Unicaen 2"},{"$f":"IF($F$5=\"Course 1\",Général!I$68,IF($F$5=\"Course 2\",Général!I$70,IF($F$5=\"Course 3\",Général!I$72,Général!I$74)))","v":"INSA Lyon"},{"$f":"IF($G$5=\"Course 1\",Général!I$78,IF($G$5=\"Course 2\",Général!I$80,IF($G$5=\"Course 3\",Général!I$82,Général!I$84)))","v":"IMT Nantes"},{"$f":"IF($H$5=\"Course 1\",Général!I$88,IF($H$5=\"Course 2\",Général!I$90,IF($H$5=\"Course 3\",Général!I$92,Général!I$94)))","v":"UBO 2"},{"$f":"IF($I$5=\"Course 1\",Général!I$98,IF($I$5=\"Course 2\",Général!I$100,IF($I$5=\"Course 3\",Général!I$102,Général!I$104)))","v":"INSA Lyon"},{"$f":"IF($J$5=\"Course 1\",Général!I$108,IF($J$5=\"Course 2\",Général!I$110,IF($J$5=\"Course 3\",Général!I$112,Général!I$114)))","v":"Unicaen 1"},{"$f":"IF($K$5=\"Course 1\",Général!I$118,IF($K$5=\"Course 2\",Général!I$120,IF($K$5=\"Course 3\",Général!I$122,Général!I$124)))","v":"Plymouth"},{"$f":"IF($L$5=\"Course 1\",Général!I$128,IF($L$5=\"Course 2\",Général!I$130,IF($L$5=\"Course 3\",Général!I$132,Général!I$134)))","v":"Unicaen 2"},{"$f":"IF($M$5=\"Course 1\",Général!I$138,IF($M$5=\"Course 2\",Général!I$140,IF($M$5=\"Course 3\",Général!I$142,Général!I$144)))","v":"Unicaen 2"},{"$f":"IF($N$5=\"Course 1\",Général!I$148,IF($N$5=\"Course 2\",Général!I$150,IF($N$5=\"Course 3\",Général!I$152,Général!I$154)))","v":"Unicaen 2"},{"$f":"IF($O$5=\"Course 1\",Général!I$158,IF($O$5=\"Course 2\",Général!I$160,IF($O$5=\"Course 3\",Général!I$162,Général!I$164)))","v":"UBS Lorient 2"},{"$f":"IF($P$5=\"Course 1\",Général!I$168,IF($P$5=\"Course 2\",Général!I$170,IF($P$5=\"Course 3\",Général!I$172,Général!I$174)))","v":"Unicaen 2"},{"$f":"IF($Q$5=\"Course 1\",Général!I$178,IF($Q$5=\"Course 2\",Général!I$180,IF($Q$5=\"Course 3\",Général!I$182,Général!I$184)))","v":"Orléans"},{"$f":"IF($R$5=\"Course 1\",Général!I$188,IF($R$5=\"Course 2\",Général!I$190,IF($R$5=\"Course 3\",Général!I$192,Général!I$194)))","v":"Univ Nantes 3"},{"$f":"IF($S$5=\"Course 1\",Général!I$198,IF($S$5=\"Course 2\",Général!I$200,IF($S$5=\"Course 3\",Général!I$202,Général!I$204)))","v":"IMT Brest 1"},{"$f":"IF($T$5=\"Course 1\",Général!I$208,IF($T$5=\"Course 2\",Général!I$210,IF($T$5=\"Course 3\",Général!I$212,Général!I$214)))","v":"UBO 2"},null,{"$f":"Général!B17","v":"ENSMAC"},5]
["9ème Equipage",null,{"$f":"IF($C$5=\"Course 1\",Général!J38,IF($C$5=\"Course 2\",Général!J40,IF($C$5=\"Course 3\",Général!J42,Général!J44)))","v":"ENSMAC"},{"$f":"IF($D$5=\"Course 1\",Général!J48,IF($D$5=\"Course 2\",Général!J50,IF($D$5=\"Course 3\",Général!J52,Général!J54)))","v":"Southampton"},{"$f":"IF($E$5=\"Course 1\",Général!J58,IF($E$5=\"Course 2\",Général!J60,IF($E$5=\"Course 3\",Général!J62,Général!J64)))","v":"ENSTA 1"},{"$f":"IF($F$5=\"Course 1\",Général!J$68,IF($F$5=\"Course 2\",Général!J$70,IF($F$5=\"Course 3\",Général!J$72,Général!J$74)))","v":"Unicaen 1"},{"$f":"IF($G$5=\"Course 1\",Général!J$78,IF($G$5=\"Course 2\",Général!J$80,IF($G$5=\"Course 3\",Général!J$82,Général!J$84)))","v":"Unicaen 2"},{"$f":"IF($H$5=\"Course 1\",Général!J$88,IF($H$5=\"Course 2\",Général!J$90,IF($H$5=\"Course 3\",Général!$J92,Général!J$94)))","v":"INSA Lyon"},{"$f":"IF($I$5=\"Course 1\",Général!J$98,IF($I$5=\"Course 2\",Général!J$100,IF($I$5=\"Course 3\",Général!J$102,Général!J$104)))","v":"UBO 1"},{"$f":"IF($J$5=\"Course 1\",Général!J$108,IF($J$5=\"Course 2\",Général!J$110,IF($J$5=\"Course 3\",Général!J$112,Général!J$114)))","v":"Orléans"},{"$f":"IF($K$5=\"Course 1\",Général!J$118,IF($K$5=\"Course 2\",Général!J$120,IF($K$5=\"Course 3\",Général!J$122,Général!J$124)))","v":"Paris Sorbone"},{"$f":"IF($L$5=\"Course 1\",Général!J$128,IF($L$5=\"Course 2\",Général!J$130,IF($L$5=\"Course 3\",Général!J$132,Général!J$134)))","v":"Centrale Nantes 2"},{"$f":"IF($M$5=\"Course 1\",Général!J$138,IF($M$5=\"Course 2\",Général!J$140,IF($M$5=\"Course 3\",Général!J$142,Général!J$144)))","v":"IMT Nantes"},{"$f":"IF($N$5=\"Course 1\",Général!J$148,IF($N$5=\"Course 2\",Général!J$150,IF($N$5=\"Course 3\",Général!J$152,Général!J$154)))","v":"IMT Nantes"},{"$f":"IF($O$5=\"Course 1\",Général!J$158,IF($O$5=\"Course 2\",Général!J$160,IF($O$5=\"Course 3\",Général!J$162,Général!J$164)))","v":"Southampton"},{"$f":"IF($P$5=\"Course 1\",Général!J$168,IF($P$5=\"Course 2\",Général!J$170,IF($P$5=\"Course 3\",Général!J$172,Général!J$174)))","v":"IMT Brest 2"},{"$f":"IF($Q$5=\"Course 1\",Général!J$178,IF($Q$5=\"Course 2\",Général!J$180,IF($Q$5=\"Course 3\",Général!J$182,Général!J$184)))","v":"IMT Nantes"},{"$f":"IF($R$5=\"Course 1\",Général!J$188,IF($R$5=\"Course 2\",Général!J$190,IF($R$5=\"Course 3\",Général!J$192,Général!J$194)))","v":"Southampton"},{"$f":"IF($S$5=\"Course 1\",Général!J$198,IF($S$5=\"Course 2\",Général!J$200,IF($S$5=\"Course 3\",Général!J$202,Général!J$204)))","v":"Hannover"},{"$f":"IF($T$5=\"Course 1\",Général!J$208,IF($T$5=\"Course 2\",Général!J$210,IF($T$5=\"Course 3\",Général!J$212,Général!J$214)))","v":"Karlsruhe"},null,{"$f":"Général!B18","v":"St Brieuc 1"},7]
["10ème Equipage",null,{"$f":"IF($C$5=\"Course 1\",Général!K38,IF($C$5=\"Course 2\",Général!K40,IF($C$5=\"Course 3\",Général!K42,Général!K44)))","v":"Paris Sorbone"},{"$f":"IF($D$5=\"Course 1\",Général!K48,IF($D$5=\"Course 2\",Général!K50,IF($D$5=\"Course 3\",Général!K52,Général!K54)))","v":"ENSMAC"},{"$f":"IF($E$5=\"Course 1\",Général!K58,IF($E$5=\"Course 2\",Général!K60,IF($E$5=\"Course 3\",Général!K62,Général!K64)))","v":"Karlsruhe"},{"$f":"IF($F$5=\"Course 1\",Général!K$68,IF($F$5=\"Course 2\",Général!K$70,IF($F$5=\"Course 3\",Général!K$72,Général!K$74)))","v":"Hannover"},{"$f":"IF($G$5=\"Course 1\",Général!K$78,IF($G$5=\"Course 2\",Général!K$80,IF($G$5=\"Course 3\",Général!K$82,Général!K$84)))","v":"Intechmer"},{"$f":"IF($H$5=\"Course 1\",Général!K$88,IF($H$5=\"Course 2\",Général!K$90,IF($H$5=\"Course 3\",Général!$K92,Général!K$94)))","v":"St Brieuc 1"},{"$f":"IF($I$5=\"Course 1\",Général!K$98,IF($I$5=\"Course 2\",Général!K$100,IF($I$5=\"Course 3\",Général!K$102,Général!K$104)))","v":"ENSMAC"},{"$f":"IF($J$5=\"Course 1\",Général!K$108,IF($J$5=\"Course 2\",Général!K$110,IF($J$5=\"Course 3\",Général!K$112,Général!K$114)))","v":"Plymouth"},{"$f":"IF($K$5=\"Course 1\",Général!K$118,IF($K$5=\"Course 2\",Général!K$120,IF($K$5=\"Course 3\",Général!K$122,Général!K$124)))","v":"UBO 2"},{"$f":"IF($L$5=\"Course 1\",Général!K$128,IF($L$5=\"Course 2\",Général!K$130,IF($L$5=\"Course 3\",Général!K$132,Général!K$134)))","v":"La Rochelle 1"},{"$f":"IF($M$5=\"Course 1\",Général!K$138,IF($M$5=\"Course 2\",Général!K$140,IF($M$5=\"Course 3\",Général!K$142,Général!K$144)))","v":"INSA Lyon"},{"$f":"IF($N$5=\"Course 1\",Général!K$148,IF($N$5=\"Course 2\",Général!K$150,IF($N$5=\"Course 3\",Général!K$152,Général!K$154)))","v":"Paris Sorbone"},{"$f":"IF($O$5=\"Course 1\",Général!K$158,IF($O$5=\"Course 2\",Général!K$160,IF($O$5=\"Course 3\",Général!K$162,Général!K$164)))","v":"Centrale Nantes 1"},{"$f":"IF($P$5=\"Course 1\",Général!K$168,IF($P$5=\"Course 2\",Général!K$170,IF($P$5=\"Course 3\",Général!K$172,Général!K$174)))","v":"Centrale Nantes 1"},{"$f":"IF($Q$5=\"Course 1\",Général!K$178,IF($Q$5=\"Course 2\",Général!K$180,IF($Q$5=\"Course 3\",Général!K$182,Général!K$184)))","v":"Paris Sorbone"},{"$f":"IF($R$5=\"Course 1\",Général!K$188,IF($R$5=\"Course 2\",Général!K$190,IF($R$5=\"Course 3\",Général!K$192,Général!K$194)))","v":"Paris Sorbone"},{"$f":"IF($S$5=\"Course 1\",Général!K$198,IF($S$5=\"Course 2\",Général!K$200,IF($S$5=\"Course 3\",Général!K$202,Général!K$204)))","v":"Univ Nantes 3"},{"$f":"IF($T$5=\"Course 1\",Général!K$208,IF($T$5=\"Course 2\",Général!K$210,IF($T$5=\"Course 3\",Général!K$212,Général!K$214)))","v":"ENSTA 1"},null,{"$f":"Général!B19","v":"Hannover"},6]
[null,null,null,null,null,null,null,null,null,null,null,null,null,null,null,null,null,null,null,null,null,{"$f":"Général!B20","v":"ENSTA 2"},6]
[null,null,null,null,null,null,null,null,null,null,null,null,null,null,null,null,null,null,null,null,null,{"$f":"Général!B21","v":"Southampton"},6]
[null,null,null,null,null,null,null,null,null,null,null,null,null,null,null,null,null,null,null,null,null,{"$f":"Général!B22","v":"La Rochelle 1"},4]
[null,null,null,null,null,null,null,null,null,null,null,null,null,null,null,null,null,null,null,null,null,{"$f":"Général!B23","v":"Centrale Nantes 1"},3]
[null,null,null,null,null,null,null,null,null,null,null,null,null,null,null,null,null,null,null,null,null,{"$f":"Général!B24","v":"ST Brieuc 2"},5]
[null,null,null,null,null,null,null,null,null,null,null,null,null,null,null,null,null,null,null,null,null,{"$f":"Général!B25","v":"UNIV Nantes 1"},3]
[null,null,null,null,null,null,null,null,null,null,null,null,null,null,null,null,null,null,null,null,null,{"$f":"Général!B26","v":"Intechmer"},1]
[null,null,null,null,null,null,null,null,null,null,null,null,null,null,null,null,null,null,null,null,null,{"$f":"Général!B27","v":"IMT Nantes"},8]
[null,null,null,null,null,null,null,null,null,null,null,null,null,null,null,null,null,null,null,null,null,{"$f":"Général!B28","v":"INSA Lyon"},4]
[null,null,null,null,null,null,null,null,null,null,null,null,null,null,null,null,null,null,null,null,null,{"$f":"Général!B29","v":"Centrale Nantes 2"},3]
[null,null,null,null,null,null,null,null,null,null,null,null,null,null,null,null,null,null,null,null,null,{"$f":"Général!B30","v":"UBS Lorient 2"},7]
[null,null,null,null,null,null,null,null,null,null,null,null,null,null,null,null,null,null,null,null,null,{"$f":"Général!B31","v":"La Rochelle 2"},6]
[null,null,null,null,null,null,null,null,null,null,null,null,null,null,null,null,null,null,null,null,null,{"$f":"Général!B32","v":"UBO 1"},6]
[null,null,null,null,null,null,null,null,null,null,null,null,null,null,null,null,null,null,null,null,null,{"$f":"Général!B33","v":"Eq.31"},0]
[null,null,null,null,null,null,null,null,null,null,null,null,null,null,null,null,null,null,null,null,null,{"$f":"Général!B34","v":"Eq.32"},0]

{"sheet":"Eq.8","index":13,"n_rows":32,"n_cols":23,"rows_kept":32,"cut":false,"hidden":false,"merged":[[7,0,7,1],[0,0,1,5],[0,6,1,10],[3,0,3,1],[4,0,4,1],[5,0,5,1],[14,0,14,1],[15,0,15,1],[16,0,16,1],[8,0,8,1],[9,0,9,1],[10,0,10,1],[11,0,11,1],[12,0,12,1],[13,0,13,1]]}
["Equipage ",null,null,null,null,null,{"$f":"Général!B10","v":"Univ Nantes 2"},null,null,null,null,null,null,null,null,null,null,null,null,null,null,{"$f":"Général!B3","v":"UBO 2"},{"$f":"COUNTIF(C$8:T$16,V1)","v":6}]
[null,null,null,null,null,null,null,null,null,null,null,null,null,null,null,null,null,null,null,null,null,{"$f":"Général!B4","v":"Paris Sorbone"},{"$f":"COUNTIF($C$8:$T$16,V2)","v":6}]
[null,null,null,null,null,null,null,null,null,null,null,null,null,null,null,null,null,null,null,null,null,{"$f":"Général!B5","v":"UBS Lorient 1"},{"$f":"COUNTIF($C$8:$T$16,V3)","v":5}]
[null,null,"FLIGHT 1","FLIGHT 2","FLIGHT 3","FLIGHT 4","FLIGHT 5","FLIGHT 6","FLIGHT 7","FLIGHT 8","FLIGHT 9","FLIGHT 10","FLIGHT 11","FLIGHT 12","FLIGHT 13","FLIGHT 14","FLIGHT 15","FLIGHT 16","FLIGHT 17","FLIGHT 18",null,{"$f":"Général!B6","v":"Univ Nantes 3"},6]
["N° de course",null,{"$f":"IF(COUNTIF(Général!B38:K38,$G$1)=1,\"Course 1\",IF(COUNTIF(Général!B40:K40,$G$1)=1,\"Course 2\",IF(COUNTIF(Général!B42:K42,$G$1)=1,\"Course 3\",\"Course 4\")))","v":"Course 3"},{"$f":"IF(COUNTIF(Général!B48:K48,$G$1)=1,\"Course 1\",IF(COUNTIF(Général!B50:K50,$G$1)=1,\"Course 2\",IF(COUNTIF(Général!B52:K52,$G$1)=1,\"Course 3\",\"Course 4\")))","v":"Course 1"},{"$f":"IF(COUNTIF(Général!B58:K58,$G$1)=1,\"Course 1\",IF(COUNTIF(Général!B60:K60,$G$1)=1,\"Course 2\",IF(COUNTIF(Général!B62:K62,$G$1)=1,\"Course 3\",\"Course 4\")))","v":"Course 1"},{"$f":"IF(COUNTIF(Général!B68:K68,$G$1)=1,\"Course 1\",IF(COUNTIF(Général!B70:K70,$G$1)=1,\"Course 2\",IF(COUNTIF(Général!B72:K72,$G$1)=1,\"Course 3\",\"Course 4\")))","v":"Course 2"},{"$f":"IF(COUNTIF(Général!B78:K78,$G$1)=1,\"Course 1\",IF(COUNTIF(Général!B80:K80,$G$1)=1,\"Course 2\",IF(COUNTIF(Général!B82:K82,$G$1)=1,\"Course 3\",\"Course 4\")))","v":"Course 3"},{"$f":"IF(COUNTIF(Général!B88:K88,$G$1)=1,\"Course 1\",IF(COUNTIF(Général!B90:K90,$G$1)=1,\"Course 2\",IF(COUNTIF(Général!B92:K92,$G$1)=1,\"Course 3\",\"Course 4\")))","v":"Course 2"},{"$f":"IF(COUNTIF(Général!B98:K98,$G$1)=1,\"Course 1\",IF(COUNTIF(Général!B100:K100,$G$1)=1,\"Course 2\",IF(COUNTIF(Général!B102:K102,$G$1)=1,\"Course 3\",\"Course 4\")))","v":"Course 1"},{"$f":"IF(COUNTIF(Général!B108:K108,$G$1)=1,\"Course 1\",IF(COUNTIF(Général!B110:K110,$G$1)=1,\"Course 2\",IF(COUNTIF(Général!B112:K112,$G$1)=1,\"Course 3\",\"Course 4\")))","v":"Course 2"},{"$f":"IF(COUNTIF(Général!B118:K118,$G$1)=1,\"Course 1\",IF(COUNTIF(Général!B120:K120,$G$1)=1,\"Course 2\",IF(COUNTIF(Général!B122:K122,$G$1)=1,\"Course 3\",\"Course 4\")))","v":"Course 1"},{"$f":"IF(COUNTIF(Général!B128:K128,$G$1)=1,\"Course 1\",IF(COUNTIF(Général!B130:K130,$G$1)=1,\"Course 2\",IF(COUNTIF(Général!B132:K132,$G$1)=1,\"Course 3\",\"Course 4\")))","v":"Course 1"},{"$f":"IF(COUNTIF(Général!B138:K138,$G$1)=1,\"Course 1\",IF(COUNTIF(Général!B140:K140,$G$1)=1,\"Course 2\",IF(COUNTIF(Général!B142:K142,$G$1)=1,\"Course 3\",\"Course 4\")))","v":"Course 2"},{"$f":"IF(COUNTIF(Général!B148:K148,$G$1)=1,\"Course 1\",IF(COUNTIF(Général!B150:K150,$G$1)=1,\"Course 2\",IF(COUNTIF(Général!B152:K152,$G$1)=1,\"Course 3\",\"Course 4\")))","v":"Course 2"},{"$f":"IF(COUNTIF(Général!B158:K158,$G$1)=1,\"Course 1\",IF(COUNTIF(Général!B160:K160,$G$1)=1,\"Course 2\",IF(COUNTIF(Général!B162:K162,$G$1)=1,\"Course 3\",\"Course 4\")))","v":"Course 3"},{"$f":"IF(COUNTIF(Général!B168:K168,$G$1)=1,\"Course 1\",IF(COUNTIF(Général!B170:K170,$G$1)=1,\"Course 2\",IF(COUNTIF(Général!B172:K172,$G$1)=1,\"Course 3\",\"Course 4\")))","v":"Course 1"},{"$f":"IF(COUNTIF(Général!B178:K178,$G$1)=1,\"Course 1\",IF(COUNTIF(Général!B180:K180,$G$1)=1,\"Course 2\",IF(COUNTIF(Général!B182:K182,$G$1)=1,\"Course 3\",\"Course 4\")))","v":"Course 1"},{"$f":"IF(COUNTIF(Général!B188:K188,$G$1)=1,\"Course 1\",IF(COUNTIF(Général!B190:K190,$G$1)=1,\"Course 2\",IF(COUNTIF(Général!B192:K192,$G$1)=1,\"Course 3\",\"Course 4\")))","v":"Course 3"},{"$f":"IF(COUNTIF(Général!B198:K198,$G$1)=1,\"Course 1\",IF(COUNTIF(Général!B200:K200,$G$1)=1,\"Course 2\",IF(COUNTIF(Général!B202:K202,$G$1)=1,\"Course 3\",\"Course 4\")))","v":"Course 3"},{"$f":"IF(COUNTIF(Général!B208:K208,$G$1)=1,\"Course 1\",IF(COUNTIF(Général!B210:K210,$G$1)=1,\"Course 2\",IF(COUNTIF(Général!B212:K212,$G$1)=1,\"Course 3\",\"Course 4\")))","v":"Course 2"},null,{"$f":"Général!B7","v":"Paris Cité"},4]
["Bateau",null,{"$f":"IF(COUNTIF(Général!B38:B44,$G$1)=1,\"Boat 1\",IF(COUNTIF(Général!C38:C44,$G$1)=1,\"Boat 2\",IF(COUNTIF(Général!D38:D44,$G$1)=1,\"Boat 3\", IF(COUNTIF(Général!E38:E44,$G$1)=1,\"Boat 4\", IF(COUNTIF(Général!F38:F44,$G$1)=1,\"Boat 5\", IF(COUNTIF(Général!G38:G44,$G$1)=1,\"Boat 6\", IF(COUNTIF(Général!H38:H44,$G$1)=1,\"Boat 7\",IF(COUNTIF(Général!I38:I44,$G$1)=1,\"Boat 8\",\"Boat 9\"))))))))","v":"Boat 7"},{"$f":"IF(COUNTIF(Général!B48:B54,$G$1)=1,\"Boat 1\",IF(COUNTIF(Général!C48:C54,$G$1)=1,\"Boat 2\",IF(COUNTIF(Général!D48:D54,$G$1)=1,\"Boat 3\", IF(COUNTIF(Général!E48:E54,$G$1)=1,\"Boat 4\", IF(COUNTIF(Général!F48:F54,$G$1)=1,\"Boat 5\", IF(COUNTIF(Général!G48:G54,$G$1)=1,\"Boat 6\", IF(COUNTIF(Général!H48:H54,$G$1)=1,\"Boat 7\",IF(COUNTIF(Général!I38:I44,$G$1)=1,\"Boat 8\",\"Boat 9\"))))))))","v":"Boat 7"},{"$f":"IF(COUNTIF(Général!B58:B64,$G$1)=1,\"Boat 1\",IF(COUNTIF(Général!C58:C64,$G$1)=1,\"Boat 2\",IF(COUNTIF(Général!D58:D64,$G$1)=1,\"Boat 3\", IF(COUNTIF(Général!E58:E64,$G$1)=1,\"Boat 4\", IF(COUNTIF(Général!F58:F64,$G$1)=1,\"Boat 5\", IF(COUNTIF(Général!G58:G64,$G$1)=1,\"Boat 6\", IF(COUNTIF(Général!H58:H64,$G$1)=1,\"Boat 7\",IF(COUNTIF(Général!I38:I44,$G$1)=1,\"Boat 8\",\"Boat 9\"))))))))","v":"Boat 5"},{"$f":"IF(COUNTIF(Général!B68:B74,$G$1)=1,\"Boat 1\",IF(COUNTIF(Général!C68:C74,$G$1)=1,\"Boat 2\",IF(COUNTIF(Général!D68:D74,$G$1)=1,\"Boat 3\", IF(COUNTIF(Général!E68:E74,$G$1)=1,\"Boat 4\", IF(COUNTIF(Général!F68:F74,$G$1)=1,\"Boat 5\", IF(COUNTIF(Général!G68:G74,$G$1)=1,\"Boat 6\", IF(COUNTIF(Général!H68:H74,$G$1)=1,\"Boat 7\",IF(COUNTIF(Général!I38:I44,$G$1)=1,\"Boat 8\",\"Boat 9\"))))))))","v":"Boat 4"},{"$f":"IF(COUNTIF(Général!B78:B84,$G$1)=1,\"Boat 1\",IF(COUNTIF(Général!C78:C84,$G$1)=1,\"Boat 2\",IF(COUNTIF(Général!D78:D84,$G$1)=1,\"Boat 3\", IF(COUNTIF(Général!E78:E84,$G$1)=1,\"Boat 4\", IF(COUNTIF(Général!F78:F84,$G$1)=1,\"Boat 5\", IF(COUNTIF(Général!G78:G84,$G$1)=1,\"Boat 6\", IF(COUNTIF(Général!H78:H84,$G$1)=1,\"Boat 7\",IF(COUNTIF(Général!I38:I44,$G$1)=1,\"Boat 8\",\"Boat 9\"))))))))","v":"Boat 7"},{"$f":"IF(COUNTIF(Général!B88:B94,$G$1)=1,\"Boat 1\",IF(COUNTIF(Général!C88:C94,$G$1)=1,\"Boat 2\",IF(COUNTIF(Général!D88:D94,$G$1)=1,\"Boat 3\", IF(COUNTIF(Général!E88:E94,$G$1)=1,\"Boat 4\", IF(COUNTIF(Général!F88:F94,$G$1)=1,\"Boat 5\", IF(COUNTIF(Général!G88:G94,$G$1)=1,\"Boat 6\", IF(COUNTIF(Général!H88:H94,$G$1)=1,\"Boat 7\",IF(COUNTIF(Général!I38:I44,$G$1)=1,\"Boat 8\",\"Boat 9\"))))))))","v":"Boat 1"},{"$f":"IF(COUNTIF(Général!B98:B104,$G$1)=1,\"Boat 1\",IF(COUNTIF(Général!C98:C104,$G$1)=1,\"Boat 2\",IF(COUNTIF(Général!D98:D104,$G$1)=1,\"Boat 3\", IF(COUNTIF(Général!E98:E104,$G$1)=1,\"Boat 4\", IF(COUNTIF(Général!F98:F104,$G$1)=1,\"Boat 5\", IF(COUNTIF(Général!G98:G104,$G$1)=1,\"Boat 6\", IF(COUNTIF(Général!H98:H104,$G$1)=1,\"Boat 7\",IF(COUNTIF(Général!I38:I44,$G$1)=1,\"Boat 8\",\"Boat 9\"))))))))","v":"Boat 6"},{"$f":"IF(COUNTIF(Général!B108:B114,$G$1)=1,\"Boat 1\",IF(COUNTIF(Général!C108:C114,$G$1)=1,\"Boat 2\",IF(COUNTIF(Général!D108:D114,$G$1)=1,\"Boat 3\", IF(COUNTIF(Général!E108:E114,$G$1)=1,\"Boat 4\", IF(COUNTIF(Général!F108:F114,$G$1)=1,\"Boat 5\", IF(COUNTIF(Général!G108:G114,$G$1)=1,\"Boat 6\", IF(COUNTIF(Général!H108:H114,$G$1)=1,\"Boat 7\",IF(COUNTIF(Général!I38:I44,$G$1)=1,\"Boat 8\",\"Boat 9\"))))))))","v":"Boat 4"},{"$f":"IF(COUNTIF(Général!B118:B124,$G$1)=1,\"Boat 1\",IF(COUNTIF(Général!C118:C124,$G$1)=1,\"Boat 2\",IF(COUNTIF(Général!D118:D124,$G$1)=1,\"Boat 3\", IF(COUNTIF(Général!E118:E124,$G$1)=1,\"Boat 4\", IF(COUNTIF(Général!F118:F124,$G$1)=1,\"Boat 5\", IF(COUNTIF(Général!G118:G124,$G$1)=1,\"Boat 6\", IF(COUNTIF(Général!H118:H124,$G$1)=1,\"Boat 7\",IF(COUNTIF(Général!I38:I44,$G$1)=1,\"Boat 8\",\"Boat 9\"))))))))","v":"Boat 9"},{"$f":"IF(COUNTIF(Général!B128:B134,$G$1)=1,\"Boat 1\",IF(COUNTIF(Général!C128:C134,$G$1)=1,\"Boat 2\",IF(COUNTIF(Général!D128:D134,$G$1)=1,\"Boat 3\", IF(COUNTIF(Général!E128:E134,$G$1)=1,\"Boat 4\", IF(COUNTIF(Général!F128:F134,$G$1)=1,\"Boat 5\", IF(COUNTIF(Général!G128:G134,$G$1)=1,\"Boat 6\", IF(COUNTIF(Général!H128:H134,$G$1)=1,\"Boat 7\",IF(COUNTIF(Général!I38:I44,$G$1)=1,\"Boat 8\",\"Boat 9\"))))))))","v":"Boat 5"},{"$f":"IF(COUNTIF(Général!B138:B144,$G$1)=1,\"Boat 1\",IF(COUNTIF(Général!C138:C144,$G$1)=1,\"Boat 2\",IF(COUNTIF(Général!C138:D144,$G$1)=1,\"Boat 3\", IF(COUNTIF(Général!C138:E144,$G$1)=1,\"Boat 4\", IF(COUNTIF(Général!F138:F144,$G$1)=1,\"Boat 5\", IF(COUNTIF(Général!G138:G144,$G$1)=1,\"Boat 6\", IF(COUNTIF(Général!H138:H144,$G$1)=1,\"Boat 7\",IF(COUNTIF(Général!I38:I44,$G$1)=1,\"Boat 8\",\"Boat 9\"))))))))","v":"Boat 7"},{"$f":"IF(COUNTIF(Général!B148:B154,$G$1)=1,\"Boat 1\",IF(COUNTIF(Général!C148:C154,$G$1)=1,\"Boat 2\",IF(COUNTIF(Général!D148:D154,$G$1)=1,\"Boat 3\", IF(COUNTIF(Général!E148:E154,$G$1)=1,\"Boat 4\", IF(COUNTIF(Général!F148:F154,$G$1)=1,\"Boat 5\", IF(COUNTIF(Général!G148:G154,$G$1)=1,\"Boat 6\", IF(COUNTIF(Général!H148:H154,$G$1)=1,\"Boat 7\",IF(COUNTIF(Général!I38:I44,$G$1)=1,\"Boat 8\",\"Boat 9\"))))))))","v":"Boat 6"},{"$f":"IF(COUNTIF(Général!B158:B164,$G$1)=1,\"Boat 1\",IF(COUNTIF(Général!C158:C164,$G$1)=1,\"Boat 2\",IF(COUNTIF(Général!D160:D164,$G$1)=1,\"Boat 3\", IF(COUNTIF(Général!E158:E164,$G$1)=1,\"Boat 4\", IF(COUNTIF(Général!F158:F164,$G$1)=1,\"Boat 5\", IF(COUNTIF(Général!G158:G164,$G$1)=1,\"Boat 6\", IF(COUNTIF(Général!H158:H164,$G$1)=1,\"Boat 7\",IF(COUNTIF(Général!I38:I44,$G$1)=1,\"Boat 8\",\"Boat 9\"))))))))","v":"Boat 4"},{"$f":"IF(COUNTIF(Général!B168:B174,$G$1)=1,\"Boat 1\",IF(COUNTIF(Général!C168:C174,$G$1)=1,\"Boat 2\",IF(COUNTIF(Général!D168:D174,$G$1)=1,\"Boat 3\", IF(COUNTIF(Général!E168:E174,$G$1)=1,\"Boat 4\", IF(COUNTIF(Général!F178:F184,$G$1)=1,\"Boat 5\", IF(COUNTIF(Général!G178:G184,$G$1)=1,\"Boat 6\", IF(COUNTIF(Général!H178:H184,$G$1)=1,\"Boat 7\",IF(COUNTIF(Général!I38:I44,$G$1)=1,\"Boat 8\",\"Boat 9\"))))))))","v":"Boat 4"},{"$f":"IF(COUNTIF(Général!B178:B184,$G$1)=1,\"Boat 1\",IF(COUNTIF(Général!C178:C184,$G$1)=1,\"Boat 2\",IF(COUNTIF(Général!D178:D184,$G$1)=1,\"Boat 3\", IF(COUNTIF(Général!E178:E184,$G$1)=1,\"Boat 4\", IF(COUNTIF(Général!F178:F184,$G$1)=1,\"Boat 5\", IF(COUNTIF(Général!G178:G184,$G$1)=1,\"Boat 6\", IF(COUNTIF(Général!H178:H184,$G$1)=1,\"Boat 7\",IF(COUNTIF(Général!I38:I44,$G$1)=1,\"Boat 8\",\"Boat 9\"))))))))","v":"Boat 3"},{"$f":"IF(COUNTIF(Général!B188:B194,$G$1)=1,\"Boat 1\",IF(COUNTIF(Général!C188:C194,$G$1)=1,\"Boat 2\",IF(COUNTIF(Général!D188:D194,$G$1)=1,\"Boat 3\", IF(COUNTIF(Général!E188:E194,$G$1)=1,\"Boat 4\", IF(COUNTIF(Général!F188:F194,$G$1)=1,\"Boat 5\", IF(COUNTIF(Général!G188:G194,$G$1)=1,\"Boat 6\", IF(COUNTIF(Général!H188:H194,$G$1)=1,\"Boat 7\",IF(COUNTIF(Général!I38:I44,$G$1)=1,\"Boat 8\",\"Boat 9\"))))))))","v":"Boat 4"},{"$f":"IF(COUNTIF(Général!B198:B204,$G$1)=1,\"Boat 1\",IF(COUNTIF(Général!C198:C204,$G$1)=1,\"Boat 2\",IF(COUNTIF(Général!D198:D204,$G$1)=1,\"Boat 3\", IF(COUNTIF(Général!E198:E204,$G$1)=1,\"Boat 4\", IF(COUNTIF(Général!F198:F204,$G$1)=1,\"Boat 5\", IF(COUNTIF(Général!G198:G204,$G$1)=1,\"Boat 6\", IF(COUNTIF(Général!H198:H204,$G$1)=1,\"Boat 7\",IF(COUNTIF(Général!I38:I44,$G$1)=1,\"Boat 8\",\"Boat 9\"))))))))","v":"Boat 9"},{"$f":"IF(COUNTIF(Général!B208:B214,$G$1)=1,\"Boat 1\",IF(COUNTIF(Général!C208:C214,$G$1)=1,\"Boat 2\",IF(COUNTIF(Général!D208:D214,$G$1)=1,\"Boat 3\", IF(COUNTIF(Général!E208:E214,$G$1)=1,\"Boat 4\", IF(COUNTIF(Général!F208:F214,$G$1)=1,\"Boat 5\", IF(COUNTIF(Général!G208:G214,$G$1)=1,\"Boat 6\", IF(COUNTIF(Général!H208:H214,$G$1)=1,\"Boat 7\",IF(COUNTIF(Général!I38:I44,$G$1)=1,\"Boat 8\",\"Boat 9\"))))))))","v":"Boat 7"},null,{"$f":"Général!B8","v":"Plymouth"},6]
[null,null,null,null,null,null,null,null,null,null,null,null,null,null,null,null,null,null,null,null,null,{"$f":"Général!B9","v":"Unicaen 2"},5]
["1er Equipage",null,{"$f":"IF($C$5=\"Course 1\",Général!B38,IF($C$5=\"Course 2\",Général!B40,IF($C$5=\"Course 3\",Général!B42,Général!B44)))","v":"La Rochelle 1"},{"$f":"IF($D$5=\"Course 1\",Général!B48,IF($D$5=\"Course 2\",Général!B50,IF($D$5=\"Course 3\",Général!B52,Général!B54)))","v":"ENSTA 1"},{"$f":"IF($E$5=\"Course 1\",Général!B58,IF($E$5=\"Course 2\",Général!B60,IF($E$5=\"Course 3\",Général!B62,Général!B64)))","v":"Orléans"},{"$f":"IF($F$5=\"Course 1\",Général!B$68,IF($F$5=\"Course 2\",Général!B$70,IF($F$5=\"Course 3\",Général!B$72,Général!B$74)))","v":"Univ Nantes 3"},{"$f":"IF($G$5=\"Course 1\",Général!B$78,IF($G$5=\"Course 2\",Général!B$80,IF($G$5=\"Course 3\",Général!B$82,Général!B$84)))","v":"ENSTA 2"},{"$f":"IF($H$5=\"Course 1\",Général!B$88,IF($H$5=\"Course 2\",Général!B$90,IF($H$5=\"Course 3\",Général!B$92,Général!B$94)))","v":"Univ Nantes 2"},{"$f":"IF($I$5=\"Course 1\",Général!B$98,IF($I$5=\"Course 2\",Général!B$100,IF($I$5=\"Course 3\",Général!B$102,Général!B$104)))","v":"Centrale Nantes 2"},{"$f":"IF($J$5=\"Course 1\",Général!B$108,IF($J$5=\"Course 2\",Général!B$110,IF($J$5=\"Course 3\",Général!B$112,Général!B$114)))","v":"Centrale Nantes 1"},{"$f":"IF($K$5=\"Course 1\",Général!B$118,IF($K$5=\"Course 2\",Général!B$120,IF($K$5=\"Course 3\",Général!B$122,Général!B$124)))","v":"UNIV Nantes 1"},{"$f":"IF($L$5=\"Course 1\",Général!B$128,IF($L$5=\"Course 2\",Général!B$130,IF($L$5=\"Course 3\",Général!B$132,Général!B$134)))","v":"UBO 2"},{"$f":"IF($M$5=\"Course 1\",Général!B$138,IF($M$5=\"Course 2\",Général!B$140,IF($M$5=\"Course 3\",Général!B$142,Général!B$144)))","v":"Plymouth"},{"$f":"IF($N$5=\"Course 1\",Général!B$148,IF($N$5=\"Course 2\",Général!B$150,IF($N$5=\"Course 3\",Général!B$152,Général!B$154)))","v":"UBS Lorient 2"},{"$f":"IF($O$5=\"Course 1\",Général!B$158,IF($O$5=\"Course 2\",Général!B$160,IF($O$5=\"Course 3\",Général!B$162,Général!B$164)))","v":"St Brieuc 1"},{"$f":"IF($P$5=\"Course 1\",Général!B$168,IF($P$5=\"Course 2\",Général!B$170,IF($P$5=\"Course 3\",Général!B$172,Général!B$174)))","v":"St Brieuc 1"},{"$f":"IF($Q$5=\"Course 1\",Général!B$178,IF($Q$5=\"Course 2\",Général!B$180,IF($Q$5=\"Course 3\",Général!B$182,Général!B$184)))","v":"Plymouth"},{"$f":"IF($R$5=\"Course 1\",Général!B$188,IF($R$5=\"Course 2\",Général!B$190,IF($R$5=\"Course 3\",Général!B$192,Général!B$194)))","v":"ENSTA 1"},{"$f":"IF($S$5=\"Course 1\",Général!B$198,IF($S$5=\"Course 2\",Général!B$200,IF($S$5=\"Course 3\",Général!B$202,Général!B$204)))","v":"UBS Lorient 2"},{"$f":"IF($T$5=\"Course 1\",Général!B$208,IF($T$5=\"Course 2\",Général!B$210,IF($T$5=\"Course 3\",Général!B$212,Général!B$214)))","v":"UBO 1"},null,{"$f":"Général!B10","v":"Univ Nantes 2"},17]
["2nd Equipage",null,{"$f":"IF($C$5=\"Course 1\",Général!C38,IF($C$5=\"Course 2\",Général!C40,IF($C$5=\"Course 3\",Général!C42,Général!C44)))","v":"UBS Lorient 1"},{"$f":"IF($D$5=\"Course 1\",Général!C48,IF($D$5=\"Course 2\",Général!C50,IF($D$5=\"Course 3\",Général!C52,Général!C54)))","v":"UBS Lorient 1"},{"$f":"IF($E$5=\"Course 1\",Général!C58,IF($E$5=\"Course 2\",Général!C60,IF($E$5=\"Course 3\",Général!C62,Général!C64)))","v":"UBS Lorient 2"},{"$f":"IF($F$5=\"Course 1\",Général!C$68,IF($F$5=\"Course 2\",Général!C$70,IF($F$5=\"Course 3\",Général!C$72,Général!C$74)))","v":"Paris Cité"},{"$f":"IF($G$5=\"Course 1\",Général!C$78,IF($G$5=\"Course 2\",Général!C$80,IF($G$5=\"Course 3\",Général!C$82,Général!C$84)))","v":"IMT Brest 2"},{"$f":"IF($H$5=\"Course 1\",Général!C$88,IF($H$5=\"Course 2\",Général!C$90,IF($H$5=\"Course 3\",Général!C$92,Général!C$94)))","v":"La Rochelle 2"},{"$f":"IF($I$5=\"Course 1\",Général!C$98,IF($I$5=\"Course 2\",Général!C$100,IF($I$5=\"Course 3\",Général!C$102,Général!C$104)))","v":"Intechmer"},{"$f":"IF($J$5=\"Course 1\",Général!C$108,IF($J$5=\"Course 2\",Général!C$110,IF($J$5=\"Course 3\",Général!C$112,Général!C$114)))","v":"ENSMAC"},{"$f":"IF($K$5=\"Course 1\",Général!C$118,IF($K$5=\"Course 2\",Général!C$120,IF($K$5=\"Course 3\",Général!C$122,Général!C$124)))","v":"UBS Lorient 1"},{"$f":"IF($L$5=\"Course 1\",Général!C$128,IF($L$5=\"Course 2\",Général!C$130,IF($L$5=\"Course 3\",Général!C$132,Général!C$134)))","v":"Univ Nantes 3"},{"$f":"IF($M$5=\"Course 1\",Général!C$138,IF($M$5=\"Course 2\",Général!C$140,IF($M$5=\"Course 3\",Général!C$142,Général!C$144)))","v":"Karlsruhe"},{"$f":"IF($N$5=\"Course 1\",Général!C$148,IF($N$5=\"Course 2\",Général!C$150,IF($N$5=\"Course 3\",Général!C$152,Général!C$154)))","v":"UBO 1"},{"$f":"IF($O$5=\"Course 1\",Général!C$158,IF($O$5=\"Course 2\",Général!C$160,IF($O$5=\"Course 3\",Général!C$162,Général!C$164)))","v":"Karlsruhe"},{"$f":"IF($P$5=\"Course 1\",Général!C$168,IF($P$5=\"Course 2\",Général!C$170,IF($P$5=\"Course 3\",Général!C$172,Général!C$174)))","v":"Paris Sorbone"},{"$f":"IF($Q$5=\"Course 1\",Général!C$178,IF($Q$5=\"Course 2\",Général!C$180,IF($Q$5=\"Course 3\",Général!C$182,Général!C$184)))","v":"UNIV Nantes 1"},{"$f":"IF($R$5=\"Course 1\",Général!C$188,IF($R$5=\"Course 2\",Général!C$190,IF($R$5=\"Course 3\",Général!C$192,Général!C$194)))","v":"INSA Lyon"},{"$f":"IF($S$5=\"Course 1\",Général!C$198,IF($S$5=\"Course 2\",Général!C$200,IF($S$5=\"Course 3\",Général!C$202,Général!C$204)))","v":"Paris Sorbone"},{"$f":"IF($T$5=\"Course 1\",Général!C$208,IF($T$5=\"Course 2\",Général!C$210,IF($T$5=\"Course 3\",Général!C$212,Général!C$214)))","v":"Paris Sorbone"},null,{"$f":"Général!B11","v":"Karlsruhe"},5]
["3ème Equipage",null,{"$f":"IF($C$5=\"Course 1\",Général!D38,IF($C$5=\"Course 2\",Général!D40,IF($C$5=\"Course 3\",Général!D42,Général!D44)))","v":"UBO 1"},{"$f":"IF($D$5=\"Course 1\",Général!D48,IF($D$5=\"Course 2\",Général!D50,IF($D$5=\"Course 3\",Général!D52,Général!D54)))","v":"Paris Sorbone"},{"$f":"IF($E$5=\"Course 1\",Général!D58,IF($E$5=\"Course 2\",Général!D60,IF($E$5=\"Course 3\",Général!D62,Général!D64)))","v":"IMT Brest 2"},{"$f":"IF($F$5=\"Course 1\",Général!D$68,IF($F$5=\"Course 2\",Général!D$70,IF($F$5=\"Course 3\",Général!D$72,Général!D$74)))","v":"Unicaen 2"},{"$f":"IF($G$5=\"Course 1\",Général!D$78,IF($G$5=\"Course 2\",Général!D$80,IF($G$5=\"Course 3\",Général!D$82,Général!D$84)))","v":"Unicaen 1"},{"$f":"IF($H$5=\"Course 1\",Général!D$88,IF($H$5=\"Course 2\",Général!D$90,IF($H$5=\"Course 3\",Général!D$92,Général!D$94)))","v":"UNIV Nantes 1"},{"$f":"IF($I$5=\"Course 1\",Général!D$98,IF($I$5=\"Course 2\",Général!D$100,IF($I$5=\"Course 3\",Général!D$102,Général!D$104)))","v":"UBS Lorient 2"},{"$f":"IF($J$5=\"Course 1\",Général!D$108,IF($J$5=\"Course 2\",Général!D$110,IF($J$5=\"Course 3\",Général!D$112,Général!D$114)))","v":"INSA Lyon"},{"$f":"IF($K$5=\"Course 1\",Général!D$118,IF($K$5=\"Course 2\",Général!D$120,IF($K$5=\"Course 3\",Général!D$122,Général!D$124)))","v":"ENSMAC"},{"$f":"IF($L$5=\"Course 1\",Général!D$128,IF($L$5=\"Course 2\",Général!D$130,IF($L$5=\"Course 3\",Général!D$132,Général!D$134)))","v":"Orléans"},{"$f":"IF($M$5=\"Course 1\",Général!D$138,IF($M$5=\"Course 2\",Général!D$140,IF($M$5=\"Course 3\",Général!D$142,Général!D$144)))","v":"Paris Sorbone"},{"$f":"IF($N$5=\"Course 1\",Général!D$148,IF($N$5=\"Course 2\",Général!D$150,IF($N$5=\"Course 3\",Général!D$152,Général!D$154)))","v":"Centrale Nantes 2"},{"$f":"IF($O$5=\"Course 1\",Général!D$158,IF($O$5=\"Course 2\",Général!D$160,IF($O$5=\"Course 3\",Général!D$162,Général!D$164)))","v":"ENSTA 1"},{"$f":"IF($P$5=\"Course 1\",Général!D$168,IF($P$5=\"Course 2\",Général!D$170,IF($P$5=\"Course 3\",Général!D$172,Général!D$174)))","v":"ENSTA 1"},{"$f":"IF($Q$5=\"Course 1\",Général!D$178,IF($Q$5=\"Course 2\",Général!D$180,IF($Q$5=\"Course 3\",Général!D$182,Général!D$184)))","v":"Univ Nantes 2"},{"$f":"IF($R$5=\"Course 1\",Général!D$188,IF($R$5=\"Course 2\",Général!D$190,IF($R$5=\"Course 3\",Général!D$192,Général!D$194)))","v":"Intechmer"},{"$f":"IF($S$5=\"Course 1\",Général!D$198,IF($S$5=\"Course 2\",Général!D$200,IF($S$5=\"Course 3\",Général!D$202,Général!D$204)))","v":"IMT Brest 2"},{"$f":"IF($T$5=\"Course 1\",Général!D$208,IF($T$5=\"Course 2\",Général!D$210,IF($T$5=\"Course 3\",Général!D$212,Général!D$214)))","v":"ENSMAC"},null,{"$f":"Général!B12","v":"IMT Brest 2"},4]
["4ème Equipage",null,{"$f":"IF($C$5=\"Course 1\",Général!E38,IF($C$5=\"Course 2\",Général!E40,IF($C$5=\"Course 3\",Général!E42,Général!E44)))","v":"Southampton"},{"$f":"IF($D$5=\"Course 1\",Général!E48,IF($D$5=\"Course 2\",Général!E50,IF($D$5=\"Course 3\",Général!E52,Général!E54)))","v":"IMT Nantes"},{"$f":"IF($E$5=\"Course 1\",Général!E58,IF($E$5=\"Course 2\",Général!E60,IF($E$5=\"Course 3\",Général!E62,Général!E64)))","v":"Paris Sorbone"},{"$f":"IF($F$5=\"Course 1\",Général!E$68,IF($F$5=\"Course 2\",Général!E$70,IF($F$5=\"Course 3\",Général!E$72,Général!E$74)))","v":"Univ Nantes 2"},{"$f":"IF($G$5=\"Course 1\",Général!E$78,IF($G$5=\"Course 2\",Général!E$80,IF($G$5=\"Course 3\",Général!E$82,Général!E$84)))","v":"La Rochelle 1"},{"$f":"IF($H$5=\"Course 1\",Général!E$88,IF($H$5=\"Course 2\",Général!E$90,IF($H$5=\"Course 3\",Général!E$92,Général!E$94)))","v":"Karlsruhe"},{"$f":"IF($I$5=\"Course 1\",Général!E$98,IF($I$5=\"Course 2\",Général!E$100,IF($I$5=\"Course 3\",Général!E$102,Général!E$104)))","v":"UNIV Nantes 1"},{"$f":"IF($J$5=\"Course 1\",Général!E$108,IF($J$5=\"Course 2\",Général!E$110,IF($J$5=\"Course 3\",Général!E$112,Général!E$114)))","v":"Univ Nantes 2"},{"$f":"IF($K$5=\"Course 1\",Général!E$118,IF($K$5=\"Course 2\",Général!E$120,IF($K$5=\"Course 3\",Général!E$122,Général!E$124)))","v":"UBS Lorient 2"},{"$f":"IF($L$5=\"Course 1\",Général!E$128,IF($L$5=\"Course 2\",Général!E$130,IF($L$5=\"Course 3\",Général!E$132,Général!E$134)))","v":"IMT Brest 1"},{"$f":"IF($M$5=\"Course 1\",Général!E$138,IF($M$5=\"Course 2\",Général!E$140,IF($M$5=\"Course 3\",Général!E$142,Général!E$144)))","v":"UBO 2"},{"$f":"IF($N$5=\"Course 1\",Général!E$148,IF($N$5=\"Course 2\",Général!E$150,IF($N$5=\"Course 3\",Général!E$152,Général!E$154)))","v":"UBS Lorient 1"},{"$f":"IF($O$5=\"Course 1\",Général!E$158,IF($O$5=\"Course 2\",Général!E$160,IF($O$5=\"Course 3\",Général!E$162,Général!E$164)))","v":"Univ Nantes 2"},{"$f":"IF($P$5=\"Course 1\",Général!E$168,IF($P$5=\"Course 2\",Général!E$170,IF($P$5=\"Course 3\",Général!E$172,Général!E$174)))","v":"Univ Nantes 2"},{"$f":"IF($Q$5=\"Course 1\",Général!E$178,IF($Q$5=\"Course 2\",Général!E$180,IF($Q$5=\"Course 3\",Général!E$182,Général!E$184)))","v":"UBO 1"},{"$f":"IF($R$5=\"Course 1\",Général!E$188,IF($R$5=\"Course 2\",Général!E$190,IF($R$5=\"Course 3\",Général!E$192,Général!E$194)))","v":"Univ Nantes 2"},{"$f":"IF($S$5=\"Course 1\",Général!E$198,IF($S$5=\"Course 2\",Général!E$200,IF($S$5=\"Course 3\",Général!E$202,Général!E$204)))","v":"Centrale Nantes 2"},{"$f":"IF($T$5=\"Course 1\",Général!E$208,IF($T$5=\"Course 2\",Général!E$210,IF($T$5=\"Course 3\",Général!E$212,Général!E$214)))","v":"Univ Nantes 3"},null,{"$f":"Général!B13","v":"Unicaen 1"},6]
["5ème Equipage",null,{"$f":"IF($C$5=\"Course 1\",Général!F38,IF($C$5=\"Course 2\",Général!F40,IF($C$5=\"Course 3\",Général!F42,Général!F44)))","v":"ENSTA 2"},{"$f":"IF($D$5=\"Course 1\",Général!F48,IF($D$5=\"Course 2\",Général!F50,IF($D$5=\"Course 3\",Général!F52,Général!F54)))","v":"Hannover"},{"$f":"IF($E$5=\"Course 1\",Général!F58,IF($E$5=\"Course 2\",Général!F60,IF($E$5=\"Course 3\",Général!F62,Général!F64)))","v":"Univ Nantes 2"},{"$f":"IF($F$5=\"Course 1\",Général!F$68,IF($F$5=\"Course 2\",Général!F$70,IF($F$5=\"Course 3\",Général!F$72,Général!F$74)))","v":"La Rochelle 2"},{"$f":"IF($G$5=\"Course 1\",Général!F$78,IF($G$5=\"Course 2\",Général!F$80,IF($G$5=\"Course 3\",Général!F$82,Général!F$84)))","v":"Orléans"},{"$f":"IF($H$5=\"Course 1\",Général!F$88,IF($H$5=\"Course 2\",Général!F$90,IF($H$5=\"Course 3\",Général!F$92,Général!F$94)))","v":"Plymouth"},{"$f":"IF($I$5=\"Course 1\",Général!F$98,IF($I$5=\"Course 2\",Général!F$100,IF($I$5=\"Course 3\",Général!F$102,Général!F$104)))","v":"IMT Brest 1"},{"$f":"IF($J$5=\"Course 1\",Général!F$108,IF($J$5=\"Course 2\",Général!F$110,IF($J$5=\"Course 3\",Général!F$112,Général!F$114)))","v":"IMT Nantes"},{"$f":"IF($K$5=\"Course 1\",Général!F$118,IF($K$5=\"Course 2\",Général!F$120,IF($K$5=\"Course 3\",Général!F$122,Général!F$124)))","v":"Centrale Nantes 1"},{"$f":"IF($L$5=\"Course 1\",Général!F$128,IF($L$5=\"Course 2\",Général!$F130,IF($L$5=\"Course 3\",Général!F$132,Général!F$134)))","v":"Univ Nantes 2"},{"$f":"IF($M$5=\"Course 1\",Général!F$138,IF($M$5=\"Course 2\",Général!F$140,IF($M$5=\"Course 3\",Général!F$142,Général!F$144)))","v":"ENSTA 2"},{"$f":"IF($N$5=\"Course 1\",Général!F$148,IF($N$5=\"Course 2\",Général!F$150,IF($N$5=\"Course 3\",Général!F$152,Général!F$154)))","v":"ST Brieuc 2"},{"$f":"IF($O$5=\"Course 1\",Général!F$158,IF($O$5=\"Course 2\",Général!F$160,IF($O$5=\"Course 3\",Général!F$162,Général!F$164)))","v":"UNIV Nantes 1"},{"$f":"IF($P$5=\"Course 1\",Général!F$168,IF($P$5=\"Course 2\",Général!F$170,IF($P$5=\"Course 3\",Général!F$172,Général!F$174)))","v":"Unicaen 1"},{"$f":"IF($Q$5=\"Course 1\",Général!F$178,IF($Q$5=\"Course 2\",Général!F$180,IF($Q$5=\"Course 3\",Général!F$182,Général!F$184)))","v":"INSA Lyon"},{"$f":"IF($R$5=\"Course 1\",Général!F$188,IF($R$5=\"Course 2\",Général!F$190,IF($R$5=\"Course 3\",Général!F$192,Général!F$194)))","v":"ENSTA 2"},{"$f":"IF($S$5=\"Course 1\",Général!F$198,IF($S$5=\"Course 2\",Général!F$200,IF($S$5=\"Course 3\",Général!F$202,Général!F$204)))","v":"Centrale Nantes 1"},{"$f":"IF($T$5=\"Course 1\",Général!F$208,IF($T$5=\"Course 2\",Général!F$210,IF($T$5=\"Course 3\",Général!F$212,Général!F$214)))","v":"UBS Lorient 1"},null,{"$f":"Général!B14","v":"ENSTA 1"},4]
["6ème Equipage",null,{"$f":"IF($C$5=\"Course 1\",Général!G38,IF($C$5=\"Course 2\",Général!G40,IF($C$5=\"Course 3\",Général!G42,Général!G44)))","v":"Plymouth"},{"$f":"IF($D$5=\"Course 1\",Général!G48,IF($D$5=\"Course 2\",Général!G50,IF($D$5=\"Course 3\",Général!G52,Général!G54)))","v":"Plymouth"},{"$f":"IF($E$5=\"Course 1\",Général!G58,IF($E$5=\"Course 2\",Général!G60,IF($E$5=\"Course 3\",Général!G62,Général!G64)))","v":"La Rochelle 2"},{"$f":"IF($F$5=\"Course 1\",Général!G$68,IF($F$5=\"Course 2\",Général!G$70,IF($F$5=\"Course 3\",Général!G$72,Général!G$74)))","v":"ENSTA 2"},{"$f":"IF($G$5=\"Course 1\",Général!G$78,IF($G$5=\"Course 2\",Général!G$80,IF($G$5=\"Course 3\",Général!G$82,Général!G$84)))","v":"Paris Cité"},{"$f":"IF($H$5=\"Course 1\",Général!G$88,IF($H$5=\"Course 2\",Général!G$90,IF($H$5=\"Course 3\",Général!G$92,Général!G$94)))","v":"ENSMAC"},{"$f":"IF($I$5=\"Course 1\",Général!G$98,IF($I$5=\"Course 2\",Général!G$100,IF($I$5=\"Course 3\",Général!G$102,Général!G$104)))","v":"Univ Nantes 2"},{"$f":"IF($J$5=\"Course 1\",Général!G$108,IF($J$5=\"Course 2\",Général!G$110,IF($J$5=\"Course 3\",Général!G$112,Général!G$114)))","v":"Karlsruhe"},{"$f":"IF($K$5=\"Course 1\",Général!G$118,IF($K$5=\"Course 2\",Général!G$120,IF($K$5=\"Course 3\",Général!G$122,Général!G$124)))","v":"St Brieuc 1"},{"$f":"IF($L$5=\"Course 1\",Général!G$128,IF($L$5=\"Course 2\",Général!G$130,IF($L$5=\"Course 3\",Général!G$132,Général!G$134)))","v":"Unicaen 1"},{"$f":"IF($M$5=\"Course 1\",Général!G$138,IF($M$5=\"Course 2\",Général!G$140,IF($M$5=\"Course 3\",Général!G$142,Général!G$144)))","v":"Univ Nantes 3"},{"$f":"IF($N$5=\"Course 1\",Général!G$148,IF($N$5=\"Course 2\",Général!G$150,IF($N$5=\"Course 3\",Général!G$152,Général!G$154)))","v":"Univ Nantes 2"},{"$f":"IF($O$5=\"Course 1\",Général!G$158,IF($O$5=\"Course 2\",Général!G$160,IF($O$5=\"Course 3\",Général!G$162,Général!G$164)))","v":"Unicaen 2"},{"$f":"IF($P$5=\"Course 1\",Général!G$168,IF($P$5=\"Course 2\",Général!G$170,IF($P$5=\"Course 3\",Général!G$172,Général!G$174)))","v":"Paris Cité"},{"$f":"IF($Q$5=\"Course 1\",Général!G$178,IF($Q$5=\"Course 2\",Général!G$180,IF($Q$5=\"Course 3\",Général!G$182,Général!G$184)))","v":"UBS Lorient 2"},{"$f":"IF($R$5=\"Course 1\",Général!G$188,IF($R$5=\"Course 2\",Général!G$190,IF($R$5=\"Course 3\",Général!G$192,Général!G$194)))","v":"La Rochelle 2"},{"$f":"IF($S$5=\"Course 1\",Général!G$198,IF($S$5=\"Course 2\",Général!G$200,IF($S$5=\"Course 3\",Général!G$202,Général!G$204)))","v":"Orléans"},{"$f":"IF($T$5=\"Course 1\",Général!G$208,IF($T$5=\"Course 2\",Général!G$210,IF($T$5=\"Course 3\",Général!G$212,Général!G$214)))","v":"INSA Lyon"},null,{"$f":"Général!B15","v":"Orléans"},8]
["7ème Equipage",null,{"$f":"IF($C$5=\"Course 1\",Général!H38,IF($C$5=\"Course 2\",Général!H40,IF($C$5=\"Course 3\",Général!H42,Général!H44)))","v":"Univ Nantes 2"},{"$f":"IF($D$5=\"Course 1\",Général!H48,IF($D$5=\"Course 2\",Général!H50,IF($D$5=\"Course 3\",Général!H52,Général!H54)))","v":"Univ Nantes 2"},{"$f":"IF($E$5=\"Course 1\",Général!H58,IF($E$5=\"Course 2\",Général!H60,IF($E$5=\"Course 3\",Général!H62,Général!H64)))","v":"Intechmer"},{"$f":"IF($F$5=\"Course 1\",Général!H$68,IF($F$5=\"Course 2\",Général!H$70,IF($F$5=\"Course 3\",Général!H$72,Général!H$74)))","v":"UBS Lorient 2"},{"$f":"IF($G$5=\"Course 1\",Général!H$78,IF($G$5=\"Course 2\",Général!H$80,IF($G$5=\"Course 3\",Général!H$82,Général!H$84)))","v":"Univ Nantes 2"},{"$f":"IF($H$5=\"Course 1\",Général!H$88,IF($H$5=\"Course 2\",Général!H$90,IF($H$5=\"Course 3\",Général!H$92,Général!H$94)))","v":"Intechmer"},{"$f":"IF($I$5=\"Course 1\",Général!H$98,IF($I$5=\"Course 2\",Général!H$100,IF($I$5=\"Course 3\",Général!H$102,Général!H$104)))","v":"ST Brieuc 2"},{"$f":"IF($J$5=\"Course 1\",Général!H$108,IF($J$5=\"Course 2\",Général!H$110,IF($J$5=\"Course 3\",Général!H$112,Général!H$114)))","v":"Unicaen 2"},{"$f":"IF($K$5=\"Course 1\",Général!H$118,IF($K$5=\"Course 2\",Général!H$120,IF($K$5=\"Course 3\",Général!H$122,Général!H$124)))","v":"Orléans"},{"$f":"IF($L$5=\"Course 1\",Général!H$128,IF($L$5=\"Course 2\",Général!H$130,IF($L$5=\"Course 3\",Général!H$132,Général!H$134)))","v":"UBO 1"},{"$f":"IF($M$5=\"Course 1\",Général!H$138,IF($M$5=\"Course 2\",Général!H$140,IF($M$5=\"Course 3\",Général!H$142,Général!H$144)))","v":"Univ Nantes 2"},{"$f":"IF($N$5=\"Course 1\",Général!H$148,IF($N$5=\"Course 2\",Général!H$150,IF($N$5=\"Course 3\",Général!H$152,Général!H$154)))","v":"ENSMAC"},{"$f":"IF($O$5=\"Course 1\",Général!H$158,IF($O$5=\"Course 2\",Général!H$160,IF($O$5=\"Course 3\",Général!H$162,Général!H$164)))","v":"Univ Nantes 3"},{"$f":"IF($P$5=\"Course 1\",Général!H$168,IF($P$5=\"Course 2\",Général!H$170,IF($P$5=\"Course 3\",Général!H$172,Général!H$174)))","v":"Orléans"},{"$f":"IF($Q$5=\"Course 1\",Général!H$178,IF($Q$5=\"Course 2\",Général!H$180,IF($Q$5=\"Course 3\",Général!H$182,Général!H$184)))","v":"UBO 2"},{"$f":"IF($R$5=\"Course 1\",Général!H$188,IF($R$5=\"Course 2\",Général!H$190,IF($R$5=\"Course 3\",Général!H$192,Général!H$194)))","v":"UBO 2"},{"$f":"IF($S$5=\"Course 1\",Général!H$198,IF($S$5=\"Course 2\",Général!H$200,IF($S$5=\"Course 3\",Général!H$202,Général!H$204)))","v":"La Rochelle 1"},{"$f":"IF($T$5=\"Course 1\",Général!H$208,IF($T$5=\"Course 2\",Général!H$210,IF($T$5=\"Course 3\",Général!H$212,Général!H$214)))","v":"Univ Nantes 2"},null,{"$f":"Général!B16","v":"IMT Brest 1"},3]
["8ème Equipage",null,{"$f":"IF($C$5=\"Course 1\",Général!I38,IF($C$5=\"Course 2\",Général!I40,IF($C$5=\"Course 3\",Général!I42,Général!I44)))","v":"INSA Lyon"},{"$f":"IF($D$5=\"Course 1\",Général!I48,IF($D$5=\"Course 2\",Général!I50,IF($D$5=\"Course 3\",Général!I52,Général!I54)))","v":"Orléans"},{"$f":"IF($E$5=\"Course 1\",Général!I58,IF($E$5=\"Course 2\",Général!I60,IF($E$5=\"Course 3\",Général!I62,Général!I64)))","v":"Centrale Nantes 1"},{"$f":"IF($F$5=\"Course 1\",Général!I$68,IF($F$5=\"Course 2\",Général!I$70,IF($F$5=\"Course 3\",Général!I$72,Général!I$74)))","v":"INSA Lyon"},{"$f":"IF($G$5=\"Course 1\",Général!I$78,IF($G$5=\"Course 2\",Général!I$80,IF($G$5=\"Course 3\",Général!I$82,Général!I$84)))","v":"IMT Nantes"},{"$f":"IF($H$5=\"Course 1\",Général!I$88,IF($H$5=\"Course 2\",Général!I$90,IF($H$5=\"Course 3\",Général!I$92,Général!I$94)))","v":"Unicaen 1"},{"$f":"IF($I$5=\"Course 1\",Général!I$98,IF($I$5=\"Course 2\",Général!I$100,IF($I$5=\"Course 3\",Général!I$102,Général!I$104)))","v":"UBO 2"},{"$f":"IF($J$5=\"Course 1\",Général!I$108,IF($J$5=\"Course 2\",Général!I$110,IF($J$5=\"Course 3\",Général!I$112,Général!I$114)))","v":"Unicaen 1"},{"$f":"IF($K$5=\"Course 1\",Général!I$118,IF($K$5=\"Course 2\",Général!I$120,IF($K$5=\"Course 3\",Général!I$122,Général!I$124)))","v":"Univ Nantes 2"},{"$f":"IF($L$5=\"Course 1\",Général!I$128,IF($L$5=\"Course 2\",Général!I$130,IF($L$5=\"Course 3\",Général!I$132,Général!I$134)))","v":"Unicaen 2"},{"$f":"IF($M$5=\"Course 1\",Général!I$138,IF($M$5=\"Course 2\",Général!I$140,IF($M$5=\"Course 3\",Général!I$142,Général!I$144)))","v":"ST Brieuc 2"},{"$f":"IF($N$5=\"Course 1\",Général!I$148,IF($N$5=\"Course 2\",Général!I$150,IF($N$5=\"Course 3\",Général!I$152,Général!I$154)))","v":"Univ Nantes 3"},{"$f":"IF($O$5=\"Course 1\",Général!I$158,IF($O$5=\"Course 2\",Général!I$160,IF($O$5=\"Course 3\",Général!I$162,Général!I$164)))","v":"UBS Lorient 2"},{"$f":"IF($P$5=\"Course 1\",Général!I$168,IF($P$5=\"Course 2\",Général!I$170,IF($P$5=\"Course 3\",Général!I$172,Général!I$174)))","v":"La Rochelle 1"},{"$f":"IF($Q$5=\"Course 1\",Général!I$178,IF($Q$5=\"Course 2\",Général!I$180,IF($Q$5=\"Course 3\",Général!I$182,Général!I$184)))","v":"Southampton"},{"$f":"IF($R$5=\"Course 1\",Général!I$188,IF($R$5=\"Course 2\",Général!I$190,IF($R$5=\"Course 3\",Général!I$192,Général!I$194)))","v":"Plymouth"},{"$f":"IF($S$5=\"Course 1\",Général!I$198,IF($S$5=\"Course 2\",Général!I$200,IF($S$5=\"Course 3\",Général!I$202,Général!I$204)))","v":"UBO 2"},{"$f":"IF($T$5=\"Course 1\",Général!I$208,IF($T$5=\"Course 2\",Général!I$210,IF($T$5=\"Course 3\",Général!I$212,Général!I$214)))","v":"UNIV Nantes 1"},null,{"$f":"Général!B17","v":"ENSMAC"},5]
["9ème Equipage",null,{"$f":"IF($C$5=\"Course 1\",Général!J38,IF($C$5=\"Course 2\",Général!J40,IF($C$5=\"Course 3\",Général!J42,Général!J44)))","v":"Centrale Nantes 1"},{"$f":"IF($D$5=\"Course 1\",Général!J48,IF($D$5=\"Course 2\",Général!J50,IF($D$5=\"Course 3\",Général!J52,Général!J54)))","v":"Intechmer"},{"$f":"IF($E$5=\"Course 1\",Général!J58,IF($E$5=\"Course 2\",Général!J60,IF($E$5=\"Course 3\",Général!J62,Général!J64)))","v":"INSA Lyon"},{"$f":"IF($F$5=\"Course 1\",Général!J$68,IF($F$5=\"Course 2\",Général!J$70,IF($F$5=\"Course 3\",Général!J$72,Général!J$74)))","v":"Unicaen 1"},{"$f":"IF($G$5=\"Course 1\",Général!J$78,IF($G$5=\"Course 2\",Général!J$80,IF($G$5=\"Course 3\",Général!J$82,Général!J$84)))","v":"Unicaen 2"},{"$f":"IF($H$5=\"Course 1\",Général!J$88,IF($H$5=\"Course 2\",Général!J$90,IF($H$5=\"Course 3\",Général!$J92,Général!J$94)))","v":"Centrale Nantes 2"},{"$f":"IF($I$5=\"Course 1\",Général!J$98,IF($I$5=\"Course 2\",Général!J$100,IF($I$5=\"Course 3\",Général!J$102,Général!J$104)))","v":"Paris Cité"},{"$f":"IF($J$5=\"Course 1\",Général!J$108,IF($J$5=\"Course 2\",Général!J$110,IF($J$5=\"Course 3\",Général!J$112,Général!J$114)))","v":"Orléans"},{"$f":"IF($K$5=\"Course 1\",Général!J$118,IF($K$5=\"Course 2\",Général!J$120,IF($K$5=\"Course 3\",Général!J$122,Général!J$124)))","v":"La Rochelle 1"},{"$f":"IF($L$5=\"Course 1\",Général!J$128,IF($L$5=\"Course 2\",Général!J$130,IF($L$5=\"Course 3\",Général!J$132,Général!J$134)))","v":"Centrale Nantes 2"},{"$f":"IF($M$5=\"Course 1\",Général!J$138,IF($M$5=\"Course 2\",Général!J$140,IF($M$5=\"Course 3\",Général!J$142,Général!J$144)))","v":"La Rochelle 1"},{"$f":"IF($N$5=\"Course 1\",Général!J$148,IF($N$5=\"Course 2\",Général!J$150,IF($N$5=\"Course 3\",Général!J$152,Général!J$154)))","v":"ENSTA 2"},{"$f":"IF($O$5=\"Course 1\",Général!J$158,IF($O$5=\"Course 2\",Général!J$160,IF($O$5=\"Course 3\",Général!J$162,Général!J$164)))","v":"Southampton"},{"$f":"IF($P$5=\"Course 1\",Général!J$168,IF($P$5=\"Course 2\",Général!J$170,IF($P$5=\"Course 3\",Général!J$172,Général!J$174)))","v":"IMT Brest 1"},{"$f":"IF($Q$5=\"Course 1\",Général!J$178,IF($Q$5=\"Course 2\",Général!J$180,IF($Q$5=\"Course 3\",Général!J$182,Général!J$184)))","v":"IMT Brest 2"},{"$f":"IF($R$5=\"Course 1\",Général!J$188,IF($R$5=\"Course 2\",Général!J$190,IF($R$5=\"Course 3\",Général!J$192,Général!J$194)))","v":"UNIV Nantes 1"},{"$f":"IF($S$5=\"Course 1\",Général!J$198,IF($S$5=\"Course 2\",Général!J$200,IF($S$5=\"Course 3\",Général!J$202,Général!J$204)))","v":"Karlsruhe"},{"$f":"IF($T$5=\"Course 1\",Général!J$208,IF($T$5=\"Course 2\",Général!J$210,IF($T$5=\"Course 3\",Général!J$212,Général!J$214)))","v":"Centrale Nantes 2"},null,{"$f":"Général!B18","v":"St Brieuc 1"},3]
["10ème Equipage",null,{"$f":"IF($C$5=\"Course 1\",Général!K38,IF($C$5=\"Course 2\",Général!K40,IF($C$5=\"Course 3\",Général!K42,Général!K44)))","v":"Centrale Nantes 2"},{"$f":"IF($D$5=\"Course 1\",Général!K48,IF($D$5=\"Course 2\",Général!K50,IF($D$5=\"Course 3\",Général!K52,Général!K54)))","v":"IMT Brest 1"},{"$f":"IF($E$5=\"Course 1\",Général!K58,IF($E$5=\"Course 2\",Général!K60,IF($E$5=\"Course 3\",Général!K62,Général!K64)))","v":"UNIV Nantes 1"},{"$f":"IF($F$5=\"Course 1\",Général!K$68,IF($F$5=\"Course 2\",Général!K$70,IF($F$5=\"Course 3\",Général!K$72,Général!K$74)))","v":"Hannover"},{"$f":"IF($G$5=\"Course 1\",Général!K$78,IF($G$5=\"Course 2\",Général!K$80,IF($G$5=\"Course 3\",Général!K$82,Général!K$84)))","v":"Intechmer"},{"$f":"IF($H$5=\"Course 1\",Général!K$88,IF($H$5=\"Course 2\",Général!K$90,IF($H$5=\"Course 3\",Général!$K92,Général!K$94)))","v":"Univ Nantes 3"},{"$f":"IF($I$5=\"Course 1\",Général!K$98,IF($I$5=\"Course 2\",Général!K$100,IF($I$5=\"Course 3\",Général!K$102,Général!K$104)))","v":"St Brieuc 1"},{"$f":"IF($J$5=\"Course 1\",Général!K$108,IF($J$5=\"Course 2\",Général!K$110,IF($J$5=\"Course 3\",Général!K$112,Général!K$114)))","v":"Plymouth"},{"$f":"IF($K$5=\"Course 1\",Général!K$118,IF($K$5=\"Course 2\",Général!K$120,IF($K$5=\"Course 3\",Général!K$122,Général!K$124)))","v":"Univ Nantes 3"},{"$f":"IF($L$5=\"Course 1\",Général!K$128,IF($L$5=\"Course 2\",Général!K$130,IF($L$5=\"Course 3\",Général!K$132,Général!K$134)))","v":"La Rochelle 1"},{"$f":"IF($M$5=\"Course 1\",Général!K$138,IF($M$5=\"Course 2\",Général!K$140,IF($M$5=\"Course 3\",Général!K$142,Général!K$144)))","v":"UBS Lorient 2"},{"$f":"IF($N$5=\"Course 1\",Général!K$148,IF($N$5=\"Course 2\",Général!K$150,IF($N$5=\"Course 3\",Général!K$152,Général!K$154)))","v":"ENSTA 1"},{"$f":"IF($O$5=\"Course 1\",Général!K$158,IF($O$5=\"Course 2\",Général!K$160,IF($O$5=\"Course 3\",Général!K$162,Général!K$164)))","v":"Centrale Nantes 1"},{"$f":"IF($P$5=\"Course 1\",Général!K$168,IF($P$5=\"Course 2\",Général!K$170,IF($P$5=\"Course 3\",Général!K$172,Général!K$174)))","v":"IMT Nantes"},{"$f":"IF($Q$5=\"Course 1\",Général!K$178,IF($Q$5=\"Course 2\",Général!K$180,IF($Q$5=\"Course 3\",Général!K$182,Général!K$184)))","v":"Unicaen 1"},{"$f":"IF($R$5=\"Course 1\",Général!K$188,IF($R$5=\"Course 2\",Général!K$190,IF($R$5=\"Course 3\",Général!K$192,Général!K$194)))","v":"Centrale Nantes 2"},{"$f":"IF($S$5=\"Course 1\",Général!K$198,IF($S$5=\"Course 2\",Général!K$200,IF($S$5=\"Course 3\",Général!K$202,Général!K$204)))","v":"Univ Nantes 2"},{"$f":"IF($T$5=\"Course 1\",Général!K$208,IF($T$5=\"Course 2\",Général!K$210,IF($T$5=\"Course 3\",Général!K$212,Général!K$214)))","v":"Paris Cité"},null,{"$f":"Général!B19","v":"Hannover"},1]
[null,null,null,null,null,null,null,null,null,null,null,null,null,null,null,null,null,null,null,null,null,{"$f":"Général!B20","v":"ENSTA 2"},6]
[null,null,null,null,null,null,null,null,null,null,null,null,null,null,null,null,null,null,null,null,null,{"$f":"Général!B21","v":"Southampton"},3]
[null,null,null,null,null,null,null,null,null,null,null,null,null,null,null,null,null,null,null,null,null,{"$f":"Général!B22","v":"La Rochelle 1"},6]
[null,null,null,null,null,null,null,null,null,null,null,null,null,null,null,null,null,null,null,null,null,{"$f":"Général!B23","v":"Centrale Nantes 1"},5]
[null,null,null,null,null,null,null,null,null,null,null,null,null,null,null,null,null,null,null,null,null,{"$f":"Général!B24","v":"ST Brieuc 2"},3]
[null,null,null,null,null,null,null,null,null,null,null,null,null,null,null,null,null,null,null,null,null,{"$f":"Général!B25","v":"UNIV Nantes 1"},7]
[null,null,null,null,null,null,null,null,null,null,null,null,null,null,null,null,null,null,null,null,null,{"$f":"Général!B26","v":"Intechmer"},5]
[null,null,null,null,null,null,null,null,null,null,null,null,null,null,null,null,null,null,null,null,null,{"$f":"Général!B27","v":"IMT Nantes"},3]
[null,null,null,null,null,null,null,null,null,null,null,null,null,null,null,null,null,null,null,null,null,{"$f":"Général!B28","v":"INSA Lyon"},7]
[null,null,null,null,null,null,null,null,null,null,null,null,null,null,null,null,null,null,null,null,null,{"$f":"Général!B29","v":"Centrale Nantes 2"},6]
[null,null,null,null,null,null,null,null,null,null,null,null,null,null,null,null,null,null,null,null,null,{"$f":"Général!B30","v":"UBS Lorient 2"},8]
[null,null,null,null,null,null,null,null,null,null,null,null,null,null,null,null,null,null,null,null,null,{"$f":"Général!B31","v":"La Rochelle 2"},4]
[null,null,null,null,null,null,null,null,null,null,null,null,null,null,null,null,null,null,null,null,null,{"$f":"Général!B32","v":"UBO 1"},5]
[null,null,null,null,null,null,null,null,null,null,null,null,null,null,null,null,null,null,null,null,null,{"$f":"Général!B33","v":"Eq.31"},0]
[null,null,null,null,null,null,null,null,null,null,null,null,null,null,null,null,null,null,null,null,null,{"$f":"Général!B34","v":"Eq.32"},0]

{"sheet":"Eq.9","index":14,"n_rows":32,"n_cols":23,"rows_kept":32,"cut":false,"hidden":false,"merged":[[7,0,7,1],[0,0,1,5],[0,6,1,10],[3,0,3,1],[4,0,4,1],[5,0,5,1],[14,0,14,1],[15,0,15,1],[16,0,16,1],[8,0,8,1],[9,0,9,1],[10,0,10,1],[11,0,11,1],[12,0,12,1],[13,0,13,1]]}
["Equipage ",null,null,null,null,null,{"$f":"Général!B11","v":"Karlsruhe"},null,null,null,null,null,null,null,null,null,null,null,null,null,null,{"$f":"Général!B3","v":"UBO 2"},{"$f":"COUNTIF(C$8:T$16,V1)","v":6}]
[null,null,null,null,null,null,null,null,null,null,null,null,null,null,null,null,null,null,null,null,null,{"$f":"Général!B4","v":"Paris Sorbone"},{"$f":"COUNTIF($C$8:$T$16,V2)","v":4}]
[null,null,null,null,null,null,null,null,null,null,null,null,null,null,null,null,null,null,null,null,null,{"$f":"Général!B5","v":"UBS Lorient 1"},{"$f":"COUNTIF($C$8:$T$16,V3)","v":6}]
[null,null,"FLIGHT 1","FLIGHT 2","FLIGHT 3","FLIGHT 4","FLIGHT 5","FLIGHT 6","FLIGHT 7","FLIGHT 8","FLIGHT 9","FLIGHT 10","FLIGHT 11","FLIGHT 12","FLIGHT 13","FLIGHT 14","FLIGHT 15","FLIGHT 16","FLIGHT 17","FLIGHT 18",null,{"$f":"Général!B6","v":"Univ Nantes 3"},4]
["N° de course",null,{"$f":"IF(COUNTIF(Général!B38:K38,$G$1)=1,\"Course 1\",IF(COUNTIF(Général!B40:K40,$G$1)=1,\"Course 2\",IF(COUNTIF(Général!B42:K42,$G$1)=1,\"Course 3\",\"Course 4\")))","v":"Course 1"},{"$f":"IF(COUNTIF(Général!B48:K48,$G$1)=1,\"Course 1\",IF(COUNTIF(Général!B50:K50,$G$1)=1,\"Course 2\",IF(COUNTIF(Général!B52:K52,$G$1)=1,\"Course 3\",\"Course 4\")))","v":"Course 3"},{"$f":"IF(COUNTIF(Général!B58:K58,$G$1)=1,\"Course 1\",IF(COUNTIF(Général!B60:K60,$G$1)=1,\"Course 2\",IF(COUNTIF(Général!B62:K62,$G$1)=1,\"Course 3\",\"Course 4\")))","v":"Course 3"},{"$f":"IF(COUNTIF(Général!B68:K68,$G$1)=1,\"Course 1\",IF(COUNTIF(Général!B70:K70,$G$1)=1,\"Course 2\",IF(COUNTIF(Général!B72:K72,$G$1)=1,\"Course 3\",\"Course 4\")))","v":"Course 3"},{"$f":"IF(COUNTIF(Général!B78:K78,$G$1)=1,\"Course 1\",IF(COUNTIF(Général!B80:K80,$G$1)=1,\"Course 2\",IF(COUNTIF(Général!B82:K82,$G$1)=1,\"Course 3\",\"Course 4\")))","v":"Course 1"},{"$f":"IF(COUNTIF(Général!B88:K88,$G$1)=1,\"Course 1\",IF(COUNTIF(Général!B90:K90,$G$1)=1,\"Course 2\",IF(COUNTIF(Général!B92:K92,$G$1)=1,\"Course 3\",\"Course 4\")))","v":"Course 2"},{"$f":"IF(COUNTIF(Général!B98:K98,$G$1)=1,\"Course 1\",IF(COUNTIF(Général!B100:K100,$G$1)=1,\"Course 2\",IF(COUNTIF(Général!B102:K102,$G$1)=1,\"Course 3\",\"Course 4\")))","v":"Course 2"},{"$f":"IF(COUNTIF(Général!B108:K108,$G$1)=1,\"Course 1\",IF(COUNTIF(Général!B110:K110,$G$1)=1,\"Course 2\",IF(COUNTIF(Général!B112:K112,$G$1)=1,\"Course 3\",\"Course 4\")))","v":"Course 2"},{"$f":"IF(COUNTIF(Général!B118:K118,$G$1)=1,\"Course 1\",IF(COUNTIF(Général!B120:K120,$G$1)=1,\"Course 2\",IF(COUNTIF(Général!B122:K122,$G$1)=1,\"Course 3\",\"Course 4\")))","v":"Course 3"},{"$f":"IF(COUNTIF(Général!B128:K128,$G$1)=1,\"Course 1\",IF(COUNTIF(Général!B130:K130,$G$1)=1,\"Course 2\",IF(COUNTIF(Général!B132:K132,$G$1)=1,\"Course 3\",\"Course 4\")))","v":"Course 3"},{"$f":"IF(COUNTIF(Général!B138:K138,$G$1)=1,\"Course 1\",IF(COUNTIF(Général!B140:K140,$G$1)=1,\"Course 2\",IF(COUNTIF(Général!B142:K142,$G$1)=1,\"Course 3\",\"Course 4\")))","v":"Course 2"},{"$f":"IF(COUNTIF(Général!B148:K148,$G$1)=1,\"Course 1\",IF(COUNTIF(Général!B150:K150,$G$1)=1,\"Course 2\",IF(COUNTIF(Général!B152:K152,$G$1)=1,\"Course 3\",\"Course 4\")))","v":"Course 3"},{"$f":"IF(COUNTIF(Général!B158:K158,$G$1)=1,\"Course 1\",IF(COUNTIF(Général!B160:K160,$G$1)=1,\"Course 2\",IF(COUNTIF(Général!B162:K162,$G$1)=1,\"Course 3\",\"Course 4\")))","v":"Course 3"},{"$f":"IF(COUNTIF(Général!B168:K168,$G$1)=1,\"Course 1\",IF(COUNTIF(Général!B170:K170,$G$1)=1,\"Course 2\",IF(COUNTIF(Général!B172:K172,$G$1)=1,\"Course 3\",\"Course 4\")))","v":"Course 3"},{"$f":"IF(COUNTIF(Général!B178:K178,$G$1)=1,\"Course 1\",IF(COUNTIF(Général!B180:K180,$G$1)=1,\"Course 2\",IF(COUNTIF(Général!B182:K182,$G$1)=1,\"Course 3\",\"Course 4\")))","v":"Course 2"},{"$f":"IF(COUNTIF(Général!B188:K188,$G$1)=1,\"Course 1\",IF(COUNTIF(Général!B190:K190,$G$1)=1,\"Course 2\",IF(COUNTIF(Général!B192:K192,$G$1)=1,\"Course 3\",\"Course 4\")))","v":"Course 2"},{"$f":"IF(COUNTIF(Général!B198:K198,$G$1)=1,\"Course 1\",IF(COUNTIF(Général!B200:K200,$G$1)=1,\"Course 2\",IF(COUNTIF(Général!B202:K202,$G$1)=1,\"Course 3\",\"Course 4\")))","v":"Course 3"},{"$f":"IF(COUNTIF(Général!B208:K208,$G$1)=1,\"Course 1\",IF(COUNTIF(Général!B210:K210,$G$1)=1,\"Course 2\",IF(COUNTIF(Général!B212:K212,$G$1)=1,\"Course 3\",\"Course 4\")))","v":"Course 1"},null,{"$f":"Général!B7","v":"Paris Cité"},2]
["Bateau",null,{"$f":"IF(COUNTIF(Général!B38:B44,$G$1)=1,\"Boat 1\",IF(COUNTIF(Général!C38:C44,$G$1)=1,\"Boat 2\",IF(COUNTIF(Général!D38:D44,$G$1)=1,\"Boat 3\", IF(COUNTIF(Général!E38:E44,$G$1)=1,\"Boat 4\", IF(COUNTIF(Général!F38:F44,$G$1)=1,\"Boat 5\", IF(COUNTIF(Général!G38:G44,$G$1)=1,\"Boat 6\", IF(COUNTIF(Général!H38:H44,$G$1)=1,\"Boat 7\",IF(COUNTIF(Général!I38:I44,$G$1)=1,\"Boat 8\",\"Boat 9\"))))))))","v":"Boat 9"},{"$f":"IF(COUNTIF(Général!B48:B54,$G$1)=1,\"Boat 1\",IF(COUNTIF(Général!C48:C54,$G$1)=1,\"Boat 2\",IF(COUNTIF(Général!D48:D54,$G$1)=1,\"Boat 3\", IF(COUNTIF(Général!E48:E54,$G$1)=1,\"Boat 4\", IF(COUNTIF(Général!F48:F54,$G$1)=1,\"Boat 5\", IF(COUNTIF(Général!G48:G54,$G$1)=1,\"Boat 6\", IF(COUNTIF(Général!H48:H54,$G$1)=1,\"Boat 7\",IF(COUNTIF(Général!I38:I44,$G$1)=1,\"Boat 8\",\"Boat 9\"))))))))","v":"Boat 7"},{"$f":"IF(COUNTIF(Général!B58:B64,$G$1)=1,\"Boat 1\",IF(COUNTIF(Général!C58:C64,$G$1)=1,\"Boat 2\",IF(COUNTIF(Général!D58:D64,$G$1)=1,\"Boat 3\", IF(COUNTIF(Général!E58:E64,$G$1)=1,\"Boat 4\", IF(COUNTIF(Général!F58:F64,$G$1)=1,\"Boat 5\", IF(COUNTIF(Général!G58:G64,$G$1)=1,\"Boat 6\", IF(COUNTIF(Général!H58:H64,$G$1)=1,\"Boat 7\",IF(COUNTIF(Général!I38:I44,$G$1)=1,\"Boat 8\",\"Boat 9\"))))))))","v":"Boat 9"},{"$f":"IF(COUNTIF(Général!B68:B74,$G$1)=1,\"Boat 1\",IF(COUNTIF(Général!C68:C74,$G$1)=1,\"Boat 2\",IF(COUNTIF(Général!D68:D74,$G$1)=1,\"Boat 3\", IF(COUNTIF(Général!E68:E74,$G$1)=1,\"Boat 4\", IF(COUNTIF(Général!F68:F74,$G$1)=1,\"Boat 5\", IF(COUNTIF(Général!G68:G74,$G$1)=1,\"Boat 6\", IF(COUNTIF(Général!H68:H74,$G$1)=1,\"Boat 7\",IF(COUNTIF(Général!I38:I44,$G$1)=1,\"Boat 8\",\"Boat 9\"))))))))","v":"Boat 3"},{"$f":"IF(COUNTIF(Général!B78:B84,$G$1)=1,\"Boat 1\",IF(COUNTIF(Général!C78:C84,$G$1)=1,\"Boat 2\",IF(COUNTIF(Général!D78:D84,$G$1)=1,\"Boat 3\", IF(COUNTIF(Général!E78:E84,$G$1)=1,\"Boat 4\", IF(COUNTIF(Général!F78:F84,$G$1)=1,\"Boat 5\", IF(COUNTIF(Général!G78:G84,$G$1)=1,\"Boat 6\", IF(COUNTIF(Général!H78:H84,$G$1)=1,\"Boat 7\",IF(COUNTIF(Général!I38:I44,$G$1)=1,\"Boat 8\",\"Boat 9\"))))))))","v":"Boat 3"},{"$f":"IF(COUNTIF(Général!B88:B94,$G$1)=1,\"Boat 1\",IF(COUNTIF(Général!C88:C94,$G$1)=1,\"Boat 2\",IF(COUNTIF(Général!D88:D94,$G$1)=1,\"Boat 3\", IF(COUNTIF(Général!E88:E94,$G$1)=1,\"Boat 4\", IF(COUNTIF(Général!F88:F94,$G$1)=1,\"Boat 5\", IF(COUNTIF(Général!G88:G94,$G$1)=1,\"Boat 6\", IF(COUNTIF(Général!H88:H94,$G$1)=1,\"Boat 7\",IF(COUNTIF(Général!I38:I44,$G$1)=1,\"Boat 8\",\"Boat 9\"))))))))","v":"Boat 4"},{"$f":"IF(COUNTIF(Général!B98:B104,$G$1)=1,\"Boat 1\",IF(COUNTIF(Général!C98:C104,$G$1)=1,\"Boat 2\",IF(COUNTIF(Général!D98:D104,$G$1)=1,\"Boat 3\", IF(COUNTIF(Général!E98:E104,$G$1)=1,\"Boat 4\", IF(COUNTIF(Général!F98:F104,$G$1)=1,\"Boat 5\", IF(COUNTIF(Général!G98:G104,$G$1)=1,\"Boat 6\", IF(COUNTIF(Général!H98:H104,$G$1)=1,\"Boat 7\",IF(COUNTIF(Général!I38:I44,$G$1)=1,\"Boat 8\",\"Boat 9\"))))))))","v":"Boat 4"},{"$f":"IF(COUNTIF(Général!B108:B114,$G$1)=1,\"Boat 1\",IF(COUNTIF(Général!C108:C114,$G$1)=1,\"Boat 2\",IF(COUNTIF(Général!D108:D114,$G$1)=1,\"Boat 3\", IF(COUNTIF(Général!E108:E114,$G$1)=1,\"Boat 4\", IF(COUNTIF(Général!F108:F114,$G$1)=1,\"Boat 5\", IF(COUNTIF(Général!G108:G114,$G$1)=1,\"Boat 6\", IF(COUNTIF(Général!H108:H114,$G$1)=1,\"Boat 7\",IF(COUNTIF(Général!I38:I44,$G$1)=1,\"Boat 8\",\"Boat 9\"))))))))","v":"Boat 6"},{"$f":"IF(COUNTIF(Général!B118:B124,$G$1)=1,\"Boat 1\",IF(COUNTIF(Général!C118:C124,$G$1)=1,\"Boat 2\",IF(COUNTIF(Général!D118:D124,$G$1)=1,\"Boat 3\", IF(COUNTIF(Général!E118:E124,$G$1)=1,\"Boat 4\", IF(COUNTIF(Général!F118:F124,$G$1)=1,\"Boat 5\", IF(COUNTIF(Général!G118:G124,$G$1)=1,\"Boat 6\", IF(COUNTIF(Général!H118:H124,$G$1)=1,\"Boat 7\",IF(COUNTIF(Général!I38:I44,$G$1)=1,\"Boat 8\",\"Boat 9\"))))))))","v":"Boat 9"},{"$f":"IF(COUNTIF(Général!B128:B134,$G$1)=1,\"Boat 1\",IF(COUNTIF(Général!C128:C134,$G$1)=1,\"Boat 2\",IF(COUNTIF(Général!D128:D134,$G$1)=1,\"Boat 3\", IF(COUNTIF(Général!E128:E134,$G$1)=1,\"Boat 4\", IF(COUNTIF(Général!F128:F134,$G$1)=1,\"Boat 5\", IF(COUNTIF(Général!G128:G134,$G$1)=1,\"Boat 6\", IF(COUNTIF(Général!H128:H134,$G$1)=1,\"Boat 7\",IF(COUNTIF(Général!I38:I44,$G$1)=1,\"Boat 8\",\"Boat 9\"))))))))","v":"Boat 4"},{"$f":"IF(COUNTIF(Général!B138:B144,$G$1)=1,\"Boat 1\",IF(COUNTIF(Général!C138:C144,$G$1)=1,\"Boat 2\",IF(COUNTIF(Général!C138:D144,$G$1)=1,\"Boat 3\", IF(COUNTIF(Général!C138:E144,$G$1)=1,\"Boat 4\", IF(COUNTIF(Général!F138:F144,$G$1)=1,\"Boat 5\", IF(COUNTIF(Général!G138:G144,$G$1)=1,\"Boat 6\", IF(COUNTIF(Général!H138:H144,$G$1)=1,\"Boat 7\",IF(COUNTIF(Général!I38:I44,$G$1)=1,\"Boat 8\",\"Boat 9\"))))))))","v":"Boat 2"},{"$f":"IF(COUNTIF(Général!B148:B154,$G$1)=1,\"Boat 1\",IF(COUNTIF(Général!C148:C154,$G$1)=1,\"Boat 2\",IF(COUNTIF(Général!D148:D154,$G$1)=1,\"Boat 3\", IF(COUNTIF(Général!E148:E154,$G$1)=1,\"Boat 4\", IF(COUNTIF(Général!F148:F154,$G$1)=1,\"Boat 5\", IF(COUNTIF(Général!G148:G154,$G$1)=1,\"Boat 6\", IF(COUNTIF(Général!H148:H154,$G$1)=1,\"Boat 7\",IF(COUNTIF(Général!I38:I44,$G$1)=1,\"Boat 8\",\"Boat 9\"))))))))","v":"Boat 9"},{"$f":"IF(COUNTIF(Général!B158:B164,$G$1)=1,\"Boat 1\",IF(COUNTIF(Général!C158:C164,$G$1)=1,\"Boat 2\",IF(COUNTIF(Général!D160:D164,$G$1)=1,\"Boat 3\", IF(COUNTIF(Général!E158:E164,$G$1)=1,\"Boat 4\", IF(COUNTIF(Général!F158:F164,$G$1)=1,\"Boat 5\", IF(COUNTIF(Général!G158:G164,$G$1)=1,\"Boat 6\", IF(COUNTIF(Général!H158:H164,$G$1)=1,\"Boat 7\",IF(COUNTIF(Général!I38:I44,$G$1)=1,\"Boat 8\",\"Boat 9\"))))))))","v":"Boat 2"},{"$f":"IF(COUNTIF(Général!B168:B174,$G$1)=1,\"Boat 1\",IF(COUNTIF(Général!C168:C174,$G$1)=1,\"Boat 2\",IF(COUNTIF(Général!D168:D174,$G$1)=1,\"Boat 3\", IF(COUNTIF(Général!E168:E174,$G$1)=1,\"Boat 4\", IF(COUNTIF(Général!F178:F184,$G$1)=1,\"Boat 5\", IF(COUNTIF(Général!G178:G184,$G$1)=1,\"Boat 6\", IF(COUNTIF(Général!H178:H184,$G$1)=1,\"Boat 7\",IF(COUNTIF(Général!I38:I44,$G$1)=1,\"Boat 8\",\"Boat 9\"))))))))","v":"Boat 3"},{"$f":"IF(COUNTIF(Général!B178:B184,$G$1)=1,\"Boat 1\",IF(COUNTIF(Général!C178:C184,$G$1)=1,\"Boat 2\",IF(COUNTIF(Général!D178:D184,$G$1)=1,\"Boat 3\", IF(COUNTIF(Général!E178:E184,$G$1)=1,\"Boat 4\", IF(COUNTIF(Général!F178:F184,$G$1)=1,\"Boat 5\", IF(COUNTIF(Général!G178:G184,$G$1)=1,\"Boat 6\", IF(COUNTIF(Général!H178:H184,$G$1)=1,\"Boat 7\",IF(COUNTIF(Général!I38:I44,$G$1)=1,\"Boat 8\",\"Boat 9\"))))))))","v":"Boat 7"},{"$f":"IF(COUNTIF(Général!B188:B194,$G$1)=1,\"Boat 1\",IF(COUNTIF(Général!C188:C194,$G$1)=1,\"Boat 2\",IF(COUNTIF(Général!D188:D194,$G$1)=1,\"Boat 3\", IF(COUNTIF(Général!E188:E194,$G$1)=1,\"Boat 4\", IF(COUNTIF(Général!F188:F194,$G$1)=1,\"Boat 5\", IF(COUNTIF(Général!G188:G194,$G$1)=1,\"Boat 6\", IF(COUNTIF(Général!H188:H194,$G$1)=1,\"Boat 7\",IF(COUNTIF(Général!I38:I44,$G$1)=1,\"Boat 8\",\"Boat 9\"))))))))","v":"Boat 1"},{"$f":"IF(COUNTIF(Général!B198:B204,$G$1)=1,\"Boat 1\",IF(COUNTIF(Général!C198:C204,$G$1)=1,\"Boat 2\",IF(COUNTIF(Général!D198:D204,$G$1)=1,\"Boat 3\", IF(COUNTIF(Général!E198:E204,$G$1)=1,\"Boat 4\", IF(COUNTIF(Général!F198:F204,$G$1)=1,\"Boat 5\", IF(COUNTIF(Général!G198:G204,$G$1)=1,\"Boat 6\", IF(COUNTIF(Général!H198:H204,$G$1)=1,\"Boat 7\",IF(COUNTIF(Général!I38:I44,$G$1)=1,\"Boat 8\",\"Boat 9\"))))))))","v":"Boat 9"},{"$f":"IF(COUNTIF(Général!B208:B214,$G$1)=1,\"Boat 1\",IF(COUNTIF(Général!C208:C214,$G$1)=1,\"Boat 2\",IF(COUNTIF(Général!D208:D214,$G$1)=1,\"Boat 3\", IF(COUNTIF(Général!E208:E214,$G$1)=1,\"Boat 4\", IF(COUNTIF(Général!F208:F214,$G$1)=1,\"Boat 5\", IF(COUNTIF(Général!G208:G214,$G$1)=1,\"Boat 6\", IF(COUNTIF(Général!H208:H214,$G$1)=1,\"Boat 7\",IF(COUNTIF(Général!I38:I44,$G$1)=1,\"Boat 8\",\"Boat 9\"))))))))","v":"Boat 9"},null,{"$f":"Général!B8","v":"Plymouth"},6]
[null,null,null,null,null,null,null,null,null,null,null,null,null,null,null,null,null,null,null,null,null,{"$f":"Général!B9","v":"Unicaen 2"},6]
["1er Equipage",null,{"$f":"IF($C$5=\"Course 1\",Général!B38,IF($C$5=\"Course 2\",Général!B40,IF($C$5=\"Course 3\",Général!B42,Général!B44)))","v":"IMT Nantes"},{"$f":"IF($D$5=\"Course 1\",Général!B48,IF($D$5=\"Course 2\",Général!B50,IF($D$5=\"Course 3\",Général!B52,Général!B54)))","v":"UBO 1"},{"$f":"IF($E$5=\"Course 1\",Général!B58,IF($E$5=\"Course 2\",Général!B60,IF($E$5=\"Course 3\",Général!B62,Général!B64)))","v":"ST Brieuc 2"},{"$f":"IF($F$5=\"Course 1\",Général!B$68,IF($F$5=\"Course 2\",Général!B$70,IF($F$5=\"Course 3\",Général!B$72,Général!B$74)))","v":"ENSMAC"},{"$f":"IF($G$5=\"Course 1\",Général!B$78,IF($G$5=\"Course 2\",Général!B$80,IF($G$5=\"Course 3\",Général!B$82,Général!B$84)))","v":"ENSMAC"},{"$f":"IF($H$5=\"Course 1\",Général!B$88,IF($H$5=\"Course 2\",Général!B$90,IF($H$5=\"Course 3\",Général!B$92,Général!B$94)))","v":"Univ Nantes 2"},{"$f":"IF($I$5=\"Course 1\",Général!B$98,IF($I$5=\"Course 2\",Général!B$100,IF($I$5=\"Course 3\",Général!B$102,Général!B$104)))","v":"Unicaen 1"},{"$f":"IF($J$5=\"Course 1\",Général!B$108,IF($J$5=\"Course 2\",Général!B$110,IF($J$5=\"Course 3\",Général!B$112,Général!B$114)))","v":"Centrale Nantes 1"},{"$f":"IF($K$5=\"Course 1\",Général!B$118,IF($K$5=\"Course 2\",Général!B$120,IF($K$5=\"Course 3\",Général!B$122,Général!B$124)))","v":"INSA Lyon"},{"$f":"IF($L$5=\"Course 1\",Général!B$128,IF($L$5=\"Course 2\",Général!B$130,IF($L$5=\"Course 3\",Général!B$132,Général!B$134)))","v":"IMT Brest 2"},{"$f":"IF($M$5=\"Course 1\",Général!B$138,IF($M$5=\"Course 2\",Général!B$140,IF($M$5=\"Course 3\",Général!B$142,Général!B$144)))","v":"Plymouth"},{"$f":"IF($N$5=\"Course 1\",Général!B$148,IF($N$5=\"Course 2\",Général!B$150,IF($N$5=\"Course 3\",Général!B$152,Général!B$154)))","v":"La Rochelle 1"},{"$f":"IF($O$5=\"Course 1\",Général!B$158,IF($O$5=\"Course 2\",Général!B$160,IF($O$5=\"Course 3\",Général!B$162,Général!B$164)))","v":"St Brieuc 1"},{"$f":"IF($P$5=\"Course 1\",Général!B$168,IF($P$5=\"Course 2\",Général!B$170,IF($P$5=\"Course 3\",Général!B$172,Général!B$174)))","v":"Plymouth"},{"$f":"IF($Q$5=\"Course 1\",Général!B$178,IF($Q$5=\"Course 2\",Général!B$180,IF($Q$5=\"Course 3\",Général!B$182,Général!B$184)))","v":"La Rochelle 2"},{"$f":"IF($R$5=\"Course 1\",Général!B$188,IF($R$5=\"Course 2\",Général!B$190,IF($R$5=\"Course 3\",Général!B$192,Général!B$194)))","v":"Karlsruhe"},{"$f":"IF($S$5=\"Course 1\",Général!B$198,IF($S$5=\"Course 2\",Général!B$200,IF($S$5=\"Course 3\",Général!B$202,Général!B$204)))","v":"UBS Lorient 2"},{"$f":"IF($T$5=\"Course 1\",Général!B$208,IF($T$5=\"Course 2\",Général!B$210,IF($T$5=\"Course 3\",Général!B$212,Général!B$214)))","v":"UBS Lorient 2"},null,{"$f":"Général!B10","v":"Univ Nantes 2"},4]
["2nd Equipage",null,{"$f":"IF($C$5=\"Course 1\",Général!C38,IF($C$5=\"Course 2\",Général!C40,IF($C$5=\"Course 3\",Général!C42,Général!C44)))","v":"Unicaen 1"},{"$f":"IF($D$5=\"Course 1\",Général!C48,IF($D$5=\"Course 2\",Général!C50,IF($D$5=\"Course 3\",Général!C52,Général!C54)))","v":"Centrale Nantes 2"},{"$f":"IF($E$5=\"Course 1\",Général!C58,IF($E$5=\"Course 2\",Général!C60,IF($E$5=\"Course 3\",Général!C62,Général!C64)))","v":"La Rochelle 1"},{"$f":"IF($F$5=\"Course 1\",Général!C$68,IF($F$5=\"Course 2\",Général!C$70,IF($F$5=\"Course 3\",Général!C$72,Général!C$74)))","v":"St Brieuc 1"},{"$f":"IF($G$5=\"Course 1\",Général!C$78,IF($G$5=\"Course 2\",Général!C$80,IF($G$5=\"Course 3\",Général!C$82,Général!C$84)))","v":"Hannover"},{"$f":"IF($H$5=\"Course 1\",Général!C$88,IF($H$5=\"Course 2\",Général!C$90,IF($H$5=\"Course 3\",Général!C$92,Général!C$94)))","v":"La Rochelle 2"},{"$f":"IF($I$5=\"Course 1\",Général!C$98,IF($I$5=\"Course 2\",Général!C$100,IF($I$5=\"Course 3\",Général!C$102,Général!C$104)))","v":"La Rochelle 1"},{"$f":"IF($J$5=\"Course 1\",Général!C$108,IF($J$5=\"Course 2\",Général!C$110,IF($J$5=\"Course 3\",Général!C$112,Général!C$114)))","v":"ENSMAC"},{"$f":"IF($K$5=\"Course 1\",Général!C$118,IF($K$5=\"Course 2\",Général!C$120,IF($K$5=\"Course 3\",Général!C$122,Général!C$124)))","v":"ENSTA 2"},{"$f":"IF($L$5=\"Course 1\",Général!C$128,IF($L$5=\"Course 2\",Général!C$130,IF($L$5=\"Course 3\",Général!C$132,Général!C$134)))","v":"UNIV Nantes 1"},{"$f":"IF($M$5=\"Course 1\",Général!C$138,IF($M$5=\"Course 2\",Général!C$140,IF($M$5=\"Course 3\",Général!C$142,Général!C$144)))","v":"Karlsruhe"},{"$f":"IF($N$5=\"Course 1\",Général!C$148,IF($N$5=\"Course 2\",Général!C$150,IF($N$5=\"Course 3\",Général!C$152,Général!C$154)))","v":"Intechmer"},{"$f":"IF($O$5=\"Course 1\",Général!C$158,IF($O$5=\"Course 2\",Général!C$160,IF($O$5=\"Course 3\",Général!C$162,Général!C$164)))","v":"Karlsruhe"},{"$f":"IF($P$5=\"Course 1\",Général!C$168,IF($P$5=\"Course 2\",Général!C$170,IF($P$5=\"Course 3\",Général!C$172,Général!C$174)))","v":"La Rochelle 2"},{"$f":"IF($Q$5=\"Course 1\",Général!C$178,IF($Q$5=\"Course 2\",Général!C$180,IF($Q$5=\"Course 3\",Général!C$182,Général!C$184)))","v":"Unicaen 2"},{"$f":"IF($R$5=\"Course 1\",Général!C$188,IF($R$5=\"Course 2\",Général!C$190,IF($R$5=\"Course 3\",Général!C$192,Général!C$194)))","v":"ST Brieuc 2"},{"$f":"IF($S$5=\"Course 1\",Général!C$198,IF($S$5=\"Course 2\",Général!C$200,IF($S$5=\"Course 3\",Général!C$202,Général!C$204)))","v":"Paris Sorbone"},{"$f":"IF($T$5=\"Course 1\",Général!C$208,IF($T$5=\"Course 2\",Général!C$210,IF($T$5=\"Course 3\",Général!C$212,Général!C$214)))","v":"Unicaen 2"},null,{"$f":"Général!B11","v":"Karlsruhe"},16]
["3ème Equipage",null,{"$f":"IF($C$5=\"Course 1\",Général!D38,IF($C$5=\"Course 2\",Général!D40,IF($C$5=\"Course 3\",Général!D42,Général!D44)))","v":"St Brieuc 1"},{"$f":"IF($D$5=\"Course 1\",Général!D48,IF($D$5=\"Course 2\",Général!D50,IF($D$5=\"Course 3\",Général!D52,Général!D54)))","v":"IMT Brest 2"},{"$f":"IF($E$5=\"Course 1\",Général!D58,IF($E$5=\"Course 2\",Général!D60,IF($E$5=\"Course 3\",Général!D62,Général!D64)))","v":"St Brieuc 1"},{"$f":"IF($F$5=\"Course 1\",Général!D$68,IF($F$5=\"Course 2\",Général!D$70,IF($F$5=\"Course 3\",Général!D$72,Général!D$74)))","v":"Karlsruhe"},{"$f":"IF($G$5=\"Course 1\",Général!D$78,IF($G$5=\"Course 2\",Général!D$80,IF($G$5=\"Course 3\",Général!D$82,Général!D$84)))","v":"Karlsruhe"},{"$f":"IF($H$5=\"Course 1\",Général!D$88,IF($H$5=\"Course 2\",Général!D$90,IF($H$5=\"Course 3\",Général!D$92,Général!D$94)))","v":"UNIV Nantes 1"},{"$f":"IF($I$5=\"Course 1\",Général!D$98,IF($I$5=\"Course 2\",Général!D$100,IF($I$5=\"Course 3\",Général!D$102,Général!D$104)))","v":"Southampton"},{"$f":"IF($J$5=\"Course 1\",Général!D$108,IF($J$5=\"Course 2\",Général!D$110,IF($J$5=\"Course 3\",Général!D$112,Général!D$114)))","v":"INSA Lyon"},{"$f":"IF($K$5=\"Course 1\",Général!D$118,IF($K$5=\"Course 2\",Général!D$120,IF($K$5=\"Course 3\",Général!D$122,Général!D$124)))","v":"Southampton"},{"$f":"IF($L$5=\"Course 1\",Général!D$128,IF($L$5=\"Course 2\",Général!D$130,IF($L$5=\"Course 3\",Général!D$132,Général!D$134)))","v":"UBS Lorient 1"},{"$f":"IF($M$5=\"Course 1\",Général!D$138,IF($M$5=\"Course 2\",Général!D$140,IF($M$5=\"Course 3\",Général!D$142,Général!D$144)))","v":"Paris Sorbone"},{"$f":"IF($N$5=\"Course 1\",Général!D$148,IF($N$5=\"Course 2\",Général!D$150,IF($N$5=\"Course 3\",Général!D$152,Général!D$154)))","v":"IMT Brest 2"},{"$f":"IF($O$5=\"Course 1\",Général!D$158,IF($O$5=\"Course 2\",Général!D$160,IF($O$5=\"Course 3\",Général!D$162,Général!D$164)))","v":"ENSTA 1"},{"$f":"IF($P$5=\"Course 1\",Général!D$168,IF($P$5=\"Course 2\",Général!D$170,IF($P$5=\"Course 3\",Général!D$172,Général!D$174)))","v":"Karlsruhe"},{"$f":"IF($Q$5=\"Course 1\",Général!D$178,IF($Q$5=\"Course 2\",Général!D$180,IF($Q$5=\"Course 3\",Général!D$182,Général!D$184)))","v":"UBS Lorient 1"},{"$f":"IF($R$5=\"Course 1\",Général!D$188,IF($R$5=\"Course 2\",Général!D$190,IF($R$5=\"Course 3\",Général!D$192,Général!D$194)))","v":"Orléans"},{"$f":"IF($S$5=\"Course 1\",Général!D$198,IF($S$5=\"Course 2\",Général!D$200,IF($S$5=\"Course 3\",Général!D$202,Général!D$204)))","v":"IMT Brest 2"},{"$f":"IF($T$5=\"Course 1\",Général!D$208,IF($T$5=\"Course 2\",Général!D$210,IF($T$5=\"Course 3\",Général!D$212,Général!D$214)))","v":"IMT Brest 2"},null,{"$f":"Général!B12","v":"IMT Brest 2"},7]
["4ème Equipage",null,{"$f":"IF($C$5=\"Course 1\",Général!E38,IF($C$5=\"Course 2\",Général!E40,IF($C$5=\"Course 3\",Général!E42,Général!E44)))","v":"La Rochelle 2"},{"$f":"IF($D$5=\"Course 1\",Général!E48,IF($D$5=\"Course 2\",Général!E50,IF($D$5=\"Course 3\",Général!E52,Général!E54)))","v":"Paris Cité"},{"$f":"IF($E$5=\"Course 1\",Général!E58,IF($E$5=\"Course 2\",Général!E60,IF($E$5=\"Course 3\",Général!E62,Général!E64)))","v":"Plymouth"},{"$f":"IF($F$5=\"Course 1\",Général!E$68,IF($F$5=\"Course 2\",Général!E$70,IF($F$5=\"Course 3\",Général!E$72,Général!E$74)))","v":"UNIV Nantes 1"},{"$f":"IF($G$5=\"Course 1\",Général!E$78,IF($G$5=\"Course 2\",Général!E$80,IF($G$5=\"Course 3\",Général!E$82,Général!E$84)))","v":"UNIV Nantes 1"},{"$f":"IF($H$5=\"Course 1\",Général!E$88,IF($H$5=\"Course 2\",Général!E$90,IF($H$5=\"Course 3\",Général!E$92,Général!E$94)))","v":"Karlsruhe"},{"$f":"IF($I$5=\"Course 1\",Général!E$98,IF($I$5=\"Course 2\",Général!E$100,IF($I$5=\"Course 3\",Général!E$102,Général!E$104)))","v":"Karlsruhe"},{"$f":"IF($J$5=\"Course 1\",Général!E$108,IF($J$5=\"Course 2\",Général!E$110,IF($J$5=\"Course 3\",Général!E$112,Général!E$114)))","v":"Univ Nantes 2"},{"$f":"IF($K$5=\"Course 1\",Général!E$118,IF($K$5=\"Course 2\",Général!E$120,IF($K$5=\"Course 3\",Général!E$122,Général!E$124)))","v":"IMT Brest 1"},{"$f":"IF($L$5=\"Course 1\",Général!E$128,IF($L$5=\"Course 2\",Général!E$130,IF($L$5=\"Course 3\",Général!E$132,Général!E$134)))","v":"Karlsruhe"},{"$f":"IF($M$5=\"Course 1\",Général!E$138,IF($M$5=\"Course 2\",Général!E$140,IF($M$5=\"Course 3\",Général!E$142,Général!E$144)))","v":"UBO 2"},{"$f":"IF($N$5=\"Course 1\",Général!E$148,IF($N$5=\"Course 2\",Général!E$150,IF($N$5=\"Course 3\",Général!E$152,Général!E$154)))","v":"UBO 2"},{"$f":"IF($O$5=\"Course 1\",Général!E$158,IF($O$5=\"Course 2\",Général!E$160,IF($O$5=\"Course 3\",Général!E$162,Général!E$164)))","v":"Univ Nantes 2"},{"$f":"IF($P$5=\"Course 1\",Général!E$168,IF($P$5=\"Course 2\",Général!E$170,IF($P$5=\"Course 3\",Général!E$172,Général!E$174)))","v":"UBO 1"},{"$f":"IF($Q$5=\"Course 1\",Général!E$178,IF($Q$5=\"Course 2\",Général!E$180,IF($Q$5=\"Course 3\",Général!E$182,Général!E$184)))","v":"St Brieuc 1"},{"$f":"IF($R$5=\"Course 1\",Général!E$188,IF($R$5=\"Course 2\",Général!E$190,IF($R$5=\"Course 3\",Général!E$192,Général!E$194)))","v":"Paris Cité"},{"$f":"IF($S$5=\"Course 1\",Général!E$198,IF($S$5=\"Course 2\",Général!E$200,IF($S$5=\"Course 3\",Général!E$202,Général!E$204)))","v":"Centrale Nantes 2"},{"$f":"IF($T$5=\"Course 1\",Général!E$208,IF($T$5=\"Course 2\",Général!E$210,IF($T$5=\"Course 3\",Général!E$212,Général!E$214)))","v":"IMT Nantes"},null,{"$f":"Général!B13","v":"Unicaen 1"},5]
["5ème Equipage",null,{"$f":"IF($C$5=\"Course 1\",Général!F38,IF($C$5=\"Course 2\",Général!F40,IF($C$5=\"Course 3\",Général!F42,Général!F44)))","v":"UBO 2"},{"$f":"IF($D$5=\"Course 1\",Général!F48,IF($D$5=\"Course 2\",Général!F50,IF($D$5=\"Course 3\",Général!F52,Général!F54)))","v":"UBO 2"},{"$f":"IF($E$5=\"Course 1\",Général!F58,IF($E$5=\"Course 2\",Général!F60,IF($E$5=\"Course 3\",Général!F62,Général!F64)))","v":"UBS Lorient 1"},{"$f":"IF($F$5=\"Course 1\",Général!F$68,IF($F$5=\"Course 2\",Général!F$70,IF($F$5=\"Course 3\",Général!F$72,Général!F$74)))","v":"Centrale Nantes 2"},{"$f":"IF($G$5=\"Course 1\",Général!F$78,IF($G$5=\"Course 2\",Général!F$80,IF($G$5=\"Course 3\",Général!F$82,Général!F$84)))","v":"ST Brieuc 2"},{"$f":"IF($H$5=\"Course 1\",Général!F$88,IF($H$5=\"Course 2\",Général!F$90,IF($H$5=\"Course 3\",Général!F$92,Général!F$94)))","v":"Plymouth"},{"$f":"IF($I$5=\"Course 1\",Général!F$98,IF($I$5=\"Course 2\",Général!F$100,IF($I$5=\"Course 3\",Général!F$102,Général!F$104)))","v":"UBS Lorient 1"},{"$f":"IF($J$5=\"Course 1\",Général!F$108,IF($J$5=\"Course 2\",Général!F$110,IF($J$5=\"Course 3\",Général!F$112,Général!F$114)))","v":"IMT Nantes"},{"$f":"IF($K$5=\"Course 1\",Général!F$118,IF($K$5=\"Course 2\",Général!F$120,IF($K$5=\"Course 3\",Général!F$122,Général!F$124)))","v":"IMT Brest 2"},{"$f":"IF($L$5=\"Course 1\",Général!F$128,IF($L$5=\"Course 2\",Général!$F130,IF($L$5=\"Course 3\",Général!F$132,Général!F$134)))","v":"Paris Sorbone"},{"$f":"IF($M$5=\"Course 1\",Général!F$138,IF($M$5=\"Course 2\",Général!F$140,IF($M$5=\"Course 3\",Général!F$142,Général!F$144)))","v":"ENSTA 2"},{"$f":"IF($N$5=\"Course 1\",Général!F$148,IF($N$5=\"Course 2\",Général!F$150,IF($N$5=\"Course 3\",Général!F$152,Général!F$154)))","v":"INSA Lyon"},{"$f":"IF($O$5=\"Course 1\",Général!F$158,IF($O$5=\"Course 2\",Général!F$160,IF($O$5=\"Course 3\",Général!F$162,Général!F$164)))","v":"UNIV Nantes 1"},{"$f":"IF($P$5=\"Course 1\",Général!F$168,IF($P$5=\"Course 2\",Général!F$170,IF($P$5=\"Course 3\",Général!F$172,Général!F$174)))","v":"Hannover"},{"$f":"IF($Q$5=\"Course 1\",Général!F$178,IF($Q$5=\"Course 2\",Général!F$180,IF($Q$5=\"Course 3\",Général!F$182,Général!F$184)))","v":"ENSTA 2"},{"$f":"IF($R$5=\"Course 1\",Général!F$188,IF($R$5=\"Course 2\",Général!F$190,IF($R$5=\"Course 3\",Général!F$192,Général!F$194)))","v":"ENSMAC"},{"$f":"IF($S$5=\"Course 1\",Général!F$198,IF($S$5=\"Course 2\",Général!F$200,IF($S$5=\"Course 3\",Général!F$202,Général!F$204)))","v":"Centrale Nantes 1"},{"$f":"IF($T$5=\"Course 1\",Général!F$208,IF($T$5=\"Course 2\",Général!F$210,IF($T$5=\"Course 3\",Général!F$212,Général!F$214)))","v":"ST Brieuc 2"},null,{"$f":"Général!B14","v":"ENSTA 1"},5]
["6ème Equipage",null,{"$f":"IF($C$5=\"Course 1\",Général!G38,IF($C$5=\"Course 2\",Général!G40,IF($C$5=\"Course 3\",Général!G42,Général!G44)))","v":"ENSTA 1"},{"$f":"IF($D$5=\"Course 1\",Général!G48,IF($D$5=\"Course 2\",Général!G50,IF($D$5=\"Course 3\",Général!G52,Général!G54)))","v":"La Rochelle 2"},{"$f":"IF($E$5=\"Course 1\",Général!G58,IF($E$5=\"Course 2\",Général!G60,IF($E$5=\"Course 3\",Général!G62,Général!G64)))","v":"IMT Brest 1"},{"$f":"IF($F$5=\"Course 1\",Général!G$68,IF($F$5=\"Course 2\",Général!G$70,IF($F$5=\"Course 3\",Général!G$72,Général!G$74)))","v":"Paris Sorbone"},{"$f":"IF($G$5=\"Course 1\",Général!G$78,IF($G$5=\"Course 2\",Général!G$80,IF($G$5=\"Course 3\",Général!G$82,Général!G$84)))","v":"UBO 1"},{"$f":"IF($H$5=\"Course 1\",Général!G$88,IF($H$5=\"Course 2\",Général!G$90,IF($H$5=\"Course 3\",Général!G$92,Général!G$94)))","v":"ENSMAC"},{"$f":"IF($I$5=\"Course 1\",Général!G$98,IF($I$5=\"Course 2\",Général!G$100,IF($I$5=\"Course 3\",Général!G$102,Général!G$104)))","v":"Univ Nantes 3"},{"$f":"IF($J$5=\"Course 1\",Général!G$108,IF($J$5=\"Course 2\",Général!G$110,IF($J$5=\"Course 3\",Général!G$112,Général!G$114)))","v":"Karlsruhe"},{"$f":"IF($K$5=\"Course 1\",Général!G$118,IF($K$5=\"Course 2\",Général!G$120,IF($K$5=\"Course 3\",Général!G$122,Général!G$124)))","v":"Unicaen 1"},{"$f":"IF($L$5=\"Course 1\",Général!G$128,IF($L$5=\"Course 2\",Général!G$130,IF($L$5=\"Course 3\",Général!G$132,Général!G$134)))","v":"ENSTA 2"},{"$f":"IF($M$5=\"Course 1\",Général!G$138,IF($M$5=\"Course 2\",Général!G$140,IF($M$5=\"Course 3\",Général!G$142,Général!G$144)))","v":"Univ Nantes 3"},{"$f":"IF($N$5=\"Course 1\",Général!G$148,IF($N$5=\"Course 2\",Général!G$150,IF($N$5=\"Course 3\",Général!G$152,Général!G$154)))","v":"Hannover"},{"$f":"IF($O$5=\"Course 1\",Général!G$158,IF($O$5=\"Course 2\",Général!G$160,IF($O$5=\"Course 3\",Général!G$162,Général!G$164)))","v":"Unicaen 2"},{"$f":"IF($P$5=\"Course 1\",Général!G$168,IF($P$5=\"Course 2\",Général!G$170,IF($P$5=\"Course 3\",Général!G$172,Général!G$174)))","v":"UBS Lorient 2"},{"$f":"IF($Q$5=\"Course 1\",Général!G$178,IF($Q$5=\"Course 2\",Général!G$180,IF($Q$5=\"Course 3\",Général!G$182,Général!G$184)))","v":"ENSMAC"},{"$f":"IF($R$5=\"Course 1\",Général!G$188,IF($R$5=\"Course 2\",Général!G$190,IF($R$5=\"Course 3\",Général!G$192,Général!G$194)))","v":"IMT Brest 1"},{"$f":"IF($S$5=\"Course 1\",Général!G$198,IF($S$5=\"Course 2\",Général!G$200,IF($S$5=\"Course 3\",Général!G$202,Général!G$204)))","v":"Orléans"},{"$f":"IF($T$5=\"Course 1\",Général!G$208,IF($T$5=\"Course 2\",Général!G$210,IF($T$5=\"Course 3\",Général!G$212,Général!G$214)))","v":"Orléans"},null,{"$f":"Général!B15","v":"Orléans"},5]
["7ème Equipage",null,{"$f":"IF($C$5=\"Course 1\",Général!H38,IF($C$5=\"Course 2\",Général!H40,IF($C$5=\"Course 3\",Général!H42,Général!H44)))","v":"IMT Brest 1"},{"$f":"IF($D$5=\"Course 1\",Général!H48,IF($D$5=\"Course 2\",Général!H50,IF($D$5=\"Course 3\",Général!H52,Général!H54)))","v":"Karlsruhe"},{"$f":"IF($E$5=\"Course 1\",Général!H58,IF($E$5=\"Course 2\",Général!H60,IF($E$5=\"Course 3\",Général!H62,Général!H64)))","v":"Centrale Nantes 2"},{"$f":"IF($F$5=\"Course 1\",Général!H$68,IF($F$5=\"Course 2\",Général!H$70,IF($F$5=\"Course 3\",Général!H$72,Général!H$74)))","v":"Intechmer"},{"$f":"IF($G$5=\"Course 1\",Général!H$78,IF($G$5=\"Course 2\",Général!H$80,IF($G$5=\"Course 3\",Général!H$82,Général!H$84)))","v":"IMT Brest 1"},{"$f":"IF($H$5=\"Course 1\",Général!H$88,IF($H$5=\"Course 2\",Général!H$90,IF($H$5=\"Course 3\",Général!H$92,Général!H$94)))","v":"Intechmer"},{"$f":"IF($I$5=\"Course 1\",Général!H$98,IF($I$5=\"Course 2\",Général!H$100,IF($I$5=\"Course 3\",Général!H$102,Général!H$104)))","v":"Plymouth"},{"$f":"IF($J$5=\"Course 1\",Général!H$108,IF($J$5=\"Course 2\",Général!H$110,IF($J$5=\"Course 3\",Général!H$112,Général!H$114)))","v":"Unicaen 2"},{"$f":"IF($K$5=\"Course 1\",Général!H$118,IF($K$5=\"Course 2\",Général!H$120,IF($K$5=\"Course 3\",Général!H$122,Général!H$124)))","v":"Intechmer"},{"$f":"IF($L$5=\"Course 1\",Général!H$128,IF($L$5=\"Course 2\",Général!H$130,IF($L$5=\"Course 3\",Général!H$132,Général!H$134)))","v":"Centrale Nantes 1"},{"$f":"IF($M$5=\"Course 1\",Général!H$138,IF($M$5=\"Course 2\",Général!H$140,IF($M$5=\"Course 3\",Général!H$142,Général!H$144)))","v":"Univ Nantes 2"},{"$f":"IF($N$5=\"Course 1\",Général!H$148,IF($N$5=\"Course 2\",Général!H$150,IF($N$5=\"Course 3\",Général!H$152,Général!H$154)))","v":"La Rochelle 2"},{"$f":"IF($O$5=\"Course 1\",Général!H$158,IF($O$5=\"Course 2\",Général!H$160,IF($O$5=\"Course 3\",Général!H$162,Général!H$164)))","v":"Univ Nantes 3"},{"$f":"IF($P$5=\"Course 1\",Général!H$168,IF($P$5=\"Course 2\",Général!H$170,IF($P$5=\"Course 3\",Général!H$172,Général!H$174)))","v":"UBS Lorient 1"},{"$f":"IF($Q$5=\"Course 1\",Général!H$178,IF($Q$5=\"Course 2\",Général!H$180,IF($Q$5=\"Course 3\",Général!H$182,Général!H$184)))","v":"Karlsruhe"},{"$f":"IF($R$5=\"Course 1\",Général!H$188,IF($R$5=\"Course 2\",Général!H$190,IF($R$5=\"Course 3\",Général!H$192,Général!H$194)))","v":"Centrale Nantes 1"},{"$f":"IF($S$5=\"Course 1\",Général!H$198,IF($S$5=\"Course 2\",Général!H$200,IF($S$5=\"Course 3\",Général!H$202,Général!H$204)))","v":"La Rochelle 1"},{"$f":"IF($T$5=\"Course 1\",Général!H$208,IF($T$5=\"Course 2\",Général!H$210,IF($T$5=\"Course 3\",Général!H$212,Général!H$214)))","v":"St Brieuc 1"},null,{"$f":"Général!B16","v":"IMT Brest 1"},5]
["8ème Equipage",null,{"$f":"IF($C$5=\"Course 1\",Général!I38,IF($C$5=\"Course 2\",Général!I40,IF($C$5=\"Course 3\",Général!I42,Général!I44)))","v":"Univ Nantes 3"},{"$f":"IF($D$5=\"Course 1\",Général!I48,IF($D$5=\"Course 2\",Général!I50,IF($D$5=\"Course 3\",Général!I52,Général!I54)))","v":"Centrale Nantes 1"},{"$f":"IF($E$5=\"Course 1\",Général!I58,IF($E$5=\"Course 2\",Général!I60,IF($E$5=\"Course 3\",Général!I62,Général!I64)))","v":"Unicaen 2"},{"$f":"IF($F$5=\"Course 1\",Général!I$68,IF($F$5=\"Course 2\",Général!I$70,IF($F$5=\"Course 3\",Général!I$72,Général!I$74)))","v":"Southampton"},{"$f":"IF($G$5=\"Course 1\",Général!I$78,IF($G$5=\"Course 2\",Général!I$80,IF($G$5=\"Course 3\",Général!I$82,Général!I$84)))","v":"Southampton"},{"$f":"IF($H$5=\"Course 1\",Général!I$88,IF($H$5=\"Course 2\",Général!I$90,IF($H$5=\"Course 3\",Général!I$92,Général!I$94)))","v":"Unicaen 1"},{"$f":"IF($I$5=\"Course 1\",Général!I$98,IF($I$5=\"Course 2\",Général!I$100,IF($I$5=\"Course 3\",Général!I$102,Général!I$104)))","v":"IMT Nantes"},{"$f":"IF($J$5=\"Course 1\",Général!I$108,IF($J$5=\"Course 2\",Général!I$110,IF($J$5=\"Course 3\",Général!I$112,Général!I$114)))","v":"Unicaen 1"},{"$f":"IF($K$5=\"Course 1\",Général!I$118,IF($K$5=\"Course 2\",Général!I$120,IF($K$5=\"Course 3\",Général!I$122,Général!I$124)))","v":"Karlsruhe"},{"$f":"IF($L$5=\"Course 1\",Général!I$128,IF($L$5=\"Course 2\",Général!I$130,IF($L$5=\"Course 3\",Général!I$132,Général!I$134)))","v":"Hannover"},{"$f":"IF($M$5=\"Course 1\",Général!I$138,IF($M$5=\"Course 2\",Général!I$140,IF($M$5=\"Course 3\",Général!I$142,Général!I$144)))","v":"ST Brieuc 2"},{"$f":"IF($N$5=\"Course 1\",Général!I$148,IF($N$5=\"Course 2\",Général!I$150,IF($N$5=\"Course 3\",Général!I$152,Général!I$154)))","v":"UNIV Nantes 1"},{"$f":"IF($O$5=\"Course 1\",Général!I$158,IF($O$5=\"Course 2\",Général!I$160,IF($O$5=\"Course 3\",Général!I$162,Général!I$164)))","v":"UBS Lorient 2"},{"$f":"IF($P$5=\"Course 1\",Général!I$168,IF($P$5=\"Course 2\",Général!I$170,IF($P$5=\"Course 3\",Général!I$172,Général!I$174)))","v":"Unicaen 2"},{"$f":"IF($Q$5=\"Course 1\",Général!I$178,IF($Q$5=\"Course 2\",Général!I$180,IF($Q$5=\"Course 3\",Général!I$182,Général!I$184)))","v":"Orléans"},{"$f":"IF($R$5=\"Course 1\",Général!I$188,IF($R$5=\"Course 2\",Général!I$190,IF($R$5=\"Course 3\",Général!I$192,Général!I$194)))","v":"UBS Lorient 2"},{"$f":"IF($S$5=\"Course 1\",Général!I$198,IF($S$5=\"Course 2\",Général!I$200,IF($S$5=\"Course 3\",Général!I$202,Général!I$204)))","v":"UBO 2"},{"$f":"IF($T$5=\"Course 1\",Général!I$208,IF($T$5=\"Course 2\",Général!I$210,IF($T$5=\"Course 3\",Général!I$212,Général!I$214)))","v":"UBO 2"},null,{"$f":"Général!B17","v":"ENSMAC"},6]
["9ème Equipage",null,{"$f":"IF($C$5=\"Course 1\",Général!J38,IF($C$5=\"Course 2\",Général!J40,IF($C$5=\"Course 3\",Général!J42,Général!J44)))","v":"Karlsruhe"},{"$f":"IF($D$5=\"Course 1\",Général!J48,IF($D$5=\"Course 2\",Général!J50,IF($D$5=\"Course 3\",Général!J52,Général!J54)))","v":"INSA Lyon"},{"$f":"IF($E$5=\"Course 1\",Général!J58,IF($E$5=\"Course 2\",Général!J60,IF($E$5=\"Course 3\",Général!J62,Général!J64)))","v":"ENSTA 1"},{"$f":"IF($F$5=\"Course 1\",Général!J$68,IF($F$5=\"Course 2\",Général!J$70,IF($F$5=\"Course 3\",Général!J$72,Général!J$74)))","v":"IMT Nantes"},{"$f":"IF($G$5=\"Course 1\",Général!J$78,IF($G$5=\"Course 2\",Général!J$80,IF($G$5=\"Course 3\",Général!J$82,Général!J$84)))","v":"ENSTA 1"},{"$f":"IF($H$5=\"Course 1\",Général!J$88,IF($H$5=\"Course 2\",Général!J$90,IF($H$5=\"Course 3\",Général!$J92,Général!J$94)))","v":"Centrale Nantes 2"},{"$f":"IF($I$5=\"Course 1\",Général!J$98,IF($I$5=\"Course 2\",Général!J$100,IF($I$5=\"Course 3\",Général!J$102,Général!J$104)))","v":"ENSTA 1"},{"$f":"IF($J$5=\"Course 1\",Général!J$108,IF($J$5=\"Course 2\",Général!J$110,IF($J$5=\"Course 3\",Général!J$112,Général!J$114)))","v":"Orléans"},{"$f":"IF($K$5=\"Course 1\",Général!J$118,IF($K$5=\"Course 2\",Général!J$120,IF($K$5=\"Course 3\",Général!J$122,Général!J$124)))","v":"Centrale Nantes 2"},{"$f":"IF($L$5=\"Course 1\",Général!J$128,IF($L$5=\"Course 2\",Général!J$130,IF($L$5=\"Course 3\",Général!J$132,Général!J$134)))","v":"St Brieuc 1"},{"$f":"IF($M$5=\"Course 1\",Général!J$138,IF($M$5=\"Course 2\",Général!J$140,IF($M$5=\"Course 3\",Général!J$142,Général!J$144)))","v":"La Rochelle 1"},{"$f":"IF($N$5=\"Course 1\",Général!J$148,IF($N$5=\"Course 2\",Général!J$150,IF($N$5=\"Course 3\",Général!J$152,Général!J$154)))","v":"Plymouth"},{"$f":"IF($O$5=\"Course 1\",Général!J$158,IF($O$5=\"Course 2\",Général!J$160,IF($O$5=\"Course 3\",Général!J$162,Général!J$164)))","v":"Southampton"},{"$f":"IF($P$5=\"Course 1\",Général!J$168,IF($P$5=\"Course 2\",Général!J$170,IF($P$5=\"Course 3\",Général!J$172,Général!J$174)))","v":"IMT Brest 2"},{"$f":"IF($Q$5=\"Course 1\",Général!J$178,IF($Q$5=\"Course 2\",Général!J$180,IF($Q$5=\"Course 3\",Général!J$182,Général!J$184)))","v":"IMT Nantes"},{"$f":"IF($R$5=\"Course 1\",Général!J$188,IF($R$5=\"Course 2\",Général!J$190,IF($R$5=\"Course 3\",Général!J$192,Général!J$194)))","v":"UBS Lorient 1"},{"$f":"IF($S$5=\"Course 1\",Général!J$198,IF($S$5=\"Course 2\",Général!J$200,IF($S$5=\"Course 3\",Général!J$202,Général!J$204)))","v":"Karlsruhe"},{"$f":"IF($T$5=\"Course 1\",Général!J$208,IF($T$5=\"Course 2\",Général!J$210,IF($T$5=\"Course 3\",Général!J$212,Général!J$214)))","v":"Karlsruhe"},null,{"$f":"Général!B18","v":"St Brieuc 1"},7]
["10ème Equipage",null,{"$f":"IF($C$5=\"Course 1\",Général!K38,IF($C$5=\"Course 2\",Général!K40,IF($C$5=\"Course 3\",Général!K42,Général!K44)))","v":"Intechmer"},{"$f":"IF($D$5=\"Course 1\",Général!K48,IF($D$5=\"Course 2\",Général!K50,IF($D$5=\"Course 3\",Général!K52,Général!K54)))","v":"Unicaen 1"},{"$f":"IF($E$5=\"Course 1\",Général!K58,IF($E$5=\"Course 2\",Général!K60,IF($E$5=\"Course 3\",Général!K62,Général!K64)))","v":"Karlsruhe"},{"$f":"IF($F$5=\"Course 1\",Général!K$68,IF($F$5=\"Course 2\",Général!K$70,IF($F$5=\"Course 3\",Général!K$72,Général!K$74)))","v":"UBO 2"},{"$f":"IF($G$5=\"Course 1\",Général!K$78,IF($G$5=\"Course 2\",Général!K$80,IF($G$5=\"Course 3\",Général!K$82,Général!K$84)))","v":"UBO 2"},{"$f":"IF($H$5=\"Course 1\",Général!K$88,IF($H$5=\"Course 2\",Général!K$90,IF($H$5=\"Course 3\",Général!$K92,Général!K$94)))","v":"Univ Nantes 3"},{"$f":"IF($I$5=\"Course 1\",Général!K$98,IF($I$5=\"Course 2\",Général!K$100,IF($I$5=\"Course 3\",Général!K$102,Général!K$104)))","v":"Orléans"},{"$f":"IF($J$5=\"Course 1\",Général!K$108,IF($J$5=\"Course 2\",Général!K$110,IF($J$5=\"Course 3\",Général!K$112,Général!K$114)))","v":"Plymouth"},{"$f":"IF($K$5=\"Course 1\",Général!K$118,IF($K$5=\"Course 2\",Général!K$120,IF($K$5=\"Course 3\",Général!K$122,Général!K$124)))","v":"ST Brieuc 2"},{"$f":"IF($L$5=\"Course 1\",Général!K$128,IF($L$5=\"Course 2\",Général!K$130,IF($L$5=\"Course 3\",Général!K$132,Général!K$134)))","v":"INSA Lyon"},{"$f":"IF($M$5=\"Course 1\",Général!K$138,IF($M$5=\"Course 2\",Général!K$140,IF($M$5=\"Course 3\",Général!K$142,Général!K$144)))","v":"UBS Lorient 2"},{"$f":"IF($N$5=\"Course 1\",Général!K$148,IF($N$5=\"Course 2\",Général!K$150,IF($N$5=\"Course 3\",Général!K$152,Général!K$154)))","v":"Karlsruhe"},{"$f":"IF($O$5=\"Course 1\",Général!K$158,IF($O$5=\"Course 2\",Général!K$160,IF($O$5=\"Course 3\",Général!K$162,Général!K$164)))","v":"Centrale Nantes 1"},{"$f":"IF($P$5=\"Course 1\",Général!K$168,IF($P$5=\"Course 2\",Général!K$170,IF($P$5=\"Course 3\",Général!K$172,Général!K$174)))","v":"Centrale Nantes 1"},{"$f":"IF($Q$5=\"Course 1\",Général!K$178,IF($Q$5=\"Course 2\",Général!K$180,IF($Q$5=\"Course 3\",Général!K$182,Général!K$184)))","v":"Paris Sorbone"},{"$f":"IF($R$5=\"Course 1\",Général!K$188,IF($R$5=\"Course 2\",Général!K$190,IF($R$5=\"Course 3\",Général!K$192,Général!K$194)))","v":"UBO 1"},{"$f":"IF($S$5=\"Course 1\",Général!K$198,IF($S$5=\"Course 2\",Général!K$200,IF($S$5=\"Course 3\",Général!K$202,Général!K$204)))","v":"Univ Nantes 2"},{"$f":"IF($T$5=\"Course 1\",Général!K$208,IF($T$5=\"Course 2\",Général!K$210,IF($T$5=\"Course 3\",Général!K$212,Général!K$214)))","v":"ENSTA 1"},null,{"$f":"Général!B19","v":"Hannover"},4]
[null,null,null,null,null,null,null,null,null,null,null,null,null,null,null,null,null,null,null,null,null,{"$f":"Général!B20","v":"ENSTA 2"},4]
[null,null,null,null,null,null,null,null,null,null,null,null,null,null,null,null,null,null,null,null,null,{"$f":"Général!B21","v":"Southampton"},5]
[null,null,null,null,null,null,null,null,null,null,null,null,null,null,null,null,null,null,null,null,null,{"$f":"Général!B22","v":"La Rochelle 1"},5]
[null,null,null,null,null,null,null,null,null,null,null,null,null,null,null,null,null,null,null,null,null,{"$f":"Général!B23","v":"Centrale Nantes 1"},5]
[null,null,null,null,null,null,null,null,null,null,null,null,null,null,null,null,null,null,null,null,null,{"$f":"Général!B24","v":"ST Brieuc 2"},5]
[null,null,null,null,null,null,null,null,null,null,null,null,null,null,null,null,null,null,null,null,null,{"$f":"Général!B25","v":"UNIV Nantes 1"},6]
[null,null,null,null,null,null,null,null,null,null,null,null,null,null,null,null,null,null,null,null,null,{"$f":"Général!B26","v":"Intechmer"},4]
[null,null,null,null,null,null,null,null,null,null,null,null,null,null,null,null,null,null,null,null,null,{"$f":"Général!B27","v":"IMT Nantes"},6]
[null,null,null,null,null,null,null,null,null,null,null,null,null,null,null,null,null,null,null,null,null,{"$f":"Général!B28","v":"INSA Lyon"},4]
[null,null,null,null,null,null,null,null,null,null,null,null,null,null,null,null,null,null,null,null,null,{"$f":"Général!B29","v":"Centrale Nantes 2"},6]
[null,null,null,null,null,null,null,null,null,null,null,null,null,null,null,null,null,null,null,null,null,{"$f":"Général!B30","v":"UBS Lorient 2"},5]
[null,null,null,null,null,null,null,null,null,null,null,null,null,null,null,null,null,null,null,null,null,{"$f":"Général!B31","v":"La Rochelle 2"},6]
[null,null,null,null,null,null,null,null,null,null,null,null,null,null,null,null,null,null,null,null,null,{"$f":"Général!B32","v":"UBO 1"},3]
[null,null,null,null,null,null,null,null,null,null,null,null,null,null,null,null,null,null,null,null,null,{"$f":"Général!B33","v":"Eq.31"},0]
[null,null,null,null,null,null,null,null,null,null,null,null,null,null,null,null,null,null,null,null,null,{"$f":"Général!B34","v":"Eq.32"},0]

{"sheet":"Eq.10","index":15,"n_rows":32,"n_cols":23,"rows_kept":32,"cut":false,"hidden":false,"merged":[[7,0,7,1],[0,0,1,5],[0,6,1,10],[3,0,3,1],[4,0,4,1],[5,0,5,1],[14,0,14,1],[15,0,15,1],[16,0,16,1],[8,0,8,1],[9,0,9,1],[10,0,10,1],[11,0,11,1],[12,0,12,1],[13,0,13,1]]}
["Equipage ",null,null,null,null,null,{"$f":"Général!B12","v":"IMT Brest 2"},null,null,null,null,null,null,null,null,null,null,null,null,null,null,{"$f":"Général!B3","v":"UBO 2"},{"$f":"COUNTIF(C$8:T$16,V1)","v":7}]
[null,null,null,null,null,null,null,null,null,null,null,null,null,null,null,null,null,null,null,null,null,{"$f":"Général!B4","v":"Paris Sorbone"},{"$f":"COUNTIF($C$8:$T$16,V2)","v":5}]
[null,null,null,null,null,null,null,null,null,null,null,null,null,null,null,null,null,null,null,null,null,{"$f":"Général!B5","v":"UBS Lorient 1"},{"$f":"COUNTIF($C$8:$T$16,V3)","v":6}]
[null,null,"FLIGHT 1","FLIGHT 2","FLIGHT 3","FLIGHT 4","FLIGHT 5","FLIGHT 6","FLIGHT 7","FLIGHT 8","FLIGHT 9","FLIGHT 10","FLIGHT 11","FLIGHT 12","FLIGHT 13","FLIGHT 14","FLIGHT 15","FLIGHT 16","FLIGHT 17","FLIGHT 18",null,{"$f":"Général!B6","v":"Univ Nantes 3"},1]
["N° de course",null,{"$f":"IF(COUNTIF(Général!B38:K38,$G$1)=1,\"Course 1\",IF(COUNTIF(Général!B40:K40,$G$1)=1,\"Course 2\",IF(COUNTIF(Général!B42:K42,$G$1)=1,\"Course 3\",\"Course 4\")))","v":"Course 2"},{"$f":"IF(COUNTIF(Général!B48:K48,$G$1)=1,\"Course 1\",IF(COUNTIF(Général!B50:K50,$G$1)=1,\"Course 2\",IF(COUNTIF(Général!B52:K52,$G$1)=1,\"Course 3\",\"Course 4\")))","v":"Course 3"},{"$f":"IF(COUNTIF(Général!B58:K58,$G$1)=1,\"Course 1\",IF(COUNTIF(Général!B60:K60,$G$1)=1,\"Course 2\",IF(COUNTIF(Général!B62:K62,$G$1)=1,\"Course 3\",\"Course 4\")))","v":"Course 1"},{"$f":"IF(COUNTIF(Général!B68:K68,$G$1)=1,\"Course 1\",IF(COUNTIF(Général!B70:K70,$G$1)=1,\"Course 2\",IF(COUNTIF(Général!B72:K72,$G$1)=1,\"Course 3\",\"Course 4\")))","v":"Course 1"},{"$f":"IF(COUNTIF(Général!B78:K78,$G$1)=1,\"Course 1\",IF(COUNTIF(Général!B80:K80,$G$1)=1,\"Course 2\",IF(COUNTIF(Général!B82:K82,$G$1)=1,\"Course 3\",\"Course 4\")))","v":"Course 3"},{"$f":"IF(COUNTIF(Général!B88:K88,$G$1)=1,\"Course 1\",IF(COUNTIF(Général!B90:K90,$G$1)=1,\"Course 2\",IF(COUNTIF(Général!B92:K92,$G$1)=1,\"Course 3\",\"Course 4\")))","v":"Course 3"},{"$f":"IF(COUNTIF(Général!B98:K98,$G$1)=1,\"Course 1\",IF(COUNTIF(Général!B100:K100,$G$1)=1,\"Course 2\",IF(COUNTIF(Général!B102:K102,$G$1)=1,\"Course 3\",\"Course 4\")))","v":"Course 3"},{"$f":"IF(COUNTIF(Général!B108:K108,$G$1)=1,\"Course 1\",IF(COUNTIF(Général!B110:K110,$G$1)=1,\"Course 2\",IF(COUNTIF(Général!B112:K112,$G$1)=1,\"Course 3\",\"Course 4\")))","v":"Course 3"},{"$f":"IF(COUNTIF(Général!B118:K118,$G$1)=1,\"Course 1\",IF(COUNTIF(Général!B120:K120,$G$1)=1,\"Course 2\",IF(COUNTIF(Général!B122:K122,$G$1)=1,\"Course 3\",\"Course 4\")))","v":"Course 3"},{"$f":"IF(COUNTIF(Général!B128:K128,$G$1)=1,\"Course 1\",IF(COUNTIF(Général!B130:K130,$G$1)=1,\"Course 2\",IF(COUNTIF(Général!B132:K132,$G$1)=1,\"Course 3\",\"Course 4\")))","v":"Course 3"},{"$f":"IF(COUNTIF(Général!B138:K138,$G$1)=1,\"Course 1\",IF(COUNTIF(Général!B140:K140,$G$1)=1,\"Course 2\",IF(COUNTIF(Général!B142:K142,$G$1)=1,\"Course 3\",\"Course 4\")))","v":"Course 1"},{"$f":"IF(COUNTIF(Général!B148:K148,$G$1)=1,\"Course 1\",IF(COUNTIF(Général!B150:K150,$G$1)=1,\"Course 2\",IF(COUNTIF(Général!B152:K152,$G$1)=1,\"Course 3\",\"Course 4\")))","v":"Course 3"},{"$f":"IF(COUNTIF(Général!B158:K158,$G$1)=1,\"Course 1\",IF(COUNTIF(Général!B160:K160,$G$1)=1,\"Course 2\",IF(COUNTIF(Général!B162:K162,$G$1)=1,\"Course 3\",\"Course 4\")))","v":"Course 2"},{"$f":"IF(COUNTIF(Général!B168:K168,$G$1)=1,\"Course 1\",IF(COUNTIF(Général!B170:K170,$G$1)=1,\"Course 2\",IF(COUNTIF(Général!B172:K172,$G$1)=1,\"Course 3\",\"Course 4\")))","v":"Course 3"},{"$f":"IF(COUNTIF(Général!B178:K178,$G$1)=1,\"Course 1\",IF(COUNTIF(Général!B180:K180,$G$1)=1,\"Course 2\",IF(COUNTIF(Général!B182:K182,$G$1)=1,\"Course 3\",\"Course 4\")))","v":"Course 1"},{"$f":"IF(COUNTIF(Général!B188:K188,$G$1)=1,\"Course 1\",IF(COUNTIF(Général!B190:K190,$G$1)=1,\"Course 2\",IF(COUNTIF(Général!B192:K192,$G$1)=1,\"Course 3\",\"Course 4\")))","v":"Course 1"},{"$f":"IF(COUNTIF(Général!B198:K198,$G$1)=1,\"Course 1\",IF(COUNTIF(Général!B200:K200,$G$1)=1,\"Course 2\",IF(COUNTIF(Général!B202:K202,$G$1)=1,\"Course 3\",\"Course 4\")))","v":"Course 3"},{"$f":"IF(COUNTIF(Général!B208:K208,$G$1)=1,\"Course 1\",IF(COUNTIF(Général!B210:K210,$G$1)=1,\"Course 2\",IF(COUNTIF(Général!B212:K212,$G$1)=1,\"Course 3\",\"Course 4\")))","v":"Course 1"},null,{"$f":"Général!B7","v":"Paris Cité"},5]
["Bateau",null,{"$f":"IF(COUNTIF(Général!B38:B44,$G$1)=1,\"Boat 1\",IF(COUNTIF(Général!C38:C44,$G$1)=1,\"Boat 2\",IF(COUNTIF(Général!D38:D44,$G$1)=1,\"Boat 3\", IF(COUNTIF(Général!E38:E44,$G$1)=1,\"Boat 4\", IF(COUNTIF(Général!F38:F44,$G$1)=1,\"Boat 5\", IF(COUNTIF(Général!G38:G44,$G$1)=1,\"Boat 6\", IF(COUNTIF(Général!H38:H44,$G$1)=1,\"Boat 7\",IF(COUNTIF(Général!I38:I44,$G$1)=1,\"Boat 8\",\"Boat 9\"))))))))","v":"Boat 7"},{"$f":"IF(COUNTIF(Général!B48:B54,$G$1)=1,\"Boat 1\",IF(COUNTIF(Général!C48:C54,$G$1)=1,\"Boat 2\",IF(COUNTIF(Général!D48:D54,$G$1)=1,\"Boat 3\", IF(COUNTIF(Général!E48:E54,$G$1)=1,\"Boat 4\", IF(COUNTIF(Général!F48:F54,$G$1)=1,\"Boat 5\", IF(COUNTIF(Général!G48:G54,$G$1)=1,\"Boat 6\", IF(COUNTIF(Général!H48:H54,$G$1)=1,\"Boat 7\",IF(COUNTIF(Général!I38:I44,$G$1)=1,\"Boat 8\",\"Boat 9\"))))))))","v":"Boat 3"},{"$f":"IF(COUNTIF(Général!B58:B64,$G$1)=1,\"Boat 1\",IF(COUNTIF(Général!C58:C64,$G$1)=1,\"Boat 2\",IF(COUNTIF(Général!D58:D64,$G$1)=1,\"Boat 3\", IF(COUNTIF(Général!E58:E64,$G$1)=1,\"Boat 4\", IF(COUNTIF(Général!F58:F64,$G$1)=1,\"Boat 5\", IF(COUNTIF(Général!G58:G64,$G$1)=1,\"Boat 6\", IF(COUNTIF(Général!H58:H64,$G$1)=1,\"Boat 7\",IF(COUNTIF(Général!I38:I44,$G$1)=1,\"Boat 8\",\"Boat 9\"))))))))","v":"Boat 3"},{"$f":"IF(COUNTIF(Général!B68:B74,$G$1)=1,\"Boat 1\",IF(COUNTIF(Général!C68:C74,$G$1)=1,\"Boat 2\",IF(COUNTIF(Général!D68:D74,$G$1)=1,\"Boat 3\", IF(COUNTIF(Général!E68:E74,$G$1)=1,\"Boat 4\", IF(COUNTIF(Général!F68:F74,$G$1)=1,\"Boat 5\", IF(COUNTIF(Général!G68:G74,$G$1)=1,\"Boat 6\", IF(COUNTIF(Général!H68:H74,$G$1)=1,\"Boat 7\",IF(COUNTIF(Général!I38:I44,$G$1)=1,\"Boat 8\",\"Boat 9\"))))))))","v":"Boat 7"},{"$f":"IF(COUNTIF(Général!B78:B84,$G$1)=1,\"Boat 1\",IF(COUNTIF(Général!C78:C84,$G$1)=1,\"Boat 2\",IF(COUNTIF(Général!D78:D84,$G$1)=1,\"Boat 3\", IF(COUNTIF(Général!E78:E84,$G$1)=1,\"Boat 4\", IF(COUNTIF(Général!F78:F84,$G$1)=1,\"Boat 5\", IF(COUNTIF(Général!G78:G84,$G$1)=1,\"Boat 6\", IF(COUNTIF(Général!H78:H84,$G$1)=1,\"Boat 7\",IF(COUNTIF(Général!I38:I44,$G$1)=1,\"Boat 8\",\"Boat 9\"))))))))","v":"Boat 2"},{"$f":"IF(COUNTIF(Général!B88:B94,$G$1)=1,\"Boat 1\",IF(COUNTIF(Général!C88:C94,$G$1)=1,\"Boat 2\",IF(COUNTIF(Général!D88:D94,$G$1)=1,\"Boat 3\", IF(COUNTIF(Général!E88:E94,$G$1)=1,\"Boat 4\", IF(COUNTIF(Général!F88:F94,$G$1)=1,\"Boat 5\", IF(COUNTIF(Général!G88:G94,$G$1)=1,\"Boat 6\", IF(COUNTIF(Général!H88:H94,$G$1)=1,\"Boat 7\",IF(COUNTIF(Général!I38:I44,$G$1)=1,\"Boat 8\",\"Boat 9\"))))))))","v":"Boat 6"},{"$f":"IF(COUNTIF(Général!B98:B104,$G$1)=1,\"Boat 1\",IF(COUNTIF(Général!C98:C104,$G$1)=1,\"Boat 2\",IF(COUNTIF(Général!D98:D104,$G$1)=1,\"Boat 3\", IF(COUNTIF(Général!E98:E104,$G$1)=1,\"Boat 4\", IF(COUNTIF(Général!F98:F104,$G$1)=1,\"Boat 5\", IF(COUNTIF(Général!G98:G104,$G$1)=1,\"Boat 6\", IF(COUNTIF(Général!H98:H104,$G$1)=1,\"Boat 7\",IF(COUNTIF(Général!I38:I44,$G$1)=1,\"Boat 8\",\"Boat 9\"))))))))","v":"Boat 7"},{"$f":"IF(COUNTIF(Général!B108:B114,$G$1)=1,\"Boat 1\",IF(COUNTIF(Général!C108:C114,$G$1)=1,\"Boat 2\",IF(COUNTIF(Général!D108:D114,$G$1)=1,\"Boat 3\", IF(COUNTIF(Général!E108:E114,$G$1)=1,\"Boat 4\", IF(COUNTIF(Général!F108:F114,$G$1)=1,\"Boat 5\", IF(COUNTIF(Général!G108:G114,$G$1)=1,\"Boat 6\", IF(COUNTIF(Général!H108:H114,$G$1)=1,\"Boat 7\",IF(COUNTIF(Général!I38:I44,$G$1)=1,\"Boat 8\",\"Boat 9\"))))))))","v":"Boat 9"},{"$f":"IF(COUNTIF(Général!B118:B124,$G$1)=1,\"Boat 1\",IF(COUNTIF(Général!C118:C124,$G$1)=1,\"Boat 2\",IF(COUNTIF(Général!D118:D124,$G$1)=1,\"Boat 3\", IF(COUNTIF(Général!E118:E124,$G$1)=1,\"Boat 4\", IF(COUNTIF(Général!F118:F124,$G$1)=1,\"Boat 5\", IF(COUNTIF(Général!G118:G124,$G$1)=1,\"Boat 6\", IF(COUNTIF(Général!H118:H124,$G$1)=1,\"Boat 7\",IF(COUNTIF(Général!I38:I44,$G$1)=1,\"Boat 8\",\"Boat 9\"))))))))","v":"Boat 5"},{"$f":"IF(COUNTIF(Général!B128:B134,$G$1)=1,\"Boat 1\",IF(COUNTIF(Général!C128:C134,$G$1)=1,\"Boat 2\",IF(COUNTIF(Général!D128:D134,$G$1)=1,\"Boat 3\", IF(COUNTIF(Général!E128:E134,$G$1)=1,\"Boat 4\", IF(COUNTIF(Général!F128:F134,$G$1)=1,\"Boat 5\", IF(COUNTIF(Général!G128:G134,$G$1)=1,\"Boat 6\", IF(COUNTIF(Général!H128:H134,$G$1)=1,\"Boat 7\",IF(COUNTIF(Général!I38:I44,$G$1)=1,\"Boat 8\",\"Boat 9\"))))))))","v":"Boat 1"},{"$f":"IF(COUNTIF(Général!B138:B144,$G$1)=1,\"Boat 1\",IF(COUNTIF(Général!C138:C144,$G$1)=1,\"Boat 2\",IF(COUNTIF(Général!C138:D144,$G$1)=1,\"Boat 3\", IF(COUNTIF(Général!C138:E144,$G$1)=1,\"Boat 4\", IF(COUNTIF(Général!F138:F144,$G$1)=1,\"Boat 5\", IF(COUNTIF(Général!G138:G144,$G$1)=1,\"Boat 6\", IF(COUNTIF(Général!H138:H144,$G$1)=1,\"Boat 7\",IF(COUNTIF(Général!I38:I44,$G$1)=1,\"Boat 8\",\"Boat 9\"))))))))","v":"Boat 1"},{"$f":"IF(COUNTIF(Général!B148:B154,$G$1)=1,\"Boat 1\",IF(COUNTIF(Général!C148:C154,$G$1)=1,\"Boat 2\",IF(COUNTIF(Général!D148:D154,$G$1)=1,\"Boat 3\", IF(COUNTIF(Général!E148:E154,$G$1)=1,\"Boat 4\", IF(COUNTIF(Général!F148:F154,$G$1)=1,\"Boat 5\", IF(COUNTIF(Général!G148:G154,$G$1)=1,\"Boat 6\", IF(COUNTIF(Général!H148:H154,$G$1)=1,\"Boat 7\",IF(COUNTIF(Général!I38:I44,$G$1)=1,\"Boat 8\",\"Boat 9\"))))))))","v":"Boat 3"},{"$f":"IF(COUNTIF(Général!B158:B164,$G$1)=1,\"Boat 1\",IF(COUNTIF(Général!C158:C164,$G$1)=1,\"Boat 2\",IF(COUNTIF(Général!D160:D164,$G$1)=1,\"Boat 3\", IF(COUNTIF(Général!E158:E164,$G$1)=1,\"Boat 4\", IF(COUNTIF(Général!F158:F164,$G$1)=1,\"Boat 5\", IF(COUNTIF(Général!G158:G164,$G$1)=1,\"Boat 6\", IF(COUNTIF(Général!H158:H164,$G$1)=1,\"Boat 7\",IF(COUNTIF(Général!I38:I44,$G$1)=1,\"Boat 8\",\"Boat 9\"))))))))","v":"Boat 9"},{"$f":"IF(COUNTIF(Général!B168:B174,$G$1)=1,\"Boat 1\",IF(COUNTIF(Général!C168:C174,$G$1)=1,\"Boat 2\",IF(COUNTIF(Général!D168:D174,$G$1)=1,\"Boat 3\", IF(COUNTIF(Général!E168:E174,$G$1)=1,\"Boat 4\", IF(COUNTIF(Général!F178:F184,$G$1)=1,\"Boat 5\", IF(COUNTIF(Général!G178:G184,$G$1)=1,\"Boat 6\", IF(COUNTIF(Général!H178:H184,$G$1)=1,\"Boat 7\",IF(COUNTIF(Général!I38:I44,$G$1)=1,\"Boat 8\",\"Boat 9\"))))))))","v":"Boat 9"},{"$f":"IF(COUNTIF(Général!B178:B184,$G$1)=1,\"Boat 1\",IF(COUNTIF(Général!C178:C184,$G$1)=1,\"Boat 2\",IF(COUNTIF(Général!D178:D184,$G$1)=1,\"Boat 3\", IF(COUNTIF(Général!E178:E184,$G$1)=1,\"Boat 4\", IF(COUNTIF(Général!F178:F184,$G$1)=1,\"Boat 5\", IF(COUNTIF(Général!G178:G184,$G$1)=1,\"Boat 6\", IF(COUNTIF(Général!H178:H184,$G$1)=1,\"Boat 7\",IF(COUNTIF(Général!I38:I44,$G$1)=1,\"Boat 8\",\"Boat 9\"))))))))","v":"Boat 9"},{"$f":"IF(COUNTIF(Général!B188:B194,$G$1)=1,\"Boat 1\",IF(COUNTIF(Général!C188:C194,$G$1)=1,\"Boat 2\",IF(COUNTIF(Général!D188:D194,$G$1)=1,\"Boat 3\", IF(COUNTIF(Général!E188:E194,$G$1)=1,\"Boat 4\", IF(COUNTIF(Général!F188:F194,$G$1)=1,\"Boat 5\", IF(COUNTIF(Général!G188:G194,$G$1)=1,\"Boat 6\", IF(COUNTIF(Général!H188:H194,$G$1)=1,\"Boat 7\",IF(COUNTIF(Général!I38:I44,$G$1)=1,\"Boat 8\",\"Boat 9\"))))))))","v":"Boat 1"},{"$f":"IF(COUNTIF(Général!B198:B204,$G$1)=1,\"Boat 1\",IF(COUNTIF(Général!C198:C204,$G$1)=1,\"Boat 2\",IF(COUNTIF(Général!D198:D204,$G$1)=1,\"Boat 3\", IF(COUNTIF(Général!E198:E204,$G$1)=1,\"Boat 4\", IF(COUNTIF(Général!F198:F204,$G$1)=1,\"Boat 5\", IF(COUNTIF(Général!G198:G204,$G$1)=1,\"Boat 6\", IF(COUNTIF(Général!H198:H204,$G$1)=1,\"Boat 7\",IF(COUNTIF(Général!I38:I44,$G$1)=1,\"Boat 8\",\"Boat 9\"))))))))","v":"Boat 3"},{"$f":"IF(COUNTIF(Général!B208:B214,$G$1)=1,\"Boat 1\",IF(COUNTIF(Général!C208:C214,$G$1)=1,\"Boat 2\",IF(COUNTIF(Général!D208:D214,$G$1)=1,\"Boat 3\", IF(COUNTIF(Général!E208:E214,$G$1)=1,\"Boat 4\", IF(COUNTIF(Général!F208:F214,$G$1)=1,\"Boat 5\", IF(COUNTIF(Général!G208:G214,$G$1)=1,\"Boat 6\", IF(COUNTIF(Général!H208:H214,$G$1)=1,\"Boat 7\",IF(COUNTIF(Général!I38:I44,$G$1)=1,\"Boat 8\",\"Boat 9\"))))))))","v":"Boat 3"},null,{"$f":"Général!B8","v":"Plymouth"},5]
[null,null,null,null,null,null,null,null,null,null,null,null,null,null,null,null,null,null,null,null,null,{"$f":"Général!B9","v":"Unicaen 2"},7]
["1er Equipage",null,{"$f":"IF($C$5=\"Course 1\",Général!B38,IF($C$5=\"Course 2\",Général!B40,IF($C$5=\"Course 3\",Général!B42,Général!B44)))","v":"ST Brieuc 2"},{"$f":"IF($D$5=\"Course 1\",Général!B48,IF($D$5=\"Course 2\",Général!B50,IF($D$5=\"Course 3\",Général!B52,Général!B54)))","v":"UBO 1"},{"$f":"IF($E$5=\"Course 1\",Général!B58,IF($E$5=\"Course 2\",Général!B60,IF($E$5=\"Course 3\",Général!B62,Général!B64)))","v":"Orléans"},{"$f":"IF($F$5=\"Course 1\",Général!B$68,IF($F$5=\"Course 2\",Général!B$70,IF($F$5=\"Course 3\",Général!B$72,Général!B$74)))","v":"ST Brieuc 2"},{"$f":"IF($G$5=\"Course 1\",Général!B$78,IF($G$5=\"Course 2\",Général!B$80,IF($G$5=\"Course 3\",Général!B$82,Général!B$84)))","v":"ENSTA 2"},{"$f":"IF($H$5=\"Course 1\",Général!B$88,IF($H$5=\"Course 2\",Général!B$90,IF($H$5=\"Course 3\",Général!B$92,Général!B$94)))","v":"Unicaen 2"},{"$f":"IF($I$5=\"Course 1\",Général!B$98,IF($I$5=\"Course 2\",Général!B$100,IF($I$5=\"Course 3\",Général!B$102,Général!B$104)))","v":"La Rochelle 2"},{"$f":"IF($J$5=\"Course 1\",Général!B$108,IF($J$5=\"Course 2\",Général!B$110,IF($J$5=\"Course 3\",Général!B$112,Général!B$114)))","v":"UNIV Nantes 1"},{"$f":"IF($K$5=\"Course 1\",Général!B$118,IF($K$5=\"Course 2\",Général!B$120,IF($K$5=\"Course 3\",Général!B$122,Général!B$124)))","v":"INSA Lyon"},{"$f":"IF($L$5=\"Course 1\",Général!B$128,IF($L$5=\"Course 2\",Général!B$130,IF($L$5=\"Course 3\",Général!B$132,Général!B$134)))","v":"IMT Brest 2"},{"$f":"IF($M$5=\"Course 1\",Général!B$138,IF($M$5=\"Course 2\",Général!B$140,IF($M$5=\"Course 3\",Général!B$142,Général!B$144)))","v":"IMT Brest 2"},{"$f":"IF($N$5=\"Course 1\",Général!B$148,IF($N$5=\"Course 2\",Général!B$150,IF($N$5=\"Course 3\",Général!B$152,Général!B$154)))","v":"La Rochelle 1"},{"$f":"IF($O$5=\"Course 1\",Général!B$158,IF($O$5=\"Course 2\",Général!B$160,IF($O$5=\"Course 3\",Général!B$162,Général!B$164)))","v":"ENSMAC"},{"$f":"IF($P$5=\"Course 1\",Général!B$168,IF($P$5=\"Course 2\",Général!B$170,IF($P$5=\"Course 3\",Général!B$172,Général!B$174)))","v":"Plymouth"},{"$f":"IF($Q$5=\"Course 1\",Général!B$178,IF($Q$5=\"Course 2\",Général!B$180,IF($Q$5=\"Course 3\",Général!B$182,Général!B$184)))","v":"Plymouth"},{"$f":"IF($R$5=\"Course 1\",Général!B$188,IF($R$5=\"Course 2\",Général!B$190,IF($R$5=\"Course 3\",Général!B$192,Général!B$194)))","v":"IMT Brest 2"},{"$f":"IF($S$5=\"Course 1\",Général!B$198,IF($S$5=\"Course 2\",Général!B$200,IF($S$5=\"Course 3\",Général!B$202,Général!B$204)))","v":"UBS Lorient 2"},{"$f":"IF($T$5=\"Course 1\",Général!B$208,IF($T$5=\"Course 2\",Général!B$210,IF($T$5=\"Course 3\",Général!B$212,Général!B$214)))","v":"UBS Lorient 2"},null,{"$f":"Général!B10","v":"Univ Nantes 2"},3]
["2nd Equipage",null,{"$f":"IF($C$5=\"Course 1\",Général!C38,IF($C$5=\"Course 2\",Général!C40,IF($C$5=\"Course 3\",Général!C42,Général!C44)))","v":"UBS Lorient 2"},{"$f":"IF($D$5=\"Course 1\",Général!C48,IF($D$5=\"Course 2\",Général!C50,IF($D$5=\"Course 3\",Général!C52,Général!C54)))","v":"Centrale Nantes 2"},{"$f":"IF($E$5=\"Course 1\",Général!C58,IF($E$5=\"Course 2\",Général!C60,IF($E$5=\"Course 3\",Général!C62,Général!C64)))","v":"UBS Lorient 2"},{"$f":"IF($F$5=\"Course 1\",Général!C$68,IF($F$5=\"Course 2\",Général!C$70,IF($F$5=\"Course 3\",Général!C$72,Général!C$74)))","v":"La Rochelle 1"},{"$f":"IF($G$5=\"Course 1\",Général!C$78,IF($G$5=\"Course 2\",Général!C$80,IF($G$5=\"Course 3\",Général!C$82,Général!C$84)))","v":"IMT Brest 2"},{"$f":"IF($H$5=\"Course 1\",Général!C$88,IF($H$5=\"Course 2\",Général!C$90,IF($H$5=\"Course 3\",Général!C$92,Général!C$94)))","v":"Paris Sorbone"},{"$f":"IF($I$5=\"Course 1\",Général!C$98,IF($I$5=\"Course 2\",Général!C$100,IF($I$5=\"Course 3\",Général!C$102,Général!C$104)))","v":"ENSTA 2"},{"$f":"IF($J$5=\"Course 1\",Général!C$108,IF($J$5=\"Course 2\",Général!C$110,IF($J$5=\"Course 3\",Général!C$112,Général!C$114)))","v":"UBS Lorient 1"},{"$f":"IF($K$5=\"Course 1\",Général!C$118,IF($K$5=\"Course 2\",Général!C$120,IF($K$5=\"Course 3\",Général!C$122,Général!C$124)))","v":"ENSTA 2"},{"$f":"IF($L$5=\"Course 1\",Général!C$128,IF($L$5=\"Course 2\",Général!C$130,IF($L$5=\"Course 3\",Général!C$132,Général!C$134)))","v":"UNIV Nantes 1"},{"$f":"IF($M$5=\"Course 1\",Général!C$138,IF($M$5=\"Course 2\",Général!C$140,IF($M$5=\"Course 3\",Général!C$142,Général!C$144)))","v":"UNIV Nantes 1"},{"$f":"IF($N$5=\"Course 1\",Général!C$148,IF($N$5=\"Course 2\",Général!C$150,IF($N$5=\"Course 3\",Général!C$152,Général!C$154)))","v":"Intechmer"},{"$f":"IF($O$5=\"Course 1\",Général!C$158,IF($O$5=\"Course 2\",Général!C$160,IF($O$5=\"Course 3\",Général!C$162,Général!C$164)))","v":"UBO 2"},{"$f":"IF($P$5=\"Course 1\",Général!C$168,IF($P$5=\"Course 2\",Général!C$170,IF($P$5=\"Course 3\",Général!C$172,Général!C$174)))","v":"La Rochelle 2"},{"$f":"IF($Q$5=\"Course 1\",Général!C$178,IF($Q$5=\"Course 2\",Général!C$180,IF($Q$5=\"Course 3\",Général!C$182,Général!C$184)))","v":"UNIV Nantes 1"},{"$f":"IF($R$5=\"Course 1\",Général!C$188,IF($R$5=\"Course 2\",Général!C$190,IF($R$5=\"Course 3\",Général!C$192,Général!C$194)))","v":"IMT Nantes"},{"$f":"IF($S$5=\"Course 1\",Général!C$198,IF($S$5=\"Course 2\",Général!C$200,IF($S$5=\"Course 3\",Général!C$202,Général!C$204)))","v":"Paris Sorbone"},{"$f":"IF($T$5=\"Course 1\",Général!C$208,IF($T$5=\"Course 2\",Général!C$210,IF($T$5=\"Course 3\",Général!C$212,Général!C$214)))","v":"Unicaen 2"},null,{"$f":"Général!B11","v":"Karlsruhe"},6]
["3ème Equipage",null,{"$f":"IF($C$5=\"Course 1\",Général!D38,IF($C$5=\"Course 2\",Général!D40,IF($C$5=\"Course 3\",Général!D42,Général!D44)))","v":"UNIV Nantes 1"},{"$f":"IF($D$5=\"Course 1\",Général!D48,IF($D$5=\"Course 2\",Général!D50,IF($D$5=\"Course 3\",Général!D52,Général!D54)))","v":"IMT Brest 2"},{"$f":"IF($E$5=\"Course 1\",Général!D58,IF($E$5=\"Course 2\",Général!D60,IF($E$5=\"Course 3\",Général!D62,Général!D64)))","v":"IMT Brest 2"},{"$f":"IF($F$5=\"Course 1\",Général!D$68,IF($F$5=\"Course 2\",Général!D$70,IF($F$5=\"Course 3\",Général!D$72,Général!D$74)))","v":"Centrale Nantes 1"},{"$f":"IF($G$5=\"Course 1\",Général!D$78,IF($G$5=\"Course 2\",Général!D$80,IF($G$5=\"Course 3\",Général!D$82,Général!D$84)))","v":"Unicaen 1"},{"$f":"IF($H$5=\"Course 1\",Général!D$88,IF($H$5=\"Course 2\",Général!D$90,IF($H$5=\"Course 3\",Général!D$92,Général!D$94)))","v":"UBS Lorient 2"},{"$f":"IF($I$5=\"Course 1\",Général!D$98,IF($I$5=\"Course 2\",Général!D$100,IF($I$5=\"Course 3\",Général!D$102,Général!D$104)))","v":"Hannover"},{"$f":"IF($J$5=\"Course 1\",Général!D$108,IF($J$5=\"Course 2\",Général!D$110,IF($J$5=\"Course 3\",Général!D$112,Général!D$114)))","v":"IMT Brest 1"},{"$f":"IF($K$5=\"Course 1\",Général!D$118,IF($K$5=\"Course 2\",Général!D$120,IF($K$5=\"Course 3\",Général!D$122,Général!D$124)))","v":"Southampton"},{"$f":"IF($L$5=\"Course 1\",Général!D$128,IF($L$5=\"Course 2\",Général!D$130,IF($L$5=\"Course 3\",Général!D$132,Général!D$134)))","v":"UBS Lorient 1"},{"$f":"IF($M$5=\"Course 1\",Général!D$138,IF($M$5=\"Course 2\",Général!D$140,IF($M$5=\"Course 3\",Général!D$142,Général!D$144)))","v":"UBS Lorient 1"},{"$f":"IF($N$5=\"Course 1\",Général!D$148,IF($N$5=\"Course 2\",Général!D$150,IF($N$5=\"Course 3\",Général!D$152,Général!D$154)))","v":"IMT Brest 2"},{"$f":"IF($O$5=\"Course 1\",Général!D$158,IF($O$5=\"Course 2\",Général!D$160,IF($O$5=\"Course 3\",Général!D$162,Général!D$164)))","v":"ENSTA 2"},{"$f":"IF($P$5=\"Course 1\",Général!D$168,IF($P$5=\"Course 2\",Général!D$170,IF($P$5=\"Course 3\",Général!D$172,Général!D$174)))","v":"Karlsruhe"},{"$f":"IF($Q$5=\"Course 1\",Général!D$178,IF($Q$5=\"Course 2\",Général!D$180,IF($Q$5=\"Course 3\",Général!D$182,Général!D$184)))","v":"Univ Nantes 2"},{"$f":"IF($R$5=\"Course 1\",Général!D$188,IF($R$5=\"Course 2\",Général!D$190,IF($R$5=\"Course 3\",Général!D$192,Général!D$194)))","v":"La Rochelle 1"},{"$f":"IF($S$5=\"Course 1\",Général!D$198,IF($S$5=\"Course 2\",Général!D$200,IF($S$5=\"Course 3\",Général!D$202,Général!D$204)))","v":"IMT Brest 2"},{"$f":"IF($T$5=\"Course 1\",Général!D$208,IF($T$5=\"Course 2\",Général!D$210,IF($T$5=\"Course 3\",Général!D$212,Général!D$214)))","v":"IMT Brest 2"},null,{"$f":"Général!B12","v":"IMT Brest 2"},16]
["4ème Equipage",null,{"$f":"IF($C$5=\"Course 1\",Général!E38,IF($C$5=\"Course 2\",Général!E40,IF($C$5=\"Course 3\",Général!E42,Général!E44)))","v":"Orléans"},{"$f":"IF($D$5=\"Course 1\",Général!E48,IF($D$5=\"Course 2\",Général!E50,IF($D$5=\"Course 3\",Général!E52,Général!E54)))","v":"Paris Cité"},{"$f":"IF($E$5=\"Course 1\",Général!E58,IF($E$5=\"Course 2\",Général!E60,IF($E$5=\"Course 3\",Général!E62,Général!E64)))","v":"Paris Sorbone"},{"$f":"IF($F$5=\"Course 1\",Général!E$68,IF($F$5=\"Course 2\",Général!E$70,IF($F$5=\"Course 3\",Général!E$72,Général!E$74)))","v":"Plymouth"},{"$f":"IF($G$5=\"Course 1\",Général!E$78,IF($G$5=\"Course 2\",Général!E$80,IF($G$5=\"Course 3\",Général!E$82,Général!E$84)))","v":"La Rochelle 1"},{"$f":"IF($H$5=\"Course 1\",Général!E$88,IF($H$5=\"Course 2\",Général!E$90,IF($H$5=\"Course 3\",Général!E$92,Général!E$94)))","v":"UBS Lorient 1"},{"$f":"IF($I$5=\"Course 1\",Général!E$98,IF($I$5=\"Course 2\",Général!E$100,IF($I$5=\"Course 3\",Général!E$102,Général!E$104)))","v":"Paris Sorbone"},{"$f":"IF($J$5=\"Course 1\",Général!E$108,IF($J$5=\"Course 2\",Général!E$110,IF($J$5=\"Course 3\",Général!E$112,Général!E$114)))","v":"UBS Lorient 2"},{"$f":"IF($K$5=\"Course 1\",Général!E$118,IF($K$5=\"Course 2\",Général!E$120,IF($K$5=\"Course 3\",Général!E$122,Général!E$124)))","v":"IMT Brest 1"},{"$f":"IF($L$5=\"Course 1\",Général!E$128,IF($L$5=\"Course 2\",Général!E$130,IF($L$5=\"Course 3\",Général!E$132,Général!E$134)))","v":"Karlsruhe"},{"$f":"IF($M$5=\"Course 1\",Général!E$138,IF($M$5=\"Course 2\",Général!E$140,IF($M$5=\"Course 3\",Général!E$142,Général!E$144)))","v":"Orléans"},{"$f":"IF($N$5=\"Course 1\",Général!E$148,IF($N$5=\"Course 2\",Général!E$150,IF($N$5=\"Course 3\",Général!E$152,Général!E$154)))","v":"UBO 2"},{"$f":"IF($O$5=\"Course 1\",Général!E$158,IF($O$5=\"Course 2\",Général!E$160,IF($O$5=\"Course 3\",Général!E$162,Général!E$164)))","v":"UBO 1"},{"$f":"IF($P$5=\"Course 1\",Général!E$168,IF($P$5=\"Course 2\",Général!E$170,IF($P$5=\"Course 3\",Général!E$172,Général!E$174)))","v":"UBO 1"},{"$f":"IF($Q$5=\"Course 1\",Général!E$178,IF($Q$5=\"Course 2\",Général!E$180,IF($Q$5=\"Course 3\",Général!E$182,Général!E$184)))","v":"UBO 1"},{"$f":"IF($R$5=\"Course 1\",Général!E$188,IF($R$5=\"Course 2\",Général!E$190,IF($R$5=\"Course 3\",Général!E$192,Général!E$194)))","v":"St Brieuc 1"},{"$f":"IF($S$5=\"Course 1\",Général!E$198,IF($S$5=\"Course 2\",Général!E$200,IF($S$5=\"Course 3\",Général!E$202,Général!E$204)))","v":"Centrale Nantes 2"},{"$f":"IF($T$5=\"Course 1\",Général!E$208,IF($T$5=\"Course 2\",Général!E$210,IF($T$5=\"Course 3\",Général!E$212,Général!E$214)))","v":"IMT Nantes"},null,{"$f":"Général!B13","v":"Unicaen 1"},4]
["5ème Equipage",null,{"$f":"IF($C$5=\"Course 1\",Général!F38,IF($C$5=\"Course 2\",Général!F40,IF($C$5=\"Course 3\",Général!F42,Général!F44)))","v":"Unicaen 2"},{"$f":"IF($D$5=\"Course 1\",Général!F48,IF($D$5=\"Course 2\",Général!F50,IF($D$5=\"Course 3\",Général!F52,Général!F54)))","v":"UBO 2"},{"$f":"IF($E$5=\"Course 1\",Général!F58,IF($E$5=\"Course 2\",Général!F60,IF($E$5=\"Course 3\",Général!F62,Général!F64)))","v":"Univ Nantes 2"},{"$f":"IF($F$5=\"Course 1\",Général!F$68,IF($F$5=\"Course 2\",Général!F$70,IF($F$5=\"Course 3\",Général!F$72,Général!F$74)))","v":"UBS Lorient 1"},{"$f":"IF($G$5=\"Course 1\",Général!F$78,IF($G$5=\"Course 2\",Général!F$80,IF($G$5=\"Course 3\",Général!F$82,Général!F$84)))","v":"Orléans"},{"$f":"IF($H$5=\"Course 1\",Général!F$88,IF($H$5=\"Course 2\",Général!F$90,IF($H$5=\"Course 3\",Général!F$92,Général!F$94)))","v":"IMT Brest 1"},{"$f":"IF($I$5=\"Course 1\",Général!F$98,IF($I$5=\"Course 2\",Général!F$100,IF($I$5=\"Course 3\",Général!F$102,Général!F$104)))","v":"Centrale Nantes 1"},{"$f":"IF($J$5=\"Course 1\",Général!F$108,IF($J$5=\"Course 2\",Général!F$110,IF($J$5=\"Course 3\",Général!F$112,Général!F$114)))","v":"Intechmer"},{"$f":"IF($K$5=\"Course 1\",Général!F$118,IF($K$5=\"Course 2\",Général!F$120,IF($K$5=\"Course 3\",Général!F$122,Général!F$124)))","v":"IMT Brest 2"},{"$f":"IF($L$5=\"Course 1\",Général!F$128,IF($L$5=\"Course 2\",Général!$F130,IF($L$5=\"Course 3\",Général!F$132,Général!F$134)))","v":"Paris Sorbone"},{"$f":"IF($M$5=\"Course 1\",Général!F$138,IF($M$5=\"Course 2\",Général!F$140,IF($M$5=\"Course 3\",Général!F$142,Général!F$144)))","v":"Paris Cité"},{"$f":"IF($N$5=\"Course 1\",Général!F$148,IF($N$5=\"Course 2\",Général!F$150,IF($N$5=\"Course 3\",Général!F$152,Général!F$154)))","v":"INSA Lyon"},{"$f":"IF($O$5=\"Course 1\",Général!F$158,IF($O$5=\"Course 2\",Général!F$160,IF($O$5=\"Course 3\",Général!F$162,Général!F$164)))","v":"INSA Lyon"},{"$f":"IF($P$5=\"Course 1\",Général!F$168,IF($P$5=\"Course 2\",Général!F$170,IF($P$5=\"Course 3\",Général!F$172,Général!F$174)))","v":"Hannover"},{"$f":"IF($Q$5=\"Course 1\",Général!F$178,IF($Q$5=\"Course 2\",Général!F$180,IF($Q$5=\"Course 3\",Général!F$182,Général!F$184)))","v":"INSA Lyon"},{"$f":"IF($R$5=\"Course 1\",Général!F$188,IF($R$5=\"Course 2\",Général!F$190,IF($R$5=\"Course 3\",Général!F$192,Général!F$194)))","v":"Hannover"},{"$f":"IF($S$5=\"Course 1\",Général!F$198,IF($S$5=\"Course 2\",Général!F$200,IF($S$5=\"Course 3\",Général!F$202,Général!F$204)))","v":"Centrale Nantes 1"},{"$f":"IF($T$5=\"Course 1\",Général!F$208,IF($T$5=\"Course 2\",Général!F$210,IF($T$5=\"Course 3\",Général!F$212,Général!F$214)))","v":"ST Brieuc 2"},null,{"$f":"Général!B14","v":"ENSTA 1"},2]
["6ème Equipage",null,{"$f":"IF($C$5=\"Course 1\",Général!G38,IF($C$5=\"Course 2\",Général!G40,IF($C$5=\"Course 3\",Général!G42,Général!G44)))","v":"Hannover"},{"$f":"IF($D$5=\"Course 1\",Général!G48,IF($D$5=\"Course 2\",Général!G50,IF($D$5=\"Course 3\",Général!G52,Général!G54)))","v":"La Rochelle 2"},{"$f":"IF($E$5=\"Course 1\",Général!G58,IF($E$5=\"Course 2\",Général!G60,IF($E$5=\"Course 3\",Général!G62,Général!G64)))","v":"La Rochelle 2"},{"$f":"IF($F$5=\"Course 1\",Général!G$68,IF($F$5=\"Course 2\",Général!G$70,IF($F$5=\"Course 3\",Général!G$72,Général!G$74)))","v":"IMT Brest 1"},{"$f":"IF($G$5=\"Course 1\",Général!G$78,IF($G$5=\"Course 2\",Général!G$80,IF($G$5=\"Course 3\",Général!G$82,Général!G$84)))","v":"Paris Cité"},{"$f":"IF($H$5=\"Course 1\",Général!G$88,IF($H$5=\"Course 2\",Général!G$90,IF($H$5=\"Course 3\",Général!G$92,Général!G$94)))","v":"IMT Brest 2"},{"$f":"IF($I$5=\"Course 1\",Général!G$98,IF($I$5=\"Course 2\",Général!G$100,IF($I$5=\"Course 3\",Général!G$102,Général!G$104)))","v":"Unicaen 2"},{"$f":"IF($J$5=\"Course 1\",Général!G$108,IF($J$5=\"Course 2\",Général!G$110,IF($J$5=\"Course 3\",Général!G$112,Général!G$114)))","v":"ENSTA 1"},{"$f":"IF($K$5=\"Course 1\",Général!G$118,IF($K$5=\"Course 2\",Général!G$120,IF($K$5=\"Course 3\",Général!G$122,Général!G$124)))","v":"Unicaen 1"},{"$f":"IF($L$5=\"Course 1\",Général!G$128,IF($L$5=\"Course 2\",Général!G$130,IF($L$5=\"Course 3\",Général!G$132,Général!G$134)))","v":"ENSTA 2"},{"$f":"IF($M$5=\"Course 1\",Général!G$138,IF($M$5=\"Course 2\",Général!G$140,IF($M$5=\"Course 3\",Général!G$142,Général!G$144)))","v":"Unicaen 1"},{"$f":"IF($N$5=\"Course 1\",Général!G$148,IF($N$5=\"Course 2\",Général!G$150,IF($N$5=\"Course 3\",Général!G$152,Général!G$154)))","v":"Hannover"},{"$f":"IF($O$5=\"Course 1\",Général!G$158,IF($O$5=\"Course 2\",Général!G$160,IF($O$5=\"Course 3\",Général!G$162,Général!G$164)))","v":"Plymouth"},{"$f":"IF($P$5=\"Course 1\",Général!G$168,IF($P$5=\"Course 2\",Général!G$170,IF($P$5=\"Course 3\",Général!G$172,Général!G$174)))","v":"UBS Lorient 2"},{"$f":"IF($Q$5=\"Course 1\",Général!G$178,IF($Q$5=\"Course 2\",Général!G$180,IF($Q$5=\"Course 3\",Général!G$182,Général!G$184)))","v":"UBS Lorient 2"},{"$f":"IF($R$5=\"Course 1\",Général!G$188,IF($R$5=\"Course 2\",Général!G$190,IF($R$5=\"Course 3\",Général!G$192,Général!G$194)))","v":"Unicaen 2"},{"$f":"IF($S$5=\"Course 1\",Général!G$198,IF($S$5=\"Course 2\",Général!G$200,IF($S$5=\"Course 3\",Général!G$202,Général!G$204)))","v":"Orléans"},{"$f":"IF($T$5=\"Course 1\",Général!G$208,IF($T$5=\"Course 2\",Général!G$210,IF($T$5=\"Course 3\",Général!G$212,Général!G$214)))","v":"Orléans"},null,{"$f":"Général!B15","v":"Orléans"},6]
["7ème Equipage",null,{"$f":"IF($C$5=\"Course 1\",Général!H38,IF($C$5=\"Course 2\",Général!H40,IF($C$5=\"Course 3\",Général!H42,Général!H44)))","v":"IMT Brest 2"},{"$f":"IF($D$5=\"Course 1\",Général!H48,IF($D$5=\"Course 2\",Général!H50,IF($D$5=\"Course 3\",Général!H52,Général!H54)))","v":"Karlsruhe"},{"$f":"IF($E$5=\"Course 1\",Général!H58,IF($E$5=\"Course 2\",Général!H60,IF($E$5=\"Course 3\",Général!H62,Général!H64)))","v":"Intechmer"},{"$f":"IF($F$5=\"Course 1\",Général!H$68,IF($F$5=\"Course 2\",Général!H$70,IF($F$5=\"Course 3\",Général!H$72,Général!H$74)))","v":"IMT Brest 2"},{"$f":"IF($G$5=\"Course 1\",Général!H$78,IF($G$5=\"Course 2\",Général!H$80,IF($G$5=\"Course 3\",Général!H$82,Général!H$84)))","v":"Univ Nantes 2"},{"$f":"IF($H$5=\"Course 1\",Général!H$88,IF($H$5=\"Course 2\",Général!H$90,IF($H$5=\"Course 3\",Général!H$92,Général!H$94)))","v":"ST Brieuc 2"},{"$f":"IF($I$5=\"Course 1\",Général!H$98,IF($I$5=\"Course 2\",Général!H$100,IF($I$5=\"Course 3\",Général!H$102,Général!H$104)))","v":"IMT Brest 2"},{"$f":"IF($J$5=\"Course 1\",Général!H$108,IF($J$5=\"Course 2\",Général!H$110,IF($J$5=\"Course 3\",Général!H$112,Général!H$114)))","v":"Hannover"},{"$f":"IF($K$5=\"Course 1\",Général!H$118,IF($K$5=\"Course 2\",Général!H$120,IF($K$5=\"Course 3\",Général!H$122,Général!H$124)))","v":"Intechmer"},{"$f":"IF($L$5=\"Course 1\",Général!H$128,IF($L$5=\"Course 2\",Général!H$130,IF($L$5=\"Course 3\",Général!H$132,Général!H$134)))","v":"Centrale Nantes 1"},{"$f":"IF($M$5=\"Course 1\",Général!H$138,IF($M$5=\"Course 2\",Général!H$140,IF($M$5=\"Course 3\",Général!H$142,Général!H$144)))","v":"Centrale Nantes 1"},{"$f":"IF($N$5=\"Course 1\",Général!H$148,IF($N$5=\"Course 2\",Général!H$150,IF($N$5=\"Course 3\",Général!H$152,Général!H$154)))","v":"La Rochelle 2"},{"$f":"IF($O$5=\"Course 1\",Général!H$158,IF($O$5=\"Course 2\",Général!H$160,IF($O$5=\"Course 3\",Général!H$162,Général!H$164)))","v":"Paris Cité"},{"$f":"IF($P$5=\"Course 1\",Général!H$168,IF($P$5=\"Course 2\",Général!H$170,IF($P$5=\"Course 3\",Général!H$172,Général!H$174)))","v":"UBS Lorient 1"},{"$f":"IF($Q$5=\"Course 1\",Général!H$178,IF($Q$5=\"Course 2\",Général!H$180,IF($Q$5=\"Course 3\",Général!H$182,Général!H$184)))","v":"UBO 2"},{"$f":"IF($R$5=\"Course 1\",Général!H$188,IF($R$5=\"Course 2\",Général!H$190,IF($R$5=\"Course 3\",Général!H$192,Général!H$194)))","v":"Unicaen 1"},{"$f":"IF($S$5=\"Course 1\",Général!H$198,IF($S$5=\"Course 2\",Général!H$200,IF($S$5=\"Course 3\",Général!H$202,Général!H$204)))","v":"La Rochelle 1"},{"$f":"IF($T$5=\"Course 1\",Général!H$208,IF($T$5=\"Course 2\",Général!H$210,IF($T$5=\"Course 3\",Général!H$212,Général!H$214)))","v":"St Brieuc 1"},null,{"$f":"Général!B16","v":"IMT Brest 1"},4]
["8ème Equipage",null,{"$f":"IF($C$5=\"Course 1\",Général!I38,IF($C$5=\"Course 2\",Général!I40,IF($C$5=\"Course 3\",Général!I42,Général!I44)))","v":"Paris Cité"},{"$f":"IF($D$5=\"Course 1\",Général!I48,IF($D$5=\"Course 2\",Général!I50,IF($D$5=\"Course 3\",Général!I52,Général!I54)))","v":"Centrale Nantes 1"},{"$f":"IF($E$5=\"Course 1\",Général!I58,IF($E$5=\"Course 2\",Général!I60,IF($E$5=\"Course 3\",Général!I62,Général!I64)))","v":"Centrale Nantes 1"},{"$f":"IF($F$5=\"Course 1\",Général!I$68,IF($F$5=\"Course 2\",Général!I$70,IF($F$5=\"Course 3\",Général!I$72,Général!I$74)))","v":"UBO 1"},{"$f":"IF($G$5=\"Course 1\",Général!I$78,IF($G$5=\"Course 2\",Général!I$80,IF($G$5=\"Course 3\",Général!I$82,Général!I$84)))","v":"IMT Nantes"},{"$f":"IF($H$5=\"Course 1\",Général!I$88,IF($H$5=\"Course 2\",Général!I$90,IF($H$5=\"Course 3\",Général!I$92,Général!I$94)))","v":"UBO 2"},{"$f":"IF($I$5=\"Course 1\",Général!I$98,IF($I$5=\"Course 2\",Général!I$100,IF($I$5=\"Course 3\",Général!I$102,Général!I$104)))","v":"INSA Lyon"},{"$f":"IF($J$5=\"Course 1\",Général!I$108,IF($J$5=\"Course 2\",Général!I$110,IF($J$5=\"Course 3\",Général!I$112,Général!I$114)))","v":"Southampton"},{"$f":"IF($K$5=\"Course 1\",Général!I$118,IF($K$5=\"Course 2\",Général!I$120,IF($K$5=\"Course 3\",Général!I$122,Général!I$124)))","v":"Karlsruhe"},{"$f":"IF($L$5=\"Course 1\",Général!I$128,IF($L$5=\"Course 2\",Général!I$130,IF($L$5=\"Course 3\",Général!I$132,Général!I$134)))","v":"Hannover"},{"$f":"IF($M$5=\"Course 1\",Général!I$138,IF($M$5=\"Course 2\",Général!I$140,IF($M$5=\"Course 3\",Général!I$142,Général!I$144)))","v":"Hannover"},{"$f":"IF($N$5=\"Course 1\",Général!I$148,IF($N$5=\"Course 2\",Général!I$150,IF($N$5=\"Course 3\",Général!I$152,Général!I$154)))","v":"UNIV Nantes 1"},{"$f":"IF($O$5=\"Course 1\",Général!I$158,IF($O$5=\"Course 2\",Général!I$160,IF($O$5=\"Course 3\",Général!I$162,Général!I$164)))","v":"Centrale Nantes 2"},{"$f":"IF($P$5=\"Course 1\",Général!I$168,IF($P$5=\"Course 2\",Général!I$170,IF($P$5=\"Course 3\",Général!I$172,Général!I$174)))","v":"Unicaen 2"},{"$f":"IF($Q$5=\"Course 1\",Général!I$178,IF($Q$5=\"Course 2\",Général!I$180,IF($Q$5=\"Course 3\",Général!I$182,Général!I$184)))","v":"Southampton"},{"$f":"IF($R$5=\"Course 1\",Général!I$188,IF($R$5=\"Course 2\",Général!I$190,IF($R$5=\"Course 3\",Général!I$192,Général!I$194)))","v":"Univ Nantes 3"},{"$f":"IF($S$5=\"Course 1\",Général!I$198,IF($S$5=\"Course 2\",Général!I$200,IF($S$5=\"Course 3\",Général!I$202,Général!I$204)))","v":"UBO 2"},{"$f":"IF($T$5=\"Course 1\",Général!I$208,IF($T$5=\"Course 2\",Général!I$210,IF($T$5=\"Course 3\",Général!I$212,Général!I$214)))","v":"UBO 2"},null,{"$f":"Général!B17","v":"ENSMAC"},2]
["9ème Equipage",null,{"$f":"IF($C$5=\"Course 1\",Général!J38,IF($C$5=\"Course 2\",Général!J40,IF($C$5=\"Course 3\",Général!J42,Général!J44)))","v":"ENSMAC"},{"$f":"IF($D$5=\"Course 1\",Général!J48,IF($D$5=\"Course 2\",Général!J50,IF($D$5=\"Course 3\",Général!J52,Général!J54)))","v":"INSA Lyon"},{"$f":"IF($E$5=\"Course 1\",Général!J58,IF($E$5=\"Course 2\",Général!J60,IF($E$5=\"Course 3\",Général!J62,Général!J64)))","v":"INSA Lyon"},{"$f":"IF($F$5=\"Course 1\",Général!J$68,IF($F$5=\"Course 2\",Général!J$70,IF($F$5=\"Course 3\",Général!J$72,Général!J$74)))","v":"ENSTA 1"},{"$f":"IF($G$5=\"Course 1\",Général!J$78,IF($G$5=\"Course 2\",Général!J$80,IF($G$5=\"Course 3\",Général!J$82,Général!J$84)))","v":"Unicaen 2"},{"$f":"IF($H$5=\"Course 1\",Général!J$88,IF($H$5=\"Course 2\",Général!J$90,IF($H$5=\"Course 3\",Général!$J92,Général!J$94)))","v":"INSA Lyon"},{"$f":"IF($I$5=\"Course 1\",Général!J$98,IF($I$5=\"Course 2\",Général!J$100,IF($I$5=\"Course 3\",Général!J$102,Général!J$104)))","v":"UBO 1"},{"$f":"IF($J$5=\"Course 1\",Général!J$108,IF($J$5=\"Course 2\",Général!J$110,IF($J$5=\"Course 3\",Général!J$112,Général!J$114)))","v":"La Rochelle 1"},{"$f":"IF($K$5=\"Course 1\",Général!J$118,IF($K$5=\"Course 2\",Général!J$120,IF($K$5=\"Course 3\",Général!J$122,Général!J$124)))","v":"Centrale Nantes 2"},{"$f":"IF($L$5=\"Course 1\",Général!J$128,IF($L$5=\"Course 2\",Général!J$130,IF($L$5=\"Course 3\",Général!J$132,Général!J$134)))","v":"St Brieuc 1"},{"$f":"IF($M$5=\"Course 1\",Général!J$138,IF($M$5=\"Course 2\",Général!J$140,IF($M$5=\"Course 3\",Général!J$142,Général!J$144)))","v":"St Brieuc 1"},{"$f":"IF($N$5=\"Course 1\",Général!J$148,IF($N$5=\"Course 2\",Général!J$150,IF($N$5=\"Course 3\",Général!J$152,Général!J$154)))","v":"Plymouth"},{"$f":"IF($O$5=\"Course 1\",Général!J$158,IF($O$5=\"Course 2\",Général!J$160,IF($O$5=\"Course 3\",Général!J$162,Général!J$164)))","v":"Intechmer"},{"$f":"IF($P$5=\"Course 1\",Général!J$168,IF($P$5=\"Course 2\",Général!J$170,IF($P$5=\"Course 3\",Général!J$172,Général!J$174)))","v":"IMT Brest 2"},{"$f":"IF($Q$5=\"Course 1\",Général!J$178,IF($Q$5=\"Course 2\",Général!J$180,IF($Q$5=\"Course 3\",Général!J$182,Général!J$184)))","v":"IMT Brest 2"},{"$f":"IF($R$5=\"Course 1\",Général!J$188,IF($R$5=\"Course 2\",Général!J$190,IF($R$5=\"Course 3\",Général!J$192,Général!J$194)))","v":"Southampton"},{"$f":"IF($S$5=\"Course 1\",Général!J$198,IF($S$5=\"Course 2\",Général!J$200,IF($S$5=\"Course 3\",Général!J$202,Général!J$204)))","v":"Karlsruhe"},{"$f":"IF($T$5=\"Course 1\",Général!J$208,IF($T$5=\"Course 2\",Général!J$210,IF($T$5=\"Course 3\",Général!J$212,Général!J$214)))","v":"Karlsruhe"},null,{"$f":"Général!B18","v":"St Brieuc 1"},4]
["10ème Equipage",null,{"$f":"IF($C$5=\"Course 1\",Général!K38,IF($C$5=\"Course 2\",Général!K40,IF($C$5=\"Course 3\",Général!K42,Général!K44)))","v":"Paris Sorbone"},{"$f":"IF($D$5=\"Course 1\",Général!K48,IF($D$5=\"Course 2\",Général!K50,IF($D$5=\"Course 3\",Général!K52,Général!K54)))","v":"Unicaen 1"},{"$f":"IF($E$5=\"Course 1\",Général!K58,IF($E$5=\"Course 2\",Général!K60,IF($E$5=\"Course 3\",Général!K62,Général!K64)))","v":"UNIV Nantes 1"},{"$f":"IF($F$5=\"Course 1\",Général!K$68,IF($F$5=\"Course 2\",Général!K$70,IF($F$5=\"Course 3\",Général!K$72,Général!K$74)))","v":"Orléans"},{"$f":"IF($G$5=\"Course 1\",Général!K$78,IF($G$5=\"Course 2\",Général!K$80,IF($G$5=\"Course 3\",Général!K$82,Général!K$84)))","v":"Intechmer"},{"$f":"IF($H$5=\"Course 1\",Général!K$88,IF($H$5=\"Course 2\",Général!K$90,IF($H$5=\"Course 3\",Général!$K92,Général!K$94)))","v":"St Brieuc 1"},{"$f":"IF($I$5=\"Course 1\",Général!K$98,IF($I$5=\"Course 2\",Général!K$100,IF($I$5=\"Course 3\",Général!K$102,Général!K$104)))","v":"ENSMAC"},{"$f":"IF($J$5=\"Course 1\",Général!K$108,IF($J$5=\"Course 2\",Général!K$110,IF($J$5=\"Course 3\",Général!K$112,Général!K$114)))","v":"IMT Brest 2"},{"$f":"IF($K$5=\"Course 1\",Général!K$118,IF($K$5=\"Course 2\",Général!K$120,IF($K$5=\"Course 3\",Général!K$122,Général!K$124)))","v":"ST Brieuc 2"},{"$f":"IF($L$5=\"Course 1\",Général!K$128,IF($L$5=\"Course 2\",Général!K$130,IF($L$5=\"Course 3\",Général!K$132,Général!K$134)))","v":"INSA Lyon"},{"$f":"IF($M$5=\"Course 1\",Général!K$138,IF($M$5=\"Course 2\",Général!K$140,IF($M$5=\"Course 3\",Général!K$142,Général!K$144)))","v":"IMT Brest 1"},{"$f":"IF($N$5=\"Course 1\",Général!K$148,IF($N$5=\"Course 2\",Général!K$150,IF($N$5=\"Course 3\",Général!K$152,Général!K$154)))","v":"Karlsruhe"},{"$f":"IF($O$5=\"Course 1\",Général!K$158,IF($O$5=\"Course 2\",Général!K$160,IF($O$5=\"Course 3\",Général!K$162,Général!K$164)))","v":"IMT Brest 2"},{"$f":"IF($P$5=\"Course 1\",Général!K$168,IF($P$5=\"Course 2\",Général!K$170,IF($P$5=\"Course 3\",Général!K$172,Général!K$174)))","v":"Centrale Nantes 1"},{"$f":"IF($Q$5=\"Course 1\",Général!K$178,IF($Q$5=\"Course 2\",Général!K$180,IF($Q$5=\"Course 3\",Général!K$182,Général!K$184)))","v":"Unicaen 1"},{"$f":"IF($R$5=\"Course 1\",Général!K$188,IF($R$5=\"Course 2\",Général!K$190,IF($R$5=\"Course 3\",Général!K$192,Général!K$194)))","v":"Paris Sorbone"},{"$f":"IF($S$5=\"Course 1\",Général!K$198,IF($S$5=\"Course 2\",Général!K$200,IF($S$5=\"Course 3\",Général!K$202,Général!K$204)))","v":"Univ Nantes 2"},{"$f":"IF($T$5=\"Course 1\",Général!K$208,IF($T$5=\"Course 2\",Général!K$210,IF($T$5=\"Course 3\",Général!K$212,Général!K$214)))","v":"ENSTA 1"},null,{"$f":"Général!B19","v":"Hannover"},8]
[null,null,null,null,null,null,null,null,null,null,null,null,null,null,null,null,null,null,null,null,null,{"$f":"Général!B20","v":"ENSTA 2"},5]
[null,null,null,null,null,null,null,null,null,null,null,null,null,null,null,null,null,null,null,null,null,{"$f":"Général!B21","v":"Southampton"},4]
[null,null,null,null,null,null,null,null,null,null,null,null,null,null,null,null,null,null,null,null,null,{"$f":"Général!B22","v":"La Rochelle 1"},6]
[null,null,null,null,null,null,null,null,null,null,null,null,null,null,null,null,null,null,null,null,null,{"$f":"Général!B23","v":"Centrale Nantes 1"},7]
[null,null,null,null,null,null,null,null,null,null,null,null,null,null,null,null,null,null,null,null,null,{"$f":"Général!B24","v":"ST Brieuc 2"},4]
[null,null,null,null,null,null,null,null,null,null,null,null,null,null,null,null,null,null,null,null,null,{"$f":"Général!B25","v":"UNIV Nantes 1"},6]
[null,null,null,null,null,null,null,null,null,null,null,null,null,null,null,null,null,null,null,null,null,{"$f":"Général!B26","v":"Intechmer"},5]
[null,null,null,null,null,null,null,null,null,null,null,null,null,null,null,null,null,null,null,null,null,{"$f":"Général!B27","v":"IMT Nantes"},3]
[null,null,null,null,null,null,null,null,null,null,null,null,null,null,null,null,null,null,null,null,null,{"$f":"Général!B28","v":"INSA Lyon"},8]
[null,null,null,null,null,null,null,null,null,null,null,null,null,null,null,null,null,null,null,null,null,{"$f":"Général!B29","v":"Centrale Nantes 2"},4]
[null,null,null,null,null,null,null,null,null,null,null,null,null,null,null,null,null,null,null,null,null,{"$f":"Général!B30","v":"UBS Lorient 2"},8]
[null,null,null,null,null,null,null,null,null,null,null,null,null,null,null,null,null,null,null,null,null,{"$f":"Général!B31","v":"La Rochelle 2"},5]
[null,null,null,null,null,null,null,null,null,null,null,null,null,null,null,null,null,null,null,null,null,{"$f":"Général!B32","v":"UBO 1"},6]
[null,null,null,null,null,null,null,null,null,null,null,null,null,null,null,null,null,null,null,null,null,{"$f":"Général!B33","v":"Eq.31"},0]
[null,null,null,null,null,null,null,null,null,null,null,null,null,null,null,null,null,null,null,null,null,{"$f":"Général!B34","v":"Eq.32"},0]

{"sheet":"Eq.11","index":16,"n_rows":32,"n_cols":23,"rows_kept":32,"cut":false,"hidden":false,"merged":[[7,0,7,1],[0,0,1,5],[0,6,1,10],[3,0,3,1],[4,0,4,1],[5,0,5,1],[14,0,14,1],[15,0,15,1],[16,0,16,1],[8,0,8,1],[9,0,9,1],[10,0,10,1],[11,0,11,1],[12,0,12,1],[13,0,13,1]]}
["Equipage ",null,null,null,null,null,{"$f":"Général!B13","v":"Unicaen 1"},null,null,null,null,null,null,null,null,null,null,null,null,null,null,{"$f":"Général!B3","v":"UBO 2"},{"$f":"COUNTIF(C$8:T$16,V1)","v":5}]
[null,null,null,null,null,null,null,null,null,null,null,null,null,null,null,null,null,null,null,null,null,{"$f":"Général!B4","v":"Paris Sorbone"},{"$f":"COUNTIF($C$8:$T$16,V2)","v":1}]
[null,null,null,null,null,null,null,null,null,null,null,null,null,null,null,null,null,null,null,null,null,{"$f":"Général!B5","v":"UBS Lorient 1"},{"$f":"COUNTIF($C$8:$T$16,V3)","v":3}]
[null,null,"FLIGHT 1","FLIGHT 2","FLIGHT 3","FLIGHT 4","FLIGHT 5","FLIGHT 6","FLIGHT 7","FLIGHT 8","FLIGHT 9","FLIGHT 10","FLIGHT 11","FLIGHT 12","FLIGHT 13","FLIGHT 14","FLIGHT 15","FLIGHT 16","FLIGHT 17","FLIGHT 18",null,{"$f":"Général!B6","v":"Univ Nantes 3"},6]
["N° de course",null,{"$f":"IF(COUNTIF(Général!B38:K38,$G$1)=1,\"Course 1\",IF(COUNTIF(Général!B40:K40,$G$1)=1,\"Course 2\",IF(COUNTIF(Général!B42:K42,$G$1)=1,\"Course 3\",\"Course 4\")))","v":"Course 1"},{"$f":"IF(COUNTIF(Général!B48:K48,$G$1)=1,\"Course 1\",IF(COUNTIF(Général!B50:K50,$G$1)=1,\"Course 2\",IF(COUNTIF(Général!B52:K52,$G$1)=1,\"Course 3\",\"Course 4\")))","v":"Course 3"},{"$f":"IF(COUNTIF(Général!B58:K58,$G$1)=1,\"Course 1\",IF(COUNTIF(Général!B60:K60,$G$1)=1,\"Course 2\",IF(COUNTIF(Général!B62:K62,$G$1)=1,\"Course 3\",\"Course 4\")))","v":"Course 2"},{"$f":"IF(COUNTIF(Général!B68:K68,$G$1)=1,\"Course 1\",IF(COUNTIF(Général!B70:K70,$G$1)=1,\"Course 2\",IF(COUNTIF(Général!B72:K72,$G$1)=1,\"Course 3\",\"Course 4\")))","v":"Course 2"},{"$f":"IF(COUNTIF(Général!B78:K78,$G$1)=1,\"Course 1\",IF(COUNTIF(Général!B80:K80,$G$1)=1,\"Course 2\",IF(COUNTIF(Général!B82:K82,$G$1)=1,\"Course 3\",\"Course 4\")))","v":"Course 3"},{"$f":"IF(COUNTIF(Général!B88:K88,$G$1)=1,\"Course 1\",IF(COUNTIF(Général!B90:K90,$G$1)=1,\"Course 2\",IF(COUNTIF(Général!B92:K92,$G$1)=1,\"Course 3\",\"Course 4\")))","v":"Course 2"},{"$f":"IF(COUNTIF(Général!B98:K98,$G$1)=1,\"Course 1\",IF(COUNTIF(Général!B100:K100,$G$1)=1,\"Course 2\",IF(COUNTIF(Général!B102:K102,$G$1)=1,\"Course 3\",\"Course 4\")))","v":"Course 2"},{"$f":"IF(COUNTIF(Général!B108:K108,$G$1)=1,\"Course 1\",IF(COUNTIF(Général!B110:K110,$G$1)=1,\"Course 2\",IF(COUNTIF(Général!B112:K112,$G$1)=1,\"Course 3\",\"Course 4\")))","v":"Course 2"},{"$f":"IF(COUNTIF(Général!B118:K118,$G$1)=1,\"Course 1\",IF(COUNTIF(Général!B120:K120,$G$1)=1,\"Course 2\",IF(COUNTIF(Général!B122:K122,$G$1)=1,\"Course 3\",\"Course 4\")))","v":"Course 3"},{"$f":"IF(COUNTIF(Général!B128:K128,$G$1)=1,\"Course 1\",IF(COUNTIF(Général!B130:K130,$G$1)=1,\"Course 2\",IF(COUNTIF(Général!B132:K132,$G$1)=1,\"Course 3\",\"Course 4\")))","v":"Course 1"},{"$f":"IF(COUNTIF(Général!B138:K138,$G$1)=1,\"Course 1\",IF(COUNTIF(Général!B140:K140,$G$1)=1,\"Course 2\",IF(COUNTIF(Général!B142:K142,$G$1)=1,\"Course 3\",\"Course 4\")))","v":"Course 1"},{"$f":"IF(COUNTIF(Général!B148:K148,$G$1)=1,\"Course 1\",IF(COUNTIF(Général!B150:K150,$G$1)=1,\"Course 2\",IF(COUNTIF(Général!B152:K152,$G$1)=1,\"Course 3\",\"Course 4\")))","v":"Course 1"},{"$f":"IF(COUNTIF(Général!B158:K158,$G$1)=1,\"Course 1\",IF(COUNTIF(Général!B160:K160,$G$1)=1,\"Course 2\",IF(COUNTIF(Général!B162:K162,$G$1)=1,\"Course 3\",\"Course 4\")))","v":"Course 1"},{"$f":"IF(COUNTIF(Général!B168:K168,$G$1)=1,\"Course 1\",IF(COUNTIF(Général!B170:K170,$G$1)=1,\"Course 2\",IF(COUNTIF(Général!B172:K172,$G$1)=1,\"Course 3\",\"Course 4\")))","v":"Course 1"},{"$f":"IF(COUNTIF(Général!B178:K178,$G$1)=1,\"Course 1\",IF(COUNTIF(Général!B180:K180,$G$1)=1,\"Course 2\",IF(COUNTIF(Général!B182:K182,$G$1)=1,\"Course 3\",\"Course 4\")))","v":"Course 1"},{"$f":"IF(COUNTIF(Général!B188:K188,$G$1)=1,\"Course 1\",IF(COUNTIF(Général!B190:K190,$G$1)=1,\"Course 2\",IF(COUNTIF(Général!B192:K192,$G$1)=1,\"Course 3\",\"Course 4\")))","v":"Course 1"},{"$f":"IF(COUNTIF(Général!B198:K198,$G$1)=1,\"Course 1\",IF(COUNTIF(Général!B200:K200,$G$1)=1,\"Course 2\",IF(COUNTIF(Général!B202:K202,$G$1)=1,\"Course 3\",\"Course 4\")))","v":"Course 1"},{"$f":"IF(COUNTIF(Général!B208:K208,$G$1)=1,\"Course 1\",IF(COUNTIF(Général!B210:K210,$G$1)=1,\"Course 2\",IF(COUNTIF(Général!B212:K212,$G$1)=1,\"Course 3\",\"Course 4\")))","v":"Course 3"},null,{"$f":"Général!B7","v":"Paris Cité"},7]
["Bateau",null,{"$f":"IF(COUNTIF(Général!B38:B44,$G$1)=1,\"Boat 1\",IF(COUNTIF(Général!C38:C44,$G$1)=1,\"Boat 2\",IF(COUNTIF(Général!D38:D44,$G$1)=1,\"Boat 3\", IF(COUNTIF(Général!E38:E44,$G$1)=1,\"Boat 4\", IF(COUNTIF(Général!F38:F44,$G$1)=1,\"Boat 5\", IF(COUNTIF(Général!G38:G44,$G$1)=1,\"Boat 6\", IF(COUNTIF(Général!H38:H44,$G$1)=1,\"Boat 7\",IF(COUNTIF(Général!I38:I44,$G$1)=1,\"Boat 8\",\"Boat 9\"))))))))","v":"Boat 2"},{"$f":"IF(COUNTIF(Général!B48:B54,$G$1)=1,\"Boat 1\",IF(COUNTIF(Général!C48:C54,$G$1)=1,\"Boat 2\",IF(COUNTIF(Général!D48:D54,$G$1)=1,\"Boat 3\", IF(COUNTIF(Général!E48:E54,$G$1)=1,\"Boat 4\", IF(COUNTIF(Général!F48:F54,$G$1)=1,\"Boat 5\", IF(COUNTIF(Général!G48:G54,$G$1)=1,\"Boat 6\", IF(COUNTIF(Général!H48:H54,$G$1)=1,\"Boat 7\",IF(COUNTIF(Général!I38:I44,$G$1)=1,\"Boat 8\",\"Boat 9\"))))))))","v":"Boat 9"},{"$f":"IF(COUNTIF(Général!B58:B64,$G$1)=1,\"Boat 1\",IF(COUNTIF(Général!C58:C64,$G$1)=1,\"Boat 2\",IF(COUNTIF(Général!D58:D64,$G$1)=1,\"Boat 3\", IF(COUNTIF(Général!E58:E64,$G$1)=1,\"Boat 4\", IF(COUNTIF(Général!F58:F64,$G$1)=1,\"Boat 5\", IF(COUNTIF(Général!G58:G64,$G$1)=1,\"Boat 6\", IF(COUNTIF(Général!H58:H64,$G$1)=1,\"Boat 7\",IF(COUNTIF(Général!I38:I44,$G$1)=1,\"Boat 8\",\"Boat 9\"))))))))","v":"Boat 9"},{"$f":"IF(COUNTIF(Général!B68:B74,$G$1)=1,\"Boat 1\",IF(COUNTIF(Général!C68:C74,$G$1)=1,\"Boat 2\",IF(COUNTIF(Général!D68:D74,$G$1)=1,\"Boat 3\", IF(COUNTIF(Général!E68:E74,$G$1)=1,\"Boat 4\", IF(COUNTIF(Général!F68:F74,$G$1)=1,\"Boat 5\", IF(COUNTIF(Général!G68:G74,$G$1)=1,\"Boat 6\", IF(COUNTIF(Général!H68:H74,$G$1)=1,\"Boat 7\",IF(COUNTIF(Général!I38:I44,$G$1)=1,\"Boat 8\",\"Boat 9\"))))))))","v":"Boat 9"},{"$f":"IF(COUNTIF(Général!B78:B84,$G$1)=1,\"Boat 1\",IF(COUNTIF(Général!C78:C84,$G$1)=1,\"Boat 2\",IF(COUNTIF(Général!D78:D84,$G$1)=1,\"Boat 3\", IF(COUNTIF(Général!E78:E84,$G$1)=1,\"Boat 4\", IF(COUNTIF(Général!F78:F84,$G$1)=1,\"Boat 5\", IF(COUNTIF(Général!G78:G84,$G$1)=1,\"Boat 6\", IF(COUNTIF(Général!H78:H84,$G$1)=1,\"Boat 7\",IF(COUNTIF(Général!I38:I44,$G$1)=1,\"Boat 8\",\"Boat 9\"))))))))","v":"Boat 3"},{"$f":"IF(COUNTIF(Général!B88:B94,$G$1)=1,\"Boat 1\",IF(COUNTIF(Général!C88:C94,$G$1)=1,\"Boat 2\",IF(COUNTIF(Général!D88:D94,$G$1)=1,\"Boat 3\", IF(COUNTIF(Général!E88:E94,$G$1)=1,\"Boat 4\", IF(COUNTIF(Général!F88:F94,$G$1)=1,\"Boat 5\", IF(COUNTIF(Général!G88:G94,$G$1)=1,\"Boat 6\", IF(COUNTIF(Général!H88:H94,$G$1)=1,\"Boat 7\",IF(COUNTIF(Général!I38:I44,$G$1)=1,\"Boat 8\",\"Boat 9\"))))))))","v":"Boat 9"},{"$f":"IF(COUNTIF(Général!B98:B104,$G$1)=1,\"Boat 1\",IF(COUNTIF(Général!C98:C104,$G$1)=1,\"Boat 2\",IF(COUNTIF(Général!D98:D104,$G$1)=1,\"Boat 3\", IF(COUNTIF(Général!E98:E104,$G$1)=1,\"Boat 4\", IF(COUNTIF(Général!F98:F104,$G$1)=1,\"Boat 5\", IF(COUNTIF(Général!G98:G104,$G$1)=1,\"Boat 6\", IF(COUNTIF(Général!H98:H104,$G$1)=1,\"Boat 7\",IF(COUNTIF(Général!I38:I44,$G$1)=1,\"Boat 8\",\"Boat 9\"))))))))","v":"Boat 1"},{"$f":"IF(COUNTIF(Général!B108:B114,$G$1)=1,\"Boat 1\",IF(COUNTIF(Général!C108:C114,$G$1)=1,\"Boat 2\",IF(COUNTIF(Général!D108:D114,$G$1)=1,\"Boat 3\", IF(COUNTIF(Général!E108:E114,$G$1)=1,\"Boat 4\", IF(COUNTIF(Général!F108:F114,$G$1)=1,\"Boat 5\", IF(COUNTIF(Général!G108:G114,$G$1)=1,\"Boat 6\", IF(COUNTIF(Général!H108:H114,$G$1)=1,\"Boat 7\",IF(COUNTIF(Général!I38:I44,$G$1)=1,\"Boat 8\",\"Boat 9\"))))))))","v":"Boat 9"},{"$f":"IF(COUNTIF(Général!B118:B124,$G$1)=1,\"Boat 1\",IF(COUNTIF(Général!C118:C124,$G$1)=1,\"Boat 2\",IF(COUNTIF(Général!D118:D124,$G$1)=1,\"Boat 3\", IF(COUNTIF(Général!E118:E124,$G$1)=1,\"Boat 4\", IF(COUNTIF(Général!F118:F124,$G$1)=1,\"Boat 5\", IF(COUNTIF(Général!G118:G124,$G$1)=1,\"Boat 6\", IF(COUNTIF(Général!H118:H124,$G$1)=1,\"Boat 7\",IF(COUNTIF(Général!I38:I44,$G$1)=1,\"Boat 8\",\"Boat 9\"))))))))","v":"Boat 6"},{"$f":"IF(COUNTIF(Général!B128:B134,$G$1)=1,\"Boat 1\",IF(COUNTIF(Général!C128:C134,$G$1)=1,\"Boat 2\",IF(COUNTIF(Général!D128:D134,$G$1)=1,\"Boat 3\", IF(COUNTIF(Général!E128:E134,$G$1)=1,\"Boat 4\", IF(COUNTIF(Général!F128:F134,$G$1)=1,\"Boat 5\", IF(COUNTIF(Général!G128:G134,$G$1)=1,\"Boat 6\", IF(COUNTIF(Général!H128:H134,$G$1)=1,\"Boat 7\",IF(COUNTIF(Général!I38:I44,$G$1)=1,\"Boat 8\",\"Boat 9\"))))))))","v":"Boat 6"},{"$f":"IF(COUNTIF(Général!B138:B144,$G$1)=1,\"Boat 1\",IF(COUNTIF(Général!C138:C144,$G$1)=1,\"Boat 2\",IF(COUNTIF(Général!C138:D144,$G$1)=1,\"Boat 3\", IF(COUNTIF(Général!C138:E144,$G$1)=1,\"Boat 4\", IF(COUNTIF(Général!F138:F144,$G$1)=1,\"Boat 5\", IF(COUNTIF(Général!G138:G144,$G$1)=1,\"Boat 6\", IF(COUNTIF(Général!H138:H144,$G$1)=1,\"Boat 7\",IF(COUNTIF(Général!I38:I44,$G$1)=1,\"Boat 8\",\"Boat 9\"))))))))","v":"Boat 6"},{"$f":"IF(COUNTIF(Général!B148:B154,$G$1)=1,\"Boat 1\",IF(COUNTIF(Général!C148:C154,$G$1)=1,\"Boat 2\",IF(COUNTIF(Général!D148:D154,$G$1)=1,\"Boat 3\", IF(COUNTIF(Général!E148:E154,$G$1)=1,\"Boat 4\", IF(COUNTIF(Général!F148:F154,$G$1)=1,\"Boat 5\", IF(COUNTIF(Général!G148:G154,$G$1)=1,\"Boat 6\", IF(COUNTIF(Général!H148:H154,$G$1)=1,\"Boat 7\",IF(COUNTIF(Général!I38:I44,$G$1)=1,\"Boat 8\",\"Boat 9\"))))))))","v":"Boat 3"},{"$f":"IF(COUNTIF(Général!B158:B164,$G$1)=1,\"Boat 1\",IF(COUNTIF(Général!C158:C164,$G$1)=1,\"Boat 2\",IF(COUNTIF(Général!D160:D164,$G$1)=1,\"Boat 3\", IF(COUNTIF(Général!E158:E164,$G$1)=1,\"Boat 4\", IF(COUNTIF(Général!F158:F164,$G$1)=1,\"Boat 5\", IF(COUNTIF(Général!G158:G164,$G$1)=1,\"Boat 6\", IF(COUNTIF(Général!H158:H164,$G$1)=1,\"Boat 7\",IF(COUNTIF(Général!I38:I44,$G$1)=1,\"Boat 8\",\"Boat 9\"))))))))","v":"Boat 5"},{"$f":"IF(COUNTIF(Général!B168:B174,$G$1)=1,\"Boat 1\",IF(COUNTIF(Général!C168:C174,$G$1)=1,\"Boat 2\",IF(COUNTIF(Général!D168:D174,$G$1)=1,\"Boat 3\", IF(COUNTIF(Général!E168:E174,$G$1)=1,\"Boat 4\", IF(COUNTIF(Général!F178:F184,$G$1)=1,\"Boat 5\", IF(COUNTIF(Général!G178:G184,$G$1)=1,\"Boat 6\", IF(COUNTIF(Général!H178:H184,$G$1)=1,\"Boat 7\",IF(COUNTIF(Général!I38:I44,$G$1)=1,\"Boat 8\",\"Boat 9\"))))))))","v":"Boat 9"},{"$f":"IF(COUNTIF(Général!B178:B184,$G$1)=1,\"Boat 1\",IF(COUNTIF(Général!C178:C184,$G$1)=1,\"Boat 2\",IF(COUNTIF(Général!D178:D184,$G$1)=1,\"Boat 3\", IF(COUNTIF(Général!E178:E184,$G$1)=1,\"Boat 4\", IF(COUNTIF(Général!F178:F184,$G$1)=1,\"Boat 5\", IF(COUNTIF(Général!G178:G184,$G$1)=1,\"Boat 6\", IF(COUNTIF(Général!H178:H184,$G$1)=1,\"Boat 7\",IF(COUNTIF(Général!I38:I44,$G$1)=1,\"Boat 8\",\"Boat 9\"))))))))","v":"Boat 9"},{"$f":"IF(COUNTIF(Général!B188:B194,$G$1)=1,\"Boat 1\",IF(COUNTIF(Général!C188:C194,$G$1)=1,\"Boat 2\",IF(COUNTIF(Général!D188:D194,$G$1)=1,\"Boat 3\", IF(COUNTIF(Général!E188:E194,$G$1)=1,\"Boat 4\", IF(COUNTIF(Général!F188:F194,$G$1)=1,\"Boat 5\", IF(COUNTIF(Général!G188:G194,$G$1)=1,\"Boat 6\", IF(COUNTIF(Général!H188:H194,$G$1)=1,\"Boat 7\",IF(COUNTIF(Général!I38:I44,$G$1)=1,\"Boat 8\",\"Boat 9\"))))))))","v":"Boat 7"},{"$f":"IF(COUNTIF(Général!B198:B204,$G$1)=1,\"Boat 1\",IF(COUNTIF(Général!C198:C204,$G$1)=1,\"Boat 2\",IF(COUNTIF(Général!D198:D204,$G$1)=1,\"Boat 3\", IF(COUNTIF(Général!E198:E204,$G$1)=1,\"Boat 4\", IF(COUNTIF(Général!F198:F204,$G$1)=1,\"Boat 5\", IF(COUNTIF(Général!G198:G204,$G$1)=1,\"Boat 6\", IF(COUNTIF(Général!H198:H204,$G$1)=1,\"Boat 7\",IF(COUNTIF(Général!I38:I44,$G$1)=1,\"Boat 8\",\"Boat 9\"))))))))","v":"Boat 7"},{"$f":"IF(COUNTIF(Général!B208:B214,$G$1)=1,\"Boat 1\",IF(COUNTIF(Général!C208:C214,$G$1)=1,\"Boat 2\",IF(COUNTIF(Général!D208:D214,$G$1)=1,\"Boat 3\", IF(COUNTIF(Général!E208:E214,$G$1)=1,\"Boat 4\", IF(COUNTIF(Général!F208:F214,$G$1)=1,\"Boat 5\", IF(COUNTIF(Général!G208:G214,$G$1)=1,\"Boat 6\", IF(COUNTIF(Général!H208:H214,$G$1)=1,\"Boat 7\",IF(COUNTIF(Général!I38:I44,$G$1)=1,\"Boat 8\",\"Boat 9\"))))))))","v":"Boat 7"},null,{"$f":"Général!B8","v":"Plymouth"},5]
[null,null,null,null,null,null,null,null,null,null,null,null,null,null,null,null,null,null,null,null,null,{"$f":"Général!B9","v":"Unicaen 2"},6]
["1er Equipage",null,{"$f":"IF($C$5=\"Course 1\",Général!B38,IF($C$5=\"Course 2\",Général!B40,IF($C$5=\"Course 3\",Général!B42,Général!B44)))","v":"IMT Nantes"},{"$f":"IF($D$5=\"Course 1\",Général!B48,IF($D$5=\"Course 2\",Général!B50,IF($D$5=\"Course 3\",Général!B52,Général!B54)))","v":"UBO 1"},{"$f":"IF($E$5=\"Course 1\",Général!B58,IF($E$5=\"Course 2\",Général!B60,IF($E$5=\"Course 3\",Général!B62,Général!B64)))","v":"Univ Nantes 3"},{"$f":"IF($F$5=\"Course 1\",Général!B$68,IF($F$5=\"Course 2\",Général!B$70,IF($F$5=\"Course 3\",Général!B$72,Général!B$74)))","v":"Univ Nantes 3"},{"$f":"IF($G$5=\"Course 1\",Général!B$78,IF($G$5=\"Course 2\",Général!B$80,IF($G$5=\"Course 3\",Général!B$82,Général!B$84)))","v":"ENSTA 2"},{"$f":"IF($H$5=\"Course 1\",Général!B$88,IF($H$5=\"Course 2\",Général!B$90,IF($H$5=\"Course 3\",Général!B$92,Général!B$94)))","v":"Univ Nantes 2"},{"$f":"IF($I$5=\"Course 1\",Général!B$98,IF($I$5=\"Course 2\",Général!B$100,IF($I$5=\"Course 3\",Général!B$102,Général!B$104)))","v":"Unicaen 1"},{"$f":"IF($J$5=\"Course 1\",Général!B$108,IF($J$5=\"Course 2\",Général!B$110,IF($J$5=\"Course 3\",Général!B$112,Général!B$114)))","v":"Centrale Nantes 1"},{"$f":"IF($K$5=\"Course 1\",Général!B$118,IF($K$5=\"Course 2\",Général!B$120,IF($K$5=\"Course 3\",Général!B$122,Général!B$124)))","v":"INSA Lyon"},{"$f":"IF($L$5=\"Course 1\",Général!B$128,IF($L$5=\"Course 2\",Général!B$130,IF($L$5=\"Course 3\",Général!B$132,Général!B$134)))","v":"UBO 2"},{"$f":"IF($M$5=\"Course 1\",Général!B$138,IF($M$5=\"Course 2\",Général!B$140,IF($M$5=\"Course 3\",Général!B$142,Général!B$144)))","v":"IMT Brest 2"},{"$f":"IF($N$5=\"Course 1\",Général!B$148,IF($N$5=\"Course 2\",Général!B$150,IF($N$5=\"Course 3\",Général!B$152,Général!B$154)))","v":"St Brieuc 1"},{"$f":"IF($O$5=\"Course 1\",Général!B$158,IF($O$5=\"Course 2\",Général!B$160,IF($O$5=\"Course 3\",Général!B$162,Général!B$164)))","v":"La Rochelle 1"},{"$f":"IF($P$5=\"Course 1\",Général!B$168,IF($P$5=\"Course 2\",Général!B$170,IF($P$5=\"Course 3\",Général!B$172,Général!B$174)))","v":"St Brieuc 1"},{"$f":"IF($Q$5=\"Course 1\",Général!B$178,IF($Q$5=\"Course 2\",Général!B$180,IF($Q$5=\"Course 3\",Général!B$182,Général!B$184)))","v":"Plymouth"},{"$f":"IF($R$5=\"Course 1\",Général!B$188,IF($R$5=\"Course 2\",Général!B$190,IF($R$5=\"Course 3\",Général!B$192,Général!B$194)))","v":"IMT Brest 2"},{"$f":"IF($S$5=\"Course 1\",Général!B$198,IF($S$5=\"Course 2\",Général!B$200,IF($S$5=\"Course 3\",Général!B$202,Général!B$204)))","v":"ENSTA 1"},{"$f":"IF($T$5=\"Course 1\",Général!B$208,IF($T$5=\"Course 2\",Général!B$210,IF($T$5=\"Course 3\",Général!B$212,Général!B$214)))","v":"IMT Brest 1"},null,{"$f":"Général!B10","v":"Univ Nantes 2"},7]
["2nd Equipage",null,{"$f":"IF($C$5=\"Course 1\",Général!C38,IF($C$5=\"Course 2\",Général!C40,IF($C$5=\"Course 3\",Général!C42,Général!C44)))","v":"Unicaen 1"},{"$f":"IF($D$5=\"Course 1\",Général!C48,IF($D$5=\"Course 2\",Général!C50,IF($D$5=\"Course 3\",Général!C52,Général!C54)))","v":"Centrale Nantes 2"},{"$f":"IF($E$5=\"Course 1\",Général!C58,IF($E$5=\"Course 2\",Général!C60,IF($E$5=\"Course 3\",Général!C62,Général!C64)))","v":"IMT Nantes"},{"$f":"IF($F$5=\"Course 1\",Général!C$68,IF($F$5=\"Course 2\",Général!C$70,IF($F$5=\"Course 3\",Général!C$72,Général!C$74)))","v":"Paris Cité"},{"$f":"IF($G$5=\"Course 1\",Général!C$78,IF($G$5=\"Course 2\",Général!C$80,IF($G$5=\"Course 3\",Général!C$82,Général!C$84)))","v":"IMT Brest 2"},{"$f":"IF($H$5=\"Course 1\",Général!C$88,IF($H$5=\"Course 2\",Général!C$90,IF($H$5=\"Course 3\",Général!C$92,Général!C$94)))","v":"La Rochelle 2"},{"$f":"IF($I$5=\"Course 1\",Général!C$98,IF($I$5=\"Course 2\",Général!C$100,IF($I$5=\"Course 3\",Général!C$102,Général!C$104)))","v":"La Rochelle 1"},{"$f":"IF($J$5=\"Course 1\",Général!C$108,IF($J$5=\"Course 2\",Général!C$110,IF($J$5=\"Course 3\",Général!C$112,Général!C$114)))","v":"ENSMAC"},{"$f":"IF($K$5=\"Course 1\",Général!C$118,IF($K$5=\"Course 2\",Général!C$120,IF($K$5=\"Course 3\",Général!C$122,Général!C$124)))","v":"ENSTA 2"},{"$f":"IF($L$5=\"Course 1\",Général!C$128,IF($L$5=\"Course 2\",Général!C$130,IF($L$5=\"Course 3\",Général!C$132,Général!C$134)))","v":"Univ Nantes 3"},{"$f":"IF($M$5=\"Course 1\",Général!C$138,IF($M$5=\"Course 2\",Général!C$140,IF($M$5=\"Course 3\",Général!C$142,Général!C$144)))","v":"UNIV Nantes 1"},{"$f":"IF($N$5=\"Course 1\",Général!C$148,IF($N$5=\"Course 2\",Général!C$150,IF($N$5=\"Course 3\",Général!C$152,Général!C$154)))","v":"Centrale Nantes 1"},{"$f":"IF($O$5=\"Course 1\",Général!C$158,IF($O$5=\"Course 2\",Général!C$160,IF($O$5=\"Course 3\",Général!C$162,Général!C$164)))","v":"IMT Brest 1"},{"$f":"IF($P$5=\"Course 1\",Général!C$168,IF($P$5=\"Course 2\",Général!C$170,IF($P$5=\"Course 3\",Général!C$172,Général!C$174)))","v":"Paris Sorbone"},{"$f":"IF($Q$5=\"Course 1\",Général!C$178,IF($Q$5=\"Course 2\",Général!C$180,IF($Q$5=\"Course 3\",Général!C$182,Général!C$184)))","v":"UNIV Nantes 1"},{"$f":"IF($R$5=\"Course 1\",Général!C$188,IF($R$5=\"Course 2\",Général!C$190,IF($R$5=\"Course 3\",Général!C$192,Général!C$194)))","v":"IMT Nantes"},{"$f":"IF($S$5=\"Course 1\",Général!C$198,IF($S$5=\"Course 2\",Général!C$200,IF($S$5=\"Course 3\",Général!C$202,Général!C$204)))","v":"INSA Lyon"},{"$f":"IF($T$5=\"Course 1\",Général!C$208,IF($T$5=\"Course 2\",Général!C$210,IF($T$5=\"Course 3\",Général!C$212,Général!C$214)))","v":"Hannover"},null,{"$f":"Général!B11","v":"Karlsruhe"},6]
["3ème Equipage",null,{"$f":"IF($C$5=\"Course 1\",Général!D38,IF($C$5=\"Course 2\",Général!D40,IF($C$5=\"Course 3\",Général!D42,Général!D44)))","v":"St Brieuc 1"},{"$f":"IF($D$5=\"Course 1\",Général!D48,IF($D$5=\"Course 2\",Général!D50,IF($D$5=\"Course 3\",Général!D52,Général!D54)))","v":"IMT Brest 2"},{"$f":"IF($E$5=\"Course 1\",Général!D58,IF($E$5=\"Course 2\",Général!D60,IF($E$5=\"Course 3\",Général!D62,Général!D64)))","v":"ENSTA 2"},{"$f":"IF($F$5=\"Course 1\",Général!D$68,IF($F$5=\"Course 2\",Général!D$70,IF($F$5=\"Course 3\",Général!D$72,Général!D$74)))","v":"Unicaen 2"},{"$f":"IF($G$5=\"Course 1\",Général!D$78,IF($G$5=\"Course 2\",Général!D$80,IF($G$5=\"Course 3\",Général!D$82,Général!D$84)))","v":"Unicaen 1"},{"$f":"IF($H$5=\"Course 1\",Général!D$88,IF($H$5=\"Course 2\",Général!D$90,IF($H$5=\"Course 3\",Général!D$92,Général!D$94)))","v":"UNIV Nantes 1"},{"$f":"IF($I$5=\"Course 1\",Général!D$98,IF($I$5=\"Course 2\",Général!D$100,IF($I$5=\"Course 3\",Général!D$102,Général!D$104)))","v":"Southampton"},{"$f":"IF($J$5=\"Course 1\",Général!D$108,IF($J$5=\"Course 2\",Général!D$110,IF($J$5=\"Course 3\",Général!D$112,Général!D$114)))","v":"INSA Lyon"},{"$f":"IF($K$5=\"Course 1\",Général!D$118,IF($K$5=\"Course 2\",Général!D$120,IF($K$5=\"Course 3\",Général!D$122,Général!D$124)))","v":"Southampton"},{"$f":"IF($L$5=\"Course 1\",Général!D$128,IF($L$5=\"Course 2\",Général!D$130,IF($L$5=\"Course 3\",Général!D$132,Général!D$134)))","v":"Orléans"},{"$f":"IF($M$5=\"Course 1\",Général!D$138,IF($M$5=\"Course 2\",Général!D$140,IF($M$5=\"Course 3\",Général!D$142,Général!D$144)))","v":"UBS Lorient 1"},{"$f":"IF($N$5=\"Course 1\",Général!D$148,IF($N$5=\"Course 2\",Général!D$150,IF($N$5=\"Course 3\",Général!D$152,Général!D$154)))","v":"Unicaen 1"},{"$f":"IF($O$5=\"Course 1\",Général!D$158,IF($O$5=\"Course 2\",Général!D$160,IF($O$5=\"Course 3\",Général!D$162,Général!D$164)))","v":"IMT Nantes"},{"$f":"IF($P$5=\"Course 1\",Général!D$168,IF($P$5=\"Course 2\",Général!D$170,IF($P$5=\"Course 3\",Général!D$172,Général!D$174)))","v":"ENSTA 1"},{"$f":"IF($Q$5=\"Course 1\",Général!D$178,IF($Q$5=\"Course 2\",Général!D$180,IF($Q$5=\"Course 3\",Général!D$182,Général!D$184)))","v":"Univ Nantes 2"},{"$f":"IF($R$5=\"Course 1\",Général!D$188,IF($R$5=\"Course 2\",Général!D$190,IF($R$5=\"Course 3\",Général!D$192,Général!D$194)))","v":"La Rochelle 1"},{"$f":"IF($S$5=\"Course 1\",Général!D$198,IF($S$5=\"Course 2\",Général!D$200,IF($S$5=\"Course 3\",Général!D$202,Général!D$204)))","v":"Intechmer"},{"$f":"IF($T$5=\"Course 1\",Général!D$208,IF($T$5=\"Course 2\",Général!D$210,IF($T$5=\"Course 3\",Général!D$212,Général!D$214)))","v":"La Rochelle 2"},null,{"$f":"Général!B12","v":"IMT Brest 2"},6]
["4ème Equipage",null,{"$f":"IF($C$5=\"Course 1\",Général!E38,IF($C$5=\"Course 2\",Général!E40,IF($C$5=\"Course 3\",Général!E42,Général!E44)))","v":"La Rochelle 2"},{"$f":"IF($D$5=\"Course 1\",Général!E48,IF($D$5=\"Course 2\",Général!E50,IF($D$5=\"Course 3\",Général!E52,Général!E54)))","v":"Paris Cité"},{"$f":"IF($E$5=\"Course 1\",Général!E58,IF($E$5=\"Course 2\",Général!E60,IF($E$5=\"Course 3\",Général!E62,Général!E64)))","v":"Paris Cité"},{"$f":"IF($F$5=\"Course 1\",Général!E$68,IF($F$5=\"Course 2\",Général!E$70,IF($F$5=\"Course 3\",Général!E$72,Général!E$74)))","v":"Univ Nantes 2"},{"$f":"IF($G$5=\"Course 1\",Général!E$78,IF($G$5=\"Course 2\",Général!E$80,IF($G$5=\"Course 3\",Général!E$82,Général!E$84)))","v":"La Rochelle 1"},{"$f":"IF($H$5=\"Course 1\",Général!E$88,IF($H$5=\"Course 2\",Général!E$90,IF($H$5=\"Course 3\",Général!E$92,Général!E$94)))","v":"Karlsruhe"},{"$f":"IF($I$5=\"Course 1\",Général!E$98,IF($I$5=\"Course 2\",Général!E$100,IF($I$5=\"Course 3\",Général!E$102,Général!E$104)))","v":"Karlsruhe"},{"$f":"IF($J$5=\"Course 1\",Général!E$108,IF($J$5=\"Course 2\",Général!E$110,IF($J$5=\"Course 3\",Général!E$112,Général!E$114)))","v":"Univ Nantes 2"},{"$f":"IF($K$5=\"Course 1\",Général!E$118,IF($K$5=\"Course 2\",Général!E$120,IF($K$5=\"Course 3\",Général!E$122,Général!E$124)))","v":"IMT Brest 1"},{"$f":"IF($L$5=\"Course 1\",Général!E$128,IF($L$5=\"Course 2\",Général!E$130,IF($L$5=\"Course 3\",Général!E$132,Général!E$134)))","v":"IMT Brest 1"},{"$f":"IF($M$5=\"Course 1\",Général!E$138,IF($M$5=\"Course 2\",Général!E$140,IF($M$5=\"Course 3\",Général!E$142,Général!E$144)))","v":"Orléans"},{"$f":"IF($N$5=\"Course 1\",Général!E$148,IF($N$5=\"Course 2\",Général!E$150,IF($N$5=\"Course 3\",Général!E$152,Général!E$154)))","v":"Orléans"},{"$f":"IF($O$5=\"Course 1\",Général!E$158,IF($O$5=\"Course 2\",Général!E$160,IF($O$5=\"Course 3\",Général!E$162,Général!E$164)))","v":"ST Brieuc 2"},{"$f":"IF($P$5=\"Course 1\",Général!E$168,IF($P$5=\"Course 2\",Général!E$170,IF($P$5=\"Course 3\",Général!E$172,Général!E$174)))","v":"Univ Nantes 2"},{"$f":"IF($Q$5=\"Course 1\",Général!E$178,IF($Q$5=\"Course 2\",Général!E$180,IF($Q$5=\"Course 3\",Général!E$182,Général!E$184)))","v":"UBO 1"},{"$f":"IF($R$5=\"Course 1\",Général!E$188,IF($R$5=\"Course 2\",Général!E$190,IF($R$5=\"Course 3\",Général!E$192,Général!E$194)))","v":"St Brieuc 1"},{"$f":"IF($S$5=\"Course 1\",Général!E$198,IF($S$5=\"Course 2\",Général!E$200,IF($S$5=\"Course 3\",Général!E$202,Général!E$204)))","v":"St Brieuc 1"},{"$f":"IF($T$5=\"Course 1\",Général!E$208,IF($T$5=\"Course 2\",Général!E$210,IF($T$5=\"Course 3\",Général!E$212,Général!E$214)))","v":"Plymouth"},null,{"$f":"Général!B13","v":"Unicaen 1"},16]
["5ème Equipage",null,{"$f":"IF($C$5=\"Course 1\",Général!F38,IF($C$5=\"Course 2\",Général!F40,IF($C$5=\"Course 3\",Général!F42,Général!F44)))","v":"UBO 2"},{"$f":"IF($D$5=\"Course 1\",Général!F48,IF($D$5=\"Course 2\",Général!F50,IF($D$5=\"Course 3\",Général!F52,Général!F54)))","v":"UBO 2"},{"$f":"IF($E$5=\"Course 1\",Général!F58,IF($E$5=\"Course 2\",Général!F60,IF($E$5=\"Course 3\",Général!F62,Général!F64)))","v":"UBO 2"},{"$f":"IF($F$5=\"Course 1\",Général!F$68,IF($F$5=\"Course 2\",Général!F$70,IF($F$5=\"Course 3\",Général!F$72,Général!F$74)))","v":"La Rochelle 2"},{"$f":"IF($G$5=\"Course 1\",Général!F$78,IF($G$5=\"Course 2\",Général!F$80,IF($G$5=\"Course 3\",Général!F$82,Général!F$84)))","v":"Orléans"},{"$f":"IF($H$5=\"Course 1\",Général!F$88,IF($H$5=\"Course 2\",Général!F$90,IF($H$5=\"Course 3\",Général!F$92,Général!F$94)))","v":"Plymouth"},{"$f":"IF($I$5=\"Course 1\",Général!F$98,IF($I$5=\"Course 2\",Général!F$100,IF($I$5=\"Course 3\",Général!F$102,Général!F$104)))","v":"UBS Lorient 1"},{"$f":"IF($J$5=\"Course 1\",Général!F$108,IF($J$5=\"Course 2\",Général!F$110,IF($J$5=\"Course 3\",Général!F$112,Général!F$114)))","v":"IMT Nantes"},{"$f":"IF($K$5=\"Course 1\",Général!F$118,IF($K$5=\"Course 2\",Général!F$120,IF($K$5=\"Course 3\",Général!F$122,Général!F$124)))","v":"IMT Brest 2"},{"$f":"IF($L$5=\"Course 1\",Général!F$128,IF($L$5=\"Course 2\",Général!$F130,IF($L$5=\"Course 3\",Général!F$132,Général!F$134)))","v":"Univ Nantes 2"},{"$f":"IF($M$5=\"Course 1\",Général!F$138,IF($M$5=\"Course 2\",Général!F$140,IF($M$5=\"Course 3\",Général!F$142,Général!F$144)))","v":"Paris Cité"},{"$f":"IF($N$5=\"Course 1\",Général!F$148,IF($N$5=\"Course 2\",Général!F$150,IF($N$5=\"Course 3\",Général!F$152,Général!F$154)))","v":"Paris Cité"},{"$f":"IF($O$5=\"Course 1\",Général!F$158,IF($O$5=\"Course 2\",Général!F$160,IF($O$5=\"Course 3\",Général!F$162,Général!F$164)))","v":"Unicaen 1"},{"$f":"IF($P$5=\"Course 1\",Général!F$168,IF($P$5=\"Course 2\",Général!F$170,IF($P$5=\"Course 3\",Général!F$172,Général!F$174)))","v":"Unicaen 1"},{"$f":"IF($Q$5=\"Course 1\",Général!F$178,IF($Q$5=\"Course 2\",Général!F$180,IF($Q$5=\"Course 3\",Général!F$182,Général!F$184)))","v":"INSA Lyon"},{"$f":"IF($R$5=\"Course 1\",Général!F$188,IF($R$5=\"Course 2\",Général!F$190,IF($R$5=\"Course 3\",Général!F$192,Général!F$194)))","v":"Hannover"},{"$f":"IF($S$5=\"Course 1\",Général!F$198,IF($S$5=\"Course 2\",Général!F$200,IF($S$5=\"Course 3\",Général!F$202,Général!F$204)))","v":"IMT Nantes"},{"$f":"IF($T$5=\"Course 1\",Général!F$208,IF($T$5=\"Course 2\",Général!F$210,IF($T$5=\"Course 3\",Général!F$212,Général!F$214)))","v":"La Rochelle 1"},null,{"$f":"Général!B14","v":"ENSTA 1"},4]
["6ème Equipage",null,{"$f":"IF($C$5=\"Course 1\",Général!G38,IF($C$5=\"Course 2\",Général!G40,IF($C$5=\"Course 3\",Général!G42,Général!G44)))","v":"ENSTA 1"},{"$f":"IF($D$5=\"Course 1\",Général!G48,IF($D$5=\"Course 2\",Général!G50,IF($D$5=\"Course 3\",Général!G52,Général!G54)))","v":"La Rochelle 2"},{"$f":"IF($E$5=\"Course 1\",Général!G58,IF($E$5=\"Course 2\",Général!G60,IF($E$5=\"Course 3\",Général!G62,Général!G64)))","v":"ENSMAC"},{"$f":"IF($F$5=\"Course 1\",Général!G$68,IF($F$5=\"Course 2\",Général!G$70,IF($F$5=\"Course 3\",Général!G$72,Général!G$74)))","v":"ENSTA 2"},{"$f":"IF($G$5=\"Course 1\",Général!G$78,IF($G$5=\"Course 2\",Général!G$80,IF($G$5=\"Course 3\",Général!G$82,Général!G$84)))","v":"Paris Cité"},{"$f":"IF($H$5=\"Course 1\",Général!G$88,IF($H$5=\"Course 2\",Général!G$90,IF($H$5=\"Course 3\",Général!G$92,Général!G$94)))","v":"ENSMAC"},{"$f":"IF($I$5=\"Course 1\",Général!G$98,IF($I$5=\"Course 2\",Général!G$100,IF($I$5=\"Course 3\",Général!G$102,Général!G$104)))","v":"Univ Nantes 3"},{"$f":"IF($J$5=\"Course 1\",Général!G$108,IF($J$5=\"Course 2\",Général!G$110,IF($J$5=\"Course 3\",Général!G$112,Général!G$114)))","v":"Karlsruhe"},{"$f":"IF($K$5=\"Course 1\",Général!G$118,IF($K$5=\"Course 2\",Général!G$120,IF($K$5=\"Course 3\",Général!G$122,Général!G$124)))","v":"Unicaen 1"},{"$f":"IF($L$5=\"Course 1\",Général!G$128,IF($L$5=\"Course 2\",Général!G$130,IF($L$5=\"Course 3\",Général!G$132,Général!G$134)))","v":"Unicaen 1"},{"$f":"IF($M$5=\"Course 1\",Général!G$138,IF($M$5=\"Course 2\",Général!G$140,IF($M$5=\"Course 3\",Général!G$142,Général!G$144)))","v":"Unicaen 1"},{"$f":"IF($N$5=\"Course 1\",Général!G$148,IF($N$5=\"Course 2\",Général!G$150,IF($N$5=\"Course 3\",Général!G$152,Général!G$154)))","v":"Southampton"},{"$f":"IF($O$5=\"Course 1\",Général!G$158,IF($O$5=\"Course 2\",Général!G$160,IF($O$5=\"Course 3\",Général!G$162,Général!G$164)))","v":"Hannover"},{"$f":"IF($P$5=\"Course 1\",Général!G$168,IF($P$5=\"Course 2\",Général!G$170,IF($P$5=\"Course 3\",Général!G$172,Général!G$174)))","v":"Paris Cité"},{"$f":"IF($Q$5=\"Course 1\",Général!G$178,IF($Q$5=\"Course 2\",Général!G$180,IF($Q$5=\"Course 3\",Général!G$182,Général!G$184)))","v":"UBS Lorient 2"},{"$f":"IF($R$5=\"Course 1\",Général!G$188,IF($R$5=\"Course 2\",Général!G$190,IF($R$5=\"Course 3\",Général!G$192,Général!G$194)))","v":"Unicaen 2"},{"$f":"IF($S$5=\"Course 1\",Général!G$198,IF($S$5=\"Course 2\",Général!G$200,IF($S$5=\"Course 3\",Général!G$202,Général!G$204)))","v":"La Rochelle 2"},{"$f":"IF($T$5=\"Course 1\",Général!G$208,IF($T$5=\"Course 2\",Général!G$210,IF($T$5=\"Course 3\",Général!G$212,Général!G$214)))","v":"Southampton"},null,{"$f":"Général!B15","v":"Orléans"},7]
["7ème Equipage",null,{"$f":"IF($C$5=\"Course 1\",Général!H38,IF($C$5=\"Course 2\",Général!H40,IF($C$5=\"Course 3\",Général!H42,Général!H44)))","v":"IMT Brest 1"},{"$f":"IF($D$5=\"Course 1\",Général!H48,IF($D$5=\"Course 2\",Général!H50,IF($D$5=\"Course 3\",Général!H52,Général!H54)))","v":"Karlsruhe"},{"$f":"IF($E$5=\"Course 1\",Général!H58,IF($E$5=\"Course 2\",Général!H60,IF($E$5=\"Course 3\",Général!H62,Général!H64)))","v":"Hannover"},{"$f":"IF($F$5=\"Course 1\",Général!H$68,IF($F$5=\"Course 2\",Général!H$70,IF($F$5=\"Course 3\",Général!H$72,Général!H$74)))","v":"UBS Lorient 2"},{"$f":"IF($G$5=\"Course 1\",Général!H$78,IF($G$5=\"Course 2\",Général!H$80,IF($G$5=\"Course 3\",Général!H$82,Général!H$84)))","v":"Univ Nantes 2"},{"$f":"IF($H$5=\"Course 1\",Général!H$88,IF($H$5=\"Course 2\",Général!H$90,IF($H$5=\"Course 3\",Général!H$92,Général!H$94)))","v":"Intechmer"},{"$f":"IF($I$5=\"Course 1\",Général!H$98,IF($I$5=\"Course 2\",Général!H$100,IF($I$5=\"Course 3\",Général!H$102,Général!H$104)))","v":"Plymouth"},{"$f":"IF($J$5=\"Course 1\",Général!H$108,IF($J$5=\"Course 2\",Général!H$110,IF($J$5=\"Course 3\",Général!H$112,Général!H$114)))","v":"Unicaen 2"},{"$f":"IF($K$5=\"Course 1\",Général!H$118,IF($K$5=\"Course 2\",Général!H$120,IF($K$5=\"Course 3\",Général!H$122,Général!H$124)))","v":"Intechmer"},{"$f":"IF($L$5=\"Course 1\",Général!H$128,IF($L$5=\"Course 2\",Général!H$130,IF($L$5=\"Course 3\",Général!H$132,Général!H$134)))","v":"UBO 1"},{"$f":"IF($M$5=\"Course 1\",Général!H$138,IF($M$5=\"Course 2\",Général!H$140,IF($M$5=\"Course 3\",Général!H$142,Général!H$144)))","v":"Centrale Nantes 1"},{"$f":"IF($N$5=\"Course 1\",Général!H$148,IF($N$5=\"Course 2\",Général!H$150,IF($N$5=\"Course 3\",Général!H$152,Général!H$154)))","v":"IMT Brest 1"},{"$f":"IF($O$5=\"Course 1\",Général!H$158,IF($O$5=\"Course 2\",Général!H$160,IF($O$5=\"Course 3\",Général!H$162,Général!H$164)))","v":"La Rochelle 2"},{"$f":"IF($P$5=\"Course 1\",Général!H$168,IF($P$5=\"Course 2\",Général!H$170,IF($P$5=\"Course 3\",Général!H$172,Général!H$174)))","v":"Orléans"},{"$f":"IF($Q$5=\"Course 1\",Général!H$178,IF($Q$5=\"Course 2\",Général!H$180,IF($Q$5=\"Course 3\",Général!H$182,Général!H$184)))","v":"UBO 2"},{"$f":"IF($R$5=\"Course 1\",Général!H$188,IF($R$5=\"Course 2\",Général!H$190,IF($R$5=\"Course 3\",Général!H$192,Général!H$194)))","v":"Unicaen 1"},{"$f":"IF($S$5=\"Course 1\",Général!H$198,IF($S$5=\"Course 2\",Général!H$200,IF($S$5=\"Course 3\",Général!H$202,Général!H$204)))","v":"Unicaen 1"},{"$f":"IF($T$5=\"Course 1\",Général!H$208,IF($T$5=\"Course 2\",Général!H$210,IF($T$5=\"Course 3\",Général!H$212,Général!H$214)))","v":"Unicaen 1"},null,{"$f":"Général!B16","v":"IMT Brest 1"},7]
["8ème Equipage",null,{"$f":"IF($C$5=\"Course 1\",Général!I38,IF($C$5=\"Course 2\",Général!I40,IF($C$5=\"Course 3\",Général!I42,Général!I44)))","v":"Univ Nantes 3"},{"$f":"IF($D$5=\"Course 1\",Général!I48,IF($D$5=\"Course 2\",Général!I50,IF($D$5=\"Course 3\",Général!I52,Général!I54)))","v":"Centrale Nantes 1"},{"$f":"IF($E$5=\"Course 1\",Général!I58,IF($E$5=\"Course 2\",Général!I60,IF($E$5=\"Course 3\",Général!I62,Général!I64)))","v":"Unicaen 1"},{"$f":"IF($F$5=\"Course 1\",Général!I$68,IF($F$5=\"Course 2\",Général!I$70,IF($F$5=\"Course 3\",Général!I$72,Général!I$74)))","v":"INSA Lyon"},{"$f":"IF($G$5=\"Course 1\",Général!I$78,IF($G$5=\"Course 2\",Général!I$80,IF($G$5=\"Course 3\",Général!I$82,Général!I$84)))","v":"IMT Nantes"},{"$f":"IF($H$5=\"Course 1\",Général!I$88,IF($H$5=\"Course 2\",Général!I$90,IF($H$5=\"Course 3\",Général!I$92,Général!I$94)))","v":"Unicaen 1"},{"$f":"IF($I$5=\"Course 1\",Général!I$98,IF($I$5=\"Course 2\",Général!I$100,IF($I$5=\"Course 3\",Général!I$102,Général!I$104)))","v":"IMT Nantes"},{"$f":"IF($J$5=\"Course 1\",Général!I$108,IF($J$5=\"Course 2\",Général!I$110,IF($J$5=\"Course 3\",Général!I$112,Général!I$114)))","v":"Unicaen 1"},{"$f":"IF($K$5=\"Course 1\",Général!I$118,IF($K$5=\"Course 2\",Général!I$120,IF($K$5=\"Course 3\",Général!I$122,Général!I$124)))","v":"Karlsruhe"},{"$f":"IF($L$5=\"Course 1\",Général!I$128,IF($L$5=\"Course 2\",Général!I$130,IF($L$5=\"Course 3\",Général!I$132,Général!I$134)))","v":"Unicaen 2"},{"$f":"IF($M$5=\"Course 1\",Général!I$138,IF($M$5=\"Course 2\",Général!I$140,IF($M$5=\"Course 3\",Général!I$142,Général!I$144)))","v":"Hannover"},{"$f":"IF($N$5=\"Course 1\",Général!I$148,IF($N$5=\"Course 2\",Général!I$150,IF($N$5=\"Course 3\",Général!I$152,Général!I$154)))","v":"Unicaen 2"},{"$f":"IF($O$5=\"Course 1\",Général!I$158,IF($O$5=\"Course 2\",Général!I$160,IF($O$5=\"Course 3\",Général!I$162,Général!I$164)))","v":"Orléans"},{"$f":"IF($P$5=\"Course 1\",Général!I$168,IF($P$5=\"Course 2\",Général!I$170,IF($P$5=\"Course 3\",Général!I$172,Général!I$174)))","v":"La Rochelle 1"},{"$f":"IF($Q$5=\"Course 1\",Général!I$178,IF($Q$5=\"Course 2\",Général!I$180,IF($Q$5=\"Course 3\",Général!I$182,Général!I$184)))","v":"Southampton"},{"$f":"IF($R$5=\"Course 1\",Général!I$188,IF($R$5=\"Course 2\",Général!I$190,IF($R$5=\"Course 3\",Général!I$192,Général!I$194)))","v":"Univ Nantes 3"},{"$f":"IF($S$5=\"Course 1\",Général!I$198,IF($S$5=\"Course 2\",Général!I$200,IF($S$5=\"Course 3\",Général!I$202,Général!I$204)))","v":"Plymouth"},{"$f":"IF($T$5=\"Course 1\",Général!I$208,IF($T$5=\"Course 2\",Général!I$210,IF($T$5=\"Course 3\",Général!I$212,Général!I$214)))","v":"Centrale Nantes 1"},null,{"$f":"Général!B17","v":"ENSMAC"},3]
["9ème Equipage",null,{"$f":"IF($C$5=\"Course 1\",Général!J38,IF($C$5=\"Course 2\",Général!J40,IF($C$5=\"Course 3\",Général!J42,Général!J44)))","v":"Karlsruhe"},{"$f":"IF($D$5=\"Course 1\",Général!J48,IF($D$5=\"Course 2\",Général!J50,IF($D$5=\"Course 3\",Général!J52,Général!J54)))","v":"INSA Lyon"},{"$f":"IF($E$5=\"Course 1\",Général!J58,IF($E$5=\"Course 2\",Général!J60,IF($E$5=\"Course 3\",Général!J62,Général!J64)))","v":"Southampton"},{"$f":"IF($F$5=\"Course 1\",Général!J$68,IF($F$5=\"Course 2\",Général!J$70,IF($F$5=\"Course 3\",Général!J$72,Général!J$74)))","v":"Unicaen 1"},{"$f":"IF($G$5=\"Course 1\",Général!J$78,IF($G$5=\"Course 2\",Général!J$80,IF($G$5=\"Course 3\",Général!J$82,Général!J$84)))","v":"Unicaen 2"},{"$f":"IF($H$5=\"Course 1\",Général!J$88,IF($H$5=\"Course 2\",Général!J$90,IF($H$5=\"Course 3\",Général!$J92,Général!J$94)))","v":"Centrale Nantes 2"},{"$f":"IF($I$5=\"Course 1\",Général!J$98,IF($I$5=\"Course 2\",Général!J$100,IF($I$5=\"Course 3\",Général!J$102,Général!J$104)))","v":"ENSTA 1"},{"$f":"IF($J$5=\"Course 1\",Général!J$108,IF($J$5=\"Course 2\",Général!J$110,IF($J$5=\"Course 3\",Général!J$112,Général!J$114)))","v":"Orléans"},{"$f":"IF($K$5=\"Course 1\",Général!J$118,IF($K$5=\"Course 2\",Général!J$120,IF($K$5=\"Course 3\",Général!J$122,Général!J$124)))","v":"Centrale Nantes 2"},{"$f":"IF($L$5=\"Course 1\",Général!J$128,IF($L$5=\"Course 2\",Général!J$130,IF($L$5=\"Course 3\",Général!J$132,Général!J$134)))","v":"Centrale Nantes 2"},{"$f":"IF($M$5=\"Course 1\",Général!J$138,IF($M$5=\"Course 2\",Général!J$140,IF($M$5=\"Course 3\",Général!J$142,Général!J$144)))","v":"St Brieuc 1"},{"$f":"IF($N$5=\"Course 1\",Général!J$148,IF($N$5=\"Course 2\",Général!J$150,IF($N$5=\"Course 3\",Général!J$152,Général!J$154)))","v":"IMT Nantes"},{"$f":"IF($O$5=\"Course 1\",Général!J$158,IF($O$5=\"Course 2\",Général!J$160,IF($O$5=\"Course 3\",Général!J$162,Général!J$164)))","v":"UBS Lorient 1"},{"$f":"IF($P$5=\"Course 1\",Général!J$168,IF($P$5=\"Course 2\",Général!J$170,IF($P$5=\"Course 3\",Général!J$172,Général!J$174)))","v":"IMT Brest 1"},{"$f":"IF($Q$5=\"Course 1\",Général!J$178,IF($Q$5=\"Course 2\",Général!J$180,IF($Q$5=\"Course 3\",Général!J$182,Général!J$184)))","v":"IMT Brest 2"},{"$f":"IF($R$5=\"Course 1\",Général!J$188,IF($R$5=\"Course 2\",Général!J$190,IF($R$5=\"Course 3\",Général!J$192,Général!J$194)))","v":"Southampton"},{"$f":"IF($S$5=\"Course 1\",Général!J$198,IF($S$5=\"Course 2\",Général!J$200,IF($S$5=\"Course 3\",Général!J$202,Général!J$204)))","v":"UNIV Nantes 1"},{"$f":"IF($T$5=\"Course 1\",Général!J$208,IF($T$5=\"Course 2\",Général!J$210,IF($T$5=\"Course 3\",Général!J$212,Général!J$214)))","v":"Intechmer"},null,{"$f":"Général!B18","v":"St Brieuc 1"},6]
["10ème Equipage",null,{"$f":"IF($C$5=\"Course 1\",Général!K38,IF($C$5=\"Course 2\",Général!K40,IF($C$5=\"Course 3\",Général!K42,Général!K44)))","v":"Intechmer"},{"$f":"IF($D$5=\"Course 1\",Général!K48,IF($D$5=\"Course 2\",Général!K50,IF($D$5=\"Course 3\",Général!K52,Général!K54)))","v":"Unicaen 1"},{"$f":"IF($E$5=\"Course 1\",Général!K58,IF($E$5=\"Course 2\",Général!K60,IF($E$5=\"Course 3\",Général!K62,Général!K64)))","v":"UBO 1"},{"$f":"IF($F$5=\"Course 1\",Général!K$68,IF($F$5=\"Course 2\",Général!K$70,IF($F$5=\"Course 3\",Général!K$72,Général!K$74)))","v":"Hannover"},{"$f":"IF($G$5=\"Course 1\",Général!K$78,IF($G$5=\"Course 2\",Général!K$80,IF($G$5=\"Course 3\",Général!K$82,Général!K$84)))","v":"Intechmer"},{"$f":"IF($H$5=\"Course 1\",Général!K$88,IF($H$5=\"Course 2\",Général!K$90,IF($H$5=\"Course 3\",Général!$K92,Général!K$94)))","v":"Univ Nantes 3"},{"$f":"IF($I$5=\"Course 1\",Général!K$98,IF($I$5=\"Course 2\",Général!K$100,IF($I$5=\"Course 3\",Général!K$102,Général!K$104)))","v":"Orléans"},{"$f":"IF($J$5=\"Course 1\",Général!K$108,IF($J$5=\"Course 2\",Général!K$110,IF($J$5=\"Course 3\",Général!K$112,Général!K$114)))","v":"Plymouth"},{"$f":"IF($K$5=\"Course 1\",Général!K$118,IF($K$5=\"Course 2\",Général!K$120,IF($K$5=\"Course 3\",Général!K$122,Général!K$124)))","v":"ST Brieuc 2"},{"$f":"IF($L$5=\"Course 1\",Général!K$128,IF($L$5=\"Course 2\",Général!K$130,IF($L$5=\"Course 3\",Général!K$132,Général!K$134)))","v":"La Rochelle 1"},{"$f":"IF($M$5=\"Course 1\",Général!K$138,IF($M$5=\"Course 2\",Général!K$140,IF($M$5=\"Course 3\",Général!K$142,Général!K$144)))","v":"IMT Brest 1"},{"$f":"IF($N$5=\"Course 1\",Général!K$148,IF($N$5=\"Course 2\",Général!K$150,IF($N$5=\"Course 3\",Général!K$152,Général!K$154)))","v":"Paris Sorbone"},{"$f":"IF($O$5=\"Course 1\",Général!K$158,IF($O$5=\"Course 2\",Général!K$160,IF($O$5=\"Course 3\",Général!K$162,Général!K$164)))","v":"Paris Sorbone"},{"$f":"IF($P$5=\"Course 1\",Général!K$168,IF($P$5=\"Course 2\",Général!K$170,IF($P$5=\"Course 3\",Général!K$172,Général!K$174)))","v":"IMT Nantes"},{"$f":"IF($Q$5=\"Course 1\",Général!K$178,IF($Q$5=\"Course 2\",Général!K$180,IF($Q$5=\"Course 3\",Général!K$182,Général!K$184)))","v":"Unicaen 1"},{"$f":"IF($R$5=\"Course 1\",Général!K$188,IF($R$5=\"Course 2\",Général!K$190,IF($R$5=\"Course 3\",Général!K$192,Général!K$194)))","v":"Paris Sorbone"},{"$f":"IF($S$5=\"Course 1\",Général!K$198,IF($S$5=\"Course 2\",Général!K$200,IF($S$5=\"Course 3\",Général!K$202,Général!K$204)))","v":"ST Brieuc 2"},{"$f":"IF($T$5=\"Course 1\",Général!K$208,IF($T$5=\"Course 2\",Général!K$210,IF($T$5=\"Course 3\",Général!K$212,Général!K$214)))","v":"ENSTA 2"},null,{"$f":"Général!B19","v":"Hannover"},5]
[null,null,null,null,null,null,null,null,null,null,null,null,null,null,null,null,null,null,null,null,null,{"$f":"Général!B20","v":"ENSTA 2"},4]
[null,null,null,null,null,null,null,null,null,null,null,null,null,null,null,null,null,null,null,null,null,{"$f":"Général!B21","v":"Southampton"},7]
[null,null,null,null,null,null,null,null,null,null,null,null,null,null,null,null,null,null,null,null,null,{"$f":"Général!B22","v":"La Rochelle 1"},6]
[null,null,null,null,null,null,null,null,null,null,null,null,null,null,null,null,null,null,null,null,null,{"$f":"Général!B23","v":"Centrale Nantes 1"},5]
[null,null,null,null,null,null,null,null,null,null,null,null,null,null,null,null,null,null,null,null,null,{"$f":"Général!B24","v":"ST Brieuc 2"},1]
[null,null,null,null,null,null,null,null,null,null,null,null,null,null,null,null,null,null,null,null,null,{"$f":"Général!B25","v":"UNIV Nantes 1"},4]
[null,null,null,null,null,null,null,null,null,null,null,null,null,null,null,null,null,null,null,null,null,{"$f":"Général!B26","v":"Intechmer"},4]
[null,null,null,null,null,null,null,null,null,null,null,null,null,null,null,null,null,null,null,null,null,{"$f":"Général!B27","v":"IMT Nantes"},9]
[null,null,null,null,null,null,null,null,null,null,null,null,null,null,null,null,null,null,null,null,null,{"$f":"Général!B28","v":"INSA Lyon"},6]
[null,null,null,null,null,null,null,null,null,null,null,null,null,null,null,null,null,null,null,null,null,{"$f":"Général!B29","v":"Centrale Nantes 2"},4]
[null,null,null,null,null,null,null,null,null,null,null,null,null,null,null,null,null,null,null,null,null,{"$f":"Général!B30","v":"UBS Lorient 2"},2]
[null,null,null,null,null,null,null,null,null,null,null,null,null,null,null,null,null,null,null,null,null,{"$f":"Général!B31","v":"La Rochelle 2"},7]
[null,null,null,null,null,null,null,null,null,null,null,null,null,null,null,null,null,null,null,null,null,{"$f":"Général!B32","v":"UBO 1"},3]
[null,null,null,null,null,null,null,null,null,null,null,null,null,null,null,null,null,null,null,null,null,{"$f":"Général!B33","v":"Eq.31"},0]
[null,null,null,null,null,null,null,null,null,null,null,null,null,null,null,null,null,null,null,null,null,{"$f":"Général!B34","v":"Eq.32"},0]

{"sheet":"Eq.12","index":17,"n_rows":32,"n_cols":23,"rows_kept":32,"cut":false,"hidden":false,"merged":[[7,0,7,1],[0,0,1,5],[0,6,1,10],[3,0,3,1],[4,0,4,1],[5,0,5,1],[14,0,14,1],[15,0,15,1],[16,0,16,1],[8,0,8,1],[9,0,9,1],[10,0,10,1],[11,0,11,1],[12,0,12,1],[13,0,13,1]]}
["Equipage ",null,null,null,null,null,{"$f":"Général!B14","v":"ENSTA 1"},null,null,null,null,null,null,null,null,null,null,null,null,null,null,{"$f":"Général!B3","v":"UBO 2"},{"$f":"COUNTIF(C$8:T$16,V1)","v":3}]
[null,null,null,null,null,null,null,null,null,null,null,null,null,null,null,null,null,null,null,null,null,{"$f":"Général!B4","v":"Paris Sorbone"},{"$f":"COUNTIF($C$8:$T$16,V2)","v":3}]
[null,null,null,null,null,null,null,null,null,null,null,null,null,null,null,null,null,null,null,null,null,{"$f":"Général!B5","v":"UBS Lorient 1"},{"$f":"COUNTIF($C$8:$T$16,V3)","v":6}]
[null,null,"FLIGHT 1","FLIGHT 2","FLIGHT 3","FLIGHT 4","FLIGHT 5","FLIGHT 6","FLIGHT 7","FLIGHT 8","FLIGHT 9","FLIGHT 10","FLIGHT 11","FLIGHT 12","FLIGHT 13","FLIGHT 14","FLIGHT 15","FLIGHT 16","FLIGHT 17","FLIGHT 18",null,{"$f":"Général!B6","v":"Univ Nantes 3"},5]
["N° de course",null,{"$f":"IF(COUNTIF(Général!B38:K38,$G$1)=1,\"Course 1\",IF(COUNTIF(Général!B40:K40,$G$1)=1,\"Course 2\",IF(COUNTIF(Général!B42:K42,$G$1)=1,\"Course 3\",\"Course 4\")))","v":"Course 1"},{"$f":"IF(COUNTIF(Général!B48:K48,$G$1)=1,\"Course 1\",IF(COUNTIF(Général!B50:K50,$G$1)=1,\"Course 2\",IF(COUNTIF(Général!B52:K52,$G$1)=1,\"Course 3\",\"Course 4\")))","v":"Course 1"},{"$f":"IF(COUNTIF(Général!B58:K58,$G$1)=1,\"Course 1\",IF(COUNTIF(Général!B60:K60,$G$1)=1,\"Course 2\",IF(COUNTIF(Général!B62:K62,$G$1)=1,\"Course 3\",\"Course 4\")))","v":"Course 3"},{"$f":"IF(COUNTIF(Général!B68:K68,$G$1)=1,\"Course 1\",IF(COUNTIF(Général!B70:K70,$G$1)=1,\"Course 2\",IF(COUNTIF(Général!B72:K72,$G$1)=1,\"Course 3\",\"Course 4\")))","v":"Course 1"},{"$f":"IF(COUNTIF(Général!B78:K78,$G$1)=1,\"Course 1\",IF(COUNTIF(Général!B80:K80,$G$1)=1,\"Course 2\",IF(COUNTIF(Général!B82:K82,$G$1)=1,\"Course 3\",\"Course 4\")))","v":"Course 1"},{"$f":"IF(COUNTIF(Général!B88:K88,$G$1)=1,\"Course 1\",IF(COUNTIF(Général!B90:K90,$G$1)=1,\"Course 2\",IF(COUNTIF(Général!B92:K92,$G$1)=1,\"Course 3\",\"Course 4\")))","v":"Course 1"},{"$f":"IF(COUNTIF(Général!B98:K98,$G$1)=1,\"Course 1\",IF(COUNTIF(Général!B100:K100,$G$1)=1,\"Course 2\",IF(COUNTIF(Général!B102:K102,$G$1)=1,\"Course 3\",\"Course 4\")))","v":"Course 2"},{"$f":"IF(COUNTIF(Général!B108:K108,$G$1)=1,\"Course 1\",IF(COUNTIF(Général!B110:K110,$G$1)=1,\"Course 2\",IF(COUNTIF(Général!B112:K112,$G$1)=1,\"Course 3\",\"Course 4\")))","v":"Course 3"},{"$f":"IF(COUNTIF(Général!B118:K118,$G$1)=1,\"Course 1\",IF(COUNTIF(Général!B120:K120,$G$1)=1,\"Course 2\",IF(COUNTIF(Général!B122:K122,$G$1)=1,\"Course 3\",\"Course 4\")))","v":"Course 2"},{"$f":"IF(COUNTIF(Général!B128:K128,$G$1)=1,\"Course 1\",IF(COUNTIF(Général!B130:K130,$G$1)=1,\"Course 2\",IF(COUNTIF(Général!B132:K132,$G$1)=1,\"Course 3\",\"Course 4\")))","v":"Course 2"},{"$f":"IF(COUNTIF(Général!B138:K138,$G$1)=1,\"Course 1\",IF(COUNTIF(Général!B140:K140,$G$1)=1,\"Course 2\",IF(COUNTIF(Général!B142:K142,$G$1)=1,\"Course 3\",\"Course 4\")))","v":"Course 3"},{"$f":"IF(COUNTIF(Général!B148:K148,$G$1)=1,\"Course 1\",IF(COUNTIF(Général!B150:K150,$G$1)=1,\"Course 2\",IF(COUNTIF(Général!B152:K152,$G$1)=1,\"Course 3\",\"Course 4\")))","v":"Course 2"},{"$f":"IF(COUNTIF(Général!B158:K158,$G$1)=1,\"Course 1\",IF(COUNTIF(Général!B160:K160,$G$1)=1,\"Course 2\",IF(COUNTIF(Général!B162:K162,$G$1)=1,\"Course 3\",\"Course 4\")))","v":"Course 3"},{"$f":"IF(COUNTIF(Général!B168:K168,$G$1)=1,\"Course 1\",IF(COUNTIF(Général!B170:K170,$G$1)=1,\"Course 2\",IF(COUNTIF(Général!B172:K172,$G$1)=1,\"Course 3\",\"Course 4\")))","v":"Course 1"},{"$f":"IF(COUNTIF(Général!B178:K178,$G$1)=1,\"Course 1\",IF(COUNTIF(Général!B180:K180,$G$1)=1,\"Course 2\",IF(COUNTIF(Général!B182:K182,$G$1)=1,\"Course 3\",\"Course 4\")))","v":"Course 3"},{"$f":"IF(COUNTIF(Général!B188:K188,$G$1)=1,\"Course 1\",IF(COUNTIF(Général!B190:K190,$G$1)=1,\"Course 2\",IF(COUNTIF(Général!B192:K192,$G$1)=1,\"Course 3\",\"Course 4\")))","v":"Course 3"},{"$f":"IF(COUNTIF(Général!B198:K198,$G$1)=1,\"Course 1\",IF(COUNTIF(Général!B200:K200,$G$1)=1,\"Course 2\",IF(COUNTIF(Général!B202:K202,$G$1)=1,\"Course 3\",\"Course 4\")))","v":"Course 1"},{"$f":"IF(COUNTIF(Général!B208:K208,$G$1)=1,\"Course 1\",IF(COUNTIF(Général!B210:K210,$G$1)=1,\"Course 2\",IF(COUNTIF(Général!B212:K212,$G$1)=1,\"Course 3\",\"Course 4\")))","v":"Course 1"},null,{"$f":"Général!B7","v":"Paris Cité"},5]
["Bateau",null,{"$f":"IF(COUNTIF(Général!B38:B44,$G$1)=1,\"Boat 1\",IF(COUNTIF(Général!C38:C44,$G$1)=1,\"Boat 2\",IF(COUNTIF(Général!D38:D44,$G$1)=1,\"Boat 3\", IF(COUNTIF(Général!E38:E44,$G$1)=1,\"Boat 4\", IF(COUNTIF(Général!F38:F44,$G$1)=1,\"Boat 5\", IF(COUNTIF(Général!G38:G44,$G$1)=1,\"Boat 6\", IF(COUNTIF(Général!H38:H44,$G$1)=1,\"Boat 7\",IF(COUNTIF(Général!I38:I44,$G$1)=1,\"Boat 8\",\"Boat 9\"))))))))","v":"Boat 6"},{"$f":"IF(COUNTIF(Général!B48:B54,$G$1)=1,\"Boat 1\",IF(COUNTIF(Général!C48:C54,$G$1)=1,\"Boat 2\",IF(COUNTIF(Général!D48:D54,$G$1)=1,\"Boat 3\", IF(COUNTIF(Général!E48:E54,$G$1)=1,\"Boat 4\", IF(COUNTIF(Général!F48:F54,$G$1)=1,\"Boat 5\", IF(COUNTIF(Général!G48:G54,$G$1)=1,\"Boat 6\", IF(COUNTIF(Général!H48:H54,$G$1)=1,\"Boat 7\",IF(COUNTIF(Général!I38:I44,$G$1)=1,\"Boat 8\",\"Boat 9\"))))))))","v":"Boat 1"},{"$f":"IF(COUNTIF(Général!B58:B64,$G$1)=1,\"Boat 1\",IF(COUNTIF(Général!C58:C64,$G$1)=1,\"Boat 2\",IF(COUNTIF(Général!D58:D64,$G$1)=1,\"Boat 3\", IF(COUNTIF(Général!E58:E64,$G$1)=1,\"Boat 4\", IF(COUNTIF(Général!F58:F64,$G$1)=1,\"Boat 5\", IF(COUNTIF(Général!G58:G64,$G$1)=1,\"Boat 6\", IF(COUNTIF(Général!H58:H64,$G$1)=1,\"Boat 7\",IF(COUNTIF(Général!I38:I44,$G$1)=1,\"Boat 8\",\"Boat 9\"))))))))","v":"Boat 9"},{"$f":"IF(COUNTIF(Général!B68:B74,$G$1)=1,\"Boat 1\",IF(COUNTIF(Général!C68:C74,$G$1)=1,\"Boat 2\",IF(COUNTIF(Général!D68:D74,$G$1)=1,\"Boat 3\", IF(COUNTIF(Général!E68:E74,$G$1)=1,\"Boat 4\", IF(COUNTIF(Général!F68:F74,$G$1)=1,\"Boat 5\", IF(COUNTIF(Général!G68:G74,$G$1)=1,\"Boat 6\", IF(COUNTIF(Général!H68:H74,$G$1)=1,\"Boat 7\",IF(COUNTIF(Général!I38:I44,$G$1)=1,\"Boat 8\",\"Boat 9\"))))))))","v":"Boat 9"},{"$f":"IF(COUNTIF(Général!B78:B84,$G$1)=1,\"Boat 1\",IF(COUNTIF(Général!C78:C84,$G$1)=1,\"Boat 2\",IF(COUNTIF(Général!D78:D84,$G$1)=1,\"Boat 3\", IF(COUNTIF(Général!E78:E84,$G$1)=1,\"Boat 4\", IF(COUNTIF(Général!F78:F84,$G$1)=1,\"Boat 5\", IF(COUNTIF(Général!G78:G84,$G$1)=1,\"Boat 6\", IF(COUNTIF(Général!H78:H84,$G$1)=1,\"Boat 7\",IF(COUNTIF(Général!I38:I44,$G$1)=1,\"Boat 8\",\"Boat 9\"))))))))","v":"Boat 9"},{"$f":"IF(COUNTIF(Général!B88:B94,$G$1)=1,\"Boat 1\",IF(COUNTIF(Général!C88:C94,$G$1)=1,\"Boat 2\",IF(COUNTIF(Général!D88:D94,$G$1)=1,\"Boat 3\", IF(COUNTIF(Général!E88:E94,$G$1)=1,\"Boat 4\", IF(COUNTIF(Général!F88:F94,$G$1)=1,\"Boat 5\", IF(COUNTIF(Général!G88:G94,$G$1)=1,\"Boat 6\", IF(COUNTIF(Général!H88:H94,$G$1)=1,\"Boat 7\",IF(COUNTIF(Général!I38:I44,$G$1)=1,\"Boat 8\",\"Boat 9\"))))))))","v":"Boat 9"},{"$f":"IF(COUNTIF(Général!B98:B104,$G$1)=1,\"Boat 1\",IF(COUNTIF(Général!C98:C104,$G$1)=1,\"Boat 2\",IF(COUNTIF(Général!D98:D104,$G$1)=1,\"Boat 3\", IF(COUNTIF(Général!E98:E104,$G$1)=1,\"Boat 4\", IF(COUNTIF(Général!F98:F104,$G$1)=1,\"Boat 5\", IF(COUNTIF(Général!G98:G104,$G$1)=1,\"Boat 6\", IF(COUNTIF(Général!H98:H104,$G$1)=1,\"Boat 7\",IF(COUNTIF(Général!I38:I44,$G$1)=1,\"Boat 8\",\"Boat 9\"))))))))","v":"Boat 9"},{"$f":"IF(COUNTIF(Général!B108:B114,$G$1)=1,\"Boat 1\",IF(COUNTIF(Général!C108:C114,$G$1)=1,\"Boat 2\",IF(COUNTIF(Général!D108:D114,$G$1)=1,\"Boat 3\", IF(COUNTIF(Général!E108:E114,$G$1)=1,\"Boat 4\", IF(COUNTIF(Général!F108:F114,$G$1)=1,\"Boat 5\", IF(COUNTIF(Général!G108:G114,$G$1)=1,\"Boat 6\", IF(COUNTIF(Général!H108:H114,$G$1)=1,\"Boat 7\",IF(COUNTIF(Général!I38:I44,$G$1)=1,\"Boat 8\",\"Boat 9\"))))))))","v":"Boat 6"},{"$f":"IF(COUNTIF(Général!B118:B124,$G$1)=1,\"Boat 1\",IF(COUNTIF(Général!C118:C124,$G$1)=1,\"Boat 2\",IF(COUNTIF(Général!D118:D124,$G$1)=1,\"Boat 3\", IF(COUNTIF(Général!E118:E124,$G$1)=1,\"Boat 4\", IF(COUNTIF(Général!F118:F124,$G$1)=1,\"Boat 5\", IF(COUNTIF(Général!G118:G124,$G$1)=1,\"Boat 6\", IF(COUNTIF(Général!H118:H124,$G$1)=1,\"Boat 7\",IF(COUNTIF(Général!I38:I44,$G$1)=1,\"Boat 8\",\"Boat 9\"))))))))","v":"Boat 5"},{"$f":"IF(COUNTIF(Général!B128:B134,$G$1)=1,\"Boat 1\",IF(COUNTIF(Général!C128:C134,$G$1)=1,\"Boat 2\",IF(COUNTIF(Général!D128:D134,$G$1)=1,\"Boat 3\", IF(COUNTIF(Général!E128:E134,$G$1)=1,\"Boat 4\", IF(COUNTIF(Général!F128:F134,$G$1)=1,\"Boat 5\", IF(COUNTIF(Général!G128:G134,$G$1)=1,\"Boat 6\", IF(COUNTIF(Général!H128:H134,$G$1)=1,\"Boat 7\",IF(COUNTIF(Général!I38:I44,$G$1)=1,\"Boat 8\",\"Boat 9\"))))))))","v":"Boat 3"},{"$f":"IF(COUNTIF(Général!B138:B144,$G$1)=1,\"Boat 1\",IF(COUNTIF(Général!C138:C144,$G$1)=1,\"Boat 2\",IF(COUNTIF(Général!C138:D144,$G$1)=1,\"Boat 3\", IF(COUNTIF(Général!C138:E144,$G$1)=1,\"Boat 4\", IF(COUNTIF(Général!F138:F144,$G$1)=1,\"Boat 5\", IF(COUNTIF(Général!G138:G144,$G$1)=1,\"Boat 6\", IF(COUNTIF(Général!H138:H144,$G$1)=1,\"Boat 7\",IF(COUNTIF(Général!I38:I44,$G$1)=1,\"Boat 8\",\"Boat 9\"))))))))","v":"Boat 1"},{"$f":"IF(COUNTIF(Général!B148:B154,$G$1)=1,\"Boat 1\",IF(COUNTIF(Général!C148:C154,$G$1)=1,\"Boat 2\",IF(COUNTIF(Général!D148:D154,$G$1)=1,\"Boat 3\", IF(COUNTIF(Général!E148:E154,$G$1)=1,\"Boat 4\", IF(COUNTIF(Général!F148:F154,$G$1)=1,\"Boat 5\", IF(COUNTIF(Général!G148:G154,$G$1)=1,\"Boat 6\", IF(COUNTIF(Général!H148:H154,$G$1)=1,\"Boat 7\",IF(COUNTIF(Général!I38:I44,$G$1)=1,\"Boat 8\",\"Boat 9\"))))))))","v":"Boat 9"},{"$f":"IF(COUNTIF(Général!B158:B164,$G$1)=1,\"Boat 1\",IF(COUNTIF(Général!C158:C164,$G$1)=1,\"Boat 2\",IF(COUNTIF(Général!D160:D164,$G$1)=1,\"Boat 3\", IF(COUNTIF(Général!E158:E164,$G$1)=1,\"Boat 4\", IF(COUNTIF(Général!F158:F164,$G$1)=1,\"Boat 5\", IF(COUNTIF(Général!G158:G164,$G$1)=1,\"Boat 6\", IF(COUNTIF(Général!H158:H164,$G$1)=1,\"Boat 7\",IF(COUNTIF(Général!I38:I44,$G$1)=1,\"Boat 8\",\"Boat 9\"))))))))","v":"Boat 3"},{"$f":"IF(COUNTIF(Général!B168:B174,$G$1)=1,\"Boat 1\",IF(COUNTIF(Général!C168:C174,$G$1)=1,\"Boat 2\",IF(COUNTIF(Général!D168:D174,$G$1)=1,\"Boat 3\", IF(COUNTIF(Général!E168:E174,$G$1)=1,\"Boat 4\", IF(COUNTIF(Général!F178:F184,$G$1)=1,\"Boat 5\", IF(COUNTIF(Général!G178:G184,$G$1)=1,\"Boat 6\", IF(COUNTIF(Général!H178:H184,$G$1)=1,\"Boat 7\",IF(COUNTIF(Général!I38:I44,$G$1)=1,\"Boat 8\",\"Boat 9\"))))))))","v":"Boat 3"},{"$f":"IF(COUNTIF(Général!B178:B184,$G$1)=1,\"Boat 1\",IF(COUNTIF(Général!C178:C184,$G$1)=1,\"Boat 2\",IF(COUNTIF(Général!D178:D184,$G$1)=1,\"Boat 3\", IF(COUNTIF(Général!E178:E184,$G$1)=1,\"Boat 4\", IF(COUNTIF(Général!F178:F184,$G$1)=1,\"Boat 5\", IF(COUNTIF(Général!G178:G184,$G$1)=1,\"Boat 6\", IF(COUNTIF(Général!H178:H184,$G$1)=1,\"Boat 7\",IF(COUNTIF(Général!I38:I44,$G$1)=1,\"Boat 8\",\"Boat 9\"))))))))","v":"Boat 2"},{"$f":"IF(COUNTIF(Général!B188:B194,$G$1)=1,\"Boat 1\",IF(COUNTIF(Général!C188:C194,$G$1)=1,\"Boat 2\",IF(COUNTIF(Général!D188:D194,$G$1)=1,\"Boat 3\", IF(COUNTIF(Général!E188:E194,$G$1)=1,\"Boat 4\", IF(COUNTIF(Général!F188:F194,$G$1)=1,\"Boat 5\", IF(COUNTIF(Général!G188:G194,$G$1)=1,\"Boat 6\", IF(COUNTIF(Général!H188:H194,$G$1)=1,\"Boat 7\",IF(COUNTIF(Général!I38:I44,$G$1)=1,\"Boat 8\",\"Boat 9\"))))))))","v":"Boat 1"},{"$f":"IF(COUNTIF(Général!B198:B204,$G$1)=1,\"Boat 1\",IF(COUNTIF(Général!C198:C204,$G$1)=1,\"Boat 2\",IF(COUNTIF(Général!D198:D204,$G$1)=1,\"Boat 3\", IF(COUNTIF(Général!E198:E204,$G$1)=1,\"Boat 4\", IF(COUNTIF(Général!F198:F204,$G$1)=1,\"Boat 5\", IF(COUNTIF(Général!G198:G204,$G$1)=1,\"Boat 6\", IF(COUNTIF(Général!H198:H204,$G$1)=1,\"Boat 7\",IF(COUNTIF(Général!I38:I44,$G$1)=1,\"Boat 8\",\"Boat 9\"))))))))","v":"Boat 1"},{"$f":"IF(COUNTIF(Général!B208:B214,$G$1)=1,\"Boat 1\",IF(COUNTIF(Général!C208:C214,$G$1)=1,\"Boat 2\",IF(COUNTIF(Général!D208:D214,$G$1)=1,\"Boat 3\", IF(COUNTIF(Général!E208:E214,$G$1)=1,\"Boat 4\", IF(COUNTIF(Général!F208:F214,$G$1)=1,\"Boat 5\", IF(COUNTIF(Général!G208:G214,$G$1)=1,\"Boat 6\", IF(COUNTIF(Général!H208:H214,$G$1)=1,\"Boat 7\",IF(COUNTIF(Général!I38:I44,$G$1)=1,\"Boat 8\",\"Boat 9\"))))))))","v":"Boat 9"},null,{"$f":"Général!B8","v":"Plymouth"},8]
[null,null,null,null,null,null,null,null,null,null,null,null,null,null,null,null,null,null,null,null,null,{"$f":"Général!B9","v":"Unicaen 2"},5]
["1er Equipage",null,{"$f":"IF($C$5=\"Course 1\",Général!B38,IF($C$5=\"Course 2\",Général!B40,IF($C$5=\"Course 3\",Général!B42,Général!B44)))","v":"IMT Nantes"},{"$f":"IF($D$5=\"Course 1\",Général!B48,IF($D$5=\"Course 2\",Général!B50,IF($D$5=\"Course 3\",Général!B52,Général!B54)))","v":"ENSTA 1"},{"$f":"IF($E$5=\"Course 1\",Général!B58,IF($E$5=\"Course 2\",Général!B60,IF($E$5=\"Course 3\",Général!B62,Général!B64)))","v":"ST Brieuc 2"},{"$f":"IF($F$5=\"Course 1\",Général!B$68,IF($F$5=\"Course 2\",Général!B$70,IF($F$5=\"Course 3\",Général!B$72,Général!B$74)))","v":"ST Brieuc 2"},{"$f":"IF($G$5=\"Course 1\",Général!B$78,IF($G$5=\"Course 2\",Général!B$80,IF($G$5=\"Course 3\",Général!B$82,Général!B$84)))","v":"ENSMAC"},{"$f":"IF($H$5=\"Course 1\",Général!B$88,IF($H$5=\"Course 2\",Général!B$90,IF($H$5=\"Course 3\",Général!B$92,Général!B$94)))","v":"ENSTA 2"},{"$f":"IF($I$5=\"Course 1\",Général!B$98,IF($I$5=\"Course 2\",Général!B$100,IF($I$5=\"Course 3\",Général!B$102,Général!B$104)))","v":"Unicaen 1"},{"$f":"IF($J$5=\"Course 1\",Général!B$108,IF($J$5=\"Course 2\",Général!B$110,IF($J$5=\"Course 3\",Général!B$112,Général!B$114)))","v":"UNIV Nantes 1"},{"$f":"IF($K$5=\"Course 1\",Général!B$118,IF($K$5=\"Course 2\",Général!B$120,IF($K$5=\"Course 3\",Général!B$122,Général!B$124)))","v":"Hannover"},{"$f":"IF($L$5=\"Course 1\",Général!B$128,IF($L$5=\"Course 2\",Général!B$130,IF($L$5=\"Course 3\",Général!B$132,Général!B$134)))","v":"Plymouth"},{"$f":"IF($M$5=\"Course 1\",Général!B$138,IF($M$5=\"Course 2\",Général!B$140,IF($M$5=\"Course 3\",Général!B$142,Général!B$144)))","v":"ENSTA 1"},{"$f":"IF($N$5=\"Course 1\",Général!B$148,IF($N$5=\"Course 2\",Général!B$150,IF($N$5=\"Course 3\",Général!B$152,Général!B$154)))","v":"UBS Lorient 2"},{"$f":"IF($O$5=\"Course 1\",Général!B$158,IF($O$5=\"Course 2\",Général!B$160,IF($O$5=\"Course 3\",Général!B$162,Général!B$164)))","v":"St Brieuc 1"},{"$f":"IF($P$5=\"Course 1\",Général!B$168,IF($P$5=\"Course 2\",Général!B$170,IF($P$5=\"Course 3\",Général!B$172,Général!B$174)))","v":"St Brieuc 1"},{"$f":"IF($Q$5=\"Course 1\",Général!B$178,IF($Q$5=\"Course 2\",Général!B$180,IF($Q$5=\"Course 3\",Général!B$182,Général!B$184)))","v":"Paris Cité"},{"$f":"IF($R$5=\"Course 1\",Général!B$188,IF($R$5=\"Course 2\",Général!B$190,IF($R$5=\"Course 3\",Général!B$192,Général!B$194)))","v":"ENSTA 1"},{"$f":"IF($S$5=\"Course 1\",Général!B$198,IF($S$5=\"Course 2\",Général!B$200,IF($S$5=\"Course 3\",Général!B$202,Général!B$204)))","v":"ENSTA 1"},{"$f":"IF($T$5=\"Course 1\",Général!B$208,IF($T$5=\"Course 2\",Général!B$210,IF($T$5=\"Course 3\",Général!B$212,Général!B$214)))","v":"UBS Lorient 2"},null,{"$f":"Général!B10","v":"Univ Nantes 2"},5]
["2nd Equipage",null,{"$f":"IF($C$5=\"Course 1\",Général!C38,IF($C$5=\"Course 2\",Général!C40,IF($C$5=\"Course 3\",Général!C42,Général!C44)))","v":"Unicaen 1"},{"$f":"IF($D$5=\"Course 1\",Général!C48,IF($D$5=\"Course 2\",Général!C50,IF($D$5=\"Course 3\",Général!C52,Général!C54)))","v":"UBS Lorient 1"},{"$f":"IF($E$5=\"Course 1\",Général!C58,IF($E$5=\"Course 2\",Général!C60,IF($E$5=\"Course 3\",Général!C62,Général!C64)))","v":"La Rochelle 1"},{"$f":"IF($F$5=\"Course 1\",Général!C$68,IF($F$5=\"Course 2\",Général!C$70,IF($F$5=\"Course 3\",Général!C$72,Général!C$74)))","v":"La Rochelle 1"},{"$f":"IF($G$5=\"Course 1\",Général!C$78,IF($G$5=\"Course 2\",Général!C$80,IF($G$5=\"Course 3\",Général!C$82,Général!C$84)))","v":"Hannover"},{"$f":"IF($H$5=\"Course 1\",Général!C$88,IF($H$5=\"Course 2\",Général!C$90,IF($H$5=\"Course 3\",Général!C$92,Général!C$94)))","v":"Southampton"},{"$f":"IF($I$5=\"Course 1\",Général!C$98,IF($I$5=\"Course 2\",Général!C$100,IF($I$5=\"Course 3\",Général!C$102,Général!C$104)))","v":"La Rochelle 1"},{"$f":"IF($J$5=\"Course 1\",Général!C$108,IF($J$5=\"Course 2\",Général!C$110,IF($J$5=\"Course 3\",Général!C$112,Général!C$114)))","v":"UBS Lorient 1"},{"$f":"IF($K$5=\"Course 1\",Général!C$118,IF($K$5=\"Course 2\",Général!C$120,IF($K$5=\"Course 3\",Général!C$122,Général!C$124)))","v":"Paris Cité"},{"$f":"IF($L$5=\"Course 1\",Général!C$128,IF($L$5=\"Course 2\",Général!C$130,IF($L$5=\"Course 3\",Général!C$132,Général!C$134)))","v":"ENSMAC"},{"$f":"IF($M$5=\"Course 1\",Général!C$138,IF($M$5=\"Course 2\",Général!C$140,IF($M$5=\"Course 3\",Général!C$142,Général!C$144)))","v":"Intechmer"},{"$f":"IF($N$5=\"Course 1\",Général!C$148,IF($N$5=\"Course 2\",Général!C$150,IF($N$5=\"Course 3\",Général!C$152,Général!C$154)))","v":"UBO 1"},{"$f":"IF($O$5=\"Course 1\",Général!C$158,IF($O$5=\"Course 2\",Général!C$160,IF($O$5=\"Course 3\",Général!C$162,Général!C$164)))","v":"Karlsruhe"},{"$f":"IF($P$5=\"Course 1\",Général!C$168,IF($P$5=\"Course 2\",Général!C$170,IF($P$5=\"Course 3\",Général!C$172,Général!C$174)))","v":"Paris Sorbone"},{"$f":"IF($Q$5=\"Course 1\",Général!C$178,IF($Q$5=\"Course 2\",Général!C$180,IF($Q$5=\"Course 3\",Général!C$182,Général!C$184)))","v":"ENSTA 1"},{"$f":"IF($R$5=\"Course 1\",Général!C$188,IF($R$5=\"Course 2\",Général!C$190,IF($R$5=\"Course 3\",Général!C$192,Général!C$194)))","v":"INSA Lyon"},{"$f":"IF($S$5=\"Course 1\",Général!C$198,IF($S$5=\"Course 2\",Général!C$200,IF($S$5=\"Course 3\",Général!C$202,Général!C$204)))","v":"INSA Lyon"},{"$f":"IF($T$5=\"Course 1\",Général!C$208,IF($T$5=\"Course 2\",Général!C$210,IF($T$5=\"Course 3\",Général!C$212,Général!C$214)))","v":"Unicaen 2"},null,{"$f":"Général!B11","v":"Karlsruhe"},5]
["3ème Equipage",null,{"$f":"IF($C$5=\"Course 1\",Général!D38,IF($C$5=\"Course 2\",Général!D40,IF($C$5=\"Course 3\",Général!D42,Général!D44)))","v":"St Brieuc 1"},{"$f":"IF($D$5=\"Course 1\",Général!D48,IF($D$5=\"Course 2\",Général!D50,IF($D$5=\"Course 3\",Général!D52,Général!D54)))","v":"Paris Sorbone"},{"$f":"IF($E$5=\"Course 1\",Général!D58,IF($E$5=\"Course 2\",Général!D60,IF($E$5=\"Course 3\",Général!D62,Général!D64)))","v":"St Brieuc 1"},{"$f":"IF($F$5=\"Course 1\",Général!D$68,IF($F$5=\"Course 2\",Général!D$70,IF($F$5=\"Course 3\",Général!D$72,Général!D$74)))","v":"Centrale Nantes 1"},{"$f":"IF($G$5=\"Course 1\",Général!D$78,IF($G$5=\"Course 2\",Général!D$80,IF($G$5=\"Course 3\",Général!D$82,Général!D$84)))","v":"Karlsruhe"},{"$f":"IF($H$5=\"Course 1\",Général!D$88,IF($H$5=\"Course 2\",Général!D$90,IF($H$5=\"Course 3\",Général!D$92,Général!D$94)))","v":"UBO 1"},{"$f":"IF($I$5=\"Course 1\",Général!D$98,IF($I$5=\"Course 2\",Général!D$100,IF($I$5=\"Course 3\",Général!D$102,Général!D$104)))","v":"Southampton"},{"$f":"IF($J$5=\"Course 1\",Général!D$108,IF($J$5=\"Course 2\",Général!D$110,IF($J$5=\"Course 3\",Général!D$112,Général!D$114)))","v":"IMT Brest 1"},{"$f":"IF($K$5=\"Course 1\",Général!D$118,IF($K$5=\"Course 2\",Général!D$120,IF($K$5=\"Course 3\",Général!D$122,Général!D$124)))","v":"Unicaen 2"},{"$f":"IF($L$5=\"Course 1\",Général!D$128,IF($L$5=\"Course 2\",Général!D$130,IF($L$5=\"Course 3\",Général!D$132,Général!D$134)))","v":"ENSTA 1"},{"$f":"IF($M$5=\"Course 1\",Général!D$138,IF($M$5=\"Course 2\",Général!D$140,IF($M$5=\"Course 3\",Général!D$142,Général!D$144)))","v":"La Rochelle 2"},{"$f":"IF($N$5=\"Course 1\",Général!D$148,IF($N$5=\"Course 2\",Général!D$150,IF($N$5=\"Course 3\",Général!D$152,Général!D$154)))","v":"Centrale Nantes 2"},{"$f":"IF($O$5=\"Course 1\",Général!D$158,IF($O$5=\"Course 2\",Général!D$160,IF($O$5=\"Course 3\",Général!D$162,Général!D$164)))","v":"ENSTA 1"},{"$f":"IF($P$5=\"Course 1\",Général!D$168,IF($P$5=\"Course 2\",Général!D$170,IF($P$5=\"Course 3\",Général!D$172,Général!D$174)))","v":"ENSTA 1"},{"$f":"IF($Q$5=\"Course 1\",Général!D$178,IF($Q$5=\"Course 2\",Général!D$180,IF($Q$5=\"Course 3\",Général!D$182,Général!D$184)))","v":"La Rochelle 1"},{"$f":"IF($R$5=\"Course 1\",Général!D$188,IF($R$5=\"Course 2\",Général!D$190,IF($R$5=\"Course 3\",Général!D$192,Général!D$194)))","v":"Intechmer"},{"$f":"IF($S$5=\"Course 1\",Général!D$198,IF($S$5=\"Course 2\",Général!D$200,IF($S$5=\"Course 3\",Général!D$202,Général!D$204)))","v":"Intechmer"},{"$f":"IF($T$5=\"Course 1\",Général!D$208,IF($T$5=\"Course 2\",Général!D$210,IF($T$5=\"Course 3\",Général!D$212,Général!D$214)))","v":"IMT Brest 2"},null,{"$f":"Général!B12","v":"IMT Brest 2"},2]
["4ème Equipage",null,{"$f":"IF($C$5=\"Course 1\",Général!E38,IF($C$5=\"Course 2\",Général!E40,IF($C$5=\"Course 3\",Général!E42,Général!E44)))","v":"La Rochelle 2"},{"$f":"IF($D$5=\"Course 1\",Général!E48,IF($D$5=\"Course 2\",Général!E50,IF($D$5=\"Course 3\",Général!E52,Général!E54)))","v":"IMT Nantes"},{"$f":"IF($E$5=\"Course 1\",Général!E58,IF($E$5=\"Course 2\",Général!E60,IF($E$5=\"Course 3\",Général!E62,Général!E64)))","v":"Plymouth"},{"$f":"IF($F$5=\"Course 1\",Général!E$68,IF($F$5=\"Course 2\",Général!E$70,IF($F$5=\"Course 3\",Général!E$72,Général!E$74)))","v":"Plymouth"},{"$f":"IF($G$5=\"Course 1\",Général!E$78,IF($G$5=\"Course 2\",Général!E$80,IF($G$5=\"Course 3\",Général!E$82,Général!E$84)))","v":"UNIV Nantes 1"},{"$f":"IF($H$5=\"Course 1\",Général!E$88,IF($H$5=\"Course 2\",Général!E$90,IF($H$5=\"Course 3\",Général!E$92,Général!E$94)))","v":"La Rochelle 1"},{"$f":"IF($I$5=\"Course 1\",Général!E$98,IF($I$5=\"Course 2\",Général!E$100,IF($I$5=\"Course 3\",Général!E$102,Général!E$104)))","v":"Karlsruhe"},{"$f":"IF($J$5=\"Course 1\",Général!E$108,IF($J$5=\"Course 2\",Général!E$110,IF($J$5=\"Course 3\",Général!E$112,Général!E$114)))","v":"UBS Lorient 2"},{"$f":"IF($K$5=\"Course 1\",Général!E$118,IF($K$5=\"Course 2\",Général!E$120,IF($K$5=\"Course 3\",Général!E$122,Général!E$124)))","v":"UBO 1"},{"$f":"IF($L$5=\"Course 1\",Général!E$128,IF($L$5=\"Course 2\",Général!E$130,IF($L$5=\"Course 3\",Général!E$132,Général!E$134)))","v":"Paris Cité"},{"$f":"IF($M$5=\"Course 1\",Général!E$138,IF($M$5=\"Course 2\",Général!E$140,IF($M$5=\"Course 3\",Général!E$142,Général!E$144)))","v":"ENSMAC"},{"$f":"IF($N$5=\"Course 1\",Général!E$148,IF($N$5=\"Course 2\",Général!E$150,IF($N$5=\"Course 3\",Général!E$152,Général!E$154)))","v":"UBS Lorient 1"},{"$f":"IF($O$5=\"Course 1\",Général!E$158,IF($O$5=\"Course 2\",Général!E$160,IF($O$5=\"Course 3\",Général!E$162,Général!E$164)))","v":"Univ Nantes 2"},{"$f":"IF($P$5=\"Course 1\",Général!E$168,IF($P$5=\"Course 2\",Général!E$170,IF($P$5=\"Course 3\",Général!E$172,Général!E$174)))","v":"Univ Nantes 2"},{"$f":"IF($Q$5=\"Course 1\",Général!E$178,IF($Q$5=\"Course 2\",Général!E$180,IF($Q$5=\"Course 3\",Général!E$182,Général!E$184)))","v":"Centrale Nantes 1"},{"$f":"IF($R$5=\"Course 1\",Général!E$188,IF($R$5=\"Course 2\",Général!E$190,IF($R$5=\"Course 3\",Général!E$192,Général!E$194)))","v":"Univ Nantes 2"},{"$f":"IF($S$5=\"Course 1\",Général!E$198,IF($S$5=\"Course 2\",Général!E$200,IF($S$5=\"Course 3\",Général!E$202,Général!E$204)))","v":"St Brieuc 1"},{"$f":"IF($T$5=\"Course 1\",Général!E$208,IF($T$5=\"Course 2\",Général!E$210,IF($T$5=\"Course 3\",Général!E$212,Général!E$214)))","v":"IMT Nantes"},null,{"$f":"Général!B13","v":"Unicaen 1"},4]
["5ème Equipage",null,{"$f":"IF($C$5=\"Course 1\",Général!F38,IF($C$5=\"Course 2\",Général!F40,IF($C$5=\"Course 3\",Général!F42,Général!F44)))","v":"UBO 2"},{"$f":"IF($D$5=\"Course 1\",Général!F48,IF($D$5=\"Course 2\",Général!F50,IF($D$5=\"Course 3\",Général!F52,Général!F54)))","v":"Hannover"},{"$f":"IF($E$5=\"Course 1\",Général!F58,IF($E$5=\"Course 2\",Général!F60,IF($E$5=\"Course 3\",Général!F62,Général!F64)))","v":"UBS Lorient 1"},{"$f":"IF($F$5=\"Course 1\",Général!F$68,IF($F$5=\"Course 2\",Général!F$70,IF($F$5=\"Course 3\",Général!F$72,Général!F$74)))","v":"UBS Lorient 1"},{"$f":"IF($G$5=\"Course 1\",Général!F$78,IF($G$5=\"Course 2\",Général!F$80,IF($G$5=\"Course 3\",Général!F$82,Général!F$84)))","v":"ST Brieuc 2"},{"$f":"IF($H$5=\"Course 1\",Général!F$88,IF($H$5=\"Course 2\",Général!F$90,IF($H$5=\"Course 3\",Général!F$92,Général!F$94)))","v":"Orléans"},{"$f":"IF($I$5=\"Course 1\",Général!F$98,IF($I$5=\"Course 2\",Général!F$100,IF($I$5=\"Course 3\",Général!F$102,Général!F$104)))","v":"UBS Lorient 1"},{"$f":"IF($J$5=\"Course 1\",Général!F$108,IF($J$5=\"Course 2\",Général!F$110,IF($J$5=\"Course 3\",Général!F$112,Général!F$114)))","v":"Intechmer"},{"$f":"IF($K$5=\"Course 1\",Général!F$118,IF($K$5=\"Course 2\",Général!F$120,IF($K$5=\"Course 3\",Général!F$122,Général!F$124)))","v":"ENSTA 1"},{"$f":"IF($L$5=\"Course 1\",Général!F$128,IF($L$5=\"Course 2\",Général!$F130,IF($L$5=\"Course 3\",Général!F$132,Général!F$134)))","v":"La Rochelle 2"},{"$f":"IF($M$5=\"Course 1\",Général!F$138,IF($M$5=\"Course 2\",Général!F$140,IF($M$5=\"Course 3\",Général!F$142,Général!F$144)))","v":"UBO 1"},{"$f":"IF($N$5=\"Course 1\",Général!F$148,IF($N$5=\"Course 2\",Général!F$150,IF($N$5=\"Course 3\",Général!F$152,Général!F$154)))","v":"ST Brieuc 2"},{"$f":"IF($O$5=\"Course 1\",Général!F$158,IF($O$5=\"Course 2\",Général!F$160,IF($O$5=\"Course 3\",Général!F$162,Général!F$164)))","v":"UNIV Nantes 1"},{"$f":"IF($P$5=\"Course 1\",Général!F$168,IF($P$5=\"Course 2\",Général!F$170,IF($P$5=\"Course 3\",Général!F$172,Général!F$174)))","v":"Unicaen 1"},{"$f":"IF($Q$5=\"Course 1\",Général!F$178,IF($Q$5=\"Course 2\",Général!F$180,IF($Q$5=\"Course 3\",Général!F$182,Général!F$184)))","v":"Hannover"},{"$f":"IF($R$5=\"Course 1\",Général!F$188,IF($R$5=\"Course 2\",Général!F$190,IF($R$5=\"Course 3\",Général!F$192,Général!F$194)))","v":"ENSTA 2"},{"$f":"IF($S$5=\"Course 1\",Général!F$198,IF($S$5=\"Course 2\",Général!F$200,IF($S$5=\"Course 3\",Général!F$202,Général!F$204)))","v":"IMT Nantes"},{"$f":"IF($T$5=\"Course 1\",Général!F$208,IF($T$5=\"Course 2\",Général!F$210,IF($T$5=\"Course 3\",Général!F$212,Général!F$214)))","v":"ST Brieuc 2"},null,{"$f":"Général!B14","v":"ENSTA 1"},15]
["6ème Equipage",null,{"$f":"IF($C$5=\"Course 1\",Général!G38,IF($C$5=\"Course 2\",Général!G40,IF($C$5=\"Course 3\",Général!G42,Général!G44)))","v":"ENSTA 1"},{"$f":"IF($D$5=\"Course 1\",Général!G48,IF($D$5=\"Course 2\",Général!G50,IF($D$5=\"Course 3\",Général!G52,Général!G54)))","v":"Plymouth"},{"$f":"IF($E$5=\"Course 1\",Général!G58,IF($E$5=\"Course 2\",Général!G60,IF($E$5=\"Course 3\",Général!G62,Général!G64)))","v":"IMT Brest 1"},{"$f":"IF($F$5=\"Course 1\",Général!G$68,IF($F$5=\"Course 2\",Général!G$70,IF($F$5=\"Course 3\",Général!G$72,Général!G$74)))","v":"IMT Brest 1"},{"$f":"IF($G$5=\"Course 1\",Général!G$78,IF($G$5=\"Course 2\",Général!G$80,IF($G$5=\"Course 3\",Général!G$82,Général!G$84)))","v":"UBO 1"},{"$f":"IF($H$5=\"Course 1\",Général!G$88,IF($H$5=\"Course 2\",Général!G$90,IF($H$5=\"Course 3\",Général!G$92,Général!G$94)))","v":"Paris Cité"},{"$f":"IF($I$5=\"Course 1\",Général!G$98,IF($I$5=\"Course 2\",Général!G$100,IF($I$5=\"Course 3\",Général!G$102,Général!G$104)))","v":"Univ Nantes 3"},{"$f":"IF($J$5=\"Course 1\",Général!G$108,IF($J$5=\"Course 2\",Général!G$110,IF($J$5=\"Course 3\",Général!G$112,Général!G$114)))","v":"ENSTA 1"},{"$f":"IF($K$5=\"Course 1\",Général!G$118,IF($K$5=\"Course 2\",Général!G$120,IF($K$5=\"Course 3\",Général!G$122,Général!G$124)))","v":"La Rochelle 2"},{"$f":"IF($L$5=\"Course 1\",Général!G$128,IF($L$5=\"Course 2\",Général!G$130,IF($L$5=\"Course 3\",Général!G$132,Général!G$134)))","v":"Intechmer"},{"$f":"IF($M$5=\"Course 1\",Général!G$138,IF($M$5=\"Course 2\",Général!G$140,IF($M$5=\"Course 3\",Général!G$142,Général!G$144)))","v":"Southampton"},{"$f":"IF($N$5=\"Course 1\",Général!G$148,IF($N$5=\"Course 2\",Général!G$150,IF($N$5=\"Course 3\",Général!G$152,Général!G$154)))","v":"Univ Nantes 2"},{"$f":"IF($O$5=\"Course 1\",Général!G$158,IF($O$5=\"Course 2\",Général!G$160,IF($O$5=\"Course 3\",Général!G$162,Général!G$164)))","v":"Unicaen 2"},{"$f":"IF($P$5=\"Course 1\",Général!G$168,IF($P$5=\"Course 2\",Général!G$170,IF($P$5=\"Course 3\",Général!G$172,Général!G$174)))","v":"Paris Cité"},{"$f":"IF($Q$5=\"Course 1\",Général!G$178,IF($Q$5=\"Course 2\",Général!G$180,IF($Q$5=\"Course 3\",Général!G$182,Général!G$184)))","v":"Centrale Nantes 2"},{"$f":"IF($R$5=\"Course 1\",Général!G$188,IF($R$5=\"Course 2\",Général!G$190,IF($R$5=\"Course 3\",Général!G$192,Général!G$194)))","v":"La Rochelle 2"},{"$f":"IF($S$5=\"Course 1\",Général!G$198,IF($S$5=\"Course 2\",Général!G$200,IF($S$5=\"Course 3\",Général!G$202,Général!G$204)))","v":"La Rochelle 2"},{"$f":"IF($T$5=\"Course 1\",Général!G$208,IF($T$5=\"Course 2\",Général!G$210,IF($T$5=\"Course 3\",Général!G$212,Général!G$214)))","v":"Orléans"},null,{"$f":"Général!B15","v":"Orléans"},4]
["7ème Equipage",null,{"$f":"IF($C$5=\"Course 1\",Général!H38,IF($C$5=\"Course 2\",Général!H40,IF($C$5=\"Course 3\",Général!H42,Général!H44)))","v":"IMT Brest 1"},{"$f":"IF($D$5=\"Course 1\",Général!H48,IF($D$5=\"Course 2\",Général!H50,IF($D$5=\"Course 3\",Général!H52,Général!H54)))","v":"Univ Nantes 2"},{"$f":"IF($E$5=\"Course 1\",Général!H58,IF($E$5=\"Course 2\",Général!H60,IF($E$5=\"Course 3\",Général!H62,Général!H64)))","v":"Centrale Nantes 2"},{"$f":"IF($F$5=\"Course 1\",Général!H$68,IF($F$5=\"Course 2\",Général!H$70,IF($F$5=\"Course 3\",Général!H$72,Général!H$74)))","v":"IMT Brest 2"},{"$f":"IF($G$5=\"Course 1\",Général!H$78,IF($G$5=\"Course 2\",Général!H$80,IF($G$5=\"Course 3\",Général!H$82,Général!H$84)))","v":"IMT Brest 1"},{"$f":"IF($H$5=\"Course 1\",Général!H$88,IF($H$5=\"Course 2\",Général!H$90,IF($H$5=\"Course 3\",Général!H$92,Général!H$94)))","v":"Hannover"},{"$f":"IF($I$5=\"Course 1\",Général!H$98,IF($I$5=\"Course 2\",Général!H$100,IF($I$5=\"Course 3\",Général!H$102,Général!H$104)))","v":"Plymouth"},{"$f":"IF($J$5=\"Course 1\",Général!H$108,IF($J$5=\"Course 2\",Général!H$110,IF($J$5=\"Course 3\",Général!H$112,Général!H$114)))","v":"Hannover"},{"$f":"IF($K$5=\"Course 1\",Général!H$118,IF($K$5=\"Course 2\",Général!H$120,IF($K$5=\"Course 3\",Général!H$122,Général!H$124)))","v":"IMT Nantes"},{"$f":"IF($L$5=\"Course 1\",Général!H$128,IF($L$5=\"Course 2\",Général!H$130,IF($L$5=\"Course 3\",Général!H$132,Général!H$134)))","v":"IMT Nantes"},{"$f":"IF($M$5=\"Course 1\",Général!H$138,IF($M$5=\"Course 2\",Général!H$140,IF($M$5=\"Course 3\",Général!H$142,Général!H$144)))","v":"Centrale Nantes 2"},{"$f":"IF($N$5=\"Course 1\",Général!H$148,IF($N$5=\"Course 2\",Général!H$150,IF($N$5=\"Course 3\",Général!H$152,Général!H$154)))","v":"ENSMAC"},{"$f":"IF($O$5=\"Course 1\",Général!H$158,IF($O$5=\"Course 2\",Général!H$160,IF($O$5=\"Course 3\",Général!H$162,Général!H$164)))","v":"Univ Nantes 3"},{"$f":"IF($P$5=\"Course 1\",Général!H$168,IF($P$5=\"Course 2\",Général!H$170,IF($P$5=\"Course 3\",Général!H$172,Général!H$174)))","v":"Orléans"},{"$f":"IF($Q$5=\"Course 1\",Général!H$178,IF($Q$5=\"Course 2\",Général!H$180,IF($Q$5=\"Course 3\",Général!H$182,Général!H$184)))","v":"IMT Brest 1"},{"$f":"IF($R$5=\"Course 1\",Général!H$188,IF($R$5=\"Course 2\",Général!H$190,IF($R$5=\"Course 3\",Général!H$192,Général!H$194)))","v":"UBO 2"},{"$f":"IF($S$5=\"Course 1\",Général!H$198,IF($S$5=\"Course 2\",Général!H$200,IF($S$5=\"Course 3\",Général!H$202,Général!H$204)))","v":"Unicaen 1"},{"$f":"IF($T$5=\"Course 1\",Général!H$208,IF($T$5=\"Course 2\",Général!H$210,IF($T$5=\"Course 3\",Général!H$212,Général!H$214)))","v":"St Brieuc 1"},null,{"$f":"Général!B16","v":"IMT Brest 1"},7]
["8ème Equipage",null,{"$f":"IF($C$5=\"Course 1\",Général!I38,IF($C$5=\"Course 2\",Général!I40,IF($C$5=\"Course 3\",Général!I42,Général!I44)))","v":"Univ Nantes 3"},{"$f":"IF($D$5=\"Course 1\",Général!I48,IF($D$5=\"Course 2\",Général!I50,IF($D$5=\"Course 3\",Général!I52,Général!I54)))","v":"Orléans"},{"$f":"IF($E$5=\"Course 1\",Général!I58,IF($E$5=\"Course 2\",Général!I60,IF($E$5=\"Course 3\",Général!I62,Général!I64)))","v":"Unicaen 2"},{"$f":"IF($F$5=\"Course 1\",Général!I$68,IF($F$5=\"Course 2\",Général!I$70,IF($F$5=\"Course 3\",Général!I$72,Général!I$74)))","v":"UBO 1"},{"$f":"IF($G$5=\"Course 1\",Général!I$78,IF($G$5=\"Course 2\",Général!I$80,IF($G$5=\"Course 3\",Général!I$82,Général!I$84)))","v":"Southampton"},{"$f":"IF($H$5=\"Course 1\",Général!I$88,IF($H$5=\"Course 2\",Général!I$90,IF($H$5=\"Course 3\",Général!I$92,Général!I$94)))","v":"IMT Nantes"},{"$f":"IF($I$5=\"Course 1\",Général!I$98,IF($I$5=\"Course 2\",Général!I$100,IF($I$5=\"Course 3\",Général!I$102,Général!I$104)))","v":"IMT Nantes"},{"$f":"IF($J$5=\"Course 1\",Général!I$108,IF($J$5=\"Course 2\",Général!I$110,IF($J$5=\"Course 3\",Général!I$112,Général!I$114)))","v":"Southampton"},{"$f":"IF($K$5=\"Course 1\",Général!I$118,IF($K$5=\"Course 2\",Général!I$120,IF($K$5=\"Course 3\",Général!I$122,Général!I$124)))","v":"Plymouth"},{"$f":"IF($L$5=\"Course 1\",Général!I$128,IF($L$5=\"Course 2\",Général!I$130,IF($L$5=\"Course 3\",Général!I$132,Général!I$134)))","v":"UBS Lorient 2"},{"$f":"IF($M$5=\"Course 1\",Général!I$138,IF($M$5=\"Course 2\",Général!I$140,IF($M$5=\"Course 3\",Général!I$142,Général!I$144)))","v":"Unicaen 2"},{"$f":"IF($N$5=\"Course 1\",Général!I$148,IF($N$5=\"Course 2\",Général!I$150,IF($N$5=\"Course 3\",Général!I$152,Général!I$154)))","v":"Univ Nantes 3"},{"$f":"IF($O$5=\"Course 1\",Général!I$158,IF($O$5=\"Course 2\",Général!I$160,IF($O$5=\"Course 3\",Général!I$162,Général!I$164)))","v":"UBS Lorient 2"},{"$f":"IF($P$5=\"Course 1\",Général!I$168,IF($P$5=\"Course 2\",Général!I$170,IF($P$5=\"Course 3\",Général!I$172,Général!I$174)))","v":"La Rochelle 1"},{"$f":"IF($Q$5=\"Course 1\",Général!I$178,IF($Q$5=\"Course 2\",Général!I$180,IF($Q$5=\"Course 3\",Général!I$182,Général!I$184)))","v":"Univ Nantes 3"},{"$f":"IF($R$5=\"Course 1\",Général!I$188,IF($R$5=\"Course 2\",Général!I$190,IF($R$5=\"Course 3\",Général!I$192,Général!I$194)))","v":"Plymouth"},{"$f":"IF($S$5=\"Course 1\",Général!I$198,IF($S$5=\"Course 2\",Général!I$200,IF($S$5=\"Course 3\",Général!I$202,Général!I$204)))","v":"Plymouth"},{"$f":"IF($T$5=\"Course 1\",Général!I$208,IF($T$5=\"Course 2\",Général!I$210,IF($T$5=\"Course 3\",Général!I$212,Général!I$214)))","v":"UBO 2"},null,{"$f":"Général!B17","v":"ENSMAC"},4]
["9ème Equipage",null,{"$f":"IF($C$5=\"Course 1\",Général!J38,IF($C$5=\"Course 2\",Général!J40,IF($C$5=\"Course 3\",Général!J42,Général!J44)))","v":"Karlsruhe"},{"$f":"IF($D$5=\"Course 1\",Général!J48,IF($D$5=\"Course 2\",Général!J50,IF($D$5=\"Course 3\",Général!J52,Général!J54)))","v":"Intechmer"},{"$f":"IF($E$5=\"Course 1\",Général!J58,IF($E$5=\"Course 2\",Général!J60,IF($E$5=\"Course 3\",Général!J62,Général!J64)))","v":"ENSTA 1"},{"$f":"IF($F$5=\"Course 1\",Général!J$68,IF($F$5=\"Course 2\",Général!J$70,IF($F$5=\"Course 3\",Général!J$72,Général!J$74)))","v":"ENSTA 1"},{"$f":"IF($G$5=\"Course 1\",Général!J$78,IF($G$5=\"Course 2\",Général!J$80,IF($G$5=\"Course 3\",Général!J$82,Général!J$84)))","v":"ENSTA 1"},{"$f":"IF($H$5=\"Course 1\",Général!J$88,IF($H$5=\"Course 2\",Général!J$90,IF($H$5=\"Course 3\",Général!$J92,Général!J$94)))","v":"Centrale Nantes 1"},{"$f":"IF($I$5=\"Course 1\",Général!J$98,IF($I$5=\"Course 2\",Général!J$100,IF($I$5=\"Course 3\",Général!J$102,Général!J$104)))","v":"ENSTA 1"},{"$f":"IF($J$5=\"Course 1\",Général!J$108,IF($J$5=\"Course 2\",Général!J$110,IF($J$5=\"Course 3\",Général!J$112,Général!J$114)))","v":"La Rochelle 1"},{"$f":"IF($K$5=\"Course 1\",Général!J$118,IF($K$5=\"Course 2\",Général!J$120,IF($K$5=\"Course 3\",Général!J$122,Général!J$124)))","v":"Paris Sorbone"},{"$f":"IF($L$5=\"Course 1\",Général!J$128,IF($L$5=\"Course 2\",Général!J$130,IF($L$5=\"Course 3\",Général!J$132,Général!J$134)))","v":"ST Brieuc 2"},{"$f":"IF($M$5=\"Course 1\",Général!J$138,IF($M$5=\"Course 2\",Général!J$140,IF($M$5=\"Course 3\",Général!J$142,Général!J$144)))","v":"IMT Nantes"},{"$f":"IF($N$5=\"Course 1\",Général!J$148,IF($N$5=\"Course 2\",Général!J$150,IF($N$5=\"Course 3\",Général!J$152,Général!J$154)))","v":"ENSTA 2"},{"$f":"IF($O$5=\"Course 1\",Général!J$158,IF($O$5=\"Course 2\",Général!J$160,IF($O$5=\"Course 3\",Général!J$162,Général!J$164)))","v":"Southampton"},{"$f":"IF($P$5=\"Course 1\",Général!J$168,IF($P$5=\"Course 2\",Général!J$170,IF($P$5=\"Course 3\",Général!J$172,Général!J$174)))","v":"IMT Brest 1"},{"$f":"IF($Q$5=\"Course 1\",Général!J$178,IF($Q$5=\"Course 2\",Général!J$180,IF($Q$5=\"Course 3\",Général!J$182,Général!J$184)))","v":"Intechmer"},{"$f":"IF($R$5=\"Course 1\",Général!J$188,IF($R$5=\"Course 2\",Général!J$190,IF($R$5=\"Course 3\",Général!J$192,Général!J$194)))","v":"UNIV Nantes 1"},{"$f":"IF($S$5=\"Course 1\",Général!J$198,IF($S$5=\"Course 2\",Général!J$200,IF($S$5=\"Course 3\",Général!J$202,Général!J$204)))","v":"UNIV Nantes 1"},{"$f":"IF($T$5=\"Course 1\",Général!J$208,IF($T$5=\"Course 2\",Général!J$210,IF($T$5=\"Course 3\",Général!J$212,Général!J$214)))","v":"Karlsruhe"},null,{"$f":"Général!B18","v":"St Brieuc 1"},6]
["10ème Equipage",null,{"$f":"IF($C$5=\"Course 1\",Général!K38,IF($C$5=\"Course 2\",Général!K40,IF($C$5=\"Course 3\",Général!K42,Général!K44)))","v":"Intechmer"},{"$f":"IF($D$5=\"Course 1\",Général!K48,IF($D$5=\"Course 2\",Général!K50,IF($D$5=\"Course 3\",Général!K52,Général!K54)))","v":"IMT Brest 1"},{"$f":"IF($E$5=\"Course 1\",Général!K58,IF($E$5=\"Course 2\",Général!K60,IF($E$5=\"Course 3\",Général!K62,Général!K64)))","v":"Karlsruhe"},{"$f":"IF($F$5=\"Course 1\",Général!K$68,IF($F$5=\"Course 2\",Général!K$70,IF($F$5=\"Course 3\",Général!K$72,Général!K$74)))","v":"Orléans"},{"$f":"IF($G$5=\"Course 1\",Général!K$78,IF($G$5=\"Course 2\",Général!K$80,IF($G$5=\"Course 3\",Général!K$82,Général!K$84)))","v":"UBO 2"},{"$f":"IF($H$5=\"Course 1\",Général!K$88,IF($H$5=\"Course 2\",Général!K$90,IF($H$5=\"Course 3\",Général!$K92,Général!K$94)))","v":"ENSTA 1"},{"$f":"IF($I$5=\"Course 1\",Général!K$98,IF($I$5=\"Course 2\",Général!K$100,IF($I$5=\"Course 3\",Général!K$102,Général!K$104)))","v":"Orléans"},{"$f":"IF($J$5=\"Course 1\",Général!K$108,IF($J$5=\"Course 2\",Général!K$110,IF($J$5=\"Course 3\",Général!K$112,Général!K$114)))","v":"IMT Brest 2"},{"$f":"IF($K$5=\"Course 1\",Général!K$118,IF($K$5=\"Course 2\",Général!K$120,IF($K$5=\"Course 3\",Général!K$122,Général!K$124)))","v":"UBO 2"},{"$f":"IF($L$5=\"Course 1\",Général!K$128,IF($L$5=\"Course 2\",Général!K$130,IF($L$5=\"Course 3\",Général!K$132,Général!K$134)))","v":"Southampton"},{"$f":"IF($M$5=\"Course 1\",Général!K$138,IF($M$5=\"Course 2\",Général!K$140,IF($M$5=\"Course 3\",Général!K$142,Général!K$144)))","v":"INSA Lyon"},{"$f":"IF($N$5=\"Course 1\",Général!K$148,IF($N$5=\"Course 2\",Général!K$150,IF($N$5=\"Course 3\",Général!K$152,Général!K$154)))","v":"ENSTA 1"},{"$f":"IF($O$5=\"Course 1\",Général!K$158,IF($O$5=\"Course 2\",Général!K$160,IF($O$5=\"Course 3\",Général!K$162,Général!K$164)))","v":"Centrale Nantes 1"},{"$f":"IF($P$5=\"Course 1\",Général!K$168,IF($P$5=\"Course 2\",Général!K$170,IF($P$5=\"Course 3\",Général!K$172,Général!K$174)))","v":"IMT Nantes"},{"$f":"IF($Q$5=\"Course 1\",Général!K$178,IF($Q$5=\"Course 2\",Général!K$180,IF($Q$5=\"Course 3\",Général!K$182,Général!K$184)))","v":"ST Brieuc 2"},{"$f":"IF($R$5=\"Course 1\",Général!K$188,IF($R$5=\"Course 2\",Général!K$190,IF($R$5=\"Course 3\",Général!K$192,Général!K$194)))","v":"Centrale Nantes 2"},{"$f":"IF($S$5=\"Course 1\",Général!K$198,IF($S$5=\"Course 2\",Général!K$200,IF($S$5=\"Course 3\",Général!K$202,Général!K$204)))","v":"ST Brieuc 2"},{"$f":"IF($T$5=\"Course 1\",Général!K$208,IF($T$5=\"Course 2\",Général!K$210,IF($T$5=\"Course 3\",Général!K$212,Général!K$214)))","v":"ENSTA 1"},null,{"$f":"Général!B19","v":"Hannover"},6]
[null,null,null,null,null,null,null,null,null,null,null,null,null,null,null,null,null,null,null,null,null,{"$f":"Général!B20","v":"ENSTA 2"},3]
[null,null,null,null,null,null,null,null,null,null,null,null,null,null,null,null,null,null,null,null,null,{"$f":"Général!B21","v":"Southampton"},6]
[null,null,null,null,null,null,null,null,null,null,null,null,null,null,null,null,null,null,null,null,null,{"$f":"Général!B22","v":"La Rochelle 1"},7]
[null,null,null,null,null,null,null,null,null,null,null,null,null,null,null,null,null,null,null,null,null,{"$f":"Général!B23","v":"Centrale Nantes 1"},3]
[null,null,null,null,null,null,null,null,null,null,null,null,null,null,null,null,null,null,null,null,null,{"$f":"Général!B24","v":"ST Brieuc 2"},6]
[null,null,null,null,null,null,null,null,null,null,null,null,null,null,null,null,null,null,null,null,null,{"$f":"Général!B25","v":"UNIV Nantes 1"},5]
[null,null,null,null,null,null,null,null,null,null,null,null,null,null,null,null,null,null,null,null,null,{"$f":"Général!B26","v":"Intechmer"},7]
[null,null,null,null,null,null,null,null,null,null,null,null,null,null,null,null,null,null,null,null,null,{"$f":"Général!B27","v":"IMT Nantes"},9]
[null,null,null,null,null,null,null,null,null,null,null,null,null,null,null,null,null,null,null,null,null,{"$f":"Général!B28","v":"INSA Lyon"},2]
[null,null,null,null,null,null,null,null,null,null,null,null,null,null,null,null,null,null,null,null,null,{"$f":"Général!B29","v":"Centrale Nantes 2"},4]
[null,null,null,null,null,null,null,null,null,null,null,null,null,null,null,null,null,null,null,null,null,{"$f":"Général!B30","v":"UBS Lorient 2"},5]
[null,null,null,null,null,null,null,null,null,null,null,null,null,null,null,null,null,null,null,null,null,{"$f":"Général!B31","v":"La Rochelle 2"},6]
[null,null,null,null,null,null,null,null,null,null,null,null,null,null,null,null,null,null,null,null,null,{"$f":"Général!B32","v":"UBO 1"},6]
[null,null,null,null,null,null,null,null,null,null,null,null,null,null,null,null,null,null,null,null,null,{"$f":"Général!B33","v":"Eq.31"},0]
[null,null,null,null,null,null,null,null,null,null,null,null,null,null,null,null,null,null,null,null,null,{"$f":"Général!B34","v":"Eq.32"},0]

{"sheet":"Eq.13","index":18,"n_rows":32,"n_cols":23,"rows_kept":32,"cut":false,"hidden":false,"merged":[[7,0,7,1],[0,0,1,5],[0,6,1,10],[3,0,3,1],[4,0,4,1],[5,0,5,1],[14,0,14,1],[15,0,15,1],[16,0,16,1],[8,0,8,1],[9,0,9,1],[10,0,10,1],[11,0,11,1],[12,0,12,1],[13,0,13,1]]}
["Equipage ",null,null,null,null,null,{"$f":"Général!B15","v":"Orléans"},null,null,null,null,null,null,null,null,null,null,null,null,null,null,{"$f":"Général!B3","v":"UBO 2"},{"$f":"COUNTIF(C$8:T$16,V1)","v":3}]
[null,null,null,null,null,null,null,null,null,null,null,null,null,null,null,null,null,null,null,null,null,{"$f":"Général!B4","v":"Paris Sorbone"},{"$f":"COUNTIF($C$8:$T$16,V2)","v":4}]
[null,null,null,null,null,null,null,null,null,null,null,null,null,null,null,null,null,null,null,null,null,{"$f":"Général!B5","v":"UBS Lorient 1"},{"$f":"COUNTIF($C$8:$T$16,V3)","v":8}]
[null,null,"FLIGHT 1","FLIGHT 2","FLIGHT 3","FLIGHT 4","FLIGHT 5","FLIGHT 6","FLIGHT 7","FLIGHT 8","FLIGHT 9","FLIGHT 10","FLIGHT 11","FLIGHT 12","FLIGHT 13","FLIGHT 14","FLIGHT 15","FLIGHT 16","FLIGHT 17","FLIGHT 18",null,{"$f":"Général!B6","v":"Univ Nantes 3"},2]
["N° de course",null,{"$f":"IF(COUNTIF(Général!B38:K38,$G$1)=1,\"Course 1\",IF(COUNTIF(Général!B40:K40,$G$1)=1,\"Course 2\",IF(COUNTIF(Général!B42:K42,$G$1)=1,\"Course 3\",\"Course 4\")))","v":"Course 2"},{"$f":"IF(COUNTIF(Général!B48:K48,$G$1)=1,\"Course 1\",IF(COUNTIF(Général!B50:K50,$G$1)=1,\"Course 2\",IF(COUNTIF(Général!B52:K52,$G$1)=1,\"Course 3\",\"Course 4\")))","v":"Course 1"},{"$f":"IF(COUNTIF(Général!B58:K58,$G$1)=1,\"Course 1\",IF(COUNTIF(Général!B60:K60,$G$1)=1,\"Course 2\",IF(COUNTIF(Général!B62:K62,$G$1)=1,\"Course 3\",\"Course 4\")))","v":"Course 1"},{"$f":"IF(COUNTIF(Général!B68:K68,$G$1)=1,\"Course 1\",IF(COUNTIF(Général!B70:K70,$G$1)=1,\"Course 2\",IF(COUNTIF(Général!B72:K72,$G$1)=1,\"Course 3\",\"Course 4\")))","v":"Course 1"},{"$f":"IF(COUNTIF(Général!B78:K78,$G$1)=1,\"Course 1\",IF(COUNTIF(Général!B80:K80,$G$1)=1,\"Course 2\",IF(COUNTIF(Général!B82:K82,$G$1)=1,\"Course 3\",\"Course 4\")))","v":"Course 3"},{"$f":"IF(COUNTIF(Général!B88:K88,$G$1)=1,\"Course 1\",IF(COUNTIF(Général!B90:K90,$G$1)=1,\"Course 2\",IF(COUNTIF(Général!B92:K92,$G$1)=1,\"Course 3\",\"Course 4\")))","v":"Course 1"},{"$f":"IF(COUNTIF(Général!B98:K98,$G$1)=1,\"Course 1\",IF(COUNTIF(Général!B100:K100,$G$1)=1,\"Course 2\",IF(COUNTIF(Général!B102:K102,$G$1)=1,\"Course 3\",\"Course 4\")))","v":"Course 2"},{"$f":"IF(COUNTIF(Général!B108:K108,$G$1)=1,\"Course 1\",IF(COUNTIF(Général!B110:K110,$G$1)=1,\"Course 2\",IF(COUNTIF(Général!B112:K112,$G$1)=1,\"Course 3\",\"Course 4\")))","v":"Course 2"},{"$f":"IF(COUNTIF(Général!B118:K118,$G$1)=1,\"Course 1\",IF(COUNTIF(Général!B120:K120,$G$1)=1,\"Course 2\",IF(COUNTIF(Général!B122:K122,$G$1)=1,\"Course 3\",\"Course 4\")))","v":"Course 1"},{"$f":"IF(COUNTIF(Général!B128:K128,$G$1)=1,\"Course 1\",IF(COUNTIF(Général!B130:K130,$G$1)=1,\"Course 2\",IF(COUNTIF(Général!B132:K132,$G$1)=1,\"Course 3\",\"Course 4\")))","v":"Course 1"},{"$f":"IF(COUNTIF(Général!B138:K138,$G$1)=1,\"Course 1\",IF(COUNTIF(Général!B140:K140,$G$1)=1,\"Course 2\",IF(COUNTIF(Général!B142:K142,$G$1)=1,\"Course 3\",\"Course 4\")))","v":"Course 1"},{"$f":"IF(COUNTIF(Général!B148:K148,$G$1)=1,\"Course 1\",IF(COUNTIF(Général!B150:K150,$G$1)=1,\"Course 2\",IF(COUNTIF(Général!B152:K152,$G$1)=1,\"Course 3\",\"Course 4\")))","v":"Course 1"},{"$f":"IF(COUNTIF(Général!B158:K158,$G$1)=1,\"Course 1\",IF(COUNTIF(Général!B160:K160,$G$1)=1,\"Course 2\",IF(COUNTIF(Général!B162:K162,$G$1)=1,\"Course 3\",\"Course 4\")))","v":"Course 1"},{"$f":"IF(COUNTIF(Général!B168:K168,$G$1)=1,\"Course 1\",IF(COUNTIF(Général!B170:K170,$G$1)=1,\"Course 2\",IF(COUNTIF(Général!B172:K172,$G$1)=1,\"Course 3\",\"Course 4\")))","v":"Course 1"},{"$f":"IF(COUNTIF(Général!B178:K178,$G$1)=1,\"Course 1\",IF(COUNTIF(Général!B180:K180,$G$1)=1,\"Course 2\",IF(COUNTIF(Général!B182:K182,$G$1)=1,\"Course 3\",\"Course 4\")))","v":"Course 2"},{"$f":"IF(COUNTIF(Général!B188:K188,$G$1)=1,\"Course 1\",IF(COUNTIF(Général!B190:K190,$G$1)=1,\"Course 2\",IF(COUNTIF(Général!B192:K192,$G$1)=1,\"Course 3\",\"Course 4\")))","v":"Course 2"},{"$f":"IF(COUNTIF(Général!B198:K198,$G$1)=1,\"Course 1\",IF(COUNTIF(Général!B200:K200,$G$1)=1,\"Course 2\",IF(COUNTIF(Général!B202:K202,$G$1)=1,\"Course 3\",\"Course 4\")))","v":"Course 3"},{"$f":"IF(COUNTIF(Général!B208:K208,$G$1)=1,\"Course 1\",IF(COUNTIF(Général!B210:K210,$G$1)=1,\"Course 2\",IF(COUNTIF(Général!B212:K212,$G$1)=1,\"Course 3\",\"Course 4\")))","v":"Course 1"},null,{"$f":"Général!B7","v":"Paris Cité"},7]
["Bateau",null,{"$f":"IF(COUNTIF(Général!B38:B44,$G$1)=1,\"Boat 1\",IF(COUNTIF(Général!C38:C44,$G$1)=1,\"Boat 2\",IF(COUNTIF(Général!D38:D44,$G$1)=1,\"Boat 3\", IF(COUNTIF(Général!E38:E44,$G$1)=1,\"Boat 4\", IF(COUNTIF(Général!F38:F44,$G$1)=1,\"Boat 5\", IF(COUNTIF(Général!G38:G44,$G$1)=1,\"Boat 6\", IF(COUNTIF(Général!H38:H44,$G$1)=1,\"Boat 7\",IF(COUNTIF(Général!I38:I44,$G$1)=1,\"Boat 8\",\"Boat 9\"))))))))","v":"Boat 4"},{"$f":"IF(COUNTIF(Général!B48:B54,$G$1)=1,\"Boat 1\",IF(COUNTIF(Général!C48:C54,$G$1)=1,\"Boat 2\",IF(COUNTIF(Général!D48:D54,$G$1)=1,\"Boat 3\", IF(COUNTIF(Général!E48:E54,$G$1)=1,\"Boat 4\", IF(COUNTIF(Général!F48:F54,$G$1)=1,\"Boat 5\", IF(COUNTIF(Général!G48:G54,$G$1)=1,\"Boat 6\", IF(COUNTIF(Général!H48:H54,$G$1)=1,\"Boat 7\",IF(COUNTIF(Général!I38:I44,$G$1)=1,\"Boat 8\",\"Boat 9\"))))))))","v":"Boat 9"},{"$f":"IF(COUNTIF(Général!B58:B64,$G$1)=1,\"Boat 1\",IF(COUNTIF(Général!C58:C64,$G$1)=1,\"Boat 2\",IF(COUNTIF(Général!D58:D64,$G$1)=1,\"Boat 3\", IF(COUNTIF(Général!E58:E64,$G$1)=1,\"Boat 4\", IF(COUNTIF(Général!F58:F64,$G$1)=1,\"Boat 5\", IF(COUNTIF(Général!G58:G64,$G$1)=1,\"Boat 6\", IF(COUNTIF(Général!H58:H64,$G$1)=1,\"Boat 7\",IF(COUNTIF(Général!I38:I44,$G$1)=1,\"Boat 8\",\"Boat 9\"))))))))","v":"Boat 1"},{"$f":"IF(COUNTIF(Général!B68:B74,$G$1)=1,\"Boat 1\",IF(COUNTIF(Général!C68:C74,$G$1)=1,\"Boat 2\",IF(COUNTIF(Général!D68:D74,$G$1)=1,\"Boat 3\", IF(COUNTIF(Général!E68:E74,$G$1)=1,\"Boat 4\", IF(COUNTIF(Général!F68:F74,$G$1)=1,\"Boat 5\", IF(COUNTIF(Général!G68:G74,$G$1)=1,\"Boat 6\", IF(COUNTIF(Général!H68:H74,$G$1)=1,\"Boat 7\",IF(COUNTIF(Général!I38:I44,$G$1)=1,\"Boat 8\",\"Boat 9\"))))))))","v":"Boat 9"},{"$f":"IF(COUNTIF(Général!B78:B84,$G$1)=1,\"Boat 1\",IF(COUNTIF(Général!C78:C84,$G$1)=1,\"Boat 2\",IF(COUNTIF(Général!D78:D84,$G$1)=1,\"Boat 3\", IF(COUNTIF(Général!E78:E84,$G$1)=1,\"Boat 4\", IF(COUNTIF(Général!F78:F84,$G$1)=1,\"Boat 5\", IF(COUNTIF(Général!G78:G84,$G$1)=1,\"Boat 6\", IF(COUNTIF(Général!H78:H84,$G$1)=1,\"Boat 7\",IF(COUNTIF(Général!I38:I44,$G$1)=1,\"Boat 8\",\"Boat 9\"))))))))","v":"Boat 5"},{"$f":"IF(COUNTIF(Général!B88:B94,$G$1)=1,\"Boat 1\",IF(COUNTIF(Général!C88:C94,$G$1)=1,\"Boat 2\",IF(COUNTIF(Général!D88:D94,$G$1)=1,\"Boat 3\", IF(COUNTIF(Général!E88:E94,$G$1)=1,\"Boat 4\", IF(COUNTIF(Général!F88:F94,$G$1)=1,\"Boat 5\", IF(COUNTIF(Général!G88:G94,$G$1)=1,\"Boat 6\", IF(COUNTIF(Général!H88:H94,$G$1)=1,\"Boat 7\",IF(COUNTIF(Général!I38:I44,$G$1)=1,\"Boat 8\",\"Boat 9\"))))))))","v":"Boat 5"},{"$f":"IF(COUNTIF(Général!B98:B104,$G$1)=1,\"Boat 1\",IF(COUNTIF(Général!C98:C104,$G$1)=1,\"Boat 2\",IF(COUNTIF(Général!D98:D104,$G$1)=1,\"Boat 3\", IF(COUNTIF(Général!E98:E104,$G$1)=1,\"Boat 4\", IF(COUNTIF(Général!F98:F104,$G$1)=1,\"Boat 5\", IF(COUNTIF(Général!G98:G104,$G$1)=1,\"Boat 6\", IF(COUNTIF(Général!H98:H104,$G$1)=1,\"Boat 7\",IF(COUNTIF(Général!I38:I44,$G$1)=1,\"Boat 8\",\"Boat 9\"))))))))","v":"Boat 9"},{"$f":"IF(COUNTIF(Général!B108:B114,$G$1)=1,\"Boat 1\",IF(COUNTIF(Général!C108:C114,$G$1)=1,\"Boat 2\",IF(COUNTIF(Général!D108:D114,$G$1)=1,\"Boat 3\", IF(COUNTIF(Général!E108:E114,$G$1)=1,\"Boat 4\", IF(COUNTIF(Général!F108:F114,$G$1)=1,\"Boat 5\", IF(COUNTIF(Général!G108:G114,$G$1)=1,\"Boat 6\", IF(COUNTIF(Général!H108:H114,$G$1)=1,\"Boat 7\",IF(COUNTIF(Général!I38:I44,$G$1)=1,\"Boat 8\",\"Boat 9\"))))))))","v":"Boat 9"},{"$f":"IF(COUNTIF(Général!B118:B124,$G$1)=1,\"Boat 1\",IF(COUNTIF(Général!C118:C124,$G$1)=1,\"Boat 2\",IF(COUNTIF(Général!D118:D124,$G$1)=1,\"Boat 3\", IF(COUNTIF(Général!E118:E124,$G$1)=1,\"Boat 4\", IF(COUNTIF(Général!F118:F124,$G$1)=1,\"Boat 5\", IF(COUNTIF(Général!G118:G124,$G$1)=1,\"Boat 6\", IF(COUNTIF(Général!H118:H124,$G$1)=1,\"Boat 7\",IF(COUNTIF(Général!I38:I44,$G$1)=1,\"Boat 8\",\"Boat 9\"))))))))","v":"Boat 7"},{"$f":"IF(COUNTIF(Général!B128:B134,$G$1)=1,\"Boat 1\",IF(COUNTIF(Général!C128:C134,$G$1)=1,\"Boat 2\",IF(COUNTIF(Général!D128:D134,$G$1)=1,\"Boat 3\", IF(COUNTIF(Général!E128:E134,$G$1)=1,\"Boat 4\", IF(COUNTIF(Général!F128:F134,$G$1)=1,\"Boat 5\", IF(COUNTIF(Général!G128:G134,$G$1)=1,\"Boat 6\", IF(COUNTIF(Général!H128:H134,$G$1)=1,\"Boat 7\",IF(COUNTIF(Général!I38:I44,$G$1)=1,\"Boat 8\",\"Boat 9\"))))))))","v":"Boat 3"},{"$f":"IF(COUNTIF(Général!B138:B144,$G$1)=1,\"Boat 1\",IF(COUNTIF(Général!C138:C144,$G$1)=1,\"Boat 2\",IF(COUNTIF(Général!C138:D144,$G$1)=1,\"Boat 3\", IF(COUNTIF(Général!C138:E144,$G$1)=1,\"Boat 4\", IF(COUNTIF(Général!F138:F144,$G$1)=1,\"Boat 5\", IF(COUNTIF(Général!G138:G144,$G$1)=1,\"Boat 6\", IF(COUNTIF(Général!H138:H144,$G$1)=1,\"Boat 7\",IF(COUNTIF(Général!I38:I44,$G$1)=1,\"Boat 8\",\"Boat 9\"))))))))","v":"Boat 4"},{"$f":"IF(COUNTIF(Général!B148:B154,$G$1)=1,\"Boat 1\",IF(COUNTIF(Général!C148:C154,$G$1)=1,\"Boat 2\",IF(COUNTIF(Général!D148:D154,$G$1)=1,\"Boat 3\", IF(COUNTIF(Général!E148:E154,$G$1)=1,\"Boat 4\", IF(COUNTIF(Général!F148:F154,$G$1)=1,\"Boat 5\", IF(COUNTIF(Général!G148:G154,$G$1)=1,\"Boat 6\", IF(COUNTIF(Général!H148:H154,$G$1)=1,\"Boat 7\",IF(COUNTIF(Général!I38:I44,$G$1)=1,\"Boat 8\",\"Boat 9\"))))))))","v":"Boat 4"},{"$f":"IF(COUNTIF(Général!B158:B164,$G$1)=1,\"Boat 1\",IF(COUNTIF(Général!C158:C164,$G$1)=1,\"Boat 2\",IF(COUNTIF(Général!D160:D164,$G$1)=1,\"Boat 3\", IF(COUNTIF(Général!E158:E164,$G$1)=1,\"Boat 4\", IF(COUNTIF(Général!F158:F164,$G$1)=1,\"Boat 5\", IF(COUNTIF(Général!G158:G164,$G$1)=1,\"Boat 6\", IF(COUNTIF(Général!H158:H164,$G$1)=1,\"Boat 7\",IF(COUNTIF(Général!I38:I44,$G$1)=1,\"Boat 8\",\"Boat 9\"))))))))","v":"Boat 9"},{"$f":"IF(COUNTIF(Général!B168:B174,$G$1)=1,\"Boat 1\",IF(COUNTIF(Général!C168:C174,$G$1)=1,\"Boat 2\",IF(COUNTIF(Général!D168:D174,$G$1)=1,\"Boat 3\", IF(COUNTIF(Général!E168:E174,$G$1)=1,\"Boat 4\", IF(COUNTIF(Général!F178:F184,$G$1)=1,\"Boat 5\", IF(COUNTIF(Général!G178:G184,$G$1)=1,\"Boat 6\", IF(COUNTIF(Général!H178:H184,$G$1)=1,\"Boat 7\",IF(COUNTIF(Général!I38:I44,$G$1)=1,\"Boat 8\",\"Boat 9\"))))))))","v":"Boat 9"},{"$f":"IF(COUNTIF(Général!B178:B184,$G$1)=1,\"Boat 1\",IF(COUNTIF(Général!C178:C184,$G$1)=1,\"Boat 2\",IF(COUNTIF(Général!D178:D184,$G$1)=1,\"Boat 3\", IF(COUNTIF(Général!E178:E184,$G$1)=1,\"Boat 4\", IF(COUNTIF(Général!F178:F184,$G$1)=1,\"Boat 5\", IF(COUNTIF(Général!G178:G184,$G$1)=1,\"Boat 6\", IF(COUNTIF(Général!H178:H184,$G$1)=1,\"Boat 7\",IF(COUNTIF(Général!I38:I44,$G$1)=1,\"Boat 8\",\"Boat 9\"))))))))","v":"Boat 9"},{"$f":"IF(COUNTIF(Général!B188:B194,$G$1)=1,\"Boat 1\",IF(COUNTIF(Général!C188:C194,$G$1)=1,\"Boat 2\",IF(COUNTIF(Général!D188:D194,$G$1)=1,\"Boat 3\", IF(COUNTIF(Général!E188:E194,$G$1)=1,\"Boat 4\", IF(COUNTIF(Général!F188:F194,$G$1)=1,\"Boat 5\", IF(COUNTIF(Général!G188:G194,$G$1)=1,\"Boat 6\", IF(COUNTIF(Général!H188:H194,$G$1)=1,\"Boat 7\",IF(COUNTIF(Général!I38:I44,$G$1)=1,\"Boat 8\",\"Boat 9\"))))))))","v":"Boat 3"},{"$f":"IF(COUNTIF(Général!B198:B204,$G$1)=1,\"Boat 1\",IF(COUNTIF(Général!C198:C204,$G$1)=1,\"Boat 2\",IF(COUNTIF(Général!D198:D204,$G$1)=1,\"Boat 3\", IF(COUNTIF(Général!E198:E204,$G$1)=1,\"Boat 4\", IF(COUNTIF(Général!F198:F204,$G$1)=1,\"Boat 5\", IF(COUNTIF(Général!G198:G204,$G$1)=1,\"Boat 6\", IF(COUNTIF(Général!H198:H204,$G$1)=1,\"Boat 7\",IF(COUNTIF(Général!I38:I44,$G$1)=1,\"Boat 8\",\"Boat 9\"))))))))","v":"Boat 6"},{"$f":"IF(COUNTIF(Général!B208:B214,$G$1)=1,\"Boat 1\",IF(COUNTIF(Général!C208:C214,$G$1)=1,\"Boat 2\",IF(COUNTIF(Général!D208:D214,$G$1)=1,\"Boat 3\", IF(COUNTIF(Général!E208:E214,$G$1)=1,\"Boat 4\", IF(COUNTIF(Général!F208:F214,$G$1)=1,\"Boat 5\", IF(COUNTIF(Général!G208:G214,$G$1)=1,\"Boat 6\", IF(COUNTIF(Général!H208:H214,$G$1)=1,\"Boat 7\",IF(COUNTIF(Général!I38:I44,$G$1)=1,\"Boat 8\",\"Boat 9\"))))))))","v":"Boat 6"},null,{"$f":"Général!B8","v":"Plymouth"},3]
[null,null,null,null,null,null,null,null,null,null,null,null,null,null,null,null,null,null,null,null,null,{"$f":"Général!B9","v":"Unicaen 2"},7]
["1er Equipage",null,{"$f":"IF($C$5=\"Course 1\",Général!B38,IF($C$5=\"Course 2\",Général!B40,IF($C$5=\"Course 3\",Général!B42,Général!B44)))","v":"ST Brieuc 2"},{"$f":"IF($D$5=\"Course 1\",Général!B48,IF($D$5=\"Course 2\",Général!B50,IF($D$5=\"Course 3\",Général!B52,Général!B54)))","v":"ENSTA 1"},{"$f":"IF($E$5=\"Course 1\",Général!B58,IF($E$5=\"Course 2\",Général!B60,IF($E$5=\"Course 3\",Général!B62,Général!B64)))","v":"Orléans"},{"$f":"IF($F$5=\"Course 1\",Général!B$68,IF($F$5=\"Course 2\",Général!B$70,IF($F$5=\"Course 3\",Général!B$72,Général!B$74)))","v":"ST Brieuc 2"},{"$f":"IF($G$5=\"Course 1\",Général!B$78,IF($G$5=\"Course 2\",Général!B$80,IF($G$5=\"Course 3\",Général!B$82,Général!B$84)))","v":"ENSTA 2"},{"$f":"IF($H$5=\"Course 1\",Général!B$88,IF($H$5=\"Course 2\",Général!B$90,IF($H$5=\"Course 3\",Général!B$92,Général!B$94)))","v":"ENSTA 2"},{"$f":"IF($I$5=\"Course 1\",Général!B$98,IF($I$5=\"Course 2\",Général!B$100,IF($I$5=\"Course 3\",Général!B$102,Général!B$104)))","v":"Unicaen 1"},{"$f":"IF($J$5=\"Course 1\",Général!B$108,IF($J$5=\"Course 2\",Général!B$110,IF($J$5=\"Course 3\",Général!B$112,Général!B$114)))","v":"Centrale Nantes 1"},{"$f":"IF($K$5=\"Course 1\",Général!B$118,IF($K$5=\"Course 2\",Général!B$120,IF($K$5=\"Course 3\",Général!B$122,Général!B$124)))","v":"UNIV Nantes 1"},{"$f":"IF($L$5=\"Course 1\",Général!B$128,IF($L$5=\"Course 2\",Général!B$130,IF($L$5=\"Course 3\",Général!B$132,Général!B$134)))","v":"UBO 2"},{"$f":"IF($M$5=\"Course 1\",Général!B$138,IF($M$5=\"Course 2\",Général!B$140,IF($M$5=\"Course 3\",Général!B$142,Général!B$144)))","v":"IMT Brest 2"},{"$f":"IF($N$5=\"Course 1\",Général!B$148,IF($N$5=\"Course 2\",Général!B$150,IF($N$5=\"Course 3\",Général!B$152,Général!B$154)))","v":"St Brieuc 1"},{"$f":"IF($O$5=\"Course 1\",Général!B$158,IF($O$5=\"Course 2\",Général!B$160,IF($O$5=\"Course 3\",Général!B$162,Général!B$164)))","v":"La Rochelle 1"},{"$f":"IF($P$5=\"Course 1\",Général!B$168,IF($P$5=\"Course 2\",Général!B$170,IF($P$5=\"Course 3\",Général!B$172,Général!B$174)))","v":"St Brieuc 1"},{"$f":"IF($Q$5=\"Course 1\",Général!B$178,IF($Q$5=\"Course 2\",Général!B$180,IF($Q$5=\"Course 3\",Général!B$182,Général!B$184)))","v":"La Rochelle 2"},{"$f":"IF($R$5=\"Course 1\",Général!B$188,IF($R$5=\"Course 2\",Général!B$190,IF($R$5=\"Course 3\",Général!B$192,Général!B$194)))","v":"Karlsruhe"},{"$f":"IF($S$5=\"Course 1\",Général!B$198,IF($S$5=\"Course 2\",Général!B$200,IF($S$5=\"Course 3\",Général!B$202,Général!B$204)))","v":"UBS Lorient 2"},{"$f":"IF($T$5=\"Course 1\",Général!B$208,IF($T$5=\"Course 2\",Général!B$210,IF($T$5=\"Course 3\",Général!B$212,Général!B$214)))","v":"UBS Lorient 2"},null,{"$f":"Général!B10","v":"Univ Nantes 2"},7]
["2nd Equipage",null,{"$f":"IF($C$5=\"Course 1\",Général!C38,IF($C$5=\"Course 2\",Général!C40,IF($C$5=\"Course 3\",Général!C42,Général!C44)))","v":"UBS Lorient 2"},{"$f":"IF($D$5=\"Course 1\",Général!C48,IF($D$5=\"Course 2\",Général!C50,IF($D$5=\"Course 3\",Général!C52,Général!C54)))","v":"UBS Lorient 1"},{"$f":"IF($E$5=\"Course 1\",Général!C58,IF($E$5=\"Course 2\",Général!C60,IF($E$5=\"Course 3\",Général!C62,Général!C64)))","v":"UBS Lorient 2"},{"$f":"IF($F$5=\"Course 1\",Général!C$68,IF($F$5=\"Course 2\",Général!C$70,IF($F$5=\"Course 3\",Général!C$72,Général!C$74)))","v":"La Rochelle 1"},{"$f":"IF($G$5=\"Course 1\",Général!C$78,IF($G$5=\"Course 2\",Général!C$80,IF($G$5=\"Course 3\",Général!C$82,Général!C$84)))","v":"IMT Brest 2"},{"$f":"IF($H$5=\"Course 1\",Général!C$88,IF($H$5=\"Course 2\",Général!C$90,IF($H$5=\"Course 3\",Général!C$92,Général!C$94)))","v":"Southampton"},{"$f":"IF($I$5=\"Course 1\",Général!C$98,IF($I$5=\"Course 2\",Général!C$100,IF($I$5=\"Course 3\",Général!C$102,Général!C$104)))","v":"La Rochelle 1"},{"$f":"IF($J$5=\"Course 1\",Général!C$108,IF($J$5=\"Course 2\",Général!C$110,IF($J$5=\"Course 3\",Général!C$112,Général!C$114)))","v":"ENSMAC"},{"$f":"IF($K$5=\"Course 1\",Général!C$118,IF($K$5=\"Course 2\",Général!C$120,IF($K$5=\"Course 3\",Général!C$122,Général!C$124)))","v":"UBS Lorient 1"},{"$f":"IF($L$5=\"Course 1\",Général!C$128,IF($L$5=\"Course 2\",Général!C$130,IF($L$5=\"Course 3\",Général!C$132,Général!C$134)))","v":"Univ Nantes 3"},{"$f":"IF($M$5=\"Course 1\",Général!C$138,IF($M$5=\"Course 2\",Général!C$140,IF($M$5=\"Course 3\",Général!C$142,Général!C$144)))","v":"UNIV Nantes 1"},{"$f":"IF($N$5=\"Course 1\",Général!C$148,IF($N$5=\"Course 2\",Général!C$150,IF($N$5=\"Course 3\",Général!C$152,Général!C$154)))","v":"Centrale Nantes 1"},{"$f":"IF($O$5=\"Course 1\",Général!C$158,IF($O$5=\"Course 2\",Général!C$160,IF($O$5=\"Course 3\",Général!C$162,Général!C$164)))","v":"IMT Brest 1"},{"$f":"IF($P$5=\"Course 1\",Général!C$168,IF($P$5=\"Course 2\",Général!C$170,IF($P$5=\"Course 3\",Général!C$172,Général!C$174)))","v":"Paris Sorbone"},{"$f":"IF($Q$5=\"Course 1\",Général!C$178,IF($Q$5=\"Course 2\",Général!C$180,IF($Q$5=\"Course 3\",Général!C$182,Général!C$184)))","v":"Unicaen 2"},{"$f":"IF($R$5=\"Course 1\",Général!C$188,IF($R$5=\"Course 2\",Général!C$190,IF($R$5=\"Course 3\",Général!C$192,Général!C$194)))","v":"ST Brieuc 2"},{"$f":"IF($S$5=\"Course 1\",Général!C$198,IF($S$5=\"Course 2\",Général!C$200,IF($S$5=\"Course 3\",Général!C$202,Général!C$204)))","v":"Paris Sorbone"},{"$f":"IF($T$5=\"Course 1\",Général!C$208,IF($T$5=\"Course 2\",Général!C$210,IF($T$5=\"Course 3\",Général!C$212,Général!C$214)))","v":"Unicaen 2"},null,{"$f":"Général!B11","v":"Karlsruhe"},6]
["3ème Equipage",null,{"$f":"IF($C$5=\"Course 1\",Général!D38,IF($C$5=\"Course 2\",Général!D40,IF($C$5=\"Course 3\",Général!D42,Général!D44)))","v":"UNIV Nantes 1"},{"$f":"IF($D$5=\"Course 1\",Général!D48,IF($D$5=\"Course 2\",Général!D50,IF($D$5=\"Course 3\",Général!D52,Général!D54)))","v":"Paris Sorbone"},{"$f":"IF($E$5=\"Course 1\",Général!D58,IF($E$5=\"Course 2\",Général!D60,IF($E$5=\"Course 3\",Général!D62,Général!D64)))","v":"IMT Brest 2"},{"$f":"IF($F$5=\"Course 1\",Général!D$68,IF($F$5=\"Course 2\",Général!D$70,IF($F$5=\"Course 3\",Général!D$72,Général!D$74)))","v":"Centrale Nantes 1"},{"$f":"IF($G$5=\"Course 1\",Général!D$78,IF($G$5=\"Course 2\",Général!D$80,IF($G$5=\"Course 3\",Général!D$82,Général!D$84)))","v":"Unicaen 1"},{"$f":"IF($H$5=\"Course 1\",Général!D$88,IF($H$5=\"Course 2\",Général!D$90,IF($H$5=\"Course 3\",Général!D$92,Général!D$94)))","v":"UBO 1"},{"$f":"IF($I$5=\"Course 1\",Général!D$98,IF($I$5=\"Course 2\",Général!D$100,IF($I$5=\"Course 3\",Général!D$102,Général!D$104)))","v":"Southampton"},{"$f":"IF($J$5=\"Course 1\",Général!D$108,IF($J$5=\"Course 2\",Général!D$110,IF($J$5=\"Course 3\",Général!D$112,Général!D$114)))","v":"INSA Lyon"},{"$f":"IF($K$5=\"Course 1\",Général!D$118,IF($K$5=\"Course 2\",Général!D$120,IF($K$5=\"Course 3\",Général!D$122,Général!D$124)))","v":"ENSMAC"},{"$f":"IF($L$5=\"Course 1\",Général!D$128,IF($L$5=\"Course 2\",Général!D$130,IF($L$5=\"Course 3\",Général!D$132,Général!D$134)))","v":"Orléans"},{"$f":"IF($M$5=\"Course 1\",Général!D$138,IF($M$5=\"Course 2\",Général!D$140,IF($M$5=\"Course 3\",Général!D$142,Général!D$144)))","v":"UBS Lorient 1"},{"$f":"IF($N$5=\"Course 1\",Général!D$148,IF($N$5=\"Course 2\",Général!D$150,IF($N$5=\"Course 3\",Général!D$152,Général!D$154)))","v":"Unicaen 1"},{"$f":"IF($O$5=\"Course 1\",Général!D$158,IF($O$5=\"Course 2\",Général!D$160,IF($O$5=\"Course 3\",Général!D$162,Général!D$164)))","v":"IMT Nantes"},{"$f":"IF($P$5=\"Course 1\",Général!D$168,IF($P$5=\"Course 2\",Général!D$170,IF($P$5=\"Course 3\",Général!D$172,Général!D$174)))","v":"ENSTA 1"},{"$f":"IF($Q$5=\"Course 1\",Général!D$178,IF($Q$5=\"Course 2\",Général!D$180,IF($Q$5=\"Course 3\",Général!D$182,Général!D$184)))","v":"UBS Lorient 1"},{"$f":"IF($R$5=\"Course 1\",Général!D$188,IF($R$5=\"Course 2\",Général!D$190,IF($R$5=\"Course 3\",Général!D$192,Général!D$194)))","v":"Orléans"},{"$f":"IF($S$5=\"Course 1\",Général!D$198,IF($S$5=\"Course 2\",Général!D$200,IF($S$5=\"Course 3\",Général!D$202,Général!D$204)))","v":"IMT Brest 2"},{"$f":"IF($T$5=\"Course 1\",Général!D$208,IF($T$5=\"Course 2\",Général!D$210,IF($T$5=\"Course 3\",Général!D$212,Général!D$214)))","v":"IMT Brest 2"},null,{"$f":"Général!B12","v":"IMT Brest 2"},7]
["4ème Equipage",null,{"$f":"IF($C$5=\"Course 1\",Général!E38,IF($C$5=\"Course 2\",Général!E40,IF($C$5=\"Course 3\",Général!E42,Général!E44)))","v":"Orléans"},{"$f":"IF($D$5=\"Course 1\",Général!E48,IF($D$5=\"Course 2\",Général!E50,IF($D$5=\"Course 3\",Général!E52,Général!E54)))","v":"IMT Nantes"},{"$f":"IF($E$5=\"Course 1\",Général!E58,IF($E$5=\"Course 2\",Général!E60,IF($E$5=\"Course 3\",Général!E62,Général!E64)))","v":"Paris Sorbone"},{"$f":"IF($F$5=\"Course 1\",Général!E$68,IF($F$5=\"Course 2\",Général!E$70,IF($F$5=\"Course 3\",Général!E$72,Général!E$74)))","v":"Plymouth"},{"$f":"IF($G$5=\"Course 1\",Général!E$78,IF($G$5=\"Course 2\",Général!E$80,IF($G$5=\"Course 3\",Général!E$82,Général!E$84)))","v":"La Rochelle 1"},{"$f":"IF($H$5=\"Course 1\",Général!E$88,IF($H$5=\"Course 2\",Général!E$90,IF($H$5=\"Course 3\",Général!E$92,Général!E$94)))","v":"La Rochelle 1"},{"$f":"IF($I$5=\"Course 1\",Général!E$98,IF($I$5=\"Course 2\",Général!E$100,IF($I$5=\"Course 3\",Général!E$102,Général!E$104)))","v":"Karlsruhe"},{"$f":"IF($J$5=\"Course 1\",Général!E$108,IF($J$5=\"Course 2\",Général!E$110,IF($J$5=\"Course 3\",Général!E$112,Général!E$114)))","v":"Univ Nantes 2"},{"$f":"IF($K$5=\"Course 1\",Général!E$118,IF($K$5=\"Course 2\",Général!E$120,IF($K$5=\"Course 3\",Général!E$122,Général!E$124)))","v":"UBS Lorient 2"},{"$f":"IF($L$5=\"Course 1\",Général!E$128,IF($L$5=\"Course 2\",Général!E$130,IF($L$5=\"Course 3\",Général!E$132,Général!E$134)))","v":"IMT Brest 1"},{"$f":"IF($M$5=\"Course 1\",Général!E$138,IF($M$5=\"Course 2\",Général!E$140,IF($M$5=\"Course 3\",Général!E$142,Général!E$144)))","v":"Orléans"},{"$f":"IF($N$5=\"Course 1\",Général!E$148,IF($N$5=\"Course 2\",Général!E$150,IF($N$5=\"Course 3\",Général!E$152,Général!E$154)))","v":"Orléans"},{"$f":"IF($O$5=\"Course 1\",Général!E$158,IF($O$5=\"Course 2\",Général!E$160,IF($O$5=\"Course 3\",Général!E$162,Général!E$164)))","v":"ST Brieuc 2"},{"$f":"IF($P$5=\"Course 1\",Général!E$168,IF($P$5=\"Course 2\",Général!E$170,IF($P$5=\"Course 3\",Général!E$172,Général!E$174)))","v":"Univ Nantes 2"},{"$f":"IF($Q$5=\"Course 1\",Général!E$178,IF($Q$5=\"Course 2\",Général!E$180,IF($Q$5=\"Course 3\",Général!E$182,Général!E$184)))","v":"St Brieuc 1"},{"$f":"IF($R$5=\"Course 1\",Général!E$188,IF($R$5=\"Course 2\",Général!E$190,IF($R$5=\"Course 3\",Général!E$192,Général!E$194)))","v":"Paris Cité"},{"$f":"IF($S$5=\"Course 1\",Général!E$198,IF($S$5=\"Course 2\",Général!E$200,IF($S$5=\"Course 3\",Général!E$202,Général!E$204)))","v":"Centrale Nantes 2"},{"$f":"IF($T$5=\"Course 1\",Général!E$208,IF($T$5=\"Course 2\",Général!E$210,IF($T$5=\"Course 3\",Général!E$212,Général!E$214)))","v":"IMT Nantes"},null,{"$f":"Général!B13","v":"Unicaen 1"},8]
["5ème Equipage",null,{"$f":"IF($C$5=\"Course 1\",Général!F38,IF($C$5=\"Course 2\",Général!F40,IF($C$5=\"Course 3\",Général!F42,Général!F44)))","v":"Unicaen 2"},{"$f":"IF($D$5=\"Course 1\",Général!F48,IF($D$5=\"Course 2\",Général!F50,IF($D$5=\"Course 3\",Général!F52,Général!F54)))","v":"Hannover"},{"$f":"IF($E$5=\"Course 1\",Général!F58,IF($E$5=\"Course 2\",Général!F60,IF($E$5=\"Course 3\",Général!F62,Général!F64)))","v":"Univ Nantes 2"},{"$f":"IF($F$5=\"Course 1\",Général!F$68,IF($F$5=\"Course 2\",Général!F$70,IF($F$5=\"Course 3\",Général!F$72,Général!F$74)))","v":"UBS Lorient 1"},{"$f":"IF($G$5=\"Course 1\",Général!F$78,IF($G$5=\"Course 2\",Général!F$80,IF($G$5=\"Course 3\",Général!F$82,Général!F$84)))","v":"Orléans"},{"$f":"IF($H$5=\"Course 1\",Général!F$88,IF($H$5=\"Course 2\",Général!F$90,IF($H$5=\"Course 3\",Général!F$92,Général!F$94)))","v":"Orléans"},{"$f":"IF($I$5=\"Course 1\",Général!F$98,IF($I$5=\"Course 2\",Général!F$100,IF($I$5=\"Course 3\",Général!F$102,Général!F$104)))","v":"UBS Lorient 1"},{"$f":"IF($J$5=\"Course 1\",Général!F$108,IF($J$5=\"Course 2\",Général!F$110,IF($J$5=\"Course 3\",Général!F$112,Général!F$114)))","v":"IMT Nantes"},{"$f":"IF($K$5=\"Course 1\",Général!F$118,IF($K$5=\"Course 2\",Général!F$120,IF($K$5=\"Course 3\",Général!F$122,Général!F$124)))","v":"Centrale Nantes 1"},{"$f":"IF($L$5=\"Course 1\",Général!F$128,IF($L$5=\"Course 2\",Général!$F130,IF($L$5=\"Course 3\",Général!F$132,Général!F$134)))","v":"Univ Nantes 2"},{"$f":"IF($M$5=\"Course 1\",Général!F$138,IF($M$5=\"Course 2\",Général!F$140,IF($M$5=\"Course 3\",Général!F$142,Général!F$144)))","v":"Paris Cité"},{"$f":"IF($N$5=\"Course 1\",Général!F$148,IF($N$5=\"Course 2\",Général!F$150,IF($N$5=\"Course 3\",Général!F$152,Général!F$154)))","v":"Paris Cité"},{"$f":"IF($O$5=\"Course 1\",Général!F$158,IF($O$5=\"Course 2\",Général!F$160,IF($O$5=\"Course 3\",Général!F$162,Général!F$164)))","v":"Unicaen 1"},{"$f":"IF($P$5=\"Course 1\",Général!F$168,IF($P$5=\"Course 2\",Général!F$170,IF($P$5=\"Course 3\",Général!F$172,Général!F$174)))","v":"Unicaen 1"},{"$f":"IF($Q$5=\"Course 1\",Général!F$178,IF($Q$5=\"Course 2\",Général!F$180,IF($Q$5=\"Course 3\",Général!F$182,Général!F$184)))","v":"ENSTA 2"},{"$f":"IF($R$5=\"Course 1\",Général!F$188,IF($R$5=\"Course 2\",Général!F$190,IF($R$5=\"Course 3\",Général!F$192,Général!F$194)))","v":"ENSMAC"},{"$f":"IF($S$5=\"Course 1\",Général!F$198,IF($S$5=\"Course 2\",Général!F$200,IF($S$5=\"Course 3\",Général!F$202,Général!F$204)))","v":"Centrale Nantes 1"},{"$f":"IF($T$5=\"Course 1\",Général!F$208,IF($T$5=\"Course 2\",Général!F$210,IF($T$5=\"Course 3\",Général!F$212,Général!F$214)))","v":"ST Brieuc 2"},null,{"$f":"Général!B14","v":"ENSTA 1"},4]
["6ème Equipage",null,{"$f":"IF($C$5=\"Course 1\",Général!G38,IF($C$5=\"Course 2\",Général!G40,IF($C$5=\"Course 3\",Général!G42,Général!G44)))","v":"Hannover"},{"$f":"IF($D$5=\"Course 1\",Général!G48,IF($D$5=\"Course 2\",Général!G50,IF($D$5=\"Course 3\",Général!G52,Général!G54)))","v":"Plymouth"},{"$f":"IF($E$5=\"Course 1\",Général!G58,IF($E$5=\"Course 2\",Général!G60,IF($E$5=\"Course 3\",Général!G62,Général!G64)))","v":"La Rochelle 2"},{"$f":"IF($F$5=\"Course 1\",Général!G$68,IF($F$5=\"Course 2\",Général!G$70,IF($F$5=\"Course 3\",Général!G$72,Général!G$74)))","v":"IMT Brest 1"},{"$f":"IF($G$5=\"Course 1\",Général!G$78,IF($G$5=\"Course 2\",Général!G$80,IF($G$5=\"Course 3\",Général!G$82,Général!G$84)))","v":"Paris Cité"},{"$f":"IF($H$5=\"Course 1\",Général!G$88,IF($H$5=\"Course 2\",Général!G$90,IF($H$5=\"Course 3\",Général!G$92,Général!G$94)))","v":"Paris Cité"},{"$f":"IF($I$5=\"Course 1\",Général!G$98,IF($I$5=\"Course 2\",Général!G$100,IF($I$5=\"Course 3\",Général!G$102,Général!G$104)))","v":"Univ Nantes 3"},{"$f":"IF($J$5=\"Course 1\",Général!G$108,IF($J$5=\"Course 2\",Général!G$110,IF($J$5=\"Course 3\",Général!G$112,Général!G$114)))","v":"Karlsruhe"},{"$f":"IF($K$5=\"Course 1\",Général!G$118,IF($K$5=\"Course 2\",Général!G$120,IF($K$5=\"Course 3\",Général!G$122,Général!G$124)))","v":"St Brieuc 1"},{"$f":"IF($L$5=\"Course 1\",Général!G$128,IF($L$5=\"Course 2\",Général!G$130,IF($L$5=\"Course 3\",Général!G$132,Général!G$134)))","v":"Unicaen 1"},{"$f":"IF($M$5=\"Course 1\",Général!G$138,IF($M$5=\"Course 2\",Général!G$140,IF($M$5=\"Course 3\",Général!G$142,Général!G$144)))","v":"Unicaen 1"},{"$f":"IF($N$5=\"Course 1\",Général!G$148,IF($N$5=\"Course 2\",Général!G$150,IF($N$5=\"Course 3\",Général!G$152,Général!G$154)))","v":"Southampton"},{"$f":"IF($O$5=\"Course 1\",Général!G$158,IF($O$5=\"Course 2\",Général!G$160,IF($O$5=\"Course 3\",Général!G$162,Général!G$164)))","v":"Hannover"},{"$f":"IF($P$5=\"Course 1\",Général!G$168,IF($P$5=\"Course 2\",Général!G$170,IF($P$5=\"Course 3\",Général!G$172,Général!G$174)))","v":"Paris Cité"},{"$f":"IF($Q$5=\"Course 1\",Général!G$178,IF($Q$5=\"Course 2\",Général!G$180,IF($Q$5=\"Course 3\",Général!G$182,Général!G$184)))","v":"ENSMAC"},{"$f":"IF($R$5=\"Course 1\",Général!G$188,IF($R$5=\"Course 2\",Général!G$190,IF($R$5=\"Course 3\",Général!G$192,Général!G$194)))","v":"IMT Brest 1"},{"$f":"IF($S$5=\"Course 1\",Général!G$198,IF($S$5=\"Course 2\",Général!G$200,IF($S$5=\"Course 3\",Général!G$202,Général!G$204)))","v":"Orléans"},{"$f":"IF($T$5=\"Course 1\",Général!G$208,IF($T$5=\"Course 2\",Général!G$210,IF($T$5=\"Course 3\",Général!G$212,Général!G$214)))","v":"Orléans"},null,{"$f":"Général!B15","v":"Orléans"},16]
["7ème Equipage",null,{"$f":"IF($C$5=\"Course 1\",Général!H38,IF($C$5=\"Course 2\",Général!H40,IF($C$5=\"Course 3\",Général!H42,Général!H44)))","v":"IMT Brest 2"},{"$f":"IF($D$5=\"Course 1\",Général!H48,IF($D$5=\"Course 2\",Général!H50,IF($D$5=\"Course 3\",Général!H52,Général!H54)))","v":"Univ Nantes 2"},{"$f":"IF($E$5=\"Course 1\",Général!H58,IF($E$5=\"Course 2\",Général!H60,IF($E$5=\"Course 3\",Général!H62,Général!H64)))","v":"Intechmer"},{"$f":"IF($F$5=\"Course 1\",Général!H$68,IF($F$5=\"Course 2\",Général!H$70,IF($F$5=\"Course 3\",Général!H$72,Général!H$74)))","v":"IMT Brest 2"},{"$f":"IF($G$5=\"Course 1\",Général!H$78,IF($G$5=\"Course 2\",Général!H$80,IF($G$5=\"Course 3\",Général!H$82,Général!H$84)))","v":"Univ Nantes 2"},{"$f":"IF($H$5=\"Course 1\",Général!H$88,IF($H$5=\"Course 2\",Général!H$90,IF($H$5=\"Course 3\",Général!H$92,Général!H$94)))","v":"Hannover"},{"$f":"IF($I$5=\"Course 1\",Général!H$98,IF($I$5=\"Course 2\",Général!H$100,IF($I$5=\"Course 3\",Général!H$102,Général!H$104)))","v":"Plymouth"},{"$f":"IF($J$5=\"Course 1\",Général!H$108,IF($J$5=\"Course 2\",Général!H$110,IF($J$5=\"Course 3\",Général!H$112,Général!H$114)))","v":"Unicaen 2"},{"$f":"IF($K$5=\"Course 1\",Général!H$118,IF($K$5=\"Course 2\",Général!H$120,IF($K$5=\"Course 3\",Général!H$122,Général!H$124)))","v":"Orléans"},{"$f":"IF($L$5=\"Course 1\",Général!H$128,IF($L$5=\"Course 2\",Général!H$130,IF($L$5=\"Course 3\",Général!H$132,Général!H$134)))","v":"UBO 1"},{"$f":"IF($M$5=\"Course 1\",Général!H$138,IF($M$5=\"Course 2\",Général!H$140,IF($M$5=\"Course 3\",Général!H$142,Général!H$144)))","v":"Centrale Nantes 1"},{"$f":"IF($N$5=\"Course 1\",Général!H$148,IF($N$5=\"Course 2\",Général!H$150,IF($N$5=\"Course 3\",Général!H$152,Général!H$154)))","v":"IMT Brest 1"},{"$f":"IF($O$5=\"Course 1\",Général!H$158,IF($O$5=\"Course 2\",Général!H$160,IF($O$5=\"Course 3\",Général!H$162,Général!H$164)))","v":"La Rochelle 2"},{"$f":"IF($P$5=\"Course 1\",Général!H$168,IF($P$5=\"Course 2\",Général!H$170,IF($P$5=\"Course 3\",Général!H$172,Général!H$174)))","v":"Orléans"},{"$f":"IF($Q$5=\"Course 1\",Général!H$178,IF($Q$5=\"Course 2\",Général!H$180,IF($Q$5=\"Course 3\",Général!H$182,Général!H$184)))","v":"Karlsruhe"},{"$f":"IF($R$5=\"Course 1\",Général!H$188,IF($R$5=\"Course 2\",Général!H$190,IF($R$5=\"Course 3\",Général!H$192,Général!H$194)))","v":"Centrale Nantes 1"},{"$f":"IF($S$5=\"Course 1\",Général!H$198,IF($S$5=\"Course 2\",Général!H$200,IF($S$5=\"Course 3\",Général!H$202,Général!H$204)))","v":"La Rochelle 1"},{"$f":"IF($T$5=\"Course 1\",Général!H$208,IF($T$5=\"Course 2\",Général!H$210,IF($T$5=\"Course 3\",Général!H$212,Général!H$214)))","v":"St Brieuc 1"},null,{"$f":"Général!B16","v":"IMT Brest 1"},6]
["8ème Equipage",null,{"$f":"IF($C$5=\"Course 1\",Général!I38,IF($C$5=\"Course 2\",Général!I40,IF($C$5=\"Course 3\",Général!I42,Général!I44)))","v":"Paris Cité"},{"$f":"IF($D$5=\"Course 1\",Général!I48,IF($D$5=\"Course 2\",Général!I50,IF($D$5=\"Course 3\",Général!I52,Général!I54)))","v":"Orléans"},{"$f":"IF($E$5=\"Course 1\",Général!I58,IF($E$5=\"Course 2\",Général!I60,IF($E$5=\"Course 3\",Général!I62,Général!I64)))","v":"Centrale Nantes 1"},{"$f":"IF($F$5=\"Course 1\",Général!I$68,IF($F$5=\"Course 2\",Général!I$70,IF($F$5=\"Course 3\",Général!I$72,Général!I$74)))","v":"UBO 1"},{"$f":"IF($G$5=\"Course 1\",Général!I$78,IF($G$5=\"Course 2\",Général!I$80,IF($G$5=\"Course 3\",Général!I$82,Général!I$84)))","v":"IMT Nantes"},{"$f":"IF($H$5=\"Course 1\",Général!I$88,IF($H$5=\"Course 2\",Général!I$90,IF($H$5=\"Course 3\",Général!I$92,Général!I$94)))","v":"IMT Nantes"},{"$f":"IF($I$5=\"Course 1\",Général!I$98,IF($I$5=\"Course 2\",Général!I$100,IF($I$5=\"Course 3\",Général!I$102,Général!I$104)))","v":"IMT Nantes"},{"$f":"IF($J$5=\"Course 1\",Général!I$108,IF($J$5=\"Course 2\",Général!I$110,IF($J$5=\"Course 3\",Général!I$112,Général!I$114)))","v":"Unicaen 1"},{"$f":"IF($K$5=\"Course 1\",Général!I$118,IF($K$5=\"Course 2\",Général!I$120,IF($K$5=\"Course 3\",Général!I$122,Général!I$124)))","v":"Univ Nantes 2"},{"$f":"IF($L$5=\"Course 1\",Général!I$128,IF($L$5=\"Course 2\",Général!I$130,IF($L$5=\"Course 3\",Général!I$132,Général!I$134)))","v":"Unicaen 2"},{"$f":"IF($M$5=\"Course 1\",Général!I$138,IF($M$5=\"Course 2\",Général!I$140,IF($M$5=\"Course 3\",Général!I$142,Général!I$144)))","v":"Hannover"},{"$f":"IF($N$5=\"Course 1\",Général!I$148,IF($N$5=\"Course 2\",Général!I$150,IF($N$5=\"Course 3\",Général!I$152,Général!I$154)))","v":"Unicaen 2"},{"$f":"IF($O$5=\"Course 1\",Général!I$158,IF($O$5=\"Course 2\",Général!I$160,IF($O$5=\"Course 3\",Général!I$162,Général!I$164)))","v":"Orléans"},{"$f":"IF($P$5=\"Course 1\",Général!I$168,IF($P$5=\"Course 2\",Général!I$170,IF($P$5=\"Course 3\",Général!I$172,Général!I$174)))","v":"La Rochelle 1"},{"$f":"IF($Q$5=\"Course 1\",Général!I$178,IF($Q$5=\"Course 2\",Général!I$180,IF($Q$5=\"Course 3\",Général!I$182,Général!I$184)))","v":"Orléans"},{"$f":"IF($R$5=\"Course 1\",Général!I$188,IF($R$5=\"Course 2\",Général!I$190,IF($R$5=\"Course 3\",Général!I$192,Général!I$194)))","v":"UBS Lorient 2"},{"$f":"IF($S$5=\"Course 1\",Général!I$198,IF($S$5=\"Course 2\",Général!I$200,IF($S$5=\"Course 3\",Général!I$202,Général!I$204)))","v":"UBO 2"},{"$f":"IF($T$5=\"Course 1\",Général!I$208,IF($T$5=\"Course 2\",Général!I$210,IF($T$5=\"Course 3\",Général!I$212,Général!I$214)))","v":"UBO 2"},null,{"$f":"Général!B17","v":"ENSMAC"},5]
["9ème Equipage",null,{"$f":"IF($C$5=\"Course 1\",Général!J38,IF($C$5=\"Course 2\",Général!J40,IF($C$5=\"Course 3\",Général!J42,Général!J44)))","v":"ENSMAC"},{"$f":"IF($D$5=\"Course 1\",Général!J48,IF($D$5=\"Course 2\",Général!J50,IF($D$5=\"Course 3\",Général!J52,Général!J54)))","v":"Intechmer"},{"$f":"IF($E$5=\"Course 1\",Général!J58,IF($E$5=\"Course 2\",Général!J60,IF($E$5=\"Course 3\",Général!J62,Général!J64)))","v":"INSA Lyon"},{"$f":"IF($F$5=\"Course 1\",Général!J$68,IF($F$5=\"Course 2\",Général!J$70,IF($F$5=\"Course 3\",Général!J$72,Général!J$74)))","v":"ENSTA 1"},{"$f":"IF($G$5=\"Course 1\",Général!J$78,IF($G$5=\"Course 2\",Général!J$80,IF($G$5=\"Course 3\",Général!J$82,Général!J$84)))","v":"Unicaen 2"},{"$f":"IF($H$5=\"Course 1\",Général!J$88,IF($H$5=\"Course 2\",Général!J$90,IF($H$5=\"Course 3\",Général!$J92,Général!J$94)))","v":"Centrale Nantes 1"},{"$f":"IF($I$5=\"Course 1\",Général!J$98,IF($I$5=\"Course 2\",Général!J$100,IF($I$5=\"Course 3\",Général!J$102,Général!J$104)))","v":"ENSTA 1"},{"$f":"IF($J$5=\"Course 1\",Général!J$108,IF($J$5=\"Course 2\",Général!J$110,IF($J$5=\"Course 3\",Général!J$112,Général!J$114)))","v":"Orléans"},{"$f":"IF($K$5=\"Course 1\",Général!J$118,IF($K$5=\"Course 2\",Général!J$120,IF($K$5=\"Course 3\",Général!J$122,Général!J$124)))","v":"La Rochelle 1"},{"$f":"IF($L$5=\"Course 1\",Général!J$128,IF($L$5=\"Course 2\",Général!J$130,IF($L$5=\"Course 3\",Général!J$132,Général!J$134)))","v":"Centrale Nantes 2"},{"$f":"IF($M$5=\"Course 1\",Général!J$138,IF($M$5=\"Course 2\",Général!J$140,IF($M$5=\"Course 3\",Général!J$142,Général!J$144)))","v":"St Brieuc 1"},{"$f":"IF($N$5=\"Course 1\",Général!J$148,IF($N$5=\"Course 2\",Général!J$150,IF($N$5=\"Course 3\",Général!J$152,Général!J$154)))","v":"IMT Nantes"},{"$f":"IF($O$5=\"Course 1\",Général!J$158,IF($O$5=\"Course 2\",Général!J$160,IF($O$5=\"Course 3\",Général!J$162,Général!J$164)))","v":"UBS Lorient 1"},{"$f":"IF($P$5=\"Course 1\",Général!J$168,IF($P$5=\"Course 2\",Général!J$170,IF($P$5=\"Course 3\",Général!J$172,Général!J$174)))","v":"IMT Brest 1"},{"$f":"IF($Q$5=\"Course 1\",Général!J$178,IF($Q$5=\"Course 2\",Général!J$180,IF($Q$5=\"Course 3\",Général!J$182,Général!J$184)))","v":"IMT Nantes"},{"$f":"IF($R$5=\"Course 1\",Général!J$188,IF($R$5=\"Course 2\",Général!J$190,IF($R$5=\"Course 3\",Général!J$192,Général!J$194)))","v":"UBS Lorient 1"},{"$f":"IF($S$5=\"Course 1\",Général!J$198,IF($S$5=\"Course 2\",Général!J$200,IF($S$5=\"Course 3\",Général!J$202,Général!J$204)))","v":"Karlsruhe"},{"$f":"IF($T$5=\"Course 1\",Général!J$208,IF($T$5=\"Course 2\",Général!J$210,IF($T$5=\"Course 3\",Général!J$212,Général!J$214)))","v":"Karlsruhe"},null,{"$f":"Général!B18","v":"St Brieuc 1"},6]
["10ème Equipage",null,{"$f":"IF($C$5=\"Course 1\",Général!K38,IF($C$5=\"Course 2\",Général!K40,IF($C$5=\"Course 3\",Général!K42,Général!K44)))","v":"Paris Sorbone"},{"$f":"IF($D$5=\"Course 1\",Général!K48,IF($D$5=\"Course 2\",Général!K50,IF($D$5=\"Course 3\",Général!K52,Général!K54)))","v":"IMT Brest 1"},{"$f":"IF($E$5=\"Course 1\",Général!K58,IF($E$5=\"Course 2\",Général!K60,IF($E$5=\"Course 3\",Général!K62,Général!K64)))","v":"UNIV Nantes 1"},{"$f":"IF($F$5=\"Course 1\",Général!K$68,IF($F$5=\"Course 2\",Général!K$70,IF($F$5=\"Course 3\",Général!K$72,Général!K$74)))","v":"Orléans"},{"$f":"IF($G$5=\"Course 1\",Général!K$78,IF($G$5=\"Course 2\",Général!K$80,IF($G$5=\"Course 3\",Général!K$82,Général!K$84)))","v":"Intechmer"},{"$f":"IF($H$5=\"Course 1\",Général!K$88,IF($H$5=\"Course 2\",Général!K$90,IF($H$5=\"Course 3\",Général!$K92,Général!K$94)))","v":"ENSTA 1"},{"$f":"IF($I$5=\"Course 1\",Général!K$98,IF($I$5=\"Course 2\",Général!K$100,IF($I$5=\"Course 3\",Général!K$102,Général!K$104)))","v":"Orléans"},{"$f":"IF($J$5=\"Course 1\",Général!K$108,IF($J$5=\"Course 2\",Général!K$110,IF($J$5=\"Course 3\",Général!K$112,Général!K$114)))","v":"Plymouth"},{"$f":"IF($K$5=\"Course 1\",Général!K$118,IF($K$5=\"Course 2\",Général!K$120,IF($K$5=\"Course 3\",Général!K$122,Général!K$124)))","v":"Univ Nantes 3"},{"$f":"IF($L$5=\"Course 1\",Général!K$128,IF($L$5=\"Course 2\",Général!K$130,IF($L$5=\"Course 3\",Général!K$132,Général!K$134)))","v":"La Rochelle 1"},{"$f":"IF($M$5=\"Course 1\",Général!K$138,IF($M$5=\"Course 2\",Général!K$140,IF($M$5=\"Course 3\",Général!K$142,Général!K$144)))","v":"IMT Brest 1"},{"$f":"IF($N$5=\"Course 1\",Général!K$148,IF($N$5=\"Course 2\",Général!K$150,IF($N$5=\"Course 3\",Général!K$152,Général!K$154)))","v":"Paris Sorbone"},{"$f":"IF($O$5=\"Course 1\",Général!K$158,IF($O$5=\"Course 2\",Général!K$160,IF($O$5=\"Course 3\",Général!K$162,Général!K$164)))","v":"Paris Sorbone"},{"$f":"IF($P$5=\"Course 1\",Général!K$168,IF($P$5=\"Course 2\",Général!K$170,IF($P$5=\"Course 3\",Général!K$172,Général!K$174)))","v":"IMT Nantes"},{"$f":"IF($Q$5=\"Course 1\",Général!K$178,IF($Q$5=\"Course 2\",Général!K$180,IF($Q$5=\"Course 3\",Général!K$182,Général!K$184)))","v":"Paris Sorbone"},{"$f":"IF($R$5=\"Course 1\",Général!K$188,IF($R$5=\"Course 2\",Général!K$190,IF($R$5=\"Course 3\",Général!K$192,Général!K$194)))","v":"UBO 1"},{"$f":"IF($S$5=\"Course 1\",Général!K$198,IF($S$5=\"Course 2\",Général!K$200,IF($S$5=\"Course 3\",Général!K$202,Général!K$204)))","v":"Univ Nantes 2"},{"$f":"IF($T$5=\"Course 1\",Général!K$208,IF($T$5=\"Course 2\",Général!K$210,IF($T$5=\"Course 3\",Général!K$212,Général!K$214)))","v":"ENSTA 1"},null,{"$f":"Général!B19","v":"Hannover"},5]
[null,null,null,null,null,null,null,null,null,null,null,null,null,null,null,null,null,null,null,null,null,{"$f":"Général!B20","v":"ENSTA 2"},3]
[null,null,null,null,null,null,null,null,null,null,null,null,null,null,null,null,null,null,null,null,null,{"$f":"Général!B21","v":"Southampton"},3]
[null,null,null,null,null,null,null,null,null,null,null,null,null,null,null,null,null,null,null,null,null,{"$f":"Général!B22","v":"La Rochelle 1"},8]
[null,null,null,null,null,null,null,null,null,null,null,null,null,null,null,null,null,null,null,null,null,{"$f":"Général!B23","v":"Centrale Nantes 1"},9]
[null,null,null,null,null,null,null,null,null,null,null,null,null,null,null,null,null,null,null,null,null,{"$f":"Général!B24","v":"ST Brieuc 2"},5]
[null,null,null,null,null,null,null,null,null,null,null,null,null,null,null,null,null,null,null,null,null,{"$f":"Général!B25","v":"UNIV Nantes 1"},3]
[null,null,null,null,null,null,null,null,null,null,null,null,null,null,null,null,null,null,null,null,null,{"$f":"Général!B26","v":"Intechmer"},2]
[null,null,null,null,null,null,null,null,null,null,null,null,null,null,null,null,null,null,null,null,null,{"$f":"Général!B27","v":"IMT Nantes"},9]
[null,null,null,null,null,null,null,null,null,null,null,null,null,null,null,null,null,null,null,null,null,{"$f":"Général!B28","v":"INSA Lyon"},2]
[null,null,null,null,null,null,null,null,null,null,null,null,null,null,null,null,null,null,null,null,null,{"$f":"Général!B29","v":"Centrale Nantes 2"},2]
[null,null,null,null,null,null,null,null,null,null,null,null,null,null,null,null,null,null,null,null,null,{"$f":"Général!B30","v":"UBS Lorient 2"},6]
[null,null,null,null,null,null,null,null,null,null,null,null,null,null,null,null,null,null,null,null,null,{"$f":"Général!B31","v":"La Rochelle 2"},3]
[null,null,null,null,null,null,null,null,null,null,null,null,null,null,null,null,null,null,null,null,null,{"$f":"Général!B32","v":"UBO 1"},3]
[null,null,null,null,null,null,null,null,null,null,null,null,null,null,null,null,null,null,null,null,null,{"$f":"Général!B33","v":"Eq.31"},0]
[null,null,null,null,null,null,null,null,null,null,null,null,null,null,null,null,null,null,null,null,null,{"$f":"Général!B34","v":"Eq.32"},0]

{"sheet":"Eq.14","index":19,"n_rows":32,"n_cols":23,"rows_kept":32,"cut":false,"hidden":false,"merged":[[7,0,7,1],[0,0,1,5],[0,6,1,10],[3,0,3,1],[4,0,4,1],[5,0,5,1],[14,0,14,1],[15,0,15,1],[16,0,16,1],[8,0,8,1],[9,0,9,1],[10,0,10,1],[11,0,11,1],[12,0,12,1],[13,0,13,1]]}
["Equipage ",null,null,null,null,null,{"$f":"Général!B16","v":"IMT Brest 1"},null,null,null,null,null,null,null,null,null,null,null,null,null,null,{"$f":"Général!B3","v":"UBO 2"},{"$f":"COUNTIF(C$8:T$16,V1)","v":4}]
[null,null,null,null,null,null,null,null,null,null,null,null,null,null,null,null,null,null,null,null,null,{"$f":"Général!B4","v":"Paris Sorbone"},{"$f":"COUNTIF($C$8:$T$16,V2)","v":3}]
[null,null,null,null,null,null,null,null,null,null,null,null,null,null,null,null,null,null,null,null,null,{"$f":"Général!B5","v":"UBS Lorient 1"},{"$f":"COUNTIF($C$8:$T$16,V3)","v":9}]
[null,null,"FLIGHT 1","FLIGHT 2","FLIGHT 3","FLIGHT 4","FLIGHT 5","FLIGHT 6","FLIGHT 7","FLIGHT 8","FLIGHT 9","FLIGHT 10","FLIGHT 11","FLIGHT 12","FLIGHT 13","FLIGHT 14","FLIGHT 15","FLIGHT 16","FLIGHT 17","FLIGHT 18",null,{"$f":"Général!B6","v":"Univ Nantes 3"},3]
["N° de course",null,{"$f":"IF(COUNTIF(Général!B38:K38,$G$1)=1,\"Course 1\",IF(COUNTIF(Général!B40:K40,$G$1)=1,\"Course 2\",IF(COUNTIF(Général!B42:K42,$G$1)=1,\"Course 3\",\"Course 4\")))","v":"Course 1"},{"$f":"IF(COUNTIF(Général!B48:K48,$G$1)=1,\"Course 1\",IF(COUNTIF(Général!B50:K50,$G$1)=1,\"Course 2\",IF(COUNTIF(Général!B52:K52,$G$1)=1,\"Course 3\",\"Course 4\")))","v":"Course 1"},{"$f":"IF(COUNTIF(Général!B58:K58,$G$1)=1,\"Course 1\",IF(COUNTIF(Général!B60:K60,$G$1)=1,\"Course 2\",IF(COUNTIF(Général!B62:K62,$G$1)=1,\"Course 3\",\"Course 4\")))","v":"Course 3"},{"$f":"IF(COUNTIF(Général!B68:K68,$G$1)=1,\"Course 1\",IF(COUNTIF(Général!B70:K70,$G$1)=1,\"Course 2\",IF(COUNTIF(Général!B72:K72,$G$1)=1,\"Course 3\",\"Course 4\")))","v":"Course 1"},{"$f":"IF(COUNTIF(Général!B78:K78,$G$1)=1,\"Course 1\",IF(COUNTIF(Général!B80:K80,$G$1)=1,\"Course 2\",IF(COUNTIF(Général!B82:K82,$G$1)=1,\"Course 3\",\"Course 4\")))","v":"Course 1"},{"$f":"IF(COUNTIF(Général!B88:K88,$G$1)=1,\"Course 1\",IF(COUNTIF(Général!B90:K90,$G$1)=1,\"Course 2\",IF(COUNTIF(Général!B92:K92,$G$1)=1,\"Course 3\",\"Course 4\")))","v":"Course 3"},{"$f":"IF(COUNTIF(Général!B98:K98,$G$1)=1,\"Course 1\",IF(COUNTIF(Général!B100:K100,$G$1)=1,\"Course 2\",IF(COUNTIF(Général!B102:K102,$G$1)=1,\"Course 3\",\"Course 4\")))","v":"Course 1"},{"$f":"IF(COUNTIF(Général!B108:K108,$G$1)=1,\"Course 1\",IF(COUNTIF(Général!B110:K110,$G$1)=1,\"Course 2\",IF(COUNTIF(Général!B112:K112,$G$1)=1,\"Course 3\",\"Course 4\")))","v":"Course 3"},{"$f":"IF(COUNTIF(Général!B118:K118,$G$1)=1,\"Course 1\",IF(COUNTIF(Général!B120:K120,$G$1)=1,\"Course 2\",IF(COUNTIF(Général!B122:K122,$G$1)=1,\"Course 3\",\"Course 4\")))","v":"Course 3"},{"$f":"IF(COUNTIF(Général!B128:K128,$G$1)=1,\"Course 1\",IF(COUNTIF(Général!B130:K130,$G$1)=1,\"Course 2\",IF(COUNTIF(Général!B132:K132,$G$1)=1,\"Course 3\",\"Course 4\")))","v":"Course 1"},{"$f":"IF(COUNTIF(Général!B138:K138,$G$1)=1,\"Course 1\",IF(COUNTIF(Général!B140:K140,$G$1)=1,\"Course 2\",IF(COUNTIF(Général!B142:K142,$G$1)=1,\"Course 3\",\"Course 4\")))","v":"Course 1"},{"$f":"IF(COUNTIF(Général!B148:K148,$G$1)=1,\"Course 1\",IF(COUNTIF(Général!B150:K150,$G$1)=1,\"Course 2\",IF(COUNTIF(Général!B152:K152,$G$1)=1,\"Course 3\",\"Course 4\")))","v":"Course 1"},{"$f":"IF(COUNTIF(Général!B158:K158,$G$1)=1,\"Course 1\",IF(COUNTIF(Général!B160:K160,$G$1)=1,\"Course 2\",IF(COUNTIF(Général!B162:K162,$G$1)=1,\"Course 3\",\"Course 4\")))","v":"Course 1"},{"$f":"IF(COUNTIF(Général!B168:K168,$G$1)=1,\"Course 1\",IF(COUNTIF(Général!B170:K170,$G$1)=1,\"Course 2\",IF(COUNTIF(Général!B172:K172,$G$1)=1,\"Course 3\",\"Course 4\")))","v":"Course 1"},{"$f":"IF(COUNTIF(Général!B178:K178,$G$1)=1,\"Course 1\",IF(COUNTIF(Général!B180:K180,$G$1)=1,\"Course 2\",IF(COUNTIF(Général!B182:K182,$G$1)=1,\"Course 3\",\"Course 4\")))","v":"Course 3"},{"$f":"IF(COUNTIF(Général!B188:K188,$G$1)=1,\"Course 1\",IF(COUNTIF(Général!B190:K190,$G$1)=1,\"Course 2\",IF(COUNTIF(Général!B192:K192,$G$1)=1,\"Course 3\",\"Course 4\")))","v":"Course 2"},{"$f":"IF(COUNTIF(Général!B198:K198,$G$1)=1,\"Course 1\",IF(COUNTIF(Général!B200:K200,$G$1)=1,\"Course 2\",IF(COUNTIF(Général!B202:K202,$G$1)=1,\"Course 3\",\"Course 4\")))","v":"Course 2"},{"$f":"IF(COUNTIF(Général!B208:K208,$G$1)=1,\"Course 1\",IF(COUNTIF(Général!B210:K210,$G$1)=1,\"Course 2\",IF(COUNTIF(Général!B212:K212,$G$1)=1,\"Course 3\",\"Course 4\")))","v":"Course 3"},null,{"$f":"Général!B7","v":"Paris Cité"},7]
["Bateau",null,{"$f":"IF(COUNTIF(Général!B38:B44,$G$1)=1,\"Boat 1\",IF(COUNTIF(Général!C38:C44,$G$1)=1,\"Boat 2\",IF(COUNTIF(Général!D38:D44,$G$1)=1,\"Boat 3\", IF(COUNTIF(Général!E38:E44,$G$1)=1,\"Boat 4\", IF(COUNTIF(Général!F38:F44,$G$1)=1,\"Boat 5\", IF(COUNTIF(Général!G38:G44,$G$1)=1,\"Boat 6\", IF(COUNTIF(Général!H38:H44,$G$1)=1,\"Boat 7\",IF(COUNTIF(Général!I38:I44,$G$1)=1,\"Boat 8\",\"Boat 9\"))))))))","v":"Boat 7"},{"$f":"IF(COUNTIF(Général!B48:B54,$G$1)=1,\"Boat 1\",IF(COUNTIF(Général!C48:C54,$G$1)=1,\"Boat 2\",IF(COUNTIF(Général!D48:D54,$G$1)=1,\"Boat 3\", IF(COUNTIF(Général!E48:E54,$G$1)=1,\"Boat 4\", IF(COUNTIF(Général!F48:F54,$G$1)=1,\"Boat 5\", IF(COUNTIF(Général!G48:G54,$G$1)=1,\"Boat 6\", IF(COUNTIF(Général!H48:H54,$G$1)=1,\"Boat 7\",IF(COUNTIF(Général!I38:I44,$G$1)=1,\"Boat 8\",\"Boat 9\"))))))))","v":"Boat 9"},{"$f":"IF(COUNTIF(Général!B58:B64,$G$1)=1,\"Boat 1\",IF(COUNTIF(Général!C58:C64,$G$1)=1,\"Boat 2\",IF(COUNTIF(Général!D58:D64,$G$1)=1,\"Boat 3\", IF(COUNTIF(Général!E58:E64,$G$1)=1,\"Boat 4\", IF(COUNTIF(Général!F58:F64,$G$1)=1,\"Boat 5\", IF(COUNTIF(Général!G58:G64,$G$1)=1,\"Boat 6\", IF(COUNTIF(Général!H58:H64,$G$1)=1,\"Boat 7\",IF(COUNTIF(Général!I38:I44,$G$1)=1,\"Boat 8\",\"Boat 9\"))))))))","v":"Boat 6"},{"$f":"IF(COUNTIF(Général!B68:B74,$G$1)=1,\"Boat 1\",IF(COUNTIF(Général!C68:C74,$G$1)=1,\"Boat 2\",IF(COUNTIF(Général!D68:D74,$G$1)=1,\"Boat 3\", IF(COUNTIF(Général!E68:E74,$G$1)=1,\"Boat 4\", IF(COUNTIF(Général!F68:F74,$G$1)=1,\"Boat 5\", IF(COUNTIF(Général!G68:G74,$G$1)=1,\"Boat 6\", IF(COUNTIF(Général!H68:H74,$G$1)=1,\"Boat 7\",IF(COUNTIF(Général!I38:I44,$G$1)=1,\"Boat 8\",\"Boat 9\"))))))))","v":"Boat 6"},{"$f":"IF(COUNTIF(Général!B78:B84,$G$1)=1,\"Boat 1\",IF(COUNTIF(Général!C78:C84,$G$1)=1,\"Boat 2\",IF(COUNTIF(Général!D78:D84,$G$1)=1,\"Boat 3\", IF(COUNTIF(Général!E78:E84,$G$1)=1,\"Boat 4\", IF(COUNTIF(Général!F78:F84,$G$1)=1,\"Boat 5\", IF(COUNTIF(Général!G78:G84,$G$1)=1,\"Boat 6\", IF(COUNTIF(Général!H78:H84,$G$1)=1,\"Boat 7\",IF(COUNTIF(Général!I38:I44,$G$1)=1,\"Boat 8\",\"Boat 9\"))))))))","v":"Boat 7"},{"$f":"IF(COUNTIF(Général!B88:B94,$G$1)=1,\"Boat 1\",IF(COUNTIF(Général!C88:C94,$G$1)=1,\"Boat 2\",IF(COUNTIF(Général!D88:D94,$G$1)=1,\"Boat 3\", IF(COUNTIF(Général!E88:E94,$G$1)=1,\"Boat 4\", IF(COUNTIF(Général!F88:F94,$G$1)=1,\"Boat 5\", IF(COUNTIF(Général!G88:G94,$G$1)=1,\"Boat 6\", IF(COUNTIF(Général!H88:H94,$G$1)=1,\"Boat 7\",IF(COUNTIF(Général!I38:I44,$G$1)=1,\"Boat 8\",\"Boat 9\"))))))))","v":"Boat 5"},{"$f":"IF(COUNTIF(Général!B98:B104,$G$1)=1,\"Boat 1\",IF(COUNTIF(Général!C98:C104,$G$1)=1,\"Boat 2\",IF(COUNTIF(Général!D98:D104,$G$1)=1,\"Boat 3\", IF(COUNTIF(Général!E98:E104,$G$1)=1,\"Boat 4\", IF(COUNTIF(Général!F98:F104,$G$1)=1,\"Boat 5\", IF(COUNTIF(Général!G98:G104,$G$1)=1,\"Boat 6\", IF(COUNTIF(Général!H98:H104,$G$1)=1,\"Boat 7\",IF(COUNTIF(Général!I38:I44,$G$1)=1,\"Boat 8\",\"Boat 9\"))))))))","v":"Boat 5"},{"$f":"IF(COUNTIF(Général!B108:B114,$G$1)=1,\"Boat 1\",IF(COUNTIF(Général!C108:C114,$G$1)=1,\"Boat 2\",IF(COUNTIF(Général!D108:D114,$G$1)=1,\"Boat 3\", IF(COUNTIF(Général!E108:E114,$G$1)=1,\"Boat 4\", IF(COUNTIF(Général!F108:F114,$G$1)=1,\"Boat 5\", IF(COUNTIF(Général!G108:G114,$G$1)=1,\"Boat 6\", IF(COUNTIF(Général!H108:H114,$G$1)=1,\"Boat 7\",IF(COUNTIF(Général!I38:I44,$G$1)=1,\"Boat 8\",\"Boat 9\"))))))))","v":"Boat 3"},{"$f":"IF(COUNTIF(Général!B118:B124,$G$1)=1,\"Boat 1\",IF(COUNTIF(Général!C118:C124,$G$1)=1,\"Boat 2\",IF(COUNTIF(Général!D118:D124,$G$1)=1,\"Boat 3\", IF(COUNTIF(Général!E118:E124,$G$1)=1,\"Boat 4\", IF(COUNTIF(Général!F118:F124,$G$1)=1,\"Boat 5\", IF(COUNTIF(Général!G118:G124,$G$1)=1,\"Boat 6\", IF(COUNTIF(Général!H118:H124,$G$1)=1,\"Boat 7\",IF(COUNTIF(Général!I38:I44,$G$1)=1,\"Boat 8\",\"Boat 9\"))))))))","v":"Boat 4"},{"$f":"IF(COUNTIF(Général!B128:B134,$G$1)=1,\"Boat 1\",IF(COUNTIF(Général!C128:C134,$G$1)=1,\"Boat 2\",IF(COUNTIF(Général!D128:D134,$G$1)=1,\"Boat 3\", IF(COUNTIF(Général!E128:E134,$G$1)=1,\"Boat 4\", IF(COUNTIF(Général!F128:F134,$G$1)=1,\"Boat 5\", IF(COUNTIF(Général!G128:G134,$G$1)=1,\"Boat 6\", IF(COUNTIF(Général!H128:H134,$G$1)=1,\"Boat 7\",IF(COUNTIF(Général!I38:I44,$G$1)=1,\"Boat 8\",\"Boat 9\"))))))))","v":"Boat 4"},{"$f":"IF(COUNTIF(Général!B138:B144,$G$1)=1,\"Boat 1\",IF(COUNTIF(Général!C138:C144,$G$1)=1,\"Boat 2\",IF(COUNTIF(Général!C138:D144,$G$1)=1,\"Boat 3\", IF(COUNTIF(Général!C138:E144,$G$1)=1,\"Boat 4\", IF(COUNTIF(Général!F138:F144,$G$1)=1,\"Boat 5\", IF(COUNTIF(Général!G138:G144,$G$1)=1,\"Boat 6\", IF(COUNTIF(Général!H138:H144,$G$1)=1,\"Boat 7\",IF(COUNTIF(Général!I38:I44,$G$1)=1,\"Boat 8\",\"Boat 9\"))))))))","v":"Boat 9"},{"$f":"IF(COUNTIF(Général!B148:B154,$G$1)=1,\"Boat 1\",IF(COUNTIF(Général!C148:C154,$G$1)=1,\"Boat 2\",IF(COUNTIF(Général!D148:D154,$G$1)=1,\"Boat 3\", IF(COUNTIF(Général!E148:E154,$G$1)=1,\"Boat 4\", IF(COUNTIF(Général!F148:F154,$G$1)=1,\"Boat 5\", IF(COUNTIF(Général!G148:G154,$G$1)=1,\"Boat 6\", IF(COUNTIF(Général!H148:H154,$G$1)=1,\"Boat 7\",IF(COUNTIF(Général!I38:I44,$G$1)=1,\"Boat 8\",\"Boat 9\"))))))))","v":"Boat 7"},{"$f":"IF(COUNTIF(Général!B158:B164,$G$1)=1,\"Boat 1\",IF(COUNTIF(Général!C158:C164,$G$1)=1,\"Boat 2\",IF(COUNTIF(Général!D160:D164,$G$1)=1,\"Boat 3\", IF(COUNTIF(Général!E158:E164,$G$1)=1,\"Boat 4\", IF(COUNTIF(Général!F158:F164,$G$1)=1,\"Boat 5\", IF(COUNTIF(Général!G158:G164,$G$1)=1,\"Boat 6\", IF(COUNTIF(Général!H158:H164,$G$1)=1,\"Boat 7\",IF(COUNTIF(Général!I38:I44,$G$1)=1,\"Boat 8\",\"Boat 9\"))))))))","v":"Boat 2"},{"$f":"IF(COUNTIF(Général!B168:B174,$G$1)=1,\"Boat 1\",IF(COUNTIF(Général!C168:C174,$G$1)=1,\"Boat 2\",IF(COUNTIF(Général!D168:D174,$G$1)=1,\"Boat 3\", IF(COUNTIF(Général!E168:E174,$G$1)=1,\"Boat 4\", IF(COUNTIF(Général!F178:F184,$G$1)=1,\"Boat 5\", IF(COUNTIF(Général!G178:G184,$G$1)=1,\"Boat 6\", IF(COUNTIF(Général!H178:H184,$G$1)=1,\"Boat 7\",IF(COUNTIF(Général!I38:I44,$G$1)=1,\"Boat 8\",\"Boat 9\"))))))))","v":"Boat 7"},{"$f":"IF(COUNTIF(Général!B178:B184,$G$1)=1,\"Boat 1\",IF(COUNTIF(Général!C178:C184,$G$1)=1,\"Boat 2\",IF(COUNTIF(Général!D178:D184,$G$1)=1,\"Boat 3\", IF(COUNTIF(Général!E178:E184,$G$1)=1,\"Boat 4\", IF(COUNTIF(Général!F178:F184,$G$1)=1,\"Boat 5\", IF(COUNTIF(Général!G178:G184,$G$1)=1,\"Boat 6\", IF(COUNTIF(Général!H178:H184,$G$1)=1,\"Boat 7\",IF(COUNTIF(Général!I38:I44,$G$1)=1,\"Boat 8\",\"Boat 9\"))))))))","v":"Boat 7"},{"$f":"IF(COUNTIF(Général!B188:B194,$G$1)=1,\"Boat 1\",IF(COUNTIF(Général!C188:C194,$G$1)=1,\"Boat 2\",IF(COUNTIF(Général!D188:D194,$G$1)=1,\"Boat 3\", IF(COUNTIF(Général!E188:E194,$G$1)=1,\"Boat 4\", IF(COUNTIF(Général!F188:F194,$G$1)=1,\"Boat 5\", IF(COUNTIF(Général!G188:G194,$G$1)=1,\"Boat 6\", IF(COUNTIF(Général!H188:H194,$G$1)=1,\"Boat 7\",IF(COUNTIF(Général!I38:I44,$G$1)=1,\"Boat 8\",\"Boat 9\"))))))))","v":"Boat 6"},{"$f":"IF(COUNTIF(Général!B198:B204,$G$1)=1,\"Boat 1\",IF(COUNTIF(Général!C198:C204,$G$1)=1,\"Boat 2\",IF(COUNTIF(Général!D198:D204,$G$1)=1,\"Boat 3\", IF(COUNTIF(Général!E198:E204,$G$1)=1,\"Boat 4\", IF(COUNTIF(Général!F198:F204,$G$1)=1,\"Boat 5\", IF(COUNTIF(Général!G198:G204,$G$1)=1,\"Boat 6\", IF(COUNTIF(Général!H198:H204,$G$1)=1,\"Boat 7\",IF(COUNTIF(Général!I38:I44,$G$1)=1,\"Boat 8\",\"Boat 9\"))))))))","v":"Boat 9"},{"$f":"IF(COUNTIF(Général!B208:B214,$G$1)=1,\"Boat 1\",IF(COUNTIF(Général!C208:C214,$G$1)=1,\"Boat 2\",IF(COUNTIF(Général!D208:D214,$G$1)=1,\"Boat 3\", IF(COUNTIF(Général!E208:E214,$G$1)=1,\"Boat 4\", IF(COUNTIF(Général!F208:F214,$G$1)=1,\"Boat 5\", IF(COUNTIF(Général!G208:G214,$G$1)=1,\"Boat 6\", IF(COUNTIF(Général!H208:H214,$G$1)=1,\"Boat 7\",IF(COUNTIF(Général!I38:I44,$G$1)=1,\"Boat 8\",\"Boat 9\"))))))))","v":"Boat 1"},null,{"$f":"Général!B8","v":"Plymouth"},4]
[null,null,null,null,null,null,null,null,null,null,null,null,null,null,null,null,null,null,null,null,null,{"$f":"Général!B9","v":"Unicaen 2"},5]
["1er Equipage",null,{"$f":"IF($C$5=\"Course 1\",Général!B38,IF($C$5=\"Course 2\",Général!B40,IF($C$5=\"Course 3\",Général!B42,Général!B44)))","v":"IMT Nantes"},{"$f":"IF($D$5=\"Course 1\",Général!B48,IF($D$5=\"Course 2\",Général!B50,IF($D$5=\"Course 3\",Général!B52,Général!B54)))","v":"ENSTA 1"},{"$f":"IF($E$5=\"Course 1\",Général!B58,IF($E$5=\"Course 2\",Général!B60,IF($E$5=\"Course 3\",Général!B62,Général!B64)))","v":"ST Brieuc 2"},{"$f":"IF($F$5=\"Course 1\",Général!B$68,IF($F$5=\"Course 2\",Général!B$70,IF($F$5=\"Course 3\",Général!B$72,Général!B$74)))","v":"ST Brieuc 2"},{"$f":"IF($G$5=\"Course 1\",Général!B$78,IF($G$5=\"Course 2\",Général!B$80,IF($G$5=\"Course 3\",Général!B$82,Général!B$84)))","v":"ENSMAC"},{"$f":"IF($H$5=\"Course 1\",Général!B$88,IF($H$5=\"Course 2\",Général!B$90,IF($H$5=\"Course 3\",Général!B$92,Général!B$94)))","v":"Unicaen 2"},{"$f":"IF($I$5=\"Course 1\",Général!B$98,IF($I$5=\"Course 2\",Général!B$100,IF($I$5=\"Course 3\",Général!B$102,Général!B$104)))","v":"Centrale Nantes 2"},{"$f":"IF($J$5=\"Course 1\",Général!B$108,IF($J$5=\"Course 2\",Général!B$110,IF($J$5=\"Course 3\",Général!B$112,Général!B$114)))","v":"UNIV Nantes 1"},{"$f":"IF($K$5=\"Course 1\",Général!B$118,IF($K$5=\"Course 2\",Général!B$120,IF($K$5=\"Course 3\",Général!B$122,Général!B$124)))","v":"INSA Lyon"},{"$f":"IF($L$5=\"Course 1\",Général!B$128,IF($L$5=\"Course 2\",Général!B$130,IF($L$5=\"Course 3\",Général!B$132,Général!B$134)))","v":"UBO 2"},{"$f":"IF($M$5=\"Course 1\",Général!B$138,IF($M$5=\"Course 2\",Général!B$140,IF($M$5=\"Course 3\",Général!B$142,Général!B$144)))","v":"IMT Brest 2"},{"$f":"IF($N$5=\"Course 1\",Général!B$148,IF($N$5=\"Course 2\",Général!B$150,IF($N$5=\"Course 3\",Général!B$152,Général!B$154)))","v":"St Brieuc 1"},{"$f":"IF($O$5=\"Course 1\",Général!B$158,IF($O$5=\"Course 2\",Général!B$160,IF($O$5=\"Course 3\",Général!B$162,Général!B$164)))","v":"La Rochelle 1"},{"$f":"IF($P$5=\"Course 1\",Général!B$168,IF($P$5=\"Course 2\",Général!B$170,IF($P$5=\"Course 3\",Général!B$172,Général!B$174)))","v":"St Brieuc 1"},{"$f":"IF($Q$5=\"Course 1\",Général!B$178,IF($Q$5=\"Course 2\",Général!B$180,IF($Q$5=\"Course 3\",Général!B$182,Général!B$184)))","v":"Paris Cité"},{"$f":"IF($R$5=\"Course 1\",Général!B$188,IF($R$5=\"Course 2\",Général!B$190,IF($R$5=\"Course 3\",Général!B$192,Général!B$194)))","v":"Karlsruhe"},{"$f":"IF($S$5=\"Course 1\",Général!B$198,IF($S$5=\"Course 2\",Général!B$200,IF($S$5=\"Course 3\",Général!B$202,Général!B$204)))","v":"ENSTA 2"},{"$f":"IF($T$5=\"Course 1\",Général!B$208,IF($T$5=\"Course 2\",Général!B$210,IF($T$5=\"Course 3\",Général!B$212,Général!B$214)))","v":"IMT Brest 1"},null,{"$f":"Général!B10","v":"Univ Nantes 2"},4]
["2nd Equipage",null,{"$f":"IF($C$5=\"Course 1\",Général!C38,IF($C$5=\"Course 2\",Général!C40,IF($C$5=\"Course 3\",Général!C42,Général!C44)))","v":"Unicaen 1"},{"$f":"IF($D$5=\"Course 1\",Général!C48,IF($D$5=\"Course 2\",Général!C50,IF($D$5=\"Course 3\",Général!C52,Général!C54)))","v":"UBS Lorient 1"},{"$f":"IF($E$5=\"Course 1\",Général!C58,IF($E$5=\"Course 2\",Général!C60,IF($E$5=\"Course 3\",Général!C62,Général!C64)))","v":"La Rochelle 1"},{"$f":"IF($F$5=\"Course 1\",Général!C$68,IF($F$5=\"Course 2\",Général!C$70,IF($F$5=\"Course 3\",Général!C$72,Général!C$74)))","v":"La Rochelle 1"},{"$f":"IF($G$5=\"Course 1\",Général!C$78,IF($G$5=\"Course 2\",Général!C$80,IF($G$5=\"Course 3\",Général!C$82,Général!C$84)))","v":"Hannover"},{"$f":"IF($H$5=\"Course 1\",Général!C$88,IF($H$5=\"Course 2\",Général!C$90,IF($H$5=\"Course 3\",Général!C$92,Général!C$94)))","v":"Paris Sorbone"},{"$f":"IF($I$5=\"Course 1\",Général!C$98,IF($I$5=\"Course 2\",Général!C$100,IF($I$5=\"Course 3\",Général!C$102,Général!C$104)))","v":"Intechmer"},{"$f":"IF($J$5=\"Course 1\",Général!C$108,IF($J$5=\"Course 2\",Général!C$110,IF($J$5=\"Course 3\",Général!C$112,Général!C$114)))","v":"UBS Lorient 1"},{"$f":"IF($K$5=\"Course 1\",Général!C$118,IF($K$5=\"Course 2\",Général!C$120,IF($K$5=\"Course 3\",Général!C$122,Général!C$124)))","v":"ENSTA 2"},{"$f":"IF($L$5=\"Course 1\",Général!C$128,IF($L$5=\"Course 2\",Général!C$130,IF($L$5=\"Course 3\",Général!C$132,Général!C$134)))","v":"Univ Nantes 3"},{"$f":"IF($M$5=\"Course 1\",Général!C$138,IF($M$5=\"Course 2\",Général!C$140,IF($M$5=\"Course 3\",Général!C$142,Général!C$144)))","v":"UNIV Nantes 1"},{"$f":"IF($N$5=\"Course 1\",Général!C$148,IF($N$5=\"Course 2\",Général!C$150,IF($N$5=\"Course 3\",Général!C$152,Général!C$154)))","v":"Centrale Nantes 1"},{"$f":"IF($O$5=\"Course 1\",Général!C$158,IF($O$5=\"Course 2\",Général!C$160,IF($O$5=\"Course 3\",Général!C$162,Général!C$164)))","v":"IMT Brest 1"},{"$f":"IF($P$5=\"Course 1\",Général!C$168,IF($P$5=\"Course 2\",Général!C$170,IF($P$5=\"Course 3\",Général!C$172,Général!C$174)))","v":"Paris Sorbone"},{"$f":"IF($Q$5=\"Course 1\",Général!C$178,IF($Q$5=\"Course 2\",Général!C$180,IF($Q$5=\"Course 3\",Général!C$182,Général!C$184)))","v":"ENSTA 1"},{"$f":"IF($R$5=\"Course 1\",Général!C$188,IF($R$5=\"Course 2\",Général!C$190,IF($R$5=\"Course 3\",Général!C$192,Général!C$194)))","v":"ST Brieuc 2"},{"$f":"IF($S$5=\"Course 1\",Général!C$198,IF($S$5=\"Course 2\",Général!C$200,IF($S$5=\"Course 3\",Général!C$202,Général!C$204)))","v":"Southampton"},{"$f":"IF($T$5=\"Course 1\",Général!C$208,IF($T$5=\"Course 2\",Général!C$210,IF($T$5=\"Course 3\",Général!C$212,Général!C$214)))","v":"Hannover"},null,{"$f":"Général!B11","v":"Karlsruhe"},4]
["3ème Equipage",null,{"$f":"IF($C$5=\"Course 1\",Général!D38,IF($C$5=\"Course 2\",Général!D40,IF($C$5=\"Course 3\",Général!D42,Général!D44)))","v":"St Brieuc 1"},{"$f":"IF($D$5=\"Course 1\",Général!D48,IF($D$5=\"Course 2\",Général!D50,IF($D$5=\"Course 3\",Général!D52,Général!D54)))","v":"Paris Sorbone"},{"$f":"IF($E$5=\"Course 1\",Général!D58,IF($E$5=\"Course 2\",Général!D60,IF($E$5=\"Course 3\",Général!D62,Général!D64)))","v":"St Brieuc 1"},{"$f":"IF($F$5=\"Course 1\",Général!D$68,IF($F$5=\"Course 2\",Général!D$70,IF($F$5=\"Course 3\",Général!D$72,Général!D$74)))","v":"Centrale Nantes 1"},{"$f":"IF($G$5=\"Course 1\",Général!D$78,IF($G$5=\"Course 2\",Général!D$80,IF($G$5=\"Course 3\",Général!D$82,Général!D$84)))","v":"Karlsruhe"},{"$f":"IF($H$5=\"Course 1\",Général!D$88,IF($H$5=\"Course 2\",Général!D$90,IF($H$5=\"Course 3\",Général!D$92,Général!D$94)))","v":"UBS Lorient 2"},{"$f":"IF($I$5=\"Course 1\",Général!D$98,IF($I$5=\"Course 2\",Général!D$100,IF($I$5=\"Course 3\",Général!D$102,Général!D$104)))","v":"UBS Lorient 2"},{"$f":"IF($J$5=\"Course 1\",Général!D$108,IF($J$5=\"Course 2\",Général!D$110,IF($J$5=\"Course 3\",Général!D$112,Général!D$114)))","v":"IMT Brest 1"},{"$f":"IF($K$5=\"Course 1\",Général!D$118,IF($K$5=\"Course 2\",Général!D$120,IF($K$5=\"Course 3\",Général!D$122,Général!D$124)))","v":"Southampton"},{"$f":"IF($L$5=\"Course 1\",Général!D$128,IF($L$5=\"Course 2\",Général!D$130,IF($L$5=\"Course 3\",Général!D$132,Général!D$134)))","v":"Orléans"},{"$f":"IF($M$5=\"Course 1\",Général!D$138,IF($M$5=\"Course 2\",Général!D$140,IF($M$5=\"Course 3\",Général!D$142,Général!D$144)))","v":"UBS Lorient 1"},{"$f":"IF($N$5=\"Course 1\",Général!D$148,IF($N$5=\"Course 2\",Général!D$150,IF($N$5=\"Course 3\",Général!D$152,Général!D$154)))","v":"Unicaen 1"},{"$f":"IF($O$5=\"Course 1\",Général!D$158,IF($O$5=\"Course 2\",Général!D$160,IF($O$5=\"Course 3\",Général!D$162,Général!D$164)))","v":"IMT Nantes"},{"$f":"IF($P$5=\"Course 1\",Général!D$168,IF($P$5=\"Course 2\",Général!D$170,IF($P$5=\"Course 3\",Général!D$172,Général!D$174)))","v":"ENSTA 1"},{"$f":"IF($Q$5=\"Course 1\",Général!D$178,IF($Q$5=\"Course 2\",Général!D$180,IF($Q$5=\"Course 3\",Général!D$182,Général!D$184)))","v":"La Rochelle 1"},{"$f":"IF($R$5=\"Course 1\",Général!D$188,IF($R$5=\"Course 2\",Général!D$190,IF($R$5=\"Course 3\",Général!D$192,Général!D$194)))","v":"Orléans"},{"$f":"IF($S$5=\"Course 1\",Général!D$198,IF($S$5=\"Course 2\",Général!D$200,IF($S$5=\"Course 3\",Général!D$202,Général!D$204)))","v":"Paris Cité"},{"$f":"IF($T$5=\"Course 1\",Général!D$208,IF($T$5=\"Course 2\",Général!D$210,IF($T$5=\"Course 3\",Général!D$212,Général!D$214)))","v":"La Rochelle 2"},null,{"$f":"Général!B12","v":"IMT Brest 2"},4]
["4ème Equipage",null,{"$f":"IF($C$5=\"Course 1\",Général!E38,IF($C$5=\"Course 2\",Général!E40,IF($C$5=\"Course 3\",Général!E42,Général!E44)))","v":"La Rochelle 2"},{"$f":"IF($D$5=\"Course 1\",Général!E48,IF($D$5=\"Course 2\",Général!E50,IF($D$5=\"Course 3\",Général!E52,Général!E54)))","v":"IMT Nantes"},{"$f":"IF($E$5=\"Course 1\",Général!E58,IF($E$5=\"Course 2\",Général!E60,IF($E$5=\"Course 3\",Général!E62,Général!E64)))","v":"Plymouth"},{"$f":"IF($F$5=\"Course 1\",Général!E$68,IF($F$5=\"Course 2\",Général!E$70,IF($F$5=\"Course 3\",Général!E$72,Général!E$74)))","v":"Plymouth"},{"$f":"IF($G$5=\"Course 1\",Général!E$78,IF($G$5=\"Course 2\",Général!E$80,IF($G$5=\"Course 3\",Général!E$82,Général!E$84)))","v":"UNIV Nantes 1"},{"$f":"IF($H$5=\"Course 1\",Général!E$88,IF($H$5=\"Course 2\",Général!E$90,IF($H$5=\"Course 3\",Général!E$92,Général!E$94)))","v":"UBS Lorient 1"},{"$f":"IF($I$5=\"Course 1\",Général!E$98,IF($I$5=\"Course 2\",Général!E$100,IF($I$5=\"Course 3\",Général!E$102,Général!E$104)))","v":"UNIV Nantes 1"},{"$f":"IF($J$5=\"Course 1\",Général!E$108,IF($J$5=\"Course 2\",Général!E$110,IF($J$5=\"Course 3\",Général!E$112,Général!E$114)))","v":"UBS Lorient 2"},{"$f":"IF($K$5=\"Course 1\",Général!E$118,IF($K$5=\"Course 2\",Général!E$120,IF($K$5=\"Course 3\",Général!E$122,Général!E$124)))","v":"IMT Brest 1"},{"$f":"IF($L$5=\"Course 1\",Général!E$128,IF($L$5=\"Course 2\",Général!E$130,IF($L$5=\"Course 3\",Général!E$132,Général!E$134)))","v":"IMT Brest 1"},{"$f":"IF($M$5=\"Course 1\",Général!E$138,IF($M$5=\"Course 2\",Général!E$140,IF($M$5=\"Course 3\",Général!E$142,Général!E$144)))","v":"Orléans"},{"$f":"IF($N$5=\"Course 1\",Général!E$148,IF($N$5=\"Course 2\",Général!E$150,IF($N$5=\"Course 3\",Général!E$152,Général!E$154)))","v":"Orléans"},{"$f":"IF($O$5=\"Course 1\",Général!E$158,IF($O$5=\"Course 2\",Général!E$160,IF($O$5=\"Course 3\",Général!E$162,Général!E$164)))","v":"ST Brieuc 2"},{"$f":"IF($P$5=\"Course 1\",Général!E$168,IF($P$5=\"Course 2\",Général!E$170,IF($P$5=\"Course 3\",Général!E$172,Général!E$174)))","v":"Univ Nantes 2"},{"$f":"IF($Q$5=\"Course 1\",Général!E$178,IF($Q$5=\"Course 2\",Général!E$180,IF($Q$5=\"Course 3\",Général!E$182,Général!E$184)))","v":"Centrale Nantes 1"},{"$f":"IF($R$5=\"Course 1\",Général!E$188,IF($R$5=\"Course 2\",Général!E$190,IF($R$5=\"Course 3\",Général!E$192,Général!E$194)))","v":"Paris Cité"},{"$f":"IF($S$5=\"Course 1\",Général!E$198,IF($S$5=\"Course 2\",Général!E$200,IF($S$5=\"Course 3\",Général!E$202,Général!E$204)))","v":"ENSMAC"},{"$f":"IF($T$5=\"Course 1\",Général!E$208,IF($T$5=\"Course 2\",Général!E$210,IF($T$5=\"Course 3\",Général!E$212,Général!E$214)))","v":"Plymouth"},null,{"$f":"Général!B13","v":"Unicaen 1"},8]
["5ème Equipage",null,{"$f":"IF($C$5=\"Course 1\",Général!F38,IF($C$5=\"Course 2\",Général!F40,IF($C$5=\"Course 3\",Général!F42,Général!F44)))","v":"UBO 2"},{"$f":"IF($D$5=\"Course 1\",Général!F48,IF($D$5=\"Course 2\",Général!F50,IF($D$5=\"Course 3\",Général!F52,Général!F54)))","v":"Hannover"},{"$f":"IF($E$5=\"Course 1\",Général!F58,IF($E$5=\"Course 2\",Général!F60,IF($E$5=\"Course 3\",Général!F62,Général!F64)))","v":"UBS Lorient 1"},{"$f":"IF($F$5=\"Course 1\",Général!F$68,IF($F$5=\"Course 2\",Général!F$70,IF($F$5=\"Course 3\",Général!F$72,Général!F$74)))","v":"UBS Lorient 1"},{"$f":"IF($G$5=\"Course 1\",Général!F$78,IF($G$5=\"Course 2\",Général!F$80,IF($G$5=\"Course 3\",Général!F$82,Général!F$84)))","v":"ST Brieuc 2"},{"$f":"IF($H$5=\"Course 1\",Général!F$88,IF($H$5=\"Course 2\",Général!F$90,IF($H$5=\"Course 3\",Général!F$92,Général!F$94)))","v":"IMT Brest 1"},{"$f":"IF($I$5=\"Course 1\",Général!F$98,IF($I$5=\"Course 2\",Général!F$100,IF($I$5=\"Course 3\",Général!F$102,Général!F$104)))","v":"IMT Brest 1"},{"$f":"IF($J$5=\"Course 1\",Général!F$108,IF($J$5=\"Course 2\",Général!F$110,IF($J$5=\"Course 3\",Général!F$112,Général!F$114)))","v":"Intechmer"},{"$f":"IF($K$5=\"Course 1\",Général!F$118,IF($K$5=\"Course 2\",Général!F$120,IF($K$5=\"Course 3\",Général!F$122,Général!F$124)))","v":"IMT Brest 2"},{"$f":"IF($L$5=\"Course 1\",Général!F$128,IF($L$5=\"Course 2\",Général!$F130,IF($L$5=\"Course 3\",Général!F$132,Général!F$134)))","v":"Univ Nantes 2"},{"$f":"IF($M$5=\"Course 1\",Général!F$138,IF($M$5=\"Course 2\",Général!F$140,IF($M$5=\"Course 3\",Général!F$142,Général!F$144)))","v":"Paris Cité"},{"$f":"IF($N$5=\"Course 1\",Général!F$148,IF($N$5=\"Course 2\",Général!F$150,IF($N$5=\"Course 3\",Général!F$152,Général!F$154)))","v":"Paris Cité"},{"$f":"IF($O$5=\"Course 1\",Général!F$158,IF($O$5=\"Course 2\",Général!F$160,IF($O$5=\"Course 3\",Général!F$162,Général!F$164)))","v":"Unicaen 1"},{"$f":"IF($P$5=\"Course 1\",Général!F$168,IF($P$5=\"Course 2\",Général!F$170,IF($P$5=\"Course 3\",Général!F$172,Général!F$174)))","v":"Unicaen 1"},{"$f":"IF($Q$5=\"Course 1\",Général!F$178,IF($Q$5=\"Course 2\",Général!F$180,IF($Q$5=\"Course 3\",Général!F$182,Général!F$184)))","v":"Hannover"},{"$f":"IF($R$5=\"Course 1\",Général!F$188,IF($R$5=\"Course 2\",Général!F$190,IF($R$5=\"Course 3\",Général!F$192,Général!F$194)))","v":"ENSMAC"},{"$f":"IF($S$5=\"Course 1\",Général!F$198,IF($S$5=\"Course 2\",Général!F$200,IF($S$5=\"Course 3\",Général!F$202,Général!F$204)))","v":"Unicaen 2"},{"$f":"IF($T$5=\"Course 1\",Général!F$208,IF($T$5=\"Course 2\",Général!F$210,IF($T$5=\"Course 3\",Général!F$212,Général!F$214)))","v":"La Rochelle 1"},null,{"$f":"Général!B14","v":"ENSTA 1"},8]
["6ème Equipage",null,{"$f":"IF($C$5=\"Course 1\",Général!G38,IF($C$5=\"Course 2\",Général!G40,IF($C$5=\"Course 3\",Général!G42,Général!G44)))","v":"ENSTA 1"},{"$f":"IF($D$5=\"Course 1\",Général!G48,IF($D$5=\"Course 2\",Général!G50,IF($D$5=\"Course 3\",Général!G52,Général!G54)))","v":"Plymouth"},{"$f":"IF($E$5=\"Course 1\",Général!G58,IF($E$5=\"Course 2\",Général!G60,IF($E$5=\"Course 3\",Général!G62,Général!G64)))","v":"IMT Brest 1"},{"$f":"IF($F$5=\"Course 1\",Général!G$68,IF($F$5=\"Course 2\",Général!G$70,IF($F$5=\"Course 3\",Général!G$72,Général!G$74)))","v":"IMT Brest 1"},{"$f":"IF($G$5=\"Course 1\",Général!G$78,IF($G$5=\"Course 2\",Général!G$80,IF($G$5=\"Course 3\",Général!G$82,Général!G$84)))","v":"UBO 1"},{"$f":"IF($H$5=\"Course 1\",Général!G$88,IF($H$5=\"Course 2\",Général!G$90,IF($H$5=\"Course 3\",Général!G$92,Général!G$94)))","v":"IMT Brest 2"},{"$f":"IF($I$5=\"Course 1\",Général!G$98,IF($I$5=\"Course 2\",Général!G$100,IF($I$5=\"Course 3\",Général!G$102,Général!G$104)))","v":"Univ Nantes 2"},{"$f":"IF($J$5=\"Course 1\",Général!G$108,IF($J$5=\"Course 2\",Général!G$110,IF($J$5=\"Course 3\",Général!G$112,Général!G$114)))","v":"ENSTA 1"},{"$f":"IF($K$5=\"Course 1\",Général!G$118,IF($K$5=\"Course 2\",Général!G$120,IF($K$5=\"Course 3\",Général!G$122,Général!G$124)))","v":"Unicaen 1"},{"$f":"IF($L$5=\"Course 1\",Général!G$128,IF($L$5=\"Course 2\",Général!G$130,IF($L$5=\"Course 3\",Général!G$132,Général!G$134)))","v":"Unicaen 1"},{"$f":"IF($M$5=\"Course 1\",Général!G$138,IF($M$5=\"Course 2\",Général!G$140,IF($M$5=\"Course 3\",Général!G$142,Général!G$144)))","v":"Unicaen 1"},{"$f":"IF($N$5=\"Course 1\",Général!G$148,IF($N$5=\"Course 2\",Général!G$150,IF($N$5=\"Course 3\",Général!G$152,Général!G$154)))","v":"Southampton"},{"$f":"IF($O$5=\"Course 1\",Général!G$158,IF($O$5=\"Course 2\",Général!G$160,IF($O$5=\"Course 3\",Général!G$162,Général!G$164)))","v":"Hannover"},{"$f":"IF($P$5=\"Course 1\",Général!G$168,IF($P$5=\"Course 2\",Général!G$170,IF($P$5=\"Course 3\",Général!G$172,Général!G$174)))","v":"Paris Cité"},{"$f":"IF($Q$5=\"Course 1\",Général!G$178,IF($Q$5=\"Course 2\",Général!G$180,IF($Q$5=\"Course 3\",Général!G$182,Général!G$184)))","v":"Centrale Nantes 2"},{"$f":"IF($R$5=\"Course 1\",Général!G$188,IF($R$5=\"Course 2\",Général!G$190,IF($R$5=\"Course 3\",Général!G$192,Général!G$194)))","v":"IMT Brest 1"},{"$f":"IF($S$5=\"Course 1\",Général!G$198,IF($S$5=\"Course 2\",Général!G$200,IF($S$5=\"Course 3\",Général!G$202,Général!G$204)))","v":"UBS Lorient 1"},{"$f":"IF($T$5=\"Course 1\",Général!G$208,IF($T$5=\"Course 2\",Général!G$210,IF($T$5=\"Course 3\",Général!G$212,Général!G$214)))","v":"Southampton"},null,{"$f":"Général!B15","v":"Orléans"},7]
["7ème Equipage",null,{"$f":"IF($C$5=\"Course 1\",Général!H38,IF($C$5=\"Course 2\",Général!H40,IF($C$5=\"Course 3\",Général!H42,Général!H44)))","v":"IMT Brest 1"},{"$f":"IF($D$5=\"Course 1\",Général!H48,IF($D$5=\"Course 2\",Général!H50,IF($D$5=\"Course 3\",Général!H52,Général!H54)))","v":"Univ Nantes 2"},{"$f":"IF($E$5=\"Course 1\",Général!H58,IF($E$5=\"Course 2\",Général!H60,IF($E$5=\"Course 3\",Général!H62,Général!H64)))","v":"Centrale Nantes 2"},{"$f":"IF($F$5=\"Course 1\",Général!H$68,IF($F$5=\"Course 2\",Général!H$70,IF($F$5=\"Course 3\",Général!H$72,Général!H$74)))","v":"IMT Brest 2"},{"$f":"IF($G$5=\"Course 1\",Général!H$78,IF($G$5=\"Course 2\",Général!H$80,IF($G$5=\"Course 3\",Général!H$82,Général!H$84)))","v":"IMT Brest 1"},{"$f":"IF($H$5=\"Course 1\",Général!H$88,IF($H$5=\"Course 2\",Général!H$90,IF($H$5=\"Course 3\",Général!H$92,Général!H$94)))","v":"ST Brieuc 2"},{"$f":"IF($I$5=\"Course 1\",Général!H$98,IF($I$5=\"Course 2\",Général!H$100,IF($I$5=\"Course 3\",Général!H$102,Général!H$104)))","v":"ST Brieuc 2"},{"$f":"IF($J$5=\"Course 1\",Général!H$108,IF($J$5=\"Course 2\",Général!H$110,IF($J$5=\"Course 3\",Général!H$112,Général!H$114)))","v":"Hannover"},{"$f":"IF($K$5=\"Course 1\",Général!H$118,IF($K$5=\"Course 2\",Général!H$120,IF($K$5=\"Course 3\",Général!H$122,Général!H$124)))","v":"Intechmer"},{"$f":"IF($L$5=\"Course 1\",Général!H$128,IF($L$5=\"Course 2\",Général!H$130,IF($L$5=\"Course 3\",Général!H$132,Général!H$134)))","v":"UBO 1"},{"$f":"IF($M$5=\"Course 1\",Général!H$138,IF($M$5=\"Course 2\",Général!H$140,IF($M$5=\"Course 3\",Général!H$142,Général!H$144)))","v":"Centrale Nantes 1"},{"$f":"IF($N$5=\"Course 1\",Général!H$148,IF($N$5=\"Course 2\",Général!H$150,IF($N$5=\"Course 3\",Général!H$152,Général!H$154)))","v":"IMT Brest 1"},{"$f":"IF($O$5=\"Course 1\",Général!H$158,IF($O$5=\"Course 2\",Général!H$160,IF($O$5=\"Course 3\",Général!H$162,Général!H$164)))","v":"La Rochelle 2"},{"$f":"IF($P$5=\"Course 1\",Général!H$168,IF($P$5=\"Course 2\",Général!H$170,IF($P$5=\"Course 3\",Général!H$172,Général!H$174)))","v":"Orléans"},{"$f":"IF($Q$5=\"Course 1\",Général!H$178,IF($Q$5=\"Course 2\",Général!H$180,IF($Q$5=\"Course 3\",Général!H$182,Général!H$184)))","v":"IMT Brest 1"},{"$f":"IF($R$5=\"Course 1\",Général!H$188,IF($R$5=\"Course 2\",Général!H$190,IF($R$5=\"Course 3\",Général!H$192,Général!H$194)))","v":"Centrale Nantes 1"},{"$f":"IF($S$5=\"Course 1\",Général!H$198,IF($S$5=\"Course 2\",Général!H$200,IF($S$5=\"Course 3\",Général!H$202,Général!H$204)))","v":"UBO 1"},{"$f":"IF($T$5=\"Course 1\",Général!H$208,IF($T$5=\"Course 2\",Général!H$210,IF($T$5=\"Course 3\",Général!H$212,Général!H$214)))","v":"Unicaen 1"},null,{"$f":"Général!B16","v":"IMT Brest 1"},16]
["8ème Equipage",null,{"$f":"IF($C$5=\"Course 1\",Général!I38,IF($C$5=\"Course 2\",Général!I40,IF($C$5=\"Course 3\",Général!I42,Général!I44)))","v":"Univ Nantes 3"},{"$f":"IF($D$5=\"Course 1\",Général!I48,IF($D$5=\"Course 2\",Général!I50,IF($D$5=\"Course 3\",Général!I52,Général!I54)))","v":"Orléans"},{"$f":"IF($E$5=\"Course 1\",Général!I58,IF($E$5=\"Course 2\",Général!I60,IF($E$5=\"Course 3\",Général!I62,Général!I64)))","v":"Unicaen 2"},{"$f":"IF($F$5=\"Course 1\",Général!I$68,IF($F$5=\"Course 2\",Général!I$70,IF($F$5=\"Course 3\",Général!I$72,Général!I$74)))","v":"UBO 1"},{"$f":"IF($G$5=\"Course 1\",Général!I$78,IF($G$5=\"Course 2\",Général!I$80,IF($G$5=\"Course 3\",Général!I$82,Général!I$84)))","v":"Southampton"},{"$f":"IF($H$5=\"Course 1\",Général!I$88,IF($H$5=\"Course 2\",Général!I$90,IF($H$5=\"Course 3\",Général!I$92,Général!I$94)))","v":"UBO 2"},{"$f":"IF($I$5=\"Course 1\",Général!I$98,IF($I$5=\"Course 2\",Général!I$100,IF($I$5=\"Course 3\",Général!I$102,Général!I$104)))","v":"UBO 2"},{"$f":"IF($J$5=\"Course 1\",Général!I$108,IF($J$5=\"Course 2\",Général!I$110,IF($J$5=\"Course 3\",Général!I$112,Général!I$114)))","v":"Southampton"},{"$f":"IF($K$5=\"Course 1\",Général!I$118,IF($K$5=\"Course 2\",Général!I$120,IF($K$5=\"Course 3\",Général!I$122,Général!I$124)))","v":"Karlsruhe"},{"$f":"IF($L$5=\"Course 1\",Général!I$128,IF($L$5=\"Course 2\",Général!I$130,IF($L$5=\"Course 3\",Général!I$132,Général!I$134)))","v":"Unicaen 2"},{"$f":"IF($M$5=\"Course 1\",Général!I$138,IF($M$5=\"Course 2\",Général!I$140,IF($M$5=\"Course 3\",Général!I$142,Général!I$144)))","v":"Hannover"},{"$f":"IF($N$5=\"Course 1\",Général!I$148,IF($N$5=\"Course 2\",Général!I$150,IF($N$5=\"Course 3\",Général!I$152,Général!I$154)))","v":"Unicaen 2"},{"$f":"IF($O$5=\"Course 1\",Général!I$158,IF($O$5=\"Course 2\",Général!I$160,IF($O$5=\"Course 3\",Général!I$162,Général!I$164)))","v":"Orléans"},{"$f":"IF($P$5=\"Course 1\",Général!I$168,IF($P$5=\"Course 2\",Général!I$170,IF($P$5=\"Course 3\",Général!I$172,Général!I$174)))","v":"La Rochelle 1"},{"$f":"IF($Q$5=\"Course 1\",Général!I$178,IF($Q$5=\"Course 2\",Général!I$180,IF($Q$5=\"Course 3\",Général!I$182,Général!I$184)))","v":"Univ Nantes 3"},{"$f":"IF($R$5=\"Course 1\",Général!I$188,IF($R$5=\"Course 2\",Général!I$190,IF($R$5=\"Course 3\",Général!I$192,Général!I$194)))","v":"UBS Lorient 2"},{"$f":"IF($S$5=\"Course 1\",Général!I$198,IF($S$5=\"Course 2\",Général!I$200,IF($S$5=\"Course 3\",Général!I$202,Général!I$204)))","v":"IMT Brest 1"},{"$f":"IF($T$5=\"Course 1\",Général!I$208,IF($T$5=\"Course 2\",Général!I$210,IF($T$5=\"Course 3\",Général!I$212,Général!I$214)))","v":"Centrale Nantes 1"},null,{"$f":"Général!B17","v":"ENSMAC"},3]
["9ème Equipage",null,{"$f":"IF($C$5=\"Course 1\",Général!J38,IF($C$5=\"Course 2\",Général!J40,IF($C$5=\"Course 3\",Général!J42,Général!J44)))","v":"Karlsruhe"},{"$f":"IF($D$5=\"Course 1\",Général!J48,IF($D$5=\"Course 2\",Général!J50,IF($D$5=\"Course 3\",Général!J52,Général!J54)))","v":"Intechmer"},{"$f":"IF($E$5=\"Course 1\",Général!J58,IF($E$5=\"Course 2\",Général!J60,IF($E$5=\"Course 3\",Général!J62,Général!J64)))","v":"ENSTA 1"},{"$f":"IF($F$5=\"Course 1\",Général!J$68,IF($F$5=\"Course 2\",Général!J$70,IF($F$5=\"Course 3\",Général!J$72,Général!J$74)))","v":"ENSTA 1"},{"$f":"IF($G$5=\"Course 1\",Général!J$78,IF($G$5=\"Course 2\",Général!J$80,IF($G$5=\"Course 3\",Général!J$82,Général!J$84)))","v":"ENSTA 1"},{"$f":"IF($H$5=\"Course 1\",Général!J$88,IF($H$5=\"Course 2\",Général!J$90,IF($H$5=\"Course 3\",Général!$J92,Général!J$94)))","v":"INSA Lyon"},{"$f":"IF($I$5=\"Course 1\",Général!J$98,IF($I$5=\"Course 2\",Général!J$100,IF($I$5=\"Course 3\",Général!J$102,Général!J$104)))","v":"Paris Cité"},{"$f":"IF($J$5=\"Course 1\",Général!J$108,IF($J$5=\"Course 2\",Général!J$110,IF($J$5=\"Course 3\",Général!J$112,Général!J$114)))","v":"La Rochelle 1"},{"$f":"IF($K$5=\"Course 1\",Général!J$118,IF($K$5=\"Course 2\",Général!J$120,IF($K$5=\"Course 3\",Général!J$122,Général!J$124)))","v":"Centrale Nantes 2"},{"$f":"IF($L$5=\"Course 1\",Général!J$128,IF($L$5=\"Course 2\",Général!J$130,IF($L$5=\"Course 3\",Général!J$132,Général!J$134)))","v":"Centrale Nantes 2"},{"$f":"IF($M$5=\"Course 1\",Général!J$138,IF($M$5=\"Course 2\",Général!J$140,IF($M$5=\"Course 3\",Général!J$142,Général!J$144)))","v":"St Brieuc 1"},{"$f":"IF($N$5=\"Course 1\",Général!J$148,IF($N$5=\"Course 2\",Général!J$150,IF($N$5=\"Course 3\",Général!J$152,Général!J$154)))","v":"IMT Nantes"},{"$f":"IF($O$5=\"Course 1\",Général!J$158,IF($O$5=\"Course 2\",Général!J$160,IF($O$5=\"Course 3\",Général!J$162,Général!J$164)))","v":"UBS Lorient 1"},{"$f":"IF($P$5=\"Course 1\",Général!J$168,IF($P$5=\"Course 2\",Général!J$170,IF($P$5=\"Course 3\",Général!J$172,Général!J$174)))","v":"IMT Brest 1"},{"$f":"IF($Q$5=\"Course 1\",Général!J$178,IF($Q$5=\"Course 2\",Général!J$180,IF($Q$5=\"Course 3\",Général!J$182,Général!J$184)))","v":"Intechmer"},{"$f":"IF($R$5=\"Course 1\",Général!J$188,IF($R$5=\"Course 2\",Général!J$190,IF($R$5=\"Course 3\",Général!J$192,Général!J$194)))","v":"UBS Lorient 1"},{"$f":"IF($S$5=\"Course 1\",Général!J$198,IF($S$5=\"Course 2\",Général!J$200,IF($S$5=\"Course 3\",Général!J$202,Général!J$204)))","v":"Hannover"},{"$f":"IF($T$5=\"Course 1\",Général!J$208,IF($T$5=\"Course 2\",Général!J$210,IF($T$5=\"Course 3\",Général!J$212,Général!J$214)))","v":"Intechmer"},null,{"$f":"Général!B18","v":"St Brieuc 1"},5]
["10ème Equipage",null,{"$f":"IF($C$5=\"Course 1\",Général!K38,IF($C$5=\"Course 2\",Général!K40,IF($C$5=\"Course 3\",Général!K42,Général!K44)))","v":"Intechmer"},{"$f":"IF($D$5=\"Course 1\",Général!K48,IF($D$5=\"Course 2\",Général!K50,IF($D$5=\"Course 3\",Général!K52,Général!K54)))","v":"IMT Brest 1"},{"$f":"IF($E$5=\"Course 1\",Général!K58,IF($E$5=\"Course 2\",Général!K60,IF($E$5=\"Course 3\",Général!K62,Général!K64)))","v":"Karlsruhe"},{"$f":"IF($F$5=\"Course 1\",Général!K$68,IF($F$5=\"Course 2\",Général!K$70,IF($F$5=\"Course 3\",Général!K$72,Général!K$74)))","v":"Orléans"},{"$f":"IF($G$5=\"Course 1\",Général!K$78,IF($G$5=\"Course 2\",Général!K$80,IF($G$5=\"Course 3\",Général!K$82,Général!K$84)))","v":"UBO 2"},{"$f":"IF($H$5=\"Course 1\",Général!K$88,IF($H$5=\"Course 2\",Général!K$90,IF($H$5=\"Course 3\",Général!$K92,Général!K$94)))","v":"St Brieuc 1"},{"$f":"IF($I$5=\"Course 1\",Général!K$98,IF($I$5=\"Course 2\",Général!K$100,IF($I$5=\"Course 3\",Général!K$102,Général!K$104)))","v":"St Brieuc 1"},{"$f":"IF($J$5=\"Course 1\",Général!K$108,IF($J$5=\"Course 2\",Général!K$110,IF($J$5=\"Course 3\",Général!K$112,Général!K$114)))","v":"IMT Brest 2"},{"$f":"IF($K$5=\"Course 1\",Général!K$118,IF($K$5=\"Course 2\",Général!K$120,IF($K$5=\"Course 3\",Général!K$122,Général!K$124)))","v":"ST Brieuc 2"},{"$f":"IF($L$5=\"Course 1\",Général!K$128,IF($L$5=\"Course 2\",Général!K$130,IF($L$5=\"Course 3\",Général!K$132,Général!K$134)))","v":"La Rochelle 1"},{"$f":"IF($M$5=\"Course 1\",Général!K$138,IF($M$5=\"Course 2\",Général!K$140,IF($M$5=\"Course 3\",Général!K$142,Général!K$144)))","v":"IMT Brest 1"},{"$f":"IF($N$5=\"Course 1\",Général!K$148,IF($N$5=\"Course 2\",Général!K$150,IF($N$5=\"Course 3\",Général!K$152,Général!K$154)))","v":"Paris Sorbone"},{"$f":"IF($O$5=\"Course 1\",Général!K$158,IF($O$5=\"Course 2\",Général!K$160,IF($O$5=\"Course 3\",Général!K$162,Général!K$164)))","v":"Paris Sorbone"},{"$f":"IF($P$5=\"Course 1\",Général!K$168,IF($P$5=\"Course 2\",Général!K$170,IF($P$5=\"Course 3\",Général!K$172,Général!K$174)))","v":"IMT Nantes"},{"$f":"IF($Q$5=\"Course 1\",Général!K$178,IF($Q$5=\"Course 2\",Général!K$180,IF($Q$5=\"Course 3\",Général!K$182,Général!K$184)))","v":"ST Brieuc 2"},{"$f":"IF($R$5=\"Course 1\",Général!K$188,IF($R$5=\"Course 2\",Général!K$190,IF($R$5=\"Course 3\",Général!K$192,Général!K$194)))","v":"UBO 1"},{"$f":"IF($S$5=\"Course 1\",Général!K$198,IF($S$5=\"Course 2\",Général!K$200,IF($S$5=\"Course 3\",Général!K$202,Général!K$204)))","v":"Univ Nantes 3"},{"$f":"IF($T$5=\"Course 1\",Général!K$208,IF($T$5=\"Course 2\",Général!K$210,IF($T$5=\"Course 3\",Général!K$212,Général!K$214)))","v":"ENSTA 2"},null,{"$f":"Général!B19","v":"Hannover"},8]
[null,null,null,null,null,null,null,null,null,null,null,null,null,null,null,null,null,null,null,null,null,{"$f":"Général!B20","v":"ENSTA 2"},2]
[null,null,null,null,null,null,null,null,null,null,null,null,null,null,null,null,null,null,null,null,null,{"$f":"Général!B21","v":"Southampton"},6]
[null,null,null,null,null,null,null,null,null,null,null,null,null,null,null,null,null,null,null,null,null,{"$f":"Général!B22","v":"La Rochelle 1"},7]
[null,null,null,null,null,null,null,null,null,null,null,null,null,null,null,null,null,null,null,null,null,{"$f":"Général!B23","v":"Centrale Nantes 1"},6]
[null,null,null,null,null,null,null,null,null,null,null,null,null,null,null,null,null,null,null,null,null,{"$f":"Général!B24","v":"ST Brieuc 2"},7]
[null,null,null,null,null,null,null,null,null,null,null,null,null,null,null,null,null,null,null,null,null,{"$f":"Général!B25","v":"UNIV Nantes 1"},4]
[null,null,null,null,null,null,null,null,null,null,null,null,null,null,null,null,null,null,null,null,null,{"$f":"Général!B26","v":"Intechmer"},6]
[null,null,null,null,null,null,null,null,null,null,null,null,null,null,null,null,null,null,null,null,null,{"$f":"Général!B27","v":"IMT Nantes"},4]
[null,null,null,null,null,null,null,null,null,null,null,null,null,null,null,null,null,null,null,null,null,{"$f":"Général!B28","v":"INSA Lyon"},2]
[null,null,null,null,null,null,null,null,null,null,null,null,null,null,null,null,null,null,null,null,null,{"$f":"Général!B29","v":"Centrale Nantes 2"},5]
[null,null,null,null,null,null,null,null,null,null,null,null,null,null,null,null,null,null,null,null,null,{"$f":"Général!B30","v":"UBS Lorient 2"},4]
[null,null,null,null,null,null,null,null,null,null,null,null,null,null,null,null,null,null,null,null,null,{"$f":"Général!B31","v":"La Rochelle 2"},3]
[null,null,null,null,null,null,null,null,null,null,null,null,null,null,null,null,null,null,null,null,null,{"$f":"Général!B32","v":"UBO 1"},4]
[null,null,null,null,null,null,null,null,null,null,null,null,null,null,null,null,null,null,null,null,null,{"$f":"Général!B33","v":"Eq.31"},0]
[null,null,null,null,null,null,null,null,null,null,null,null,null,null,null,null,null,null,null,null,null,{"$f":"Général!B34","v":"Eq.32"},0]

{"sheet":"Eq.15","index":20,"n_rows":32,"n_cols":23,"rows_kept":32,"cut":false,"hidden":false,"merged":[[7,0,7,1],[0,0,1,5],[0,6,1,10],[3,0,3,1],[4,0,4,1],[5,0,5,1],[14,0,14,1],[15,0,15,1],[16,0,16,1],[8,0,8,1],[9,0,9,1],[10,0,10,1],[11,0,11,1],[12,0,12,1],[13,0,13,1]]}
["Equipage ",null,null,null,null,null,{"$f":"Général!B17","v":"ENSMAC"},null,null,null,null,null,null,null,null,null,null,null,null,null,null,{"$f":"Général!B3","v":"UBO 2"},{"$f":"COUNTIF(C$8:T$16,V1)","v":2}]
[null,null,null,null,null,null,null,null,null,null,null,null,null,null,null,null,null,null,null,null,null,{"$f":"Général!B4","v":"Paris Sorbone"},{"$f":"COUNTIF($C$8:$T$16,V2)","v":3}]
[null,null,null,null,null,null,null,null,null,null,null,null,null,null,null,null,null,null,null,null,null,{"$f":"Général!B5","v":"UBS Lorient 1"},{"$f":"COUNTIF($C$8:$T$16,V3)","v":6}]
[null,null,"FLIGHT 1","FLIGHT 2","FLIGHT 3","FLIGHT 4","FLIGHT 5","FLIGHT 6","FLIGHT 7","FLIGHT 8","FLIGHT 9","FLIGHT 10","FLIGHT 11","FLIGHT 12","FLIGHT 13","FLIGHT 14","FLIGHT 15","FLIGHT 16","FLIGHT 17","FLIGHT 18",null,{"$f":"Général!B6","v":"Univ Nantes 3"},5]
["N° de course",null,{"$f":"IF(COUNTIF(Général!B38:K38,$G$1)=1,\"Course 1\",IF(COUNTIF(Général!B40:K40,$G$1)=1,\"Course 2\",IF(COUNTIF(Général!B42:K42,$G$1)=1,\"Course 3\",\"Course 4\")))","v":"Course 2"},{"$f":"IF(COUNTIF(Général!B48:K48,$G$1)=1,\"Course 1\",IF(COUNTIF(Général!B50:K50,$G$1)=1,\"Course 2\",IF(COUNTIF(Général!B52:K52,$G$1)=1,\"Course 3\",\"Course 4\")))","v":"Course 2"},{"$f":"IF(COUNTIF(Général!B58:K58,$G$1)=1,\"Course 1\",IF(COUNTIF(Général!B60:K60,$G$1)=1,\"Course 2\",IF(COUNTIF(Général!B62:K62,$G$1)=1,\"Course 3\",\"Course 4\")))","v":"Course 2"},{"$f":"IF(COUNTIF(Général!B68:K68,$G$1)=1,\"Course 1\",IF(COUNTIF(Général!B70:K70,$G$1)=1,\"Course 2\",IF(COUNTIF(Général!B72:K72,$G$1)=1,\"Course 3\",\"Course 4\")))","v":"Course 3"},{"$f":"IF(COUNTIF(Général!B78:K78,$G$1)=1,\"Course 1\",IF(COUNTIF(Général!B80:K80,$G$1)=1,\"Course 2\",IF(COUNTIF(Général!B82:K82,$G$1)=1,\"Course 3\",\"Course 4\")))","v":"Course 1"},{"$f":"IF(COUNTIF(Général!B88:K88,$G$1)=1,\"Course 1\",IF(COUNTIF(Général!B90:K90,$G$1)=1,\"Course 2\",IF(COUNTIF(Général!B92:K92,$G$1)=1,\"Course 3\",\"Course 4\")))","v":"Course 2"},{"$f":"IF(COUNTIF(Général!B98:K98,$G$1)=1,\"Course 1\",IF(COUNTIF(Général!B100:K100,$G$1)=1,\"Course 2\",IF(COUNTIF(Général!B102:K102,$G$1)=1,\"Course 3\",\"Course 4\")))","v":"Course 3"},{"$f":"IF(COUNTIF(Général!B108:K108,$G$1)=1,\"Course 1\",IF(COUNTIF(Général!B110:K110,$G$1)=1,\"Course 2\",IF(COUNTIF(Général!B112:K112,$G$1)=1,\"Course 3\",\"Course 4\")))","v":"Course 2"},{"$f":"IF(COUNTIF(Général!B118:K118,$G$1)=1,\"Course 1\",IF(COUNTIF(Général!B120:K120,$G$1)=1,\"Course 2\",IF(COUNTIF(Général!B122:K122,$G$1)=1,\"Course 3\",\"Course 4\")))","v":"Course 1"},{"$f":"IF(COUNTIF(Général!B128:K128,$G$1)=1,\"Course 1\",IF(COUNTIF(Général!B130:K130,$G$1)=1,\"Course 2\",IF(COUNTIF(Général!B132:K132,$G$1)=1,\"Course 3\",\"Course 4\")))","v":"Course 2"},{"$f":"IF(COUNTIF(Général!B138:K138,$G$1)=1,\"Course 1\",IF(COUNTIF(Général!B140:K140,$G$1)=1,\"Course 2\",IF(COUNTIF(Général!B142:K142,$G$1)=1,\"Course 3\",\"Course 4\")))","v":"Course 3"},{"$f":"IF(COUNTIF(Général!B148:K148,$G$1)=1,\"Course 1\",IF(COUNTIF(Général!B150:K150,$G$1)=1,\"Course 2\",IF(COUNTIF(Général!B152:K152,$G$1)=1,\"Course 3\",\"Course 4\")))","v":"Course 2"},{"$f":"IF(COUNTIF(Général!B158:K158,$G$1)=1,\"Course 1\",IF(COUNTIF(Général!B160:K160,$G$1)=1,\"Course 2\",IF(COUNTIF(Général!B162:K162,$G$1)=1,\"Course 3\",\"Course 4\")))","v":"Course 2"},{"$f":"IF(COUNTIF(Général!B168:K168,$G$1)=1,\"Course 1\",IF(COUNTIF(Général!B170:K170,$G$1)=1,\"Course 2\",IF(COUNTIF(Général!B172:K172,$G$1)=1,\"Course 3\",\"Course 4\")))","v":"Course 2"},{"$f":"IF(COUNTIF(Général!B178:K178,$G$1)=1,\"Course 1\",IF(COUNTIF(Général!B180:K180,$G$1)=1,\"Course 2\",IF(COUNTIF(Général!B182:K182,$G$1)=1,\"Course 3\",\"Course 4\")))","v":"Course 2"},{"$f":"IF(COUNTIF(Général!B188:K188,$G$1)=1,\"Course 1\",IF(COUNTIF(Général!B190:K190,$G$1)=1,\"Course 2\",IF(COUNTIF(Général!B192:K192,$G$1)=1,\"Course 3\",\"Course 4\")))","v":"Course 2"},{"$f":"IF(COUNTIF(Général!B198:K198,$G$1)=1,\"Course 1\",IF(COUNTIF(Général!B200:K200,$G$1)=1,\"Course 2\",IF(COUNTIF(Général!B202:K202,$G$1)=1,\"Course 3\",\"Course 4\")))","v":"Course 2"},{"$f":"IF(COUNTIF(Général!B208:K208,$G$1)=1,\"Course 1\",IF(COUNTIF(Général!B210:K210,$G$1)=1,\"Course 2\",IF(COUNTIF(Général!B212:K212,$G$1)=1,\"Course 3\",\"Course 4\")))","v":"Course 2"},null,{"$f":"Général!B7","v":"Paris Cité"},6]
["Bateau",null,{"$f":"IF(COUNTIF(Général!B38:B44,$G$1)=1,\"Boat 1\",IF(COUNTIF(Général!C38:C44,$G$1)=1,\"Boat 2\",IF(COUNTIF(Général!D38:D44,$G$1)=1,\"Boat 3\", IF(COUNTIF(Général!E38:E44,$G$1)=1,\"Boat 4\", IF(COUNTIF(Général!F38:F44,$G$1)=1,\"Boat 5\", IF(COUNTIF(Général!G38:G44,$G$1)=1,\"Boat 6\", IF(COUNTIF(Général!H38:H44,$G$1)=1,\"Boat 7\",IF(COUNTIF(Général!I38:I44,$G$1)=1,\"Boat 8\",\"Boat 9\"))))))))","v":"Boat 9"},{"$f":"IF(COUNTIF(Général!B48:B54,$G$1)=1,\"Boat 1\",IF(COUNTIF(Général!C48:C54,$G$1)=1,\"Boat 2\",IF(COUNTIF(Général!D48:D54,$G$1)=1,\"Boat 3\", IF(COUNTIF(Général!E48:E54,$G$1)=1,\"Boat 4\", IF(COUNTIF(Général!F48:F54,$G$1)=1,\"Boat 5\", IF(COUNTIF(Général!G48:G54,$G$1)=1,\"Boat 6\", IF(COUNTIF(Général!H48:H54,$G$1)=1,\"Boat 7\",IF(COUNTIF(Général!I38:I44,$G$1)=1,\"Boat 8\",\"Boat 9\"))))))))","v":"Boat 9"},{"$f":"IF(COUNTIF(Général!B58:B64,$G$1)=1,\"Boat 1\",IF(COUNTIF(Général!C58:C64,$G$1)=1,\"Boat 2\",IF(COUNTIF(Général!D58:D64,$G$1)=1,\"Boat 3\", IF(COUNTIF(Général!E58:E64,$G$1)=1,\"Boat 4\", IF(COUNTIF(Général!F58:F64,$G$1)=1,\"Boat 5\", IF(COUNTIF(Général!G58:G64,$G$1)=1,\"Boat 6\", IF(COUNTIF(Général!H58:H64,$G$1)=1,\"Boat 7\",IF(COUNTIF(Général!I38:I44,$G$1)=1,\"Boat 8\",\"Boat 9\"))))))))","v":"Boat 6"},{"$f":"IF(COUNTIF(Général!B68:B74,$G$1)=1,\"Boat 1\",IF(COUNTIF(Général!C68:C74,$G$1)=1,\"Boat 2\",IF(COUNTIF(Général!D68:D74,$G$1)=1,\"Boat 3\", IF(COUNTIF(Général!E68:E74,$G$1)=1,\"Boat 4\", IF(COUNTIF(Général!F68:F74,$G$1)=1,\"Boat 5\", IF(COUNTIF(Général!G68:G74,$G$1)=1,\"Boat 6\", IF(COUNTIF(Général!H68:H74,$G$1)=1,\"Boat 7\",IF(COUNTIF(Général!I38:I44,$G$1)=1,\"Boat 8\",\"Boat 9\"))))))))","v":"Boat 1"},{"$f":"IF(COUNTIF(Général!B78:B84,$G$1)=1,\"Boat 1\",IF(COUNTIF(Général!C78:C84,$G$1)=1,\"Boat 2\",IF(COUNTIF(Général!D78:D84,$G$1)=1,\"Boat 3\", IF(COUNTIF(Général!E78:E84,$G$1)=1,\"Boat 4\", IF(COUNTIF(Général!F78:F84,$G$1)=1,\"Boat 5\", IF(COUNTIF(Général!G78:G84,$G$1)=1,\"Boat 6\", IF(COUNTIF(Général!H78:H84,$G$1)=1,\"Boat 7\",IF(COUNTIF(Général!I38:I44,$G$1)=1,\"Boat 8\",\"Boat 9\"))))))))","v":"Boat 1"},{"$f":"IF(COUNTIF(Général!B88:B94,$G$1)=1,\"Boat 1\",IF(COUNTIF(Général!C88:C94,$G$1)=1,\"Boat 2\",IF(COUNTIF(Général!D88:D94,$G$1)=1,\"Boat 3\", IF(COUNTIF(Général!E88:E94,$G$1)=1,\"Boat 4\", IF(COUNTIF(Général!F88:F94,$G$1)=1,\"Boat 5\", IF(COUNTIF(Général!G88:G94,$G$1)=1,\"Boat 6\", IF(COUNTIF(Général!H88:H94,$G$1)=1,\"Boat 7\",IF(COUNTIF(Général!I38:I44,$G$1)=1,\"Boat 8\",\"Boat 9\"))))))))","v":"Boat 6"},{"$f":"IF(COUNTIF(Général!B98:B104,$G$1)=1,\"Boat 1\",IF(COUNTIF(Général!C98:C104,$G$1)=1,\"Boat 2\",IF(COUNTIF(Général!D98:D104,$G$1)=1,\"Boat 3\", IF(COUNTIF(Général!E98:E104,$G$1)=1,\"Boat 4\", IF(COUNTIF(Général!F98:F104,$G$1)=1,\"Boat 5\", IF(COUNTIF(Général!G98:G104,$G$1)=1,\"Boat 6\", IF(COUNTIF(Général!H98:H104,$G$1)=1,\"Boat 7\",IF(COUNTIF(Général!I38:I44,$G$1)=1,\"Boat 8\",\"Boat 9\"))))))))","v":"Boat 9"},{"$f":"IF(COUNTIF(Général!B108:B114,$G$1)=1,\"Boat 1\",IF(COUNTIF(Général!C108:C114,$G$1)=1,\"Boat 2\",IF(COUNTIF(Général!D108:D114,$G$1)=1,\"Boat 3\", IF(COUNTIF(Général!E108:E114,$G$1)=1,\"Boat 4\", IF(COUNTIF(Général!F108:F114,$G$1)=1,\"Boat 5\", IF(COUNTIF(Général!G108:G114,$G$1)=1,\"Boat 6\", IF(COUNTIF(Général!H108:H114,$G$1)=1,\"Boat 7\",IF(COUNTIF(Général!I38:I44,$G$1)=1,\"Boat 8\",\"Boat 9\"))))))))","v":"Boat 2"},{"$f":"IF(COUNTIF(Général!B118:B124,$G$1)=1,\"Boat 1\",IF(COUNTIF(Général!C118:C124,$G$1)=1,\"Boat 2\",IF(COUNTIF(Général!D118:D124,$G$1)=1,\"Boat 3\", IF(COUNTIF(Général!E118:E124,$G$1)=1,\"Boat 4\", IF(COUNTIF(Général!F118:F124,$G$1)=1,\"Boat 5\", IF(COUNTIF(Général!G118:G124,$G$1)=1,\"Boat 6\", IF(COUNTIF(Général!H118:H124,$G$1)=1,\"Boat 7\",IF(COUNTIF(Général!I38:I44,$G$1)=1,\"Boat 8\",\"Boat 9\"))))))))","v":"Boat 3"},{"$f":"IF(COUNTIF(Général!B128:B134,$G$1)=1,\"Boat 1\",IF(COUNTIF(Général!C128:C134,$G$1)=1,\"Boat 2\",IF(COUNTIF(Général!D128:D134,$G$1)=1,\"Boat 3\", IF(COUNTIF(Général!E128:E134,$G$1)=1,\"Boat 4\", IF(COUNTIF(Général!F128:F134,$G$1)=1,\"Boat 5\", IF(COUNTIF(Général!G128:G134,$G$1)=1,\"Boat 6\", IF(COUNTIF(Général!H128:H134,$G$1)=1,\"Boat 7\",IF(COUNTIF(Général!I38:I44,$G$1)=1,\"Boat 8\",\"Boat 9\"))))))))","v":"Boat 2"},{"$f":"IF(COUNTIF(Général!B138:B144,$G$1)=1,\"Boat 1\",IF(COUNTIF(Général!C138:C144,$G$1)=1,\"Boat 2\",IF(COUNTIF(Général!C138:D144,$G$1)=1,\"Boat 3\", IF(COUNTIF(Général!C138:E144,$G$1)=1,\"Boat 4\", IF(COUNTIF(Général!F138:F144,$G$1)=1,\"Boat 5\", IF(COUNTIF(Général!G138:G144,$G$1)=1,\"Boat 6\", IF(COUNTIF(Général!H138:H144,$G$1)=1,\"Boat 7\",IF(COUNTIF(Général!I38:I44,$G$1)=1,\"Boat 8\",\"Boat 9\"))))))))","v":"Boat 4"},{"$f":"IF(COUNTIF(Général!B148:B154,$G$1)=1,\"Boat 1\",IF(COUNTIF(Général!C148:C154,$G$1)=1,\"Boat 2\",IF(COUNTIF(Général!D148:D154,$G$1)=1,\"Boat 3\", IF(COUNTIF(Général!E148:E154,$G$1)=1,\"Boat 4\", IF(COUNTIF(Général!F148:F154,$G$1)=1,\"Boat 5\", IF(COUNTIF(Général!G148:G154,$G$1)=1,\"Boat 6\", IF(COUNTIF(Général!H148:H154,$G$1)=1,\"Boat 7\",IF(COUNTIF(Général!I38:I44,$G$1)=1,\"Boat 8\",\"Boat 9\"))))))))","v":"Boat 7"},{"$f":"IF(COUNTIF(Général!B158:B164,$G$1)=1,\"Boat 1\",IF(COUNTIF(Général!C158:C164,$G$1)=1,\"Boat 2\",IF(COUNTIF(Général!D160:D164,$G$1)=1,\"Boat 3\", IF(COUNTIF(Général!E158:E164,$G$1)=1,\"Boat 4\", IF(COUNTIF(Général!F158:F164,$G$1)=1,\"Boat 5\", IF(COUNTIF(Général!G158:G164,$G$1)=1,\"Boat 6\", IF(COUNTIF(Général!H158:H164,$G$1)=1,\"Boat 7\",IF(COUNTIF(Général!I38:I44,$G$1)=1,\"Boat 8\",\"Boat 9\"))))))))","v":"Boat 1"},{"$f":"IF(COUNTIF(Général!B168:B174,$G$1)=1,\"Boat 1\",IF(COUNTIF(Général!C168:C174,$G$1)=1,\"Boat 2\",IF(COUNTIF(Général!D168:D174,$G$1)=1,\"Boat 3\", IF(COUNTIF(Général!E168:E174,$G$1)=1,\"Boat 4\", IF(COUNTIF(Général!F178:F184,$G$1)=1,\"Boat 5\", IF(COUNTIF(Général!G178:G184,$G$1)=1,\"Boat 6\", IF(COUNTIF(Général!H178:H184,$G$1)=1,\"Boat 7\",IF(COUNTIF(Général!I38:I44,$G$1)=1,\"Boat 8\",\"Boat 9\"))))))))","v":"Boat 1"},{"$f":"IF(COUNTIF(Général!B178:B184,$G$1)=1,\"Boat 1\",IF(COUNTIF(Général!C178:C184,$G$1)=1,\"Boat 2\",IF(COUNTIF(Général!D178:D184,$G$1)=1,\"Boat 3\", IF(COUNTIF(Général!E178:E184,$G$1)=1,\"Boat 4\", IF(COUNTIF(Général!F178:F184,$G$1)=1,\"Boat 5\", IF(COUNTIF(Général!G178:G184,$G$1)=1,\"Boat 6\", IF(COUNTIF(Général!H178:H184,$G$1)=1,\"Boat 7\",IF(COUNTIF(Général!I38:I44,$G$1)=1,\"Boat 8\",\"Boat 9\"))))))))","v":"Boat 6"},{"$f":"IF(COUNTIF(Général!B188:B194,$G$1)=1,\"Boat 1\",IF(COUNTIF(Général!C188:C194,$G$1)=1,\"Boat 2\",IF(COUNTIF(Général!D188:D194,$G$1)=1,\"Boat 3\", IF(COUNTIF(Général!E188:E194,$G$1)=1,\"Boat 4\", IF(COUNTIF(Général!F188:F194,$G$1)=1,\"Boat 5\", IF(COUNTIF(Général!G188:G194,$G$1)=1,\"Boat 6\", IF(COUNTIF(Général!H188:H194,$G$1)=1,\"Boat 7\",IF(COUNTIF(Général!I38:I44,$G$1)=1,\"Boat 8\",\"Boat 9\"))))))))","v":"Boat 5"},{"$f":"IF(COUNTIF(Général!B198:B204,$G$1)=1,\"Boat 1\",IF(COUNTIF(Général!C198:C204,$G$1)=1,\"Boat 2\",IF(COUNTIF(Général!D198:D204,$G$1)=1,\"Boat 3\", IF(COUNTIF(Général!E198:E204,$G$1)=1,\"Boat 4\", IF(COUNTIF(Général!F198:F204,$G$1)=1,\"Boat 5\", IF(COUNTIF(Général!G198:G204,$G$1)=1,\"Boat 6\", IF(COUNTIF(Général!H198:H204,$G$1)=1,\"Boat 7\",IF(COUNTIF(Général!I38:I44,$G$1)=1,\"Boat 8\",\"Boat 9\"))))))))","v":"Boat 4"},{"$f":"IF(COUNTIF(Général!B208:B214,$G$1)=1,\"Boat 1\",IF(COUNTIF(Général!C208:C214,$G$1)=1,\"Boat 2\",IF(COUNTIF(Général!D208:D214,$G$1)=1,\"Boat 3\", IF(COUNTIF(Général!E208:E214,$G$1)=1,\"Boat 4\", IF(COUNTIF(Général!F208:F214,$G$1)=1,\"Boat 5\", IF(COUNTIF(Général!G208:G214,$G$1)=1,\"Boat 6\", IF(COUNTIF(Général!H208:H214,$G$1)=1,\"Boat 7\",IF(COUNTIF(Général!I38:I44,$G$1)=1,\"Boat 8\",\"Boat 9\"))))))))","v":"Boat 3"},null,{"$f":"Général!B8","v":"Plymouth"},3]
[null,null,null,null,null,null,null,null,null,null,null,null,null,null,null,null,null,null,null,null,null,{"$f":"Général!B9","v":"Unicaen 2"},7]
["1er Equipage",null,{"$f":"IF($C$5=\"Course 1\",Général!B38,IF($C$5=\"Course 2\",Général!B40,IF($C$5=\"Course 3\",Général!B42,Général!B44)))","v":"ST Brieuc 2"},{"$f":"IF($D$5=\"Course 1\",Général!B48,IF($D$5=\"Course 2\",Général!B50,IF($D$5=\"Course 3\",Général!B52,Général!B54)))","v":"St Brieuc 1"},{"$f":"IF($E$5=\"Course 1\",Général!B58,IF($E$5=\"Course 2\",Général!B60,IF($E$5=\"Course 3\",Général!B62,Général!B64)))","v":"Univ Nantes 3"},{"$f":"IF($F$5=\"Course 1\",Général!B$68,IF($F$5=\"Course 2\",Général!B$70,IF($F$5=\"Course 3\",Général!B$72,Général!B$74)))","v":"ENSMAC"},{"$f":"IF($G$5=\"Course 1\",Général!B$78,IF($G$5=\"Course 2\",Général!B$80,IF($G$5=\"Course 3\",Général!B$82,Général!B$84)))","v":"ENSMAC"},{"$f":"IF($H$5=\"Course 1\",Général!B$88,IF($H$5=\"Course 2\",Général!B$90,IF($H$5=\"Course 3\",Général!B$92,Général!B$94)))","v":"Univ Nantes 2"},{"$f":"IF($I$5=\"Course 1\",Général!B$98,IF($I$5=\"Course 2\",Général!B$100,IF($I$5=\"Course 3\",Général!B$102,Général!B$104)))","v":"La Rochelle 2"},{"$f":"IF($J$5=\"Course 1\",Général!B$108,IF($J$5=\"Course 2\",Général!B$110,IF($J$5=\"Course 3\",Général!B$112,Général!B$114)))","v":"Centrale Nantes 1"},{"$f":"IF($K$5=\"Course 1\",Général!B$118,IF($K$5=\"Course 2\",Général!B$120,IF($K$5=\"Course 3\",Général!B$122,Général!B$124)))","v":"UNIV Nantes 1"},{"$f":"IF($L$5=\"Course 1\",Général!B$128,IF($L$5=\"Course 2\",Général!B$130,IF($L$5=\"Course 3\",Général!B$132,Général!B$134)))","v":"Plymouth"},{"$f":"IF($M$5=\"Course 1\",Général!B$138,IF($M$5=\"Course 2\",Général!B$140,IF($M$5=\"Course 3\",Général!B$142,Général!B$144)))","v":"ENSTA 1"},{"$f":"IF($N$5=\"Course 1\",Général!B$148,IF($N$5=\"Course 2\",Général!B$150,IF($N$5=\"Course 3\",Général!B$152,Général!B$154)))","v":"UBS Lorient 2"},{"$f":"IF($O$5=\"Course 1\",Général!B$158,IF($O$5=\"Course 2\",Général!B$160,IF($O$5=\"Course 3\",Général!B$162,Général!B$164)))","v":"ENSMAC"},{"$f":"IF($P$5=\"Course 1\",Général!B$168,IF($P$5=\"Course 2\",Général!B$170,IF($P$5=\"Course 3\",Général!B$172,Général!B$174)))","v":"ENSMAC"},{"$f":"IF($Q$5=\"Course 1\",Général!B$178,IF($Q$5=\"Course 2\",Général!B$180,IF($Q$5=\"Course 3\",Général!B$182,Général!B$184)))","v":"La Rochelle 2"},{"$f":"IF($R$5=\"Course 1\",Général!B$188,IF($R$5=\"Course 2\",Général!B$190,IF($R$5=\"Course 3\",Général!B$192,Général!B$194)))","v":"Karlsruhe"},{"$f":"IF($S$5=\"Course 1\",Général!B$198,IF($S$5=\"Course 2\",Général!B$200,IF($S$5=\"Course 3\",Général!B$202,Général!B$204)))","v":"ENSTA 2"},{"$f":"IF($T$5=\"Course 1\",Général!B$208,IF($T$5=\"Course 2\",Général!B$210,IF($T$5=\"Course 3\",Général!B$212,Général!B$214)))","v":"UBO 1"},null,{"$f":"Général!B10","v":"Univ Nantes 2"},5]
["2nd Equipage",null,{"$f":"IF($C$5=\"Course 1\",Général!C38,IF($C$5=\"Course 2\",Général!C40,IF($C$5=\"Course 3\",Général!C42,Général!C44)))","v":"UBS Lorient 2"},{"$f":"IF($D$5=\"Course 1\",Général!C48,IF($D$5=\"Course 2\",Général!C50,IF($D$5=\"Course 3\",Général!C52,Général!C54)))","v":"Univ Nantes 3"},{"$f":"IF($E$5=\"Course 1\",Général!C58,IF($E$5=\"Course 2\",Général!C60,IF($E$5=\"Course 3\",Général!C62,Général!C64)))","v":"IMT Nantes"},{"$f":"IF($F$5=\"Course 1\",Général!C$68,IF($F$5=\"Course 2\",Général!C$70,IF($F$5=\"Course 3\",Général!C$72,Général!C$74)))","v":"St Brieuc 1"},{"$f":"IF($G$5=\"Course 1\",Général!C$78,IF($G$5=\"Course 2\",Général!C$80,IF($G$5=\"Course 3\",Général!C$82,Général!C$84)))","v":"Hannover"},{"$f":"IF($H$5=\"Course 1\",Général!C$88,IF($H$5=\"Course 2\",Général!C$90,IF($H$5=\"Course 3\",Général!C$92,Général!C$94)))","v":"La Rochelle 2"},{"$f":"IF($I$5=\"Course 1\",Général!C$98,IF($I$5=\"Course 2\",Général!C$100,IF($I$5=\"Course 3\",Général!C$102,Général!C$104)))","v":"ENSTA 2"},{"$f":"IF($J$5=\"Course 1\",Général!C$108,IF($J$5=\"Course 2\",Général!C$110,IF($J$5=\"Course 3\",Général!C$112,Général!C$114)))","v":"ENSMAC"},{"$f":"IF($K$5=\"Course 1\",Général!C$118,IF($K$5=\"Course 2\",Général!C$120,IF($K$5=\"Course 3\",Général!C$122,Général!C$124)))","v":"UBS Lorient 1"},{"$f":"IF($L$5=\"Course 1\",Général!C$128,IF($L$5=\"Course 2\",Général!C$130,IF($L$5=\"Course 3\",Général!C$132,Général!C$134)))","v":"ENSMAC"},{"$f":"IF($M$5=\"Course 1\",Général!C$138,IF($M$5=\"Course 2\",Général!C$140,IF($M$5=\"Course 3\",Général!C$142,Général!C$144)))","v":"Intechmer"},{"$f":"IF($N$5=\"Course 1\",Général!C$148,IF($N$5=\"Course 2\",Général!C$150,IF($N$5=\"Course 3\",Général!C$152,Général!C$154)))","v":"UBO 1"},{"$f":"IF($O$5=\"Course 1\",Général!C$158,IF($O$5=\"Course 2\",Général!C$160,IF($O$5=\"Course 3\",Général!C$162,Général!C$164)))","v":"UBO 2"},{"$f":"IF($P$5=\"Course 1\",Général!C$168,IF($P$5=\"Course 2\",Général!C$170,IF($P$5=\"Course 3\",Général!C$172,Général!C$174)))","v":"Univ Nantes 3"},{"$f":"IF($Q$5=\"Course 1\",Général!C$178,IF($Q$5=\"Course 2\",Général!C$180,IF($Q$5=\"Course 3\",Général!C$182,Général!C$184)))","v":"Unicaen 2"},{"$f":"IF($R$5=\"Course 1\",Général!C$188,IF($R$5=\"Course 2\",Général!C$190,IF($R$5=\"Course 3\",Général!C$192,Général!C$194)))","v":"ST Brieuc 2"},{"$f":"IF($S$5=\"Course 1\",Général!C$198,IF($S$5=\"Course 2\",Général!C$200,IF($S$5=\"Course 3\",Général!C$202,Général!C$204)))","v":"Southampton"},{"$f":"IF($T$5=\"Course 1\",Général!C$208,IF($T$5=\"Course 2\",Général!C$210,IF($T$5=\"Course 3\",Général!C$212,Général!C$214)))","v":"Paris Sorbone"},null,{"$f":"Général!B11","v":"Karlsruhe"},6]
["3ème Equipage",null,{"$f":"IF($C$5=\"Course 1\",Général!D38,IF($C$5=\"Course 2\",Général!D40,IF($C$5=\"Course 3\",Général!D42,Général!D44)))","v":"UNIV Nantes 1"},{"$f":"IF($D$5=\"Course 1\",Général!D48,IF($D$5=\"Course 2\",Général!D50,IF($D$5=\"Course 3\",Général!D52,Général!D54)))","v":"UBS Lorient 2"},{"$f":"IF($E$5=\"Course 1\",Général!D58,IF($E$5=\"Course 2\",Général!D60,IF($E$5=\"Course 3\",Général!D62,Général!D64)))","v":"ENSTA 2"},{"$f":"IF($F$5=\"Course 1\",Général!D$68,IF($F$5=\"Course 2\",Général!D$70,IF($F$5=\"Course 3\",Général!D$72,Général!D$74)))","v":"Karlsruhe"},{"$f":"IF($G$5=\"Course 1\",Général!D$78,IF($G$5=\"Course 2\",Général!D$80,IF($G$5=\"Course 3\",Général!D$82,Général!D$84)))","v":"Karlsruhe"},{"$f":"IF($H$5=\"Course 1\",Général!D$88,IF($H$5=\"Course 2\",Général!D$90,IF($H$5=\"Course 3\",Général!D$92,Général!D$94)))","v":"UNIV Nantes 1"},{"$f":"IF($I$5=\"Course 1\",Général!D$98,IF($I$5=\"Course 2\",Général!D$100,IF($I$5=\"Course 3\",Général!D$102,Général!D$104)))","v":"Hannover"},{"$f":"IF($J$5=\"Course 1\",Général!D$108,IF($J$5=\"Course 2\",Général!D$110,IF($J$5=\"Course 3\",Général!D$112,Général!D$114)))","v":"INSA Lyon"},{"$f":"IF($K$5=\"Course 1\",Général!D$118,IF($K$5=\"Course 2\",Général!D$120,IF($K$5=\"Course 3\",Général!D$122,Général!D$124)))","v":"ENSMAC"},{"$f":"IF($L$5=\"Course 1\",Général!D$128,IF($L$5=\"Course 2\",Général!D$130,IF($L$5=\"Course 3\",Général!D$132,Général!D$134)))","v":"ENSTA 1"},{"$f":"IF($M$5=\"Course 1\",Général!D$138,IF($M$5=\"Course 2\",Général!D$140,IF($M$5=\"Course 3\",Général!D$142,Général!D$144)))","v":"La Rochelle 2"},{"$f":"IF($N$5=\"Course 1\",Général!D$148,IF($N$5=\"Course 2\",Général!D$150,IF($N$5=\"Course 3\",Général!D$152,Général!D$154)))","v":"Centrale Nantes 2"},{"$f":"IF($O$5=\"Course 1\",Général!D$158,IF($O$5=\"Course 2\",Général!D$160,IF($O$5=\"Course 3\",Général!D$162,Général!D$164)))","v":"ENSTA 2"},{"$f":"IF($P$5=\"Course 1\",Général!D$168,IF($P$5=\"Course 2\",Général!D$170,IF($P$5=\"Course 3\",Général!D$172,Général!D$174)))","v":"Intechmer"},{"$f":"IF($Q$5=\"Course 1\",Général!D$178,IF($Q$5=\"Course 2\",Général!D$180,IF($Q$5=\"Course 3\",Général!D$182,Général!D$184)))","v":"UBS Lorient 1"},{"$f":"IF($R$5=\"Course 1\",Général!D$188,IF($R$5=\"Course 2\",Général!D$190,IF($R$5=\"Course 3\",Général!D$192,Général!D$194)))","v":"Orléans"},{"$f":"IF($S$5=\"Course 1\",Général!D$198,IF($S$5=\"Course 2\",Général!D$200,IF($S$5=\"Course 3\",Général!D$202,Général!D$204)))","v":"Paris Cité"},{"$f":"IF($T$5=\"Course 1\",Général!D$208,IF($T$5=\"Course 2\",Général!D$210,IF($T$5=\"Course 3\",Général!D$212,Général!D$214)))","v":"ENSMAC"},null,{"$f":"Général!B12","v":"IMT Brest 2"},2]
["4ème Equipage",null,{"$f":"IF($C$5=\"Course 1\",Général!E38,IF($C$5=\"Course 2\",Général!E40,IF($C$5=\"Course 3\",Général!E42,Général!E44)))","v":"Orléans"},{"$f":"IF($D$5=\"Course 1\",Général!E48,IF($D$5=\"Course 2\",Général!E50,IF($D$5=\"Course 3\",Général!E52,Général!E54)))","v":"ENSTA 2"},{"$f":"IF($E$5=\"Course 1\",Général!E58,IF($E$5=\"Course 2\",Général!E60,IF($E$5=\"Course 3\",Général!E62,Général!E64)))","v":"Paris Cité"},{"$f":"IF($F$5=\"Course 1\",Général!E$68,IF($F$5=\"Course 2\",Général!E$70,IF($F$5=\"Course 3\",Général!E$72,Général!E$74)))","v":"UNIV Nantes 1"},{"$f":"IF($G$5=\"Course 1\",Général!E$78,IF($G$5=\"Course 2\",Général!E$80,IF($G$5=\"Course 3\",Général!E$82,Général!E$84)))","v":"UNIV Nantes 1"},{"$f":"IF($H$5=\"Course 1\",Général!E$88,IF($H$5=\"Course 2\",Général!E$90,IF($H$5=\"Course 3\",Général!E$92,Général!E$94)))","v":"Karlsruhe"},{"$f":"IF($I$5=\"Course 1\",Général!E$98,IF($I$5=\"Course 2\",Général!E$100,IF($I$5=\"Course 3\",Général!E$102,Général!E$104)))","v":"Paris Sorbone"},{"$f":"IF($J$5=\"Course 1\",Général!E$108,IF($J$5=\"Course 2\",Général!E$110,IF($J$5=\"Course 3\",Général!E$112,Général!E$114)))","v":"Univ Nantes 2"},{"$f":"IF($K$5=\"Course 1\",Général!E$118,IF($K$5=\"Course 2\",Général!E$120,IF($K$5=\"Course 3\",Général!E$122,Général!E$124)))","v":"UBS Lorient 2"},{"$f":"IF($L$5=\"Course 1\",Général!E$128,IF($L$5=\"Course 2\",Général!E$130,IF($L$5=\"Course 3\",Général!E$132,Général!E$134)))","v":"Paris Cité"},{"$f":"IF($M$5=\"Course 1\",Général!E$138,IF($M$5=\"Course 2\",Général!E$140,IF($M$5=\"Course 3\",Général!E$142,Général!E$144)))","v":"ENSMAC"},{"$f":"IF($N$5=\"Course 1\",Général!E$148,IF($N$5=\"Course 2\",Général!E$150,IF($N$5=\"Course 3\",Général!E$152,Général!E$154)))","v":"UBS Lorient 1"},{"$f":"IF($O$5=\"Course 1\",Général!E$158,IF($O$5=\"Course 2\",Général!E$160,IF($O$5=\"Course 3\",Général!E$162,Général!E$164)))","v":"UBO 1"},{"$f":"IF($P$5=\"Course 1\",Général!E$168,IF($P$5=\"Course 2\",Général!E$170,IF($P$5=\"Course 3\",Général!E$172,Général!E$174)))","v":"INSA Lyon"},{"$f":"IF($Q$5=\"Course 1\",Général!E$178,IF($Q$5=\"Course 2\",Général!E$180,IF($Q$5=\"Course 3\",Général!E$182,Général!E$184)))","v":"St Brieuc 1"},{"$f":"IF($R$5=\"Course 1\",Général!E$188,IF($R$5=\"Course 2\",Général!E$190,IF($R$5=\"Course 3\",Général!E$192,Général!E$194)))","v":"Paris Cité"},{"$f":"IF($S$5=\"Course 1\",Général!E$198,IF($S$5=\"Course 2\",Général!E$200,IF($S$5=\"Course 3\",Général!E$202,Général!E$204)))","v":"ENSMAC"},{"$f":"IF($T$5=\"Course 1\",Général!E$208,IF($T$5=\"Course 2\",Général!E$210,IF($T$5=\"Course 3\",Général!E$212,Général!E$214)))","v":"Univ Nantes 3"},null,{"$f":"Général!B13","v":"Unicaen 1"},3]
["5ème Equipage",null,{"$f":"IF($C$5=\"Course 1\",Général!F38,IF($C$5=\"Course 2\",Général!F40,IF($C$5=\"Course 3\",Général!F42,Général!F44)))","v":"Unicaen 2"},{"$f":"IF($D$5=\"Course 1\",Général!F48,IF($D$5=\"Course 2\",Général!F50,IF($D$5=\"Course 3\",Général!F52,Général!F54)))","v":"ST Brieuc 2"},{"$f":"IF($E$5=\"Course 1\",Général!F58,IF($E$5=\"Course 2\",Général!F60,IF($E$5=\"Course 3\",Général!F62,Général!F64)))","v":"UBO 2"},{"$f":"IF($F$5=\"Course 1\",Général!F$68,IF($F$5=\"Course 2\",Général!F$70,IF($F$5=\"Course 3\",Général!F$72,Général!F$74)))","v":"Centrale Nantes 2"},{"$f":"IF($G$5=\"Course 1\",Général!F$78,IF($G$5=\"Course 2\",Général!F$80,IF($G$5=\"Course 3\",Général!F$82,Général!F$84)))","v":"ST Brieuc 2"},{"$f":"IF($H$5=\"Course 1\",Général!F$88,IF($H$5=\"Course 2\",Général!F$90,IF($H$5=\"Course 3\",Général!F$92,Général!F$94)))","v":"Plymouth"},{"$f":"IF($I$5=\"Course 1\",Général!F$98,IF($I$5=\"Course 2\",Général!F$100,IF($I$5=\"Course 3\",Général!F$102,Général!F$104)))","v":"Centrale Nantes 1"},{"$f":"IF($J$5=\"Course 1\",Général!F$108,IF($J$5=\"Course 2\",Général!F$110,IF($J$5=\"Course 3\",Général!F$112,Général!F$114)))","v":"IMT Nantes"},{"$f":"IF($K$5=\"Course 1\",Général!F$118,IF($K$5=\"Course 2\",Général!F$120,IF($K$5=\"Course 3\",Général!F$122,Général!F$124)))","v":"Centrale Nantes 1"},{"$f":"IF($L$5=\"Course 1\",Général!F$128,IF($L$5=\"Course 2\",Général!$F130,IF($L$5=\"Course 3\",Général!F$132,Général!F$134)))","v":"La Rochelle 2"},{"$f":"IF($M$5=\"Course 1\",Général!F$138,IF($M$5=\"Course 2\",Général!F$140,IF($M$5=\"Course 3\",Général!F$142,Général!F$144)))","v":"UBO 1"},{"$f":"IF($N$5=\"Course 1\",Général!F$148,IF($N$5=\"Course 2\",Général!F$150,IF($N$5=\"Course 3\",Général!F$152,Général!F$154)))","v":"ST Brieuc 2"},{"$f":"IF($O$5=\"Course 1\",Général!F$158,IF($O$5=\"Course 2\",Général!F$160,IF($O$5=\"Course 3\",Général!F$162,Général!F$164)))","v":"INSA Lyon"},{"$f":"IF($P$5=\"Course 1\",Général!F$168,IF($P$5=\"Course 2\",Général!F$170,IF($P$5=\"Course 3\",Général!F$172,Général!F$174)))","v":"ENSTA 2"},{"$f":"IF($Q$5=\"Course 1\",Général!F$178,IF($Q$5=\"Course 2\",Général!F$180,IF($Q$5=\"Course 3\",Général!F$182,Général!F$184)))","v":"ENSTA 2"},{"$f":"IF($R$5=\"Course 1\",Général!F$188,IF($R$5=\"Course 2\",Général!F$190,IF($R$5=\"Course 3\",Général!F$192,Général!F$194)))","v":"ENSMAC"},{"$f":"IF($S$5=\"Course 1\",Général!F$198,IF($S$5=\"Course 2\",Général!F$200,IF($S$5=\"Course 3\",Général!F$202,Général!F$204)))","v":"Unicaen 2"},{"$f":"IF($T$5=\"Course 1\",Général!F$208,IF($T$5=\"Course 2\",Général!F$210,IF($T$5=\"Course 3\",Général!F$212,Général!F$214)))","v":"UBS Lorient 1"},null,{"$f":"Général!B14","v":"ENSTA 1"},3]
["6ème Equipage",null,{"$f":"IF($C$5=\"Course 1\",Général!G38,IF($C$5=\"Course 2\",Général!G40,IF($C$5=\"Course 3\",Général!G42,Général!G44)))","v":"Hannover"},{"$f":"IF($D$5=\"Course 1\",Général!G48,IF($D$5=\"Course 2\",Général!G50,IF($D$5=\"Course 3\",Général!G52,Général!G54)))","v":"La Rochelle 1"},{"$f":"IF($E$5=\"Course 1\",Général!G58,IF($E$5=\"Course 2\",Général!G60,IF($E$5=\"Course 3\",Général!G62,Général!G64)))","v":"ENSMAC"},{"$f":"IF($F$5=\"Course 1\",Général!G$68,IF($F$5=\"Course 2\",Général!G$70,IF($F$5=\"Course 3\",Général!G$72,Général!G$74)))","v":"Paris Sorbone"},{"$f":"IF($G$5=\"Course 1\",Général!G$78,IF($G$5=\"Course 2\",Général!G$80,IF($G$5=\"Course 3\",Général!G$82,Général!G$84)))","v":"UBO 1"},{"$f":"IF($H$5=\"Course 1\",Général!G$88,IF($H$5=\"Course 2\",Général!G$90,IF($H$5=\"Course 3\",Général!G$92,Général!G$94)))","v":"ENSMAC"},{"$f":"IF($I$5=\"Course 1\",Général!G$98,IF($I$5=\"Course 2\",Général!G$100,IF($I$5=\"Course 3\",Général!G$102,Général!G$104)))","v":"Unicaen 2"},{"$f":"IF($J$5=\"Course 1\",Général!G$108,IF($J$5=\"Course 2\",Général!G$110,IF($J$5=\"Course 3\",Général!G$112,Général!G$114)))","v":"Karlsruhe"},{"$f":"IF($K$5=\"Course 1\",Général!G$118,IF($K$5=\"Course 2\",Général!G$120,IF($K$5=\"Course 3\",Général!G$122,Général!G$124)))","v":"St Brieuc 1"},{"$f":"IF($L$5=\"Course 1\",Général!G$128,IF($L$5=\"Course 2\",Général!G$130,IF($L$5=\"Course 3\",Général!G$132,Général!G$134)))","v":"Intechmer"},{"$f":"IF($M$5=\"Course 1\",Général!G$138,IF($M$5=\"Course 2\",Général!G$140,IF($M$5=\"Course 3\",Général!G$142,Général!G$144)))","v":"Southampton"},{"$f":"IF($N$5=\"Course 1\",Général!G$148,IF($N$5=\"Course 2\",Général!G$150,IF($N$5=\"Course 3\",Général!G$152,Général!G$154)))","v":"Univ Nantes 2"},{"$f":"IF($O$5=\"Course 1\",Général!G$158,IF($O$5=\"Course 2\",Général!G$160,IF($O$5=\"Course 3\",Général!G$162,Général!G$164)))","v":"Plymouth"},{"$f":"IF($P$5=\"Course 1\",Général!G$168,IF($P$5=\"Course 2\",Général!G$170,IF($P$5=\"Course 3\",Général!G$172,Général!G$174)))","v":"ST Brieuc 2"},{"$f":"IF($Q$5=\"Course 1\",Général!G$178,IF($Q$5=\"Course 2\",Général!G$180,IF($Q$5=\"Course 3\",Général!G$182,Général!G$184)))","v":"ENSMAC"},{"$f":"IF($R$5=\"Course 1\",Général!G$188,IF($R$5=\"Course 2\",Général!G$190,IF($R$5=\"Course 3\",Général!G$192,Général!G$194)))","v":"IMT Brest 1"},{"$f":"IF($S$5=\"Course 1\",Général!G$198,IF($S$5=\"Course 2\",Général!G$200,IF($S$5=\"Course 3\",Général!G$202,Général!G$204)))","v":"UBS Lorient 1"},{"$f":"IF($T$5=\"Course 1\",Général!G$208,IF($T$5=\"Course 2\",Général!G$210,IF($T$5=\"Course 3\",Général!G$212,Général!G$214)))","v":"INSA Lyon"},null,{"$f":"Général!B15","v":"Orléans"},5]
["7ème Equipage",null,{"$f":"IF($C$5=\"Course 1\",Général!H38,IF($C$5=\"Course 2\",Général!H40,IF($C$5=\"Course 3\",Général!H42,Général!H44)))","v":"IMT Brest 2"},{"$f":"IF($D$5=\"Course 1\",Général!H48,IF($D$5=\"Course 2\",Général!H50,IF($D$5=\"Course 3\",Général!H52,Général!H54)))","v":"Unicaen 2"},{"$f":"IF($E$5=\"Course 1\",Général!H58,IF($E$5=\"Course 2\",Général!H60,IF($E$5=\"Course 3\",Général!H62,Général!H64)))","v":"Hannover"},{"$f":"IF($F$5=\"Course 1\",Général!H$68,IF($F$5=\"Course 2\",Général!H$70,IF($F$5=\"Course 3\",Général!H$72,Général!H$74)))","v":"Intechmer"},{"$f":"IF($G$5=\"Course 1\",Général!H$78,IF($G$5=\"Course 2\",Général!H$80,IF($G$5=\"Course 3\",Général!H$82,Général!H$84)))","v":"IMT Brest 1"},{"$f":"IF($H$5=\"Course 1\",Général!H$88,IF($H$5=\"Course 2\",Général!H$90,IF($H$5=\"Course 3\",Général!H$92,Général!H$94)))","v":"Intechmer"},{"$f":"IF($I$5=\"Course 1\",Général!H$98,IF($I$5=\"Course 2\",Général!H$100,IF($I$5=\"Course 3\",Général!H$102,Général!H$104)))","v":"IMT Brest 2"},{"$f":"IF($J$5=\"Course 1\",Général!H$108,IF($J$5=\"Course 2\",Général!H$110,IF($J$5=\"Course 3\",Général!H$112,Général!H$114)))","v":"Unicaen 2"},{"$f":"IF($K$5=\"Course 1\",Général!H$118,IF($K$5=\"Course 2\",Général!H$120,IF($K$5=\"Course 3\",Général!H$122,Général!H$124)))","v":"Orléans"},{"$f":"IF($L$5=\"Course 1\",Général!H$128,IF($L$5=\"Course 2\",Général!H$130,IF($L$5=\"Course 3\",Général!H$132,Général!H$134)))","v":"IMT Nantes"},{"$f":"IF($M$5=\"Course 1\",Général!H$138,IF($M$5=\"Course 2\",Général!H$140,IF($M$5=\"Course 3\",Général!H$142,Général!H$144)))","v":"Centrale Nantes 2"},{"$f":"IF($N$5=\"Course 1\",Général!H$148,IF($N$5=\"Course 2\",Général!H$150,IF($N$5=\"Course 3\",Général!H$152,Général!H$154)))","v":"ENSMAC"},{"$f":"IF($O$5=\"Course 1\",Général!H$158,IF($O$5=\"Course 2\",Général!H$160,IF($O$5=\"Course 3\",Général!H$162,Général!H$164)))","v":"Paris Cité"},{"$f":"IF($P$5=\"Course 1\",Général!H$168,IF($P$5=\"Course 2\",Général!H$170,IF($P$5=\"Course 3\",Général!H$172,Général!H$174)))","v":"UNIV Nantes 1"},{"$f":"IF($Q$5=\"Course 1\",Général!H$178,IF($Q$5=\"Course 2\",Général!H$180,IF($Q$5=\"Course 3\",Général!H$182,Général!H$184)))","v":"Karlsruhe"},{"$f":"IF($R$5=\"Course 1\",Général!H$188,IF($R$5=\"Course 2\",Général!H$190,IF($R$5=\"Course 3\",Général!H$192,Général!H$194)))","v":"Centrale Nantes 1"},{"$f":"IF($S$5=\"Course 1\",Général!H$198,IF($S$5=\"Course 2\",Général!H$200,IF($S$5=\"Course 3\",Général!H$202,Général!H$204)))","v":"UBO 1"},{"$f":"IF($T$5=\"Course 1\",Général!H$208,IF($T$5=\"Course 2\",Général!H$210,IF($T$5=\"Course 3\",Général!H$212,Général!H$214)))","v":"Univ Nantes 2"},null,{"$f":"Général!B16","v":"IMT Brest 1"},3]
["8ème Equipage",null,{"$f":"IF($C$5=\"Course 1\",Général!I38,IF($C$5=\"Course 2\",Général!I40,IF($C$5=\"Course 3\",Général!I42,Général!I44)))","v":"Paris Cité"},{"$f":"IF($D$5=\"Course 1\",Général!I48,IF($D$5=\"Course 2\",Général!I50,IF($D$5=\"Course 3\",Général!I52,Général!I54)))","v":"UNIV Nantes 1"},{"$f":"IF($E$5=\"Course 1\",Général!I58,IF($E$5=\"Course 2\",Général!I60,IF($E$5=\"Course 3\",Général!I62,Général!I64)))","v":"Unicaen 1"},{"$f":"IF($F$5=\"Course 1\",Général!I$68,IF($F$5=\"Course 2\",Général!I$70,IF($F$5=\"Course 3\",Général!I$72,Général!I$74)))","v":"Southampton"},{"$f":"IF($G$5=\"Course 1\",Général!I$78,IF($G$5=\"Course 2\",Général!I$80,IF($G$5=\"Course 3\",Général!I$82,Général!I$84)))","v":"Southampton"},{"$f":"IF($H$5=\"Course 1\",Général!I$88,IF($H$5=\"Course 2\",Général!I$90,IF($H$5=\"Course 3\",Général!I$92,Général!I$94)))","v":"Unicaen 1"},{"$f":"IF($I$5=\"Course 1\",Général!I$98,IF($I$5=\"Course 2\",Général!I$100,IF($I$5=\"Course 3\",Général!I$102,Général!I$104)))","v":"INSA Lyon"},{"$f":"IF($J$5=\"Course 1\",Général!I$108,IF($J$5=\"Course 2\",Général!I$110,IF($J$5=\"Course 3\",Général!I$112,Général!I$114)))","v":"Unicaen 1"},{"$f":"IF($K$5=\"Course 1\",Général!I$118,IF($K$5=\"Course 2\",Général!I$120,IF($K$5=\"Course 3\",Général!I$122,Général!I$124)))","v":"Univ Nantes 2"},{"$f":"IF($L$5=\"Course 1\",Général!I$128,IF($L$5=\"Course 2\",Général!I$130,IF($L$5=\"Course 3\",Général!I$132,Général!I$134)))","v":"UBS Lorient 2"},{"$f":"IF($M$5=\"Course 1\",Général!I$138,IF($M$5=\"Course 2\",Général!I$140,IF($M$5=\"Course 3\",Général!I$142,Général!I$144)))","v":"Unicaen 2"},{"$f":"IF($N$5=\"Course 1\",Général!I$148,IF($N$5=\"Course 2\",Général!I$150,IF($N$5=\"Course 3\",Général!I$152,Général!I$154)))","v":"Univ Nantes 3"},{"$f":"IF($O$5=\"Course 1\",Général!I$158,IF($O$5=\"Course 2\",Général!I$160,IF($O$5=\"Course 3\",Général!I$162,Général!I$164)))","v":"Centrale Nantes 2"},{"$f":"IF($P$5=\"Course 1\",Général!I$168,IF($P$5=\"Course 2\",Général!I$170,IF($P$5=\"Course 3\",Général!I$172,Général!I$174)))","v":"Centrale Nantes 2"},{"$f":"IF($Q$5=\"Course 1\",Général!I$178,IF($Q$5=\"Course 2\",Général!I$180,IF($Q$5=\"Course 3\",Général!I$182,Général!I$184)))","v":"Orléans"},{"$f":"IF($R$5=\"Course 1\",Général!I$188,IF($R$5=\"Course 2\",Général!I$190,IF($R$5=\"Course 3\",Général!I$192,Général!I$194)))","v":"UBS Lorient 2"},{"$f":"IF($S$5=\"Course 1\",Général!I$198,IF($S$5=\"Course 2\",Général!I$200,IF($S$5=\"Course 3\",Général!I$202,Général!I$204)))","v":"IMT Brest 1"},{"$f":"IF($T$5=\"Course 1\",Général!I$208,IF($T$5=\"Course 2\",Général!I$210,IF($T$5=\"Course 3\",Général!I$212,Général!I$214)))","v":"UNIV Nantes 1"},null,{"$f":"Général!B17","v":"ENSMAC"},16]
["9ème Equipage",null,{"$f":"IF($C$5=\"Course 1\",Général!J38,IF($C$5=\"Course 2\",Général!J40,IF($C$5=\"Course 3\",Général!J42,Général!J44)))","v":"ENSMAC"},{"$f":"IF($D$5=\"Course 1\",Général!J48,IF($D$5=\"Course 2\",Général!J50,IF($D$5=\"Course 3\",Général!J52,Général!J54)))","v":"Southampton"},{"$f":"IF($E$5=\"Course 1\",Général!J58,IF($E$5=\"Course 2\",Général!J60,IF($E$5=\"Course 3\",Général!J62,Général!J64)))","v":"Southampton"},{"$f":"IF($F$5=\"Course 1\",Général!J$68,IF($F$5=\"Course 2\",Général!J$70,IF($F$5=\"Course 3\",Général!J$72,Général!J$74)))","v":"IMT Nantes"},{"$f":"IF($G$5=\"Course 1\",Général!J$78,IF($G$5=\"Course 2\",Général!J$80,IF($G$5=\"Course 3\",Général!J$82,Général!J$84)))","v":"ENSTA 1"},{"$f":"IF($H$5=\"Course 1\",Général!J$88,IF($H$5=\"Course 2\",Général!J$90,IF($H$5=\"Course 3\",Général!$J92,Général!J$94)))","v":"Centrale Nantes 2"},{"$f":"IF($I$5=\"Course 1\",Général!J$98,IF($I$5=\"Course 2\",Général!J$100,IF($I$5=\"Course 3\",Général!J$102,Général!J$104)))","v":"UBO 1"},{"$f":"IF($J$5=\"Course 1\",Général!J$108,IF($J$5=\"Course 2\",Général!J$110,IF($J$5=\"Course 3\",Général!J$112,Général!J$114)))","v":"Orléans"},{"$f":"IF($K$5=\"Course 1\",Général!J$118,IF($K$5=\"Course 2\",Général!J$120,IF($K$5=\"Course 3\",Général!J$122,Général!J$124)))","v":"La Rochelle 1"},{"$f":"IF($L$5=\"Course 1\",Général!J$128,IF($L$5=\"Course 2\",Général!J$130,IF($L$5=\"Course 3\",Général!J$132,Général!J$134)))","v":"ST Brieuc 2"},{"$f":"IF($M$5=\"Course 1\",Général!J$138,IF($M$5=\"Course 2\",Général!J$140,IF($M$5=\"Course 3\",Général!J$142,Général!J$144)))","v":"IMT Nantes"},{"$f":"IF($N$5=\"Course 1\",Général!J$148,IF($N$5=\"Course 2\",Général!J$150,IF($N$5=\"Course 3\",Général!J$152,Général!J$154)))","v":"ENSTA 2"},{"$f":"IF($O$5=\"Course 1\",Général!J$158,IF($O$5=\"Course 2\",Général!J$160,IF($O$5=\"Course 3\",Général!J$162,Général!J$164)))","v":"Intechmer"},{"$f":"IF($P$5=\"Course 1\",Général!J$168,IF($P$5=\"Course 2\",Général!J$170,IF($P$5=\"Course 3\",Général!J$172,Général!J$174)))","v":"Southampton"},{"$f":"IF($Q$5=\"Course 1\",Général!J$178,IF($Q$5=\"Course 2\",Général!J$180,IF($Q$5=\"Course 3\",Général!J$182,Général!J$184)))","v":"IMT Nantes"},{"$f":"IF($R$5=\"Course 1\",Général!J$188,IF($R$5=\"Course 2\",Général!J$190,IF($R$5=\"Course 3\",Général!J$192,Général!J$194)))","v":"UBS Lorient 1"},{"$f":"IF($S$5=\"Course 1\",Général!J$198,IF($S$5=\"Course 2\",Général!J$200,IF($S$5=\"Course 3\",Général!J$202,Général!J$204)))","v":"Hannover"},{"$f":"IF($T$5=\"Course 1\",Général!J$208,IF($T$5=\"Course 2\",Général!J$210,IF($T$5=\"Course 3\",Général!J$212,Général!J$214)))","v":"Centrale Nantes 2"},null,{"$f":"Général!B18","v":"St Brieuc 1"},4]
["10ème Equipage",null,{"$f":"IF($C$5=\"Course 1\",Général!K38,IF($C$5=\"Course 2\",Général!K40,IF($C$5=\"Course 3\",Général!K42,Général!K44)))","v":"Paris Sorbone"},{"$f":"IF($D$5=\"Course 1\",Général!K48,IF($D$5=\"Course 2\",Général!K50,IF($D$5=\"Course 3\",Général!K52,Général!K54)))","v":"ENSMAC"},{"$f":"IF($E$5=\"Course 1\",Général!K58,IF($E$5=\"Course 2\",Général!K60,IF($E$5=\"Course 3\",Général!K62,Général!K64)))","v":"UBO 1"},{"$f":"IF($F$5=\"Course 1\",Général!K$68,IF($F$5=\"Course 2\",Général!K$70,IF($F$5=\"Course 3\",Général!K$72,Général!K$74)))","v":"UBO 2"},{"$f":"IF($G$5=\"Course 1\",Général!K$78,IF($G$5=\"Course 2\",Général!K$80,IF($G$5=\"Course 3\",Général!K$82,Général!K$84)))","v":"UBO 2"},{"$f":"IF($H$5=\"Course 1\",Général!K$88,IF($H$5=\"Course 2\",Général!K$90,IF($H$5=\"Course 3\",Général!$K92,Général!K$94)))","v":"Univ Nantes 3"},{"$f":"IF($I$5=\"Course 1\",Général!K$98,IF($I$5=\"Course 2\",Général!K$100,IF($I$5=\"Course 3\",Général!K$102,Général!K$104)))","v":"ENSMAC"},{"$f":"IF($J$5=\"Course 1\",Général!K$108,IF($J$5=\"Course 2\",Général!K$110,IF($J$5=\"Course 3\",Général!K$112,Général!K$114)))","v":"Plymouth"},{"$f":"IF($K$5=\"Course 1\",Général!K$118,IF($K$5=\"Course 2\",Général!K$120,IF($K$5=\"Course 3\",Général!K$122,Général!K$124)))","v":"Univ Nantes 3"},{"$f":"IF($L$5=\"Course 1\",Général!K$128,IF($L$5=\"Course 2\",Général!K$130,IF($L$5=\"Course 3\",Général!K$132,Général!K$134)))","v":"Southampton"},{"$f":"IF($M$5=\"Course 1\",Général!K$138,IF($M$5=\"Course 2\",Général!K$140,IF($M$5=\"Course 3\",Général!K$142,Général!K$144)))","v":"INSA Lyon"},{"$f":"IF($N$5=\"Course 1\",Général!K$148,IF($N$5=\"Course 2\",Général!K$150,IF($N$5=\"Course 3\",Général!K$152,Général!K$154)))","v":"ENSTA 1"},{"$f":"IF($O$5=\"Course 1\",Général!K$158,IF($O$5=\"Course 2\",Général!K$160,IF($O$5=\"Course 3\",Général!K$162,Général!K$164)))","v":"IMT Brest 2"},{"$f":"IF($P$5=\"Course 1\",Général!K$168,IF($P$5=\"Course 2\",Général!K$170,IF($P$5=\"Course 3\",Général!K$172,Général!K$174)))","v":"UBO 2"},{"$f":"IF($Q$5=\"Course 1\",Général!K$178,IF($Q$5=\"Course 2\",Général!K$180,IF($Q$5=\"Course 3\",Général!K$182,Général!K$184)))","v":"Paris Sorbone"},{"$f":"IF($R$5=\"Course 1\",Général!K$188,IF($R$5=\"Course 2\",Général!K$190,IF($R$5=\"Course 3\",Général!K$192,Général!K$194)))","v":"UBO 1"},{"$f":"IF($S$5=\"Course 1\",Général!K$198,IF($S$5=\"Course 2\",Général!K$200,IF($S$5=\"Course 3\",Général!K$202,Général!K$204)))","v":"Univ Nantes 3"},{"$f":"IF($T$5=\"Course 1\",Général!K$208,IF($T$5=\"Course 2\",Général!K$210,IF($T$5=\"Course 3\",Général!K$212,Général!K$214)))","v":"Paris Cité"},null,{"$f":"Général!B19","v":"Hannover"},5]
[null,null,null,null,null,null,null,null,null,null,null,null,null,null,null,null,null,null,null,null,null,{"$f":"Général!B20","v":"ENSTA 2"},8]
[null,null,null,null,null,null,null,null,null,null,null,null,null,null,null,null,null,null,null,null,null,{"$f":"Général!B21","v":"Southampton"},7]
[null,null,null,null,null,null,null,null,null,null,null,null,null,null,null,null,null,null,null,null,null,{"$f":"Général!B22","v":"La Rochelle 1"},2]
[null,null,null,null,null,null,null,null,null,null,null,null,null,null,null,null,null,null,null,null,null,{"$f":"Général!B23","v":"Centrale Nantes 1"},4]
[null,null,null,null,null,null,null,null,null,null,null,null,null,null,null,null,null,null,null,null,null,{"$f":"Général!B24","v":"ST Brieuc 2"},7]
[null,null,null,null,null,null,null,null,null,null,null,null,null,null,null,null,null,null,null,null,null,{"$f":"Général!B25","v":"UNIV Nantes 1"},8]
[null,null,null,null,null,null,null,null,null,null,null,null,null,null,null,null,null,null,null,null,null,{"$f":"Général!B26","v":"Intechmer"},6]
[null,null,null,null,null,null,null,null,null,null,null,null,null,null,null,null,null,null,null,null,null,{"$f":"Général!B27","v":"IMT Nantes"},6]
[null,null,null,null,null,null,null,null,null,null,null,null,null,null,null,null,null,null,null,null,null,{"$f":"Général!B28","v":"INSA Lyon"},5]
[null,null,null,null,null,null,null,null,null,null,null,null,null,null,null,null,null,null,null,null,null,{"$f":"Général!B29","v":"Centrale Nantes 2"},7]
[null,null,null,null,null,null,null,null,null,null,null,null,null,null,null,null,null,null,null,null,null,{"$f":"Général!B30","v":"UBS Lorient 2"},6]
[null,null,null,null,null,null,null,null,null,null,null,null,null,null,null,null,null,null,null,null,null,{"$f":"Général!B31","v":"La Rochelle 2"},5]
[null,null,null,null,null,null,null,null,null,null,null,null,null,null,null,null,null,null,null,null,null,{"$f":"Général!B32","v":"UBO 1"},7]
[null,null,null,null,null,null,null,null,null,null,null,null,null,null,null,null,null,null,null,null,null,{"$f":"Général!B33","v":"Eq.31"},0]
[null,null,null,null,null,null,null,null,null,null,null,null,null,null,null,null,null,null,null,null,null,{"$f":"Général!B34","v":"Eq.32"},0]

{"sheet":"Eq.16","index":21,"n_rows":32,"n_cols":23,"rows_kept":32,"cut":false,"hidden":false,"merged":[[7,0,7,1],[0,0,1,5],[0,6,1,10],[3,0,3,1],[4,0,4,1],[5,0,5,1],[14,0,14,1],[15,0,15,1],[16,0,16,1],[8,0,8,1],[9,0,9,1],[10,0,10,1],[11,0,11,1],[12,0,12,1],[13,0,13,1]]}
["Equipage ",null,null,null,null,null,{"$f":"Général!B18","v":"St Brieuc 1"},null,null,null,null,null,null,null,null,null,null,null,null,null,null,{"$f":"Général!B3","v":"UBO 2"},{"$f":"COUNTIF(C$8:T$16,V1)","v":5}]
[null,null,null,null,null,null,null,null,null,null,null,null,null,null,null,null,null,null,null,null,null,{"$f":"Général!B4","v":"Paris Sorbone"},{"$f":"COUNTIF($C$8:$T$16,V2)","v":6}]
[null,null,null,null,null,null,null,null,null,null,null,null,null,null,null,null,null,null,null,null,null,{"$f":"Général!B5","v":"UBS Lorient 1"},{"$f":"COUNTIF($C$8:$T$16,V3)","v":6}]
[null,null,"FLIGHT 1","FLIGHT 2","FLIGHT 3","FLIGHT 4","FLIGHT 5","FLIGHT 6","FLIGHT 7","FLIGHT 8","FLIGHT 9","FLIGHT 10","FLIGHT 11","FLIGHT 12","FLIGHT 13","FLIGHT 14","FLIGHT 15","FLIGHT 16","FLIGHT 17","FLIGHT 18",null,{"$f":"Général!B6","v":"Univ Nantes 3"},5]
["N° de course",null,{"$f":"IF(COUNTIF(Général!B38:K38,$G$1)=1,\"Course 1\",IF(COUNTIF(Général!B40:K40,$G$1)=1,\"Course 2\",IF(COUNTIF(Général!B42:K42,$G$1)=1,\"Course 3\",\"Course 4\")))","v":"Course 1"},{"$f":"IF(COUNTIF(Général!B48:K48,$G$1)=1,\"Course 1\",IF(COUNTIF(Général!B50:K50,$G$1)=1,\"Course 2\",IF(COUNTIF(Général!B52:K52,$G$1)=1,\"Course 3\",\"Course 4\")))","v":"Course 2"},{"$f":"IF(COUNTIF(Général!B58:K58,$G$1)=1,\"Course 1\",IF(COUNTIF(Général!B60:K60,$G$1)=1,\"Course 2\",IF(COUNTIF(Général!B62:K62,$G$1)=1,\"Course 3\",\"Course 4\")))","v":"Course 3"},{"$f":"IF(COUNTIF(Général!B68:K68,$G$1)=1,\"Course 1\",IF(COUNTIF(Général!B70:K70,$G$1)=1,\"Course 2\",IF(COUNTIF(Général!B72:K72,$G$1)=1,\"Course 3\",\"Course 4\")))","v":"Course 3"},{"$f":"IF(COUNTIF(Général!B78:K78,$G$1)=1,\"Course 1\",IF(COUNTIF(Général!B80:K80,$G$1)=1,\"Course 2\",IF(COUNTIF(Général!B82:K82,$G$1)=1,\"Course 3\",\"Course 4\")))","v":"Course 2"},{"$f":"IF(COUNTIF(Général!B88:K88,$G$1)=1,\"Course 1\",IF(COUNTIF(Général!B90:K90,$G$1)=1,\"Course 2\",IF(COUNTIF(Général!B92:K92,$G$1)=1,\"Course 3\",\"Course 4\")))","v":"Course 3"},{"$f":"IF(COUNTIF(Général!B98:K98,$G$1)=1,\"Course 1\",IF(COUNTIF(Général!B100:K100,$G$1)=1,\"Course 2\",IF(COUNTIF(Général!B102:K102,$G$1)=1,\"Course 3\",\"Course 4\")))","v":"Course 1"},{"$f":"IF(COUNTIF(Général!B108:K108,$G$1)=1,\"Course 1\",IF(COUNTIF(Général!B110:K110,$G$1)=1,\"Course 2\",IF(COUNTIF(Général!B112:K112,$G$1)=1,\"Course 3\",\"Course 4\")))","v":"Course 1"},{"$f":"IF(COUNTIF(Général!B118:K118,$G$1)=1,\"Course 1\",IF(COUNTIF(Général!B120:K120,$G$1)=1,\"Course 2\",IF(COUNTIF(Général!B122:K122,$G$1)=1,\"Course 3\",\"Course 4\")))","v":"Course 1"},{"$f":"IF(COUNTIF(Général!B128:K128,$G$1)=1,\"Course 1\",IF(COUNTIF(Général!B130:K130,$G$1)=1,\"Course 2\",IF(COUNTIF(Général!B132:K132,$G$1)=1,\"Course 3\",\"Course 4\")))","v":"Course 3"},{"$f":"IF(COUNTIF(Général!B138:K138,$G$1)=1,\"Course 1\",IF(COUNTIF(Général!B140:K140,$G$1)=1,\"Course 2\",IF(COUNTIF(Général!B142:K142,$G$1)=1,\"Course 3\",\"Course 4\")))","v":"Course 1"},{"$f":"IF(COUNTIF(Général!B148:K148,$G$1)=1,\"Course 1\",IF(COUNTIF(Général!B150:K150,$G$1)=1,\"Course 2\",IF(COUNTIF(Général!B152:K152,$G$1)=1,\"Course 3\",\"Course 4\")))","v":"Course 1"},{"$f":"IF(COUNTIF(Général!B158:K158,$G$1)=1,\"Course 1\",IF(COUNTIF(Général!B160:K160,$G$1)=1,\"Course 2\",IF(COUNTIF(Général!B162:K162,$G$1)=1,\"Course 3\",\"Course 4\")))","v":"Course 3"},{"$f":"IF(COUNTIF(Général!B168:K168,$G$1)=1,\"Course 1\",IF(COUNTIF(Général!B170:K170,$G$1)=1,\"Course 2\",IF(COUNTIF(Général!B172:K172,$G$1)=1,\"Course 3\",\"Course 4\")))","v":"Course 1"},{"$f":"IF(COUNTIF(Général!B178:K178,$G$1)=1,\"Course 1\",IF(COUNTIF(Général!B180:K180,$G$1)=1,\"Course 2\",IF(COUNTIF(Général!B182:K182,$G$1)=1,\"Course 3\",\"Course 4\")))","v":"Course 2"},{"$f":"IF(COUNTIF(Général!B188:K188,$G$1)=1,\"Course 1\",IF(COUNTIF(Général!B190:K190,$G$1)=1,\"Course 2\",IF(COUNTIF(Général!B192:K192,$G$1)=1,\"Course 3\",\"Course 4\")))","v":"Course 1"},{"$f":"IF(COUNTIF(Général!B198:K198,$G$1)=1,\"Course 1\",IF(COUNTIF(Général!B200:K200,$G$1)=1,\"Course 2\",IF(COUNTIF(Général!B202:K202,$G$1)=1,\"Course 3\",\"Course 4\")))","v":"Course 1"},{"$f":"IF(COUNTIF(Général!B208:K208,$G$1)=1,\"Course 1\",IF(COUNTIF(Général!B210:K210,$G$1)=1,\"Course 2\",IF(COUNTIF(Général!B212:K212,$G$1)=1,\"Course 3\",\"Course 4\")))","v":"Course 1"},null,{"$f":"Général!B7","v":"Paris Cité"},5]
["Bateau",null,{"$f":"IF(COUNTIF(Général!B38:B44,$G$1)=1,\"Boat 1\",IF(COUNTIF(Général!C38:C44,$G$1)=1,\"Boat 2\",IF(COUNTIF(Général!D38:D44,$G$1)=1,\"Boat 3\", IF(COUNTIF(Général!E38:E44,$G$1)=1,\"Boat 4\", IF(COUNTIF(Général!F38:F44,$G$1)=1,\"Boat 5\", IF(COUNTIF(Général!G38:G44,$G$1)=1,\"Boat 6\", IF(COUNTIF(Général!H38:H44,$G$1)=1,\"Boat 7\",IF(COUNTIF(Général!I38:I44,$G$1)=1,\"Boat 8\",\"Boat 9\"))))))))","v":"Boat 3"},{"$f":"IF(COUNTIF(Général!B48:B54,$G$1)=1,\"Boat 1\",IF(COUNTIF(Général!C48:C54,$G$1)=1,\"Boat 2\",IF(COUNTIF(Général!D48:D54,$G$1)=1,\"Boat 3\", IF(COUNTIF(Général!E48:E54,$G$1)=1,\"Boat 4\", IF(COUNTIF(Général!F48:F54,$G$1)=1,\"Boat 5\", IF(COUNTIF(Général!G48:G54,$G$1)=1,\"Boat 6\", IF(COUNTIF(Général!H48:H54,$G$1)=1,\"Boat 7\",IF(COUNTIF(Général!I38:I44,$G$1)=1,\"Boat 8\",\"Boat 9\"))))))))","v":"Boat 1"},{"$f":"IF(COUNTIF(Général!B58:B64,$G$1)=1,\"Boat 1\",IF(COUNTIF(Général!C58:C64,$G$1)=1,\"Boat 2\",IF(COUNTIF(Général!D58:D64,$G$1)=1,\"Boat 3\", IF(COUNTIF(Général!E58:E64,$G$1)=1,\"Boat 4\", IF(COUNTIF(Général!F58:F64,$G$1)=1,\"Boat 5\", IF(COUNTIF(Général!G58:G64,$G$1)=1,\"Boat 6\", IF(COUNTIF(Général!H58:H64,$G$1)=1,\"Boat 7\",IF(COUNTIF(Général!I38:I44,$G$1)=1,\"Boat 8\",\"Boat 9\"))))))))","v":"Boat 3"},{"$f":"IF(COUNTIF(Général!B68:B74,$G$1)=1,\"Boat 1\",IF(COUNTIF(Général!C68:C74,$G$1)=1,\"Boat 2\",IF(COUNTIF(Général!D68:D74,$G$1)=1,\"Boat 3\", IF(COUNTIF(Général!E68:E74,$G$1)=1,\"Boat 4\", IF(COUNTIF(Général!F68:F74,$G$1)=1,\"Boat 5\", IF(COUNTIF(Général!G68:G74,$G$1)=1,\"Boat 6\", IF(COUNTIF(Général!H68:H74,$G$1)=1,\"Boat 7\",IF(COUNTIF(Général!I38:I44,$G$1)=1,\"Boat 8\",\"Boat 9\"))))))))","v":"Boat 2"},{"$f":"IF(COUNTIF(Général!B78:B84,$G$1)=1,\"Boat 1\",IF(COUNTIF(Général!C78:C84,$G$1)=1,\"Boat 2\",IF(COUNTIF(Général!D78:D84,$G$1)=1,\"Boat 3\", IF(COUNTIF(Général!E78:E84,$G$1)=1,\"Boat 4\", IF(COUNTIF(Général!F78:F84,$G$1)=1,\"Boat 5\", IF(COUNTIF(Général!G78:G84,$G$1)=1,\"Boat 6\", IF(COUNTIF(Général!H78:H84,$G$1)=1,\"Boat 7\",IF(COUNTIF(Général!I38:I44,$G$1)=1,\"Boat 8\",\"Boat 9\"))))))))","v":"Boat 4"},{"$f":"IF(COUNTIF(Général!B88:B94,$G$1)=1,\"Boat 1\",IF(COUNTIF(Général!C88:C94,$G$1)=1,\"Boat 2\",IF(COUNTIF(Général!D88:D94,$G$1)=1,\"Boat 3\", IF(COUNTIF(Général!E88:E94,$G$1)=1,\"Boat 4\", IF(COUNTIF(Général!F88:F94,$G$1)=1,\"Boat 5\", IF(COUNTIF(Général!G88:G94,$G$1)=1,\"Boat 6\", IF(COUNTIF(Général!H88:H94,$G$1)=1,\"Boat 7\",IF(COUNTIF(Général!I38:I44,$G$1)=1,\"Boat 8\",\"Boat 9\"))))))))","v":"Boat 9"},{"$f":"IF(COUNTIF(Général!B98:B104,$G$1)=1,\"Boat 1\",IF(COUNTIF(Général!C98:C104,$G$1)=1,\"Boat 2\",IF(COUNTIF(Général!D98:D104,$G$1)=1,\"Boat 3\", IF(COUNTIF(Général!E98:E104,$G$1)=1,\"Boat 4\", IF(COUNTIF(Général!F98:F104,$G$1)=1,\"Boat 5\", IF(COUNTIF(Général!G98:G104,$G$1)=1,\"Boat 6\", IF(COUNTIF(Général!H98:H104,$G$1)=1,\"Boat 7\",IF(COUNTIF(Général!I38:I44,$G$1)=1,\"Boat 8\",\"Boat 9\"))))))))","v":"Boat 9"},{"$f":"IF(COUNTIF(Général!B108:B114,$G$1)=1,\"Boat 1\",IF(COUNTIF(Général!C108:C114,$G$1)=1,\"Boat 2\",IF(COUNTIF(Général!D108:D114,$G$1)=1,\"Boat 3\", IF(COUNTIF(Général!E108:E114,$G$1)=1,\"Boat 4\", IF(COUNTIF(Général!F108:F114,$G$1)=1,\"Boat 5\", IF(COUNTIF(Général!G108:G114,$G$1)=1,\"Boat 6\", IF(COUNTIF(Général!H108:H114,$G$1)=1,\"Boat 7\",IF(COUNTIF(Général!I38:I44,$G$1)=1,\"Boat 8\",\"Boat 9\"))))))))","v":"Boat 7"},{"$f":"IF(COUNTIF(Général!B118:B124,$G$1)=1,\"Boat 1\",IF(COUNTIF(Général!C118:C124,$G$1)=1,\"Boat 2\",IF(COUNTIF(Général!D118:D124,$G$1)=1,\"Boat 3\", IF(COUNTIF(Général!E118:E124,$G$1)=1,\"Boat 4\", IF(COUNTIF(Général!F118:F124,$G$1)=1,\"Boat 5\", IF(COUNTIF(Général!G118:G124,$G$1)=1,\"Boat 6\", IF(COUNTIF(Général!H118:H124,$G$1)=1,\"Boat 7\",IF(COUNTIF(Général!I38:I44,$G$1)=1,\"Boat 8\",\"Boat 9\"))))))))","v":"Boat 6"},{"$f":"IF(COUNTIF(Général!B128:B134,$G$1)=1,\"Boat 1\",IF(COUNTIF(Général!C128:C134,$G$1)=1,\"Boat 2\",IF(COUNTIF(Général!D128:D134,$G$1)=1,\"Boat 3\", IF(COUNTIF(Général!E128:E134,$G$1)=1,\"Boat 4\", IF(COUNTIF(Général!F128:F134,$G$1)=1,\"Boat 5\", IF(COUNTIF(Général!G128:G134,$G$1)=1,\"Boat 6\", IF(COUNTIF(Général!H128:H134,$G$1)=1,\"Boat 7\",IF(COUNTIF(Général!I38:I44,$G$1)=1,\"Boat 8\",\"Boat 9\"))))))))","v":"Boat 9"},{"$f":"IF(COUNTIF(Général!B138:B144,$G$1)=1,\"Boat 1\",IF(COUNTIF(Général!C138:C144,$G$1)=1,\"Boat 2\",IF(COUNTIF(Général!C138:D144,$G$1)=1,\"Boat 3\", IF(COUNTIF(Général!C138:E144,$G$1)=1,\"Boat 4\", IF(COUNTIF(Général!F138:F144,$G$1)=1,\"Boat 5\", IF(COUNTIF(Général!G138:G144,$G$1)=1,\"Boat 6\", IF(COUNTIF(Général!H138:H144,$G$1)=1,\"Boat 7\",IF(COUNTIF(Général!I38:I44,$G$1)=1,\"Boat 8\",\"Boat 9\"))))))))","v":"Boat 9"},{"$f":"IF(COUNTIF(Général!B148:B154,$G$1)=1,\"Boat 1\",IF(COUNTIF(Général!C148:C154,$G$1)=1,\"Boat 2\",IF(COUNTIF(Général!D148:D154,$G$1)=1,\"Boat 3\", IF(COUNTIF(Général!E148:E154,$G$1)=1,\"Boat 4\", IF(COUNTIF(Général!F148:F154,$G$1)=1,\"Boat 5\", IF(COUNTIF(Général!G148:G154,$G$1)=1,\"Boat 6\", IF(COUNTIF(Général!H148:H154,$G$1)=1,\"Boat 7\",IF(COUNTIF(Général!I38:I44,$G$1)=1,\"Boat 8\",\"Boat 9\"))))))))","v":"Boat 1"},{"$f":"IF(COUNTIF(Général!B158:B164,$G$1)=1,\"Boat 1\",IF(COUNTIF(Général!C158:C164,$G$1)=1,\"Boat 2\",IF(COUNTIF(Général!D160:D164,$G$1)=1,\"Boat 3\", IF(COUNTIF(Général!E158:E164,$G$1)=1,\"Boat 4\", IF(COUNTIF(Général!F158:F164,$G$1)=1,\"Boat 5\", IF(COUNTIF(Général!G158:G164,$G$1)=1,\"Boat 6\", IF(COUNTIF(Général!H158:H164,$G$1)=1,\"Boat 7\",IF(COUNTIF(Général!I38:I44,$G$1)=1,\"Boat 8\",\"Boat 9\"))))))))","v":"Boat 1"},{"$f":"IF(COUNTIF(Général!B168:B174,$G$1)=1,\"Boat 1\",IF(COUNTIF(Général!C168:C174,$G$1)=1,\"Boat 2\",IF(COUNTIF(Général!D168:D174,$G$1)=1,\"Boat 3\", IF(COUNTIF(Général!E168:E174,$G$1)=1,\"Boat 4\", IF(COUNTIF(Général!F178:F184,$G$1)=1,\"Boat 5\", IF(COUNTIF(Général!G178:G184,$G$1)=1,\"Boat 6\", IF(COUNTIF(Général!H178:H184,$G$1)=1,\"Boat 7\",IF(COUNTIF(Général!I38:I44,$G$1)=1,\"Boat 8\",\"Boat 9\"))))))))","v":"Boat 1"},{"$f":"IF(COUNTIF(Général!B178:B184,$G$1)=1,\"Boat 1\",IF(COUNTIF(Général!C178:C184,$G$1)=1,\"Boat 2\",IF(COUNTIF(Général!D178:D184,$G$1)=1,\"Boat 3\", IF(COUNTIF(Général!E178:E184,$G$1)=1,\"Boat 4\", IF(COUNTIF(Général!F178:F184,$G$1)=1,\"Boat 5\", IF(COUNTIF(Général!G178:G184,$G$1)=1,\"Boat 6\", IF(COUNTIF(Général!H178:H184,$G$1)=1,\"Boat 7\",IF(COUNTIF(Général!I38:I44,$G$1)=1,\"Boat 8\",\"Boat 9\"))))))))","v":"Boat 4"},{"$f":"IF(COUNTIF(Général!B188:B194,$G$1)=1,\"Boat 1\",IF(COUNTIF(Général!C188:C194,$G$1)=1,\"Boat 2\",IF(COUNTIF(Général!D188:D194,$G$1)=1,\"Boat 3\", IF(COUNTIF(Général!E188:E194,$G$1)=1,\"Boat 4\", IF(COUNTIF(Général!F188:F194,$G$1)=1,\"Boat 5\", IF(COUNTIF(Général!G188:G194,$G$1)=1,\"Boat 6\", IF(COUNTIF(Général!H188:H194,$G$1)=1,\"Boat 7\",IF(COUNTIF(Général!I38:I44,$G$1)=1,\"Boat 8\",\"Boat 9\"))))))))","v":"Boat 4"},{"$f":"IF(COUNTIF(Général!B198:B204,$G$1)=1,\"Boat 1\",IF(COUNTIF(Général!C198:C204,$G$1)=1,\"Boat 2\",IF(COUNTIF(Général!D198:D204,$G$1)=1,\"Boat 3\", IF(COUNTIF(Général!E198:E204,$G$1)=1,\"Boat 4\", IF(COUNTIF(Général!F198:F204,$G$1)=1,\"Boat 5\", IF(COUNTIF(Général!G198:G204,$G$1)=1,\"Boat 6\", IF(COUNTIF(Général!H198:H204,$G$1)=1,\"Boat 7\",IF(COUNTIF(Général!I38:I44,$G$1)=1,\"Boat 8\",\"Boat 9\"))))))))","v":"Boat 4"},{"$f":"IF(COUNTIF(Général!B208:B214,$G$1)=1,\"Boat 1\",IF(COUNTIF(Général!C208:C214,$G$1)=1,\"Boat 2\",IF(COUNTIF(Général!D208:D214,$G$1)=1,\"Boat 3\", IF(COUNTIF(Général!E208:E214,$G$1)=1,\"Boat 4\", IF(COUNTIF(Général!F208:F214,$G$1)=1,\"Boat 5\", IF(COUNTIF(Général!G208:G214,$G$1)=1,\"Boat 6\", IF(COUNTIF(Général!H208:H214,$G$1)=1,\"Boat 7\",IF(COUNTIF(Général!I38:I44,$G$1)=1,\"Boat 8\",\"Boat 9\"))))))))","v":"Boat 7"},null,{"$f":"Général!B8","v":"Plymouth"},3]
[null,null,null,null,null,null,null,null,null,null,null,null,null,null,null,null,null,null,null,null,null,{"$f":"Général!B9","v":"Unicaen 2"},8]
["1er Equipage",null,{"$f":"IF($C$5=\"Course 1\",Général!B38,IF($C$5=\"Course 2\",Général!B40,IF($C$5=\"Course 3\",Général!B42,Général!B44)))","v":"IMT Nantes"},{"$f":"IF($D$5=\"Course 1\",Général!B48,IF($D$5=\"Course 2\",Général!B50,IF($D$5=\"Course 3\",Général!B52,Général!B54)))","v":"St Brieuc 1"},{"$f":"IF($E$5=\"Course 1\",Général!B58,IF($E$5=\"Course 2\",Général!B60,IF($E$5=\"Course 3\",Général!B62,Général!B64)))","v":"ST Brieuc 2"},{"$f":"IF($F$5=\"Course 1\",Général!B$68,IF($F$5=\"Course 2\",Général!B$70,IF($F$5=\"Course 3\",Général!B$72,Général!B$74)))","v":"ENSMAC"},{"$f":"IF($G$5=\"Course 1\",Général!B$78,IF($G$5=\"Course 2\",Général!B$80,IF($G$5=\"Course 3\",Général!B$82,Général!B$84)))","v":"Plymouth"},{"$f":"IF($H$5=\"Course 1\",Général!B$88,IF($H$5=\"Course 2\",Général!B$90,IF($H$5=\"Course 3\",Général!B$92,Général!B$94)))","v":"Unicaen 2"},{"$f":"IF($I$5=\"Course 1\",Général!B$98,IF($I$5=\"Course 2\",Général!B$100,IF($I$5=\"Course 3\",Général!B$102,Général!B$104)))","v":"Centrale Nantes 2"},{"$f":"IF($J$5=\"Course 1\",Général!B$108,IF($J$5=\"Course 2\",Général!B$110,IF($J$5=\"Course 3\",Général!B$112,Général!B$114)))","v":"La Rochelle 2"},{"$f":"IF($K$5=\"Course 1\",Général!B$118,IF($K$5=\"Course 2\",Général!B$120,IF($K$5=\"Course 3\",Général!B$122,Général!B$124)))","v":"UNIV Nantes 1"},{"$f":"IF($L$5=\"Course 1\",Général!B$128,IF($L$5=\"Course 2\",Général!B$130,IF($L$5=\"Course 3\",Général!B$132,Général!B$134)))","v":"IMT Brest 2"},{"$f":"IF($M$5=\"Course 1\",Général!B$138,IF($M$5=\"Course 2\",Général!B$140,IF($M$5=\"Course 3\",Général!B$142,Général!B$144)))","v":"IMT Brest 2"},{"$f":"IF($N$5=\"Course 1\",Général!B$148,IF($N$5=\"Course 2\",Général!B$150,IF($N$5=\"Course 3\",Général!B$152,Général!B$154)))","v":"St Brieuc 1"},{"$f":"IF($O$5=\"Course 1\",Général!B$158,IF($O$5=\"Course 2\",Général!B$160,IF($O$5=\"Course 3\",Général!B$162,Général!B$164)))","v":"St Brieuc 1"},{"$f":"IF($P$5=\"Course 1\",Général!B$168,IF($P$5=\"Course 2\",Général!B$170,IF($P$5=\"Course 3\",Général!B$172,Général!B$174)))","v":"St Brieuc 1"},{"$f":"IF($Q$5=\"Course 1\",Général!B$178,IF($Q$5=\"Course 2\",Général!B$180,IF($Q$5=\"Course 3\",Général!B$182,Général!B$184)))","v":"La Rochelle 2"},{"$f":"IF($R$5=\"Course 1\",Général!B$188,IF($R$5=\"Course 2\",Général!B$190,IF($R$5=\"Course 3\",Général!B$192,Général!B$194)))","v":"IMT Brest 2"},{"$f":"IF($S$5=\"Course 1\",Général!B$198,IF($S$5=\"Course 2\",Général!B$200,IF($S$5=\"Course 3\",Général!B$202,Général!B$204)))","v":"ENSTA 1"},{"$f":"IF($T$5=\"Course 1\",Général!B$208,IF($T$5=\"Course 2\",Général!B$210,IF($T$5=\"Course 3\",Général!B$212,Général!B$214)))","v":"UBS Lorient 2"},null,{"$f":"Général!B10","v":"Univ Nantes 2"},4]
["2nd Equipage",null,{"$f":"IF($C$5=\"Course 1\",Général!C38,IF($C$5=\"Course 2\",Général!C40,IF($C$5=\"Course 3\",Général!C42,Général!C44)))","v":"Unicaen 1"},{"$f":"IF($D$5=\"Course 1\",Général!C48,IF($D$5=\"Course 2\",Général!C50,IF($D$5=\"Course 3\",Général!C52,Général!C54)))","v":"Univ Nantes 3"},{"$f":"IF($E$5=\"Course 1\",Général!C58,IF($E$5=\"Course 2\",Général!C60,IF($E$5=\"Course 3\",Général!C62,Général!C64)))","v":"La Rochelle 1"},{"$f":"IF($F$5=\"Course 1\",Général!C$68,IF($F$5=\"Course 2\",Général!C$70,IF($F$5=\"Course 3\",Général!C$72,Général!C$74)))","v":"St Brieuc 1"},{"$f":"IF($G$5=\"Course 1\",Général!C$78,IF($G$5=\"Course 2\",Général!C$80,IF($G$5=\"Course 3\",Général!C$82,Général!C$84)))","v":"Univ Nantes 3"},{"$f":"IF($H$5=\"Course 1\",Général!C$88,IF($H$5=\"Course 2\",Général!C$90,IF($H$5=\"Course 3\",Général!C$92,Général!C$94)))","v":"Paris Sorbone"},{"$f":"IF($I$5=\"Course 1\",Général!C$98,IF($I$5=\"Course 2\",Général!C$100,IF($I$5=\"Course 3\",Général!C$102,Général!C$104)))","v":"Intechmer"},{"$f":"IF($J$5=\"Course 1\",Général!C$108,IF($J$5=\"Course 2\",Général!C$110,IF($J$5=\"Course 3\",Général!C$112,Général!C$114)))","v":"ENSTA 2"},{"$f":"IF($K$5=\"Course 1\",Général!C$118,IF($K$5=\"Course 2\",Général!C$120,IF($K$5=\"Course 3\",Général!C$122,Général!C$124)))","v":"UBS Lorient 1"},{"$f":"IF($L$5=\"Course 1\",Général!C$128,IF($L$5=\"Course 2\",Général!C$130,IF($L$5=\"Course 3\",Général!C$132,Général!C$134)))","v":"UNIV Nantes 1"},{"$f":"IF($M$5=\"Course 1\",Général!C$138,IF($M$5=\"Course 2\",Général!C$140,IF($M$5=\"Course 3\",Général!C$142,Général!C$144)))","v":"UNIV Nantes 1"},{"$f":"IF($N$5=\"Course 1\",Général!C$148,IF($N$5=\"Course 2\",Général!C$150,IF($N$5=\"Course 3\",Général!C$152,Général!C$154)))","v":"Centrale Nantes 1"},{"$f":"IF($O$5=\"Course 1\",Général!C$158,IF($O$5=\"Course 2\",Général!C$160,IF($O$5=\"Course 3\",Général!C$162,Général!C$164)))","v":"Karlsruhe"},{"$f":"IF($P$5=\"Course 1\",Général!C$168,IF($P$5=\"Course 2\",Général!C$170,IF($P$5=\"Course 3\",Général!C$172,Général!C$174)))","v":"Paris Sorbone"},{"$f":"IF($Q$5=\"Course 1\",Général!C$178,IF($Q$5=\"Course 2\",Général!C$180,IF($Q$5=\"Course 3\",Général!C$182,Général!C$184)))","v":"Unicaen 2"},{"$f":"IF($R$5=\"Course 1\",Général!C$188,IF($R$5=\"Course 2\",Général!C$190,IF($R$5=\"Course 3\",Général!C$192,Général!C$194)))","v":"IMT Nantes"},{"$f":"IF($S$5=\"Course 1\",Général!C$198,IF($S$5=\"Course 2\",Général!C$200,IF($S$5=\"Course 3\",Général!C$202,Général!C$204)))","v":"INSA Lyon"},{"$f":"IF($T$5=\"Course 1\",Général!C$208,IF($T$5=\"Course 2\",Général!C$210,IF($T$5=\"Course 3\",Général!C$212,Général!C$214)))","v":"Unicaen 2"},null,{"$f":"Général!B11","v":"Karlsruhe"},6]
["3ème Equipage",null,{"$f":"IF($C$5=\"Course 1\",Général!D38,IF($C$5=\"Course 2\",Général!D40,IF($C$5=\"Course 3\",Général!D42,Général!D44)))","v":"St Brieuc 1"},{"$f":"IF($D$5=\"Course 1\",Général!D48,IF($D$5=\"Course 2\",Général!D50,IF($D$5=\"Course 3\",Général!D52,Général!D54)))","v":"UBS Lorient 2"},{"$f":"IF($E$5=\"Course 1\",Général!D58,IF($E$5=\"Course 2\",Général!D60,IF($E$5=\"Course 3\",Général!D62,Général!D64)))","v":"St Brieuc 1"},{"$f":"IF($F$5=\"Course 1\",Général!D$68,IF($F$5=\"Course 2\",Général!D$70,IF($F$5=\"Course 3\",Général!D$72,Général!D$74)))","v":"Karlsruhe"},{"$f":"IF($G$5=\"Course 1\",Général!D$78,IF($G$5=\"Course 2\",Général!D$80,IF($G$5=\"Course 3\",Général!D$82,Général!D$84)))","v":"Paris Sorbone"},{"$f":"IF($H$5=\"Course 1\",Général!D$88,IF($H$5=\"Course 2\",Général!D$90,IF($H$5=\"Course 3\",Général!D$92,Général!D$94)))","v":"UBS Lorient 2"},{"$f":"IF($I$5=\"Course 1\",Général!D$98,IF($I$5=\"Course 2\",Général!D$100,IF($I$5=\"Course 3\",Général!D$102,Général!D$104)))","v":"UBS Lorient 2"},{"$f":"IF($J$5=\"Course 1\",Général!D$108,IF($J$5=\"Course 2\",Général!D$110,IF($J$5=\"Course 3\",Général!D$112,Général!D$114)))","v":"UBO 2"},{"$f":"IF($K$5=\"Course 1\",Général!D$118,IF($K$5=\"Course 2\",Général!D$120,IF($K$5=\"Course 3\",Général!D$122,Général!D$124)))","v":"ENSMAC"},{"$f":"IF($L$5=\"Course 1\",Général!D$128,IF($L$5=\"Course 2\",Général!D$130,IF($L$5=\"Course 3\",Général!D$132,Général!D$134)))","v":"UBS Lorient 1"},{"$f":"IF($M$5=\"Course 1\",Général!D$138,IF($M$5=\"Course 2\",Général!D$140,IF($M$5=\"Course 3\",Général!D$142,Général!D$144)))","v":"UBS Lorient 1"},{"$f":"IF($N$5=\"Course 1\",Général!D$148,IF($N$5=\"Course 2\",Général!D$150,IF($N$5=\"Course 3\",Général!D$152,Général!D$154)))","v":"Unicaen 1"},{"$f":"IF($O$5=\"Course 1\",Général!D$158,IF($O$5=\"Course 2\",Général!D$160,IF($O$5=\"Course 3\",Général!D$162,Général!D$164)))","v":"ENSTA 1"},{"$f":"IF($P$5=\"Course 1\",Général!D$168,IF($P$5=\"Course 2\",Général!D$170,IF($P$5=\"Course 3\",Général!D$172,Général!D$174)))","v":"ENSTA 1"},{"$f":"IF($Q$5=\"Course 1\",Général!D$178,IF($Q$5=\"Course 2\",Général!D$180,IF($Q$5=\"Course 3\",Général!D$182,Général!D$184)))","v":"UBS Lorient 1"},{"$f":"IF($R$5=\"Course 1\",Général!D$188,IF($R$5=\"Course 2\",Général!D$190,IF($R$5=\"Course 3\",Général!D$192,Général!D$194)))","v":"La Rochelle 1"},{"$f":"IF($S$5=\"Course 1\",Général!D$198,IF($S$5=\"Course 2\",Général!D$200,IF($S$5=\"Course 3\",Général!D$202,Général!D$204)))","v":"Intechmer"},{"$f":"IF($T$5=\"Course 1\",Général!D$208,IF($T$5=\"Course 2\",Général!D$210,IF($T$5=\"Course 3\",Général!D$212,Général!D$214)))","v":"IMT Brest 2"},null,{"$f":"Général!B12","v":"IMT Brest 2"},5]
["4ème Equipage",null,{"$f":"IF($C$5=\"Course 1\",Général!E38,IF($C$5=\"Course 2\",Général!E40,IF($C$5=\"Course 3\",Général!E42,Général!E44)))","v":"La Rochelle 2"},{"$f":"IF($D$5=\"Course 1\",Général!E48,IF($D$5=\"Course 2\",Général!E50,IF($D$5=\"Course 3\",Général!E52,Général!E54)))","v":"ENSTA 2"},{"$f":"IF($E$5=\"Course 1\",Général!E58,IF($E$5=\"Course 2\",Général!E60,IF($E$5=\"Course 3\",Général!E62,Général!E64)))","v":"Plymouth"},{"$f":"IF($F$5=\"Course 1\",Général!E$68,IF($F$5=\"Course 2\",Général!E$70,IF($F$5=\"Course 3\",Général!E$72,Général!E$74)))","v":"UNIV Nantes 1"},{"$f":"IF($G$5=\"Course 1\",Général!E$78,IF($G$5=\"Course 2\",Général!E$80,IF($G$5=\"Course 3\",Général!E$82,Général!E$84)))","v":"St Brieuc 1"},{"$f":"IF($H$5=\"Course 1\",Général!E$88,IF($H$5=\"Course 2\",Général!E$90,IF($H$5=\"Course 3\",Général!E$92,Général!E$94)))","v":"UBS Lorient 1"},{"$f":"IF($I$5=\"Course 1\",Général!E$98,IF($I$5=\"Course 2\",Général!E$100,IF($I$5=\"Course 3\",Général!E$102,Général!E$104)))","v":"UNIV Nantes 1"},{"$f":"IF($J$5=\"Course 1\",Général!E$108,IF($J$5=\"Course 2\",Général!E$110,IF($J$5=\"Course 3\",Général!E$112,Général!E$114)))","v":"Paris Sorbone"},{"$f":"IF($K$5=\"Course 1\",Général!E$118,IF($K$5=\"Course 2\",Général!E$120,IF($K$5=\"Course 3\",Général!E$122,Général!E$124)))","v":"UBS Lorient 2"},{"$f":"IF($L$5=\"Course 1\",Général!E$128,IF($L$5=\"Course 2\",Général!E$130,IF($L$5=\"Course 3\",Général!E$132,Général!E$134)))","v":"Karlsruhe"},{"$f":"IF($M$5=\"Course 1\",Général!E$138,IF($M$5=\"Course 2\",Général!E$140,IF($M$5=\"Course 3\",Général!E$142,Général!E$144)))","v":"Orléans"},{"$f":"IF($N$5=\"Course 1\",Général!E$148,IF($N$5=\"Course 2\",Général!E$150,IF($N$5=\"Course 3\",Général!E$152,Général!E$154)))","v":"Orléans"},{"$f":"IF($O$5=\"Course 1\",Général!E$158,IF($O$5=\"Course 2\",Général!E$160,IF($O$5=\"Course 3\",Général!E$162,Général!E$164)))","v":"Univ Nantes 2"},{"$f":"IF($P$5=\"Course 1\",Général!E$168,IF($P$5=\"Course 2\",Général!E$170,IF($P$5=\"Course 3\",Général!E$172,Général!E$174)))","v":"Univ Nantes 2"},{"$f":"IF($Q$5=\"Course 1\",Général!E$178,IF($Q$5=\"Course 2\",Général!E$180,IF($Q$5=\"Course 3\",Général!E$182,Général!E$184)))","v":"St Brieuc 1"},{"$f":"IF($R$5=\"Course 1\",Général!E$188,IF($R$5=\"Course 2\",Général!E$190,IF($R$5=\"Course 3\",Général!E$192,Général!E$194)))","v":"St Brieuc 1"},{"$f":"IF($S$5=\"Course 1\",Général!E$198,IF($S$5=\"Course 2\",Général!E$200,IF($S$5=\"Course 3\",Général!E$202,Général!E$204)))","v":"St Brieuc 1"},{"$f":"IF($T$5=\"Course 1\",Général!E$208,IF($T$5=\"Course 2\",Général!E$210,IF($T$5=\"Course 3\",Général!E$212,Général!E$214)))","v":"IMT Nantes"},null,{"$f":"Général!B13","v":"Unicaen 1"},6]
["5ème Equipage",null,{"$f":"IF($C$5=\"Course 1\",Général!F38,IF($C$5=\"Course 2\",Général!F40,IF($C$5=\"Course 3\",Général!F42,Général!F44)))","v":"UBO 2"},{"$f":"IF($D$5=\"Course 1\",Général!F48,IF($D$5=\"Course 2\",Général!F50,IF($D$5=\"Course 3\",Général!F52,Général!F54)))","v":"ST Brieuc 2"},{"$f":"IF($E$5=\"Course 1\",Général!F58,IF($E$5=\"Course 2\",Général!F60,IF($E$5=\"Course 3\",Général!F62,Général!F64)))","v":"UBS Lorient 1"},{"$f":"IF($F$5=\"Course 1\",Général!F$68,IF($F$5=\"Course 2\",Général!F$70,IF($F$5=\"Course 3\",Général!F$72,Général!F$74)))","v":"Centrale Nantes 2"},{"$f":"IF($G$5=\"Course 1\",Général!F$78,IF($G$5=\"Course 2\",Général!F$80,IF($G$5=\"Course 3\",Général!F$82,Général!F$84)))","v":"INSA Lyon"},{"$f":"IF($H$5=\"Course 1\",Général!F$88,IF($H$5=\"Course 2\",Général!F$90,IF($H$5=\"Course 3\",Général!F$92,Général!F$94)))","v":"IMT Brest 1"},{"$f":"IF($I$5=\"Course 1\",Général!F$98,IF($I$5=\"Course 2\",Général!F$100,IF($I$5=\"Course 3\",Général!F$102,Général!F$104)))","v":"IMT Brest 1"},{"$f":"IF($J$5=\"Course 1\",Général!F$108,IF($J$5=\"Course 2\",Général!F$110,IF($J$5=\"Course 3\",Général!F$112,Général!F$114)))","v":"ST Brieuc 2"},{"$f":"IF($K$5=\"Course 1\",Général!F$118,IF($K$5=\"Course 2\",Général!F$120,IF($K$5=\"Course 3\",Général!F$122,Général!F$124)))","v":"Centrale Nantes 1"},{"$f":"IF($L$5=\"Course 1\",Général!F$128,IF($L$5=\"Course 2\",Général!$F130,IF($L$5=\"Course 3\",Général!F$132,Général!F$134)))","v":"Paris Sorbone"},{"$f":"IF($M$5=\"Course 1\",Général!F$138,IF($M$5=\"Course 2\",Général!F$140,IF($M$5=\"Course 3\",Général!F$142,Général!F$144)))","v":"Paris Cité"},{"$f":"IF($N$5=\"Course 1\",Général!F$148,IF($N$5=\"Course 2\",Général!F$150,IF($N$5=\"Course 3\",Général!F$152,Général!F$154)))","v":"Paris Cité"},{"$f":"IF($O$5=\"Course 1\",Général!F$158,IF($O$5=\"Course 2\",Général!F$160,IF($O$5=\"Course 3\",Général!F$162,Général!F$164)))","v":"UNIV Nantes 1"},{"$f":"IF($P$5=\"Course 1\",Général!F$168,IF($P$5=\"Course 2\",Général!F$170,IF($P$5=\"Course 3\",Général!F$172,Général!F$174)))","v":"Unicaen 1"},{"$f":"IF($Q$5=\"Course 1\",Général!F$178,IF($Q$5=\"Course 2\",Général!F$180,IF($Q$5=\"Course 3\",Général!F$182,Général!F$184)))","v":"ENSTA 2"},{"$f":"IF($R$5=\"Course 1\",Général!F$188,IF($R$5=\"Course 2\",Général!F$190,IF($R$5=\"Course 3\",Général!F$192,Général!F$194)))","v":"Hannover"},{"$f":"IF($S$5=\"Course 1\",Général!F$198,IF($S$5=\"Course 2\",Général!F$200,IF($S$5=\"Course 3\",Général!F$202,Général!F$204)))","v":"IMT Nantes"},{"$f":"IF($T$5=\"Course 1\",Général!F$208,IF($T$5=\"Course 2\",Général!F$210,IF($T$5=\"Course 3\",Général!F$212,Général!F$214)))","v":"ST Brieuc 2"},null,{"$f":"Général!B14","v":"ENSTA 1"},5]
["6ème Equipage",null,{"$f":"IF($C$5=\"Course 1\",Général!G38,IF($C$5=\"Course 2\",Général!G40,IF($C$5=\"Course 3\",Général!G42,Général!G44)))","v":"ENSTA 1"},{"$f":"IF($D$5=\"Course 1\",Général!G48,IF($D$5=\"Course 2\",Général!G50,IF($D$5=\"Course 3\",Général!G52,Général!G54)))","v":"La Rochelle 1"},{"$f":"IF($E$5=\"Course 1\",Général!G58,IF($E$5=\"Course 2\",Général!G60,IF($E$5=\"Course 3\",Général!G62,Général!G64)))","v":"IMT Brest 1"},{"$f":"IF($F$5=\"Course 1\",Général!G$68,IF($F$5=\"Course 2\",Général!G$70,IF($F$5=\"Course 3\",Général!G$72,Général!G$74)))","v":"Paris Sorbone"},{"$f":"IF($G$5=\"Course 1\",Général!G$78,IF($G$5=\"Course 2\",Général!G$80,IF($G$5=\"Course 3\",Général!G$82,Général!G$84)))","v":"Centrale Nantes 1"},{"$f":"IF($H$5=\"Course 1\",Général!G$88,IF($H$5=\"Course 2\",Général!G$90,IF($H$5=\"Course 3\",Général!G$92,Général!G$94)))","v":"IMT Brest 2"},{"$f":"IF($I$5=\"Course 1\",Général!G$98,IF($I$5=\"Course 2\",Général!G$100,IF($I$5=\"Course 3\",Général!G$102,Général!G$104)))","v":"Univ Nantes 2"},{"$f":"IF($J$5=\"Course 1\",Général!G$108,IF($J$5=\"Course 2\",Général!G$110,IF($J$5=\"Course 3\",Général!G$112,Général!G$114)))","v":"Centrale Nantes 2"},{"$f":"IF($K$5=\"Course 1\",Général!G$118,IF($K$5=\"Course 2\",Général!G$120,IF($K$5=\"Course 3\",Général!G$122,Général!G$124)))","v":"St Brieuc 1"},{"$f":"IF($L$5=\"Course 1\",Général!G$128,IF($L$5=\"Course 2\",Général!G$130,IF($L$5=\"Course 3\",Général!G$132,Général!G$134)))","v":"ENSTA 2"},{"$f":"IF($M$5=\"Course 1\",Général!G$138,IF($M$5=\"Course 2\",Général!G$140,IF($M$5=\"Course 3\",Général!G$142,Général!G$144)))","v":"Unicaen 1"},{"$f":"IF($N$5=\"Course 1\",Général!G$148,IF($N$5=\"Course 2\",Général!G$150,IF($N$5=\"Course 3\",Général!G$152,Général!G$154)))","v":"Southampton"},{"$f":"IF($O$5=\"Course 1\",Général!G$158,IF($O$5=\"Course 2\",Général!G$160,IF($O$5=\"Course 3\",Général!G$162,Général!G$164)))","v":"Unicaen 2"},{"$f":"IF($P$5=\"Course 1\",Général!G$168,IF($P$5=\"Course 2\",Général!G$170,IF($P$5=\"Course 3\",Général!G$172,Général!G$174)))","v":"Paris Cité"},{"$f":"IF($Q$5=\"Course 1\",Général!G$178,IF($Q$5=\"Course 2\",Général!G$180,IF($Q$5=\"Course 3\",Général!G$182,Général!G$184)))","v":"ENSMAC"},{"$f":"IF($R$5=\"Course 1\",Général!G$188,IF($R$5=\"Course 2\",Général!G$190,IF($R$5=\"Course 3\",Général!G$192,Général!G$194)))","v":"Unicaen 2"},{"$f":"IF($S$5=\"Course 1\",Général!G$198,IF($S$5=\"Course 2\",Général!G$200,IF($S$5=\"Course 3\",Général!G$202,Général!G$204)))","v":"La Rochelle 2"},{"$f":"IF($T$5=\"Course 1\",Général!G$208,IF($T$5=\"Course 2\",Général!G$210,IF($T$5=\"Course 3\",Général!G$212,Général!G$214)))","v":"Orléans"},null,{"$f":"Général!B15","v":"Orléans"},6]
["7ème Equipage",null,{"$f":"IF($C$5=\"Course 1\",Général!H38,IF($C$5=\"Course 2\",Général!H40,IF($C$5=\"Course 3\",Général!H42,Général!H44)))","v":"IMT Brest 1"},{"$f":"IF($D$5=\"Course 1\",Général!H48,IF($D$5=\"Course 2\",Général!H50,IF($D$5=\"Course 3\",Général!H52,Général!H54)))","v":"Unicaen 2"},{"$f":"IF($E$5=\"Course 1\",Général!H58,IF($E$5=\"Course 2\",Général!H60,IF($E$5=\"Course 3\",Général!H62,Général!H64)))","v":"Centrale Nantes 2"},{"$f":"IF($F$5=\"Course 1\",Général!H$68,IF($F$5=\"Course 2\",Général!H$70,IF($F$5=\"Course 3\",Général!H$72,Général!H$74)))","v":"Intechmer"},{"$f":"IF($G$5=\"Course 1\",Général!H$78,IF($G$5=\"Course 2\",Général!H$80,IF($G$5=\"Course 3\",Général!H$82,Général!H$84)))","v":"La Rochelle 2"},{"$f":"IF($H$5=\"Course 1\",Général!H$88,IF($H$5=\"Course 2\",Général!H$90,IF($H$5=\"Course 3\",Général!H$92,Général!H$94)))","v":"ST Brieuc 2"},{"$f":"IF($I$5=\"Course 1\",Général!H$98,IF($I$5=\"Course 2\",Général!H$100,IF($I$5=\"Course 3\",Général!H$102,Général!H$104)))","v":"ST Brieuc 2"},{"$f":"IF($J$5=\"Course 1\",Général!H$108,IF($J$5=\"Course 2\",Général!H$110,IF($J$5=\"Course 3\",Général!H$112,Général!H$114)))","v":"St Brieuc 1"},{"$f":"IF($K$5=\"Course 1\",Général!H$118,IF($K$5=\"Course 2\",Général!H$120,IF($K$5=\"Course 3\",Général!H$122,Général!H$124)))","v":"Orléans"},{"$f":"IF($L$5=\"Course 1\",Général!H$128,IF($L$5=\"Course 2\",Général!H$130,IF($L$5=\"Course 3\",Général!H$132,Général!H$134)))","v":"Centrale Nantes 1"},{"$f":"IF($M$5=\"Course 1\",Général!H$138,IF($M$5=\"Course 2\",Général!H$140,IF($M$5=\"Course 3\",Général!H$142,Général!H$144)))","v":"Centrale Nantes 1"},{"$f":"IF($N$5=\"Course 1\",Général!H$148,IF($N$5=\"Course 2\",Général!H$150,IF($N$5=\"Course 3\",Général!H$152,Général!H$154)))","v":"IMT Brest 1"},{"$f":"IF($O$5=\"Course 1\",Général!H$158,IF($O$5=\"Course 2\",Général!H$160,IF($O$5=\"Course 3\",Général!H$162,Général!H$164)))","v":"Univ Nantes 3"},{"$f":"IF($P$5=\"Course 1\",Général!H$168,IF($P$5=\"Course 2\",Général!H$170,IF($P$5=\"Course 3\",Général!H$172,Général!H$174)))","v":"Orléans"},{"$f":"IF($Q$5=\"Course 1\",Général!H$178,IF($Q$5=\"Course 2\",Général!H$180,IF($Q$5=\"Course 3\",Général!H$182,Général!H$184)))","v":"Karlsruhe"},{"$f":"IF($R$5=\"Course 1\",Général!H$188,IF($R$5=\"Course 2\",Général!H$190,IF($R$5=\"Course 3\",Général!H$192,Général!H$194)))","v":"Unicaen 1"},{"$f":"IF($S$5=\"Course 1\",Général!H$198,IF($S$5=\"Course 2\",Général!H$200,IF($S$5=\"Course 3\",Général!H$202,Général!H$204)))","v":"Unicaen 1"},{"$f":"IF($T$5=\"Course 1\",Général!H$208,IF($T$5=\"Course 2\",Général!H$210,IF($T$5=\"Course 3\",Général!H$212,Général!H$214)))","v":"St Brieuc 1"},null,{"$f":"Général!B16","v":"IMT Brest 1"},6]
["8ème Equipage",null,{"$f":"IF($C$5=\"Course 1\",Général!I38,IF($C$5=\"Course 2\",Général!I40,IF($C$5=\"Course 3\",Général!I42,Général!I44)))","v":"Univ Nantes 3"},{"$f":"IF($D$5=\"Course 1\",Général!I48,IF($D$5=\"Course 2\",Général!I50,IF($D$5=\"Course 3\",Général!I52,Général!I54)))","v":"UNIV Nantes 1"},{"$f":"IF($E$5=\"Course 1\",Général!I58,IF($E$5=\"Course 2\",Général!I60,IF($E$5=\"Course 3\",Général!I62,Général!I64)))","v":"Unicaen 2"},{"$f":"IF($F$5=\"Course 1\",Général!I$68,IF($F$5=\"Course 2\",Général!I$70,IF($F$5=\"Course 3\",Général!I$72,Général!I$74)))","v":"Southampton"},{"$f":"IF($G$5=\"Course 1\",Général!I$78,IF($G$5=\"Course 2\",Général!I$80,IF($G$5=\"Course 3\",Général!I$82,Général!I$84)))","v":"Centrale Nantes 2"},{"$f":"IF($H$5=\"Course 1\",Général!I$88,IF($H$5=\"Course 2\",Général!I$90,IF($H$5=\"Course 3\",Général!I$92,Général!I$94)))","v":"UBO 2"},{"$f":"IF($I$5=\"Course 1\",Général!I$98,IF($I$5=\"Course 2\",Général!I$100,IF($I$5=\"Course 3\",Général!I$102,Général!I$104)))","v":"UBO 2"},{"$f":"IF($J$5=\"Course 1\",Général!I$108,IF($J$5=\"Course 2\",Général!I$110,IF($J$5=\"Course 3\",Général!I$112,Général!I$114)))","v":"Paris Cité"},{"$f":"IF($K$5=\"Course 1\",Général!I$118,IF($K$5=\"Course 2\",Général!I$120,IF($K$5=\"Course 3\",Général!I$122,Général!I$124)))","v":"Univ Nantes 2"},{"$f":"IF($L$5=\"Course 1\",Général!I$128,IF($L$5=\"Course 2\",Général!I$130,IF($L$5=\"Course 3\",Général!I$132,Général!I$134)))","v":"Hannover"},{"$f":"IF($M$5=\"Course 1\",Général!I$138,IF($M$5=\"Course 2\",Général!I$140,IF($M$5=\"Course 3\",Général!I$142,Général!I$144)))","v":"Hannover"},{"$f":"IF($N$5=\"Course 1\",Général!I$148,IF($N$5=\"Course 2\",Général!I$150,IF($N$5=\"Course 3\",Général!I$152,Général!I$154)))","v":"Unicaen 2"},{"$f":"IF($O$5=\"Course 1\",Général!I$158,IF($O$5=\"Course 2\",Général!I$160,IF($O$5=\"Course 3\",Général!I$162,Général!I$164)))","v":"UBS Lorient 2"},{"$f":"IF($P$5=\"Course 1\",Général!I$168,IF($P$5=\"Course 2\",Général!I$170,IF($P$5=\"Course 3\",Général!I$172,Général!I$174)))","v":"La Rochelle 1"},{"$f":"IF($Q$5=\"Course 1\",Général!I$178,IF($Q$5=\"Course 2\",Général!I$180,IF($Q$5=\"Course 3\",Général!I$182,Général!I$184)))","v":"Orléans"},{"$f":"IF($R$5=\"Course 1\",Général!I$188,IF($R$5=\"Course 2\",Général!I$190,IF($R$5=\"Course 3\",Général!I$192,Général!I$194)))","v":"Univ Nantes 3"},{"$f":"IF($S$5=\"Course 1\",Général!I$198,IF($S$5=\"Course 2\",Général!I$200,IF($S$5=\"Course 3\",Général!I$202,Général!I$204)))","v":"Plymouth"},{"$f":"IF($T$5=\"Course 1\",Général!I$208,IF($T$5=\"Course 2\",Général!I$210,IF($T$5=\"Course 3\",Général!I$212,Général!I$214)))","v":"UBO 2"},null,{"$f":"Général!B17","v":"ENSMAC"},3]
["9ème Equipage",null,{"$f":"IF($C$5=\"Course 1\",Général!J38,IF($C$5=\"Course 2\",Général!J40,IF($C$5=\"Course 3\",Général!J42,Général!J44)))","v":"Karlsruhe"},{"$f":"IF($D$5=\"Course 1\",Général!J48,IF($D$5=\"Course 2\",Général!J50,IF($D$5=\"Course 3\",Général!J52,Général!J54)))","v":"Southampton"},{"$f":"IF($E$5=\"Course 1\",Général!J58,IF($E$5=\"Course 2\",Général!J60,IF($E$5=\"Course 3\",Général!J62,Général!J64)))","v":"ENSTA 1"},{"$f":"IF($F$5=\"Course 1\",Général!J$68,IF($F$5=\"Course 2\",Général!J$70,IF($F$5=\"Course 3\",Général!J$72,Général!J$74)))","v":"IMT Nantes"},{"$f":"IF($G$5=\"Course 1\",Général!J$78,IF($G$5=\"Course 2\",Général!J$80,IF($G$5=\"Course 3\",Général!J$82,Général!J$84)))","v":"UBS Lorient 2"},{"$f":"IF($H$5=\"Course 1\",Général!J$88,IF($H$5=\"Course 2\",Général!J$90,IF($H$5=\"Course 3\",Général!$J92,Général!J$94)))","v":"INSA Lyon"},{"$f":"IF($I$5=\"Course 1\",Général!J$98,IF($I$5=\"Course 2\",Général!J$100,IF($I$5=\"Course 3\",Général!J$102,Général!J$104)))","v":"Paris Cité"},{"$f":"IF($J$5=\"Course 1\",Général!J$108,IF($J$5=\"Course 2\",Général!J$110,IF($J$5=\"Course 3\",Général!J$112,Général!J$114)))","v":"UBO 1"},{"$f":"IF($K$5=\"Course 1\",Général!J$118,IF($K$5=\"Course 2\",Général!J$120,IF($K$5=\"Course 3\",Général!J$122,Général!J$124)))","v":"La Rochelle 1"},{"$f":"IF($L$5=\"Course 1\",Général!J$128,IF($L$5=\"Course 2\",Général!J$130,IF($L$5=\"Course 3\",Général!J$132,Général!J$134)))","v":"St Brieuc 1"},{"$f":"IF($M$5=\"Course 1\",Général!J$138,IF($M$5=\"Course 2\",Général!J$140,IF($M$5=\"Course 3\",Général!J$142,Général!J$144)))","v":"St Brieuc 1"},{"$f":"IF($N$5=\"Course 1\",Général!J$148,IF($N$5=\"Course 2\",Général!J$150,IF($N$5=\"Course 3\",Général!J$152,Général!J$154)))","v":"IMT Nantes"},{"$f":"IF($O$5=\"Course 1\",Général!J$158,IF($O$5=\"Course 2\",Général!J$160,IF($O$5=\"Course 3\",Général!J$162,Général!J$164)))","v":"Southampton"},{"$f":"IF($P$5=\"Course 1\",Général!J$168,IF($P$5=\"Course 2\",Général!J$170,IF($P$5=\"Course 3\",Général!J$172,Général!J$174)))","v":"IMT Brest 1"},{"$f":"IF($Q$5=\"Course 1\",Général!J$178,IF($Q$5=\"Course 2\",Général!J$180,IF($Q$5=\"Course 3\",Général!J$182,Général!J$184)))","v":"IMT Nantes"},{"$f":"IF($R$5=\"Course 1\",Général!J$188,IF($R$5=\"Course 2\",Général!J$190,IF($R$5=\"Course 3\",Général!J$192,Général!J$194)))","v":"Southampton"},{"$f":"IF($S$5=\"Course 1\",Général!J$198,IF($S$5=\"Course 2\",Général!J$200,IF($S$5=\"Course 3\",Général!J$202,Général!J$204)))","v":"UNIV Nantes 1"},{"$f":"IF($T$5=\"Course 1\",Général!J$208,IF($T$5=\"Course 2\",Général!J$210,IF($T$5=\"Course 3\",Général!J$212,Général!J$214)))","v":"Karlsruhe"},null,{"$f":"Général!B18","v":"St Brieuc 1"},16]
["10ème Equipage",null,{"$f":"IF($C$5=\"Course 1\",Général!K38,IF($C$5=\"Course 2\",Général!K40,IF($C$5=\"Course 3\",Général!K42,Général!K44)))","v":"Intechmer"},{"$f":"IF($D$5=\"Course 1\",Général!K48,IF($D$5=\"Course 2\",Général!K50,IF($D$5=\"Course 3\",Général!K52,Général!K54)))","v":"ENSMAC"},{"$f":"IF($E$5=\"Course 1\",Général!K58,IF($E$5=\"Course 2\",Général!K60,IF($E$5=\"Course 3\",Général!K62,Général!K64)))","v":"Karlsruhe"},{"$f":"IF($F$5=\"Course 1\",Général!K$68,IF($F$5=\"Course 2\",Général!K$70,IF($F$5=\"Course 3\",Général!K$72,Général!K$74)))","v":"UBO 2"},{"$f":"IF($G$5=\"Course 1\",Général!K$78,IF($G$5=\"Course 2\",Général!K$80,IF($G$5=\"Course 3\",Général!K$82,Général!K$84)))","v":"UBS Lorient 1"},{"$f":"IF($H$5=\"Course 1\",Général!K$88,IF($H$5=\"Course 2\",Général!K$90,IF($H$5=\"Course 3\",Général!$K92,Général!K$94)))","v":"St Brieuc 1"},{"$f":"IF($I$5=\"Course 1\",Général!K$98,IF($I$5=\"Course 2\",Général!K$100,IF($I$5=\"Course 3\",Général!K$102,Général!K$104)))","v":"St Brieuc 1"},{"$f":"IF($J$5=\"Course 1\",Général!K$108,IF($J$5=\"Course 2\",Général!K$110,IF($J$5=\"Course 3\",Général!K$112,Général!K$114)))","v":"Univ Nantes 3"},{"$f":"IF($K$5=\"Course 1\",Général!K$118,IF($K$5=\"Course 2\",Général!K$120,IF($K$5=\"Course 3\",Général!K$122,Général!K$124)))","v":"Univ Nantes 3"},{"$f":"IF($L$5=\"Course 1\",Général!K$128,IF($L$5=\"Course 2\",Général!K$130,IF($L$5=\"Course 3\",Général!K$132,Général!K$134)))","v":"INSA Lyon"},{"$f":"IF($M$5=\"Course 1\",Général!K$138,IF($M$5=\"Course 2\",Général!K$140,IF($M$5=\"Course 3\",Général!K$142,Général!K$144)))","v":"IMT Brest 1"},{"$f":"IF($N$5=\"Course 1\",Général!K$148,IF($N$5=\"Course 2\",Général!K$150,IF($N$5=\"Course 3\",Général!K$152,Général!K$154)))","v":"Paris Sorbone"},{"$f":"IF($O$5=\"Course 1\",Général!K$158,IF($O$5=\"Course 2\",Général!K$160,IF($O$5=\"Course 3\",Général!K$162,Général!K$164)))","v":"Centrale Nantes 1"},{"$f":"IF($P$5=\"Course 1\",Général!K$168,IF($P$5=\"Course 2\",Général!K$170,IF($P$5=\"Course 3\",Général!K$172,Général!K$174)))","v":"IMT Nantes"},{"$f":"IF($Q$5=\"Course 1\",Général!K$178,IF($Q$5=\"Course 2\",Général!K$180,IF($Q$5=\"Course 3\",Général!K$182,Général!K$184)))","v":"Paris Sorbone"},{"$f":"IF($R$5=\"Course 1\",Général!K$188,IF($R$5=\"Course 2\",Général!K$190,IF($R$5=\"Course 3\",Général!K$192,Général!K$194)))","v":"Paris Sorbone"},{"$f":"IF($S$5=\"Course 1\",Général!K$198,IF($S$5=\"Course 2\",Général!K$200,IF($S$5=\"Course 3\",Général!K$202,Général!K$204)))","v":"ST Brieuc 2"},{"$f":"IF($T$5=\"Course 1\",Général!K$208,IF($T$5=\"Course 2\",Général!K$210,IF($T$5=\"Course 3\",Général!K$212,Général!K$214)))","v":"ENSTA 1"},null,{"$f":"Général!B19","v":"Hannover"},3]
[null,null,null,null,null,null,null,null,null,null,null,null,null,null,null,null,null,null,null,null,null,{"$f":"Général!B20","v":"ENSTA 2"},4]
[null,null,null,null,null,null,null,null,null,null,null,null,null,null,null,null,null,null,null,null,null,{"$f":"Général!B21","v":"Southampton"},5]
[null,null,null,null,null,null,null,null,null,null,null,null,null,null,null,null,null,null,null,null,null,{"$f":"Général!B22","v":"La Rochelle 1"},5]
[null,null,null,null,null,null,null,null,null,null,null,null,null,null,null,null,null,null,null,null,null,{"$f":"Général!B23","v":"Centrale Nantes 1"},5]
[null,null,null,null,null,null,null,null,null,null,null,null,null,null,null,null,null,null,null,null,null,{"$f":"Général!B24","v":"ST Brieuc 2"},6]
[null,null,null,null,null,null,null,null,null,null,null,null,null,null,null,null,null,null,null,null,null,{"$f":"Général!B25","v":"UNIV Nantes 1"},8]
[null,null,null,null,null,null,null,null,null,null,null,null,null,null,null,null,null,null,null,null,null,{"$f":"Général!B26","v":"Intechmer"},3]
[null,null,null,null,null,null,null,null,null,null,null,null,null,null,null,null,null,null,null,null,null,{"$f":"Général!B27","v":"IMT Nantes"},7]
[null,null,null,null,null,null,null,null,null,null,null,null,null,null,null,null,null,null,null,null,null,{"$f":"Général!B28","v":"INSA Lyon"},3]
[null,null,null,null,null,null,null,null,null,null,null,null,null,null,null,null,null,null,null,null,null,{"$f":"Général!B29","v":"Centrale Nantes 2"},5]
[null,null,null,null,null,null,null,null,null,null,null,null,null,null,null,null,null,null,null,null,null,{"$f":"Général!B30","v":"UBS Lorient 2"},7]
[null,null,null,null,null,null,null,null,null,null,null,null,null,null,null,null,null,null,null,null,null,{"$f":"Général!B31","v":"La Rochelle 2"},5]
[null,null,null,null,null,null,null,null,null,null,null,null,null,null,null,null,null,null,null,null,null,{"$f":"Général!B32","v":"UBO 1"},1]
[null,null,null,null,null,null,null,null,null,null,null,null,null,null,null,null,null,null,null,null,null,{"$f":"Général!B33","v":"Eq.31"},0]
[null,null,null,null,null,null,null,null,null,null,null,null,null,null,null,null,null,null,null,null,null,{"$f":"Général!B34","v":"Eq.32"},0]

{"sheet":"Eq.17","index":22,"n_rows":32,"n_cols":23,"rows_kept":32,"cut":false,"hidden":false,"merged":[[7,0,7,1],[0,0,1,5],[0,6,1,10],[3,0,3,1],[4,0,4,1],[5,0,5,1],[14,0,14,1],[15,0,15,1],[16,0,16,1],[8,0,8,1],[9,0,9,1],[10,0,10,1],[11,0,11,1],[12,0,12,1],[13,0,13,1]]}
["Equipage ",null,null,null,null,null,{"$f":"Général!B19","v":"Hannover"},null,null,null,null,null,null,null,null,null,null,null,null,null,null,{"$f":"Général!B3","v":"UBO 2"},{"$f":"COUNTIF(C$8:T$16,V1)","v":2}]
[null,null,null,null,null,null,null,null,null,null,null,null,null,null,null,null,null,null,null,null,null,{"$f":"Général!B4","v":"Paris Sorbone"},{"$f":"COUNTIF($C$8:$T$16,V2)","v":4}]
[null,null,null,null,null,null,null,null,null,null,null,null,null,null,null,null,null,null,null,null,null,{"$f":"Général!B5","v":"UBS Lorient 1"},{"$f":"COUNTIF($C$8:$T$16,V3)","v":7}]
[null,null,"FLIGHT 1","FLIGHT 2","FLIGHT 3","FLIGHT 4","FLIGHT 5","FLIGHT 6","FLIGHT 7","FLIGHT 8","FLIGHT 9","FLIGHT 10","FLIGHT 11","FLIGHT 12","FLIGHT 13","FLIGHT 14","FLIGHT 15","FLIGHT 16","FLIGHT 17","FLIGHT 18",null,{"$f":"Général!B6","v":"Univ Nantes 3"},4]
["N° de course",null,{"$f":"IF(COUNTIF(Général!B38:K38,$G$1)=1,\"Course 1\",IF(COUNTIF(Général!B40:K40,$G$1)=1,\"Course 2\",IF(COUNTIF(Général!B42:K42,$G$1)=1,\"Course 3\",\"Course 4\")))","v":"Course 2"},{"$f":"IF(COUNTIF(Général!B48:K48,$G$1)=1,\"Course 1\",IF(COUNTIF(Général!B50:K50,$G$1)=1,\"Course 2\",IF(COUNTIF(Général!B52:K52,$G$1)=1,\"Course 3\",\"Course 4\")))","v":"Course 1"},{"$f":"IF(COUNTIF(Général!B58:K58,$G$1)=1,\"Course 1\",IF(COUNTIF(Général!B60:K60,$G$1)=1,\"Course 2\",IF(COUNTIF(Général!B62:K62,$G$1)=1,\"Course 3\",\"Course 4\")))","v":"Course 2"},{"$f":"IF(COUNTIF(Général!B68:K68,$G$1)=1,\"Course 1\",IF(COUNTIF(Général!B70:K70,$G$1)=1,\"Course 2\",IF(COUNTIF(Général!B72:K72,$G$1)=1,\"Course 3\",\"Course 4\")))","v":"Course 2"},{"$f":"IF(COUNTIF(Général!B78:K78,$G$1)=1,\"Course 1\",IF(COUNTIF(Général!B80:K80,$G$1)=1,\"Course 2\",IF(COUNTIF(Général!B82:K82,$G$1)=1,\"Course 3\",\"Course 4\")))","v":"Course 1"},{"$f":"IF(COUNTIF(Général!B88:K88,$G$1)=1,\"Course 1\",IF(COUNTIF(Général!B90:K90,$G$1)=1,\"Course 2\",IF(COUNTIF(Général!B92:K92,$G$1)=1,\"Course 3\",\"Course 4\")))","v":"Course 1"},{"$f":"IF(COUNTIF(Général!B98:K98,$G$1)=1,\"Course 1\",IF(COUNTIF(Général!B100:K100,$G$1)=1,\"Course 2\",IF(COUNTIF(Général!B102:K102,$G$1)=1,\"Course 3\",\"Course 4\")))","v":"Course 3"},{"$f":"IF(COUNTIF(Général!B108:K108,$G$1)=1,\"Course 1\",IF(COUNTIF(Général!B110:K110,$G$1)=1,\"Course 2\",IF(COUNTIF(Général!B112:K112,$G$1)=1,\"Course 3\",\"Course 4\")))","v":"Course 3"},{"$f":"IF(COUNTIF(Général!B118:K118,$G$1)=1,\"Course 1\",IF(COUNTIF(Général!B120:K120,$G$1)=1,\"Course 2\",IF(COUNTIF(Général!B122:K122,$G$1)=1,\"Course 3\",\"Course 4\")))","v":"Course 2"},{"$f":"IF(COUNTIF(Général!B128:K128,$G$1)=1,\"Course 1\",IF(COUNTIF(Général!B130:K130,$G$1)=1,\"Course 2\",IF(COUNTIF(Général!B132:K132,$G$1)=1,\"Course 3\",\"Course 4\")))","v":"Course 3"},{"$f":"IF(COUNTIF(Général!B138:K138,$G$1)=1,\"Course 1\",IF(COUNTIF(Général!B140:K140,$G$1)=1,\"Course 2\",IF(COUNTIF(Général!B142:K142,$G$1)=1,\"Course 3\",\"Course 4\")))","v":"Course 1"},{"$f":"IF(COUNTIF(Général!B148:K148,$G$1)=1,\"Course 1\",IF(COUNTIF(Général!B150:K150,$G$1)=1,\"Course 2\",IF(COUNTIF(Général!B152:K152,$G$1)=1,\"Course 3\",\"Course 4\")))","v":"Course 3"},{"$f":"IF(COUNTIF(Général!B158:K158,$G$1)=1,\"Course 1\",IF(COUNTIF(Général!B160:K160,$G$1)=1,\"Course 2\",IF(COUNTIF(Général!B162:K162,$G$1)=1,\"Course 3\",\"Course 4\")))","v":"Course 1"},{"$f":"IF(COUNTIF(Général!B168:K168,$G$1)=1,\"Course 1\",IF(COUNTIF(Général!B170:K170,$G$1)=1,\"Course 2\",IF(COUNTIF(Général!B172:K172,$G$1)=1,\"Course 3\",\"Course 4\")))","v":"Course 3"},{"$f":"IF(COUNTIF(Général!B178:K178,$G$1)=1,\"Course 1\",IF(COUNTIF(Général!B180:K180,$G$1)=1,\"Course 2\",IF(COUNTIF(Général!B182:K182,$G$1)=1,\"Course 3\",\"Course 4\")))","v":"Course 3"},{"$f":"IF(COUNTIF(Général!B188:K188,$G$1)=1,\"Course 1\",IF(COUNTIF(Général!B190:K190,$G$1)=1,\"Course 2\",IF(COUNTIF(Général!B192:K192,$G$1)=1,\"Course 3\",\"Course 4\")))","v":"Course 1"},{"$f":"IF(COUNTIF(Général!B198:K198,$G$1)=1,\"Course 1\",IF(COUNTIF(Général!B200:K200,$G$1)=1,\"Course 2\",IF(COUNTIF(Général!B202:K202,$G$1)=1,\"Course 3\",\"Course 4\")))","v":"Course 2"},{"$f":"IF(COUNTIF(Général!B208:K208,$G$1)=1,\"Course 1\",IF(COUNTIF(Général!B210:K210,$G$1)=1,\"Course 2\",IF(COUNTIF(Général!B212:K212,$G$1)=1,\"Course 3\",\"Course 4\")))","v":"Course 3"},null,{"$f":"Général!B7","v":"Paris Cité"},8]
["Bateau",null,{"$f":"IF(COUNTIF(Général!B38:B44,$G$1)=1,\"Boat 1\",IF(COUNTIF(Général!C38:C44,$G$1)=1,\"Boat 2\",IF(COUNTIF(Général!D38:D44,$G$1)=1,\"Boat 3\", IF(COUNTIF(Général!E38:E44,$G$1)=1,\"Boat 4\", IF(COUNTIF(Général!F38:F44,$G$1)=1,\"Boat 5\", IF(COUNTIF(Général!G38:G44,$G$1)=1,\"Boat 6\", IF(COUNTIF(Général!H38:H44,$G$1)=1,\"Boat 7\",IF(COUNTIF(Général!I38:I44,$G$1)=1,\"Boat 8\",\"Boat 9\"))))))))","v":"Boat 6"},{"$f":"IF(COUNTIF(Général!B48:B54,$G$1)=1,\"Boat 1\",IF(COUNTIF(Général!C48:C54,$G$1)=1,\"Boat 2\",IF(COUNTIF(Général!D48:D54,$G$1)=1,\"Boat 3\", IF(COUNTIF(Général!E48:E54,$G$1)=1,\"Boat 4\", IF(COUNTIF(Général!F48:F54,$G$1)=1,\"Boat 5\", IF(COUNTIF(Général!G48:G54,$G$1)=1,\"Boat 6\", IF(COUNTIF(Général!H48:H54,$G$1)=1,\"Boat 7\",IF(COUNTIF(Général!I38:I44,$G$1)=1,\"Boat 8\",\"Boat 9\"))))))))","v":"Boat 5"},{"$f":"IF(COUNTIF(Général!B58:B64,$G$1)=1,\"Boat 1\",IF(COUNTIF(Général!C58:C64,$G$1)=1,\"Boat 2\",IF(COUNTIF(Général!D58:D64,$G$1)=1,\"Boat 3\", IF(COUNTIF(Général!E58:E64,$G$1)=1,\"Boat 4\", IF(COUNTIF(Général!F58:F64,$G$1)=1,\"Boat 5\", IF(COUNTIF(Général!G58:G64,$G$1)=1,\"Boat 6\", IF(COUNTIF(Général!H58:H64,$G$1)=1,\"Boat 7\",IF(COUNTIF(Général!I38:I44,$G$1)=1,\"Boat 8\",\"Boat 9\"))))))))","v":"Boat 7"},{"$f":"IF(COUNTIF(Général!B68:B74,$G$1)=1,\"Boat 1\",IF(COUNTIF(Général!C68:C74,$G$1)=1,\"Boat 2\",IF(COUNTIF(Général!D68:D74,$G$1)=1,\"Boat 3\", IF(COUNTIF(Général!E68:E74,$G$1)=1,\"Boat 4\", IF(COUNTIF(Général!F68:F74,$G$1)=1,\"Boat 5\", IF(COUNTIF(Général!G68:G74,$G$1)=1,\"Boat 6\", IF(COUNTIF(Général!H68:H74,$G$1)=1,\"Boat 7\",IF(COUNTIF(Général!I38:I44,$G$1)=1,\"Boat 8\",\"Boat 9\"))))))))","v":"Boat 9"},{"$f":"IF(COUNTIF(Général!B78:B84,$G$1)=1,\"Boat 1\",IF(COUNTIF(Général!C78:C84,$G$1)=1,\"Boat 2\",IF(COUNTIF(Général!D78:D84,$G$1)=1,\"Boat 3\", IF(COUNTIF(Général!E78:E84,$G$1)=1,\"Boat 4\", IF(COUNTIF(Général!F78:F84,$G$1)=1,\"Boat 5\", IF(COUNTIF(Général!G78:G84,$G$1)=1,\"Boat 6\", IF(COUNTIF(Général!H78:H84,$G$1)=1,\"Boat 7\",IF(COUNTIF(Général!I38:I44,$G$1)=1,\"Boat 8\",\"Boat 9\"))))))))","v":"Boat 2"},{"$f":"IF(COUNTIF(Général!B88:B94,$G$1)=1,\"Boat 1\",IF(COUNTIF(Général!C88:C94,$G$1)=1,\"Boat 2\",IF(COUNTIF(Général!D88:D94,$G$1)=1,\"Boat 3\", IF(COUNTIF(Général!E88:E94,$G$1)=1,\"Boat 4\", IF(COUNTIF(Général!F88:F94,$G$1)=1,\"Boat 5\", IF(COUNTIF(Général!G88:G94,$G$1)=1,\"Boat 6\", IF(COUNTIF(Général!H88:H94,$G$1)=1,\"Boat 7\",IF(COUNTIF(Général!I38:I44,$G$1)=1,\"Boat 8\",\"Boat 9\"))))))))","v":"Boat 7"},{"$f":"IF(COUNTIF(Général!B98:B104,$G$1)=1,\"Boat 1\",IF(COUNTIF(Général!C98:C104,$G$1)=1,\"Boat 2\",IF(COUNTIF(Général!D98:D104,$G$1)=1,\"Boat 3\", IF(COUNTIF(Général!E98:E104,$G$1)=1,\"Boat 4\", IF(COUNTIF(Général!F98:F104,$G$1)=1,\"Boat 5\", IF(COUNTIF(Général!G98:G104,$G$1)=1,\"Boat 6\", IF(COUNTIF(Général!H98:H104,$G$1)=1,\"Boat 7\",IF(COUNTIF(Général!I38:I44,$G$1)=1,\"Boat 8\",\"Boat 9\"))))))))","v":"Boat 3"},{"$f":"IF(COUNTIF(Général!B108:B114,$G$1)=1,\"Boat 1\",IF(COUNTIF(Général!C108:C114,$G$1)=1,\"Boat 2\",IF(COUNTIF(Général!D108:D114,$G$1)=1,\"Boat 3\", IF(COUNTIF(Général!E108:E114,$G$1)=1,\"Boat 4\", IF(COUNTIF(Général!F108:F114,$G$1)=1,\"Boat 5\", IF(COUNTIF(Général!G108:G114,$G$1)=1,\"Boat 6\", IF(COUNTIF(Général!H108:H114,$G$1)=1,\"Boat 7\",IF(COUNTIF(Général!I38:I44,$G$1)=1,\"Boat 8\",\"Boat 9\"))))))))","v":"Boat 7"},{"$f":"IF(COUNTIF(Général!B118:B124,$G$1)=1,\"Boat 1\",IF(COUNTIF(Général!C118:C124,$G$1)=1,\"Boat 2\",IF(COUNTIF(Général!D118:D124,$G$1)=1,\"Boat 3\", IF(COUNTIF(Général!E118:E124,$G$1)=1,\"Boat 4\", IF(COUNTIF(Général!F118:F124,$G$1)=1,\"Boat 5\", IF(COUNTIF(Général!G118:G124,$G$1)=1,\"Boat 6\", IF(COUNTIF(Général!H118:H124,$G$1)=1,\"Boat 7\",IF(COUNTIF(Général!I38:I44,$G$1)=1,\"Boat 8\",\"Boat 9\"))))))))","v":"Boat 1"},{"$f":"IF(COUNTIF(Général!B128:B134,$G$1)=1,\"Boat 1\",IF(COUNTIF(Général!C128:C134,$G$1)=1,\"Boat 2\",IF(COUNTIF(Général!D128:D134,$G$1)=1,\"Boat 3\", IF(COUNTIF(Général!E128:E134,$G$1)=1,\"Boat 4\", IF(COUNTIF(Général!F128:F134,$G$1)=1,\"Boat 5\", IF(COUNTIF(Général!G128:G134,$G$1)=1,\"Boat 6\", IF(COUNTIF(Général!H128:H134,$G$1)=1,\"Boat 7\",IF(COUNTIF(Général!I38:I44,$G$1)=1,\"Boat 8\",\"Boat 9\"))))))))","v":"Boat 9"},{"$f":"IF(COUNTIF(Général!B138:B144,$G$1)=1,\"Boat 1\",IF(COUNTIF(Général!C138:C144,$G$1)=1,\"Boat 2\",IF(COUNTIF(Général!C138:D144,$G$1)=1,\"Boat 3\", IF(COUNTIF(Général!C138:E144,$G$1)=1,\"Boat 4\", IF(COUNTIF(Général!F138:F144,$G$1)=1,\"Boat 5\", IF(COUNTIF(Général!G138:G144,$G$1)=1,\"Boat 6\", IF(COUNTIF(Général!H138:H144,$G$1)=1,\"Boat 7\",IF(COUNTIF(Général!I38:I44,$G$1)=1,\"Boat 8\",\"Boat 9\"))))))))","v":"Boat 9"},{"$f":"IF(COUNTIF(Général!B148:B154,$G$1)=1,\"Boat 1\",IF(COUNTIF(Général!C148:C154,$G$1)=1,\"Boat 2\",IF(COUNTIF(Général!D148:D154,$G$1)=1,\"Boat 3\", IF(COUNTIF(Général!E148:E154,$G$1)=1,\"Boat 4\", IF(COUNTIF(Général!F148:F154,$G$1)=1,\"Boat 5\", IF(COUNTIF(Général!G148:G154,$G$1)=1,\"Boat 6\", IF(COUNTIF(Général!H148:H154,$G$1)=1,\"Boat 7\",IF(COUNTIF(Général!I38:I44,$G$1)=1,\"Boat 8\",\"Boat 9\"))))))))","v":"Boat 6"},{"$f":"IF(COUNTIF(Général!B158:B164,$G$1)=1,\"Boat 1\",IF(COUNTIF(Général!C158:C164,$G$1)=1,\"Boat 2\",IF(COUNTIF(Général!D160:D164,$G$1)=1,\"Boat 3\", IF(COUNTIF(Général!E158:E164,$G$1)=1,\"Boat 4\", IF(COUNTIF(Général!F158:F164,$G$1)=1,\"Boat 5\", IF(COUNTIF(Général!G158:G164,$G$1)=1,\"Boat 6\", IF(COUNTIF(Général!H158:H164,$G$1)=1,\"Boat 7\",IF(COUNTIF(Général!I38:I44,$G$1)=1,\"Boat 8\",\"Boat 9\"))))))))","v":"Boat 6"},{"$f":"IF(COUNTIF(Général!B168:B174,$G$1)=1,\"Boat 1\",IF(COUNTIF(Général!C168:C174,$G$1)=1,\"Boat 2\",IF(COUNTIF(Général!D168:D174,$G$1)=1,\"Boat 3\", IF(COUNTIF(Général!E168:E174,$G$1)=1,\"Boat 4\", IF(COUNTIF(Général!F178:F184,$G$1)=1,\"Boat 5\", IF(COUNTIF(Général!G178:G184,$G$1)=1,\"Boat 6\", IF(COUNTIF(Général!H178:H184,$G$1)=1,\"Boat 7\",IF(COUNTIF(Général!I38:I44,$G$1)=1,\"Boat 8\",\"Boat 9\"))))))))","v":"Boat 5"},{"$f":"IF(COUNTIF(Général!B178:B184,$G$1)=1,\"Boat 1\",IF(COUNTIF(Général!C178:C184,$G$1)=1,\"Boat 2\",IF(COUNTIF(Général!D178:D184,$G$1)=1,\"Boat 3\", IF(COUNTIF(Général!E178:E184,$G$1)=1,\"Boat 4\", IF(COUNTIF(Général!F178:F184,$G$1)=1,\"Boat 5\", IF(COUNTIF(Général!G178:G184,$G$1)=1,\"Boat 6\", IF(COUNTIF(Général!H178:H184,$G$1)=1,\"Boat 7\",IF(COUNTIF(Général!I38:I44,$G$1)=1,\"Boat 8\",\"Boat 9\"))))))))","v":"Boat 5"},{"$f":"IF(COUNTIF(Général!B188:B194,$G$1)=1,\"Boat 1\",IF(COUNTIF(Général!C188:C194,$G$1)=1,\"Boat 2\",IF(COUNTIF(Général!D188:D194,$G$1)=1,\"Boat 3\", IF(COUNTIF(Général!E188:E194,$G$1)=1,\"Boat 4\", IF(COUNTIF(Général!F188:F194,$G$1)=1,\"Boat 5\", IF(COUNTIF(Général!G188:G194,$G$1)=1,\"Boat 6\", IF(COUNTIF(Général!H188:H194,$G$1)=1,\"Boat 7\",IF(COUNTIF(Général!I38:I44,$G$1)=1,\"Boat 8\",\"Boat 9\"))))))))","v":"Boat 5"},{"$f":"IF(COUNTIF(Général!B198:B204,$G$1)=1,\"Boat 1\",IF(COUNTIF(Général!C198:C204,$G$1)=1,\"Boat 2\",IF(COUNTIF(Général!D198:D204,$G$1)=1,\"Boat 3\", IF(COUNTIF(Général!E198:E204,$G$1)=1,\"Boat 4\", IF(COUNTIF(Général!F198:F204,$G$1)=1,\"Boat 5\", IF(COUNTIF(Général!G198:G204,$G$1)=1,\"Boat 6\", IF(COUNTIF(Général!H198:H204,$G$1)=1,\"Boat 7\",IF(COUNTIF(Général!I38:I44,$G$1)=1,\"Boat 8\",\"Boat 9\"))))))))","v":"Boat 9"},{"$f":"IF(COUNTIF(Général!B208:B214,$G$1)=1,\"Boat 1\",IF(COUNTIF(Général!C208:C214,$G$1)=1,\"Boat 2\",IF(COUNTIF(Général!D208:D214,$G$1)=1,\"Boat 3\", IF(COUNTIF(Général!E208:E214,$G$1)=1,\"Boat 4\", IF(COUNTIF(Général!F208:F214,$G$1)=1,\"Boat 5\", IF(COUNTIF(Général!G208:G214,$G$1)=1,\"Boat 6\", IF(COUNTIF(Général!H208:H214,$G$1)=1,\"Boat 7\",IF(COUNTIF(Général!I38:I44,$G$1)=1,\"Boat 8\",\"Boat 9\"))))))))","v":"Boat 2"},null,{"$f":"Général!B8","v":"Plymouth"},5]
[null,null,null,null,null,null,null,null,null,null,null,null,null,null,null,null,null,null,null,null,null,{"$f":"Général!B9","v":"Unicaen 2"},7]
["1er Equipage",null,{"$f":"IF($C$5=\"Course 1\",Général!B38,IF($C$5=\"Course 2\",Général!B40,IF($C$5=\"Course 3\",Général!B42,Général!B44)))","v":"ST Brieuc 2"},{"$f":"IF($D$5=\"Course 1\",Général!B48,IF($D$5=\"Course 2\",Général!B50,IF($D$5=\"Course 3\",Général!B52,Général!B54)))","v":"ENSTA 1"},{"$f":"IF($E$5=\"Course 1\",Général!B58,IF($E$5=\"Course 2\",Général!B60,IF($E$5=\"Course 3\",Général!B62,Général!B64)))","v":"Univ Nantes 3"},{"$f":"IF($F$5=\"Course 1\",Général!B$68,IF($F$5=\"Course 2\",Général!B$70,IF($F$5=\"Course 3\",Général!B$72,Général!B$74)))","v":"Univ Nantes 3"},{"$f":"IF($G$5=\"Course 1\",Général!B$78,IF($G$5=\"Course 2\",Général!B$80,IF($G$5=\"Course 3\",Général!B$82,Général!B$84)))","v":"ENSMAC"},{"$f":"IF($H$5=\"Course 1\",Général!B$88,IF($H$5=\"Course 2\",Général!B$90,IF($H$5=\"Course 3\",Général!B$92,Général!B$94)))","v":"ENSTA 2"},{"$f":"IF($I$5=\"Course 1\",Général!B$98,IF($I$5=\"Course 2\",Général!B$100,IF($I$5=\"Course 3\",Général!B$102,Général!B$104)))","v":"La Rochelle 2"},{"$f":"IF($J$5=\"Course 1\",Général!B$108,IF($J$5=\"Course 2\",Général!B$110,IF($J$5=\"Course 3\",Général!B$112,Général!B$114)))","v":"UNIV Nantes 1"},{"$f":"IF($K$5=\"Course 1\",Général!B$118,IF($K$5=\"Course 2\",Général!B$120,IF($K$5=\"Course 3\",Général!B$122,Général!B$124)))","v":"Hannover"},{"$f":"IF($L$5=\"Course 1\",Général!B$128,IF($L$5=\"Course 2\",Général!B$130,IF($L$5=\"Course 3\",Général!B$132,Général!B$134)))","v":"IMT Brest 2"},{"$f":"IF($M$5=\"Course 1\",Général!B$138,IF($M$5=\"Course 2\",Général!B$140,IF($M$5=\"Course 3\",Général!B$142,Général!B$144)))","v":"IMT Brest 2"},{"$f":"IF($N$5=\"Course 1\",Général!B$148,IF($N$5=\"Course 2\",Général!B$150,IF($N$5=\"Course 3\",Général!B$152,Général!B$154)))","v":"La Rochelle 1"},{"$f":"IF($O$5=\"Course 1\",Général!B$158,IF($O$5=\"Course 2\",Général!B$160,IF($O$5=\"Course 3\",Général!B$162,Général!B$164)))","v":"La Rochelle 1"},{"$f":"IF($P$5=\"Course 1\",Général!B$168,IF($P$5=\"Course 2\",Général!B$170,IF($P$5=\"Course 3\",Général!B$172,Général!B$174)))","v":"Plymouth"},{"$f":"IF($Q$5=\"Course 1\",Général!B$178,IF($Q$5=\"Course 2\",Général!B$180,IF($Q$5=\"Course 3\",Général!B$182,Général!B$184)))","v":"Paris Cité"},{"$f":"IF($R$5=\"Course 1\",Général!B$188,IF($R$5=\"Course 2\",Général!B$190,IF($R$5=\"Course 3\",Général!B$192,Général!B$194)))","v":"IMT Brest 2"},{"$f":"IF($S$5=\"Course 1\",Général!B$198,IF($S$5=\"Course 2\",Général!B$200,IF($S$5=\"Course 3\",Général!B$202,Général!B$204)))","v":"ENSTA 2"},{"$f":"IF($T$5=\"Course 1\",Général!B$208,IF($T$5=\"Course 2\",Général!B$210,IF($T$5=\"Course 3\",Général!B$212,Général!B$214)))","v":"IMT Brest 1"},null,{"$f":"Général!B10","v":"Univ Nantes 2"},2]
["2nd Equipage",null,{"$f":"IF($C$5=\"Course 1\",Général!C38,IF($C$5=\"Course 2\",Général!C40,IF($C$5=\"Course 3\",Général!C42,Général!C44)))","v":"UBS Lorient 2"},{"$f":"IF($D$5=\"Course 1\",Général!C48,IF($D$5=\"Course 2\",Général!C50,IF($D$5=\"Course 3\",Général!C52,Général!C54)))","v":"UBS Lorient 1"},{"$f":"IF($E$5=\"Course 1\",Général!C58,IF($E$5=\"Course 2\",Général!C60,IF($E$5=\"Course 3\",Général!C62,Général!C64)))","v":"IMT Nantes"},{"$f":"IF($F$5=\"Course 1\",Général!C$68,IF($F$5=\"Course 2\",Général!C$70,IF($F$5=\"Course 3\",Général!C$72,Général!C$74)))","v":"Paris Cité"},{"$f":"IF($G$5=\"Course 1\",Général!C$78,IF($G$5=\"Course 2\",Général!C$80,IF($G$5=\"Course 3\",Général!C$82,Général!C$84)))","v":"Hannover"},{"$f":"IF($H$5=\"Course 1\",Général!C$88,IF($H$5=\"Course 2\",Général!C$90,IF($H$5=\"Course 3\",Général!C$92,Général!C$94)))","v":"Southampton"},{"$f":"IF($I$5=\"Course 1\",Général!C$98,IF($I$5=\"Course 2\",Général!C$100,IF($I$5=\"Course 3\",Général!C$102,Général!C$104)))","v":"ENSTA 2"},{"$f":"IF($J$5=\"Course 1\",Général!C$108,IF($J$5=\"Course 2\",Général!C$110,IF($J$5=\"Course 3\",Général!C$112,Général!C$114)))","v":"UBS Lorient 1"},{"$f":"IF($K$5=\"Course 1\",Général!C$118,IF($K$5=\"Course 2\",Général!C$120,IF($K$5=\"Course 3\",Général!C$122,Général!C$124)))","v":"Paris Cité"},{"$f":"IF($L$5=\"Course 1\",Général!C$128,IF($L$5=\"Course 2\",Général!C$130,IF($L$5=\"Course 3\",Général!C$132,Général!C$134)))","v":"UNIV Nantes 1"},{"$f":"IF($M$5=\"Course 1\",Général!C$138,IF($M$5=\"Course 2\",Général!C$140,IF($M$5=\"Course 3\",Général!C$142,Général!C$144)))","v":"UNIV Nantes 1"},{"$f":"IF($N$5=\"Course 1\",Général!C$148,IF($N$5=\"Course 2\",Général!C$150,IF($N$5=\"Course 3\",Général!C$152,Général!C$154)))","v":"Intechmer"},{"$f":"IF($O$5=\"Course 1\",Général!C$158,IF($O$5=\"Course 2\",Général!C$160,IF($O$5=\"Course 3\",Général!C$162,Général!C$164)))","v":"IMT Brest 1"},{"$f":"IF($P$5=\"Course 1\",Général!C$168,IF($P$5=\"Course 2\",Général!C$170,IF($P$5=\"Course 3\",Général!C$172,Général!C$174)))","v":"La Rochelle 2"},{"$f":"IF($Q$5=\"Course 1\",Général!C$178,IF($Q$5=\"Course 2\",Général!C$180,IF($Q$5=\"Course 3\",Général!C$182,Général!C$184)))","v":"ENSTA 1"},{"$f":"IF($R$5=\"Course 1\",Général!C$188,IF($R$5=\"Course 2\",Général!C$190,IF($R$5=\"Course 3\",Général!C$192,Général!C$194)))","v":"IMT Nantes"},{"$f":"IF($S$5=\"Course 1\",Général!C$198,IF($S$5=\"Course 2\",Général!C$200,IF($S$5=\"Course 3\",Général!C$202,Général!C$204)))","v":"Southampton"},{"$f":"IF($T$5=\"Course 1\",Général!C$208,IF($T$5=\"Course 2\",Général!C$210,IF($T$5=\"Course 3\",Général!C$212,Général!C$214)))","v":"Hannover"},null,{"$f":"Général!B11","v":"Karlsruhe"},3]
["3ème Equipage",null,{"$f":"IF($C$5=\"Course 1\",Général!D38,IF($C$5=\"Course 2\",Général!D40,IF($C$5=\"Course 3\",Général!D42,Général!D44)))","v":"UNIV Nantes 1"},{"$f":"IF($D$5=\"Course 1\",Général!D48,IF($D$5=\"Course 2\",Général!D50,IF($D$5=\"Course 3\",Général!D52,Général!D54)))","v":"Paris Sorbone"},{"$f":"IF($E$5=\"Course 1\",Général!D58,IF($E$5=\"Course 2\",Général!D60,IF($E$5=\"Course 3\",Général!D62,Général!D64)))","v":"ENSTA 2"},{"$f":"IF($F$5=\"Course 1\",Général!D$68,IF($F$5=\"Course 2\",Général!D$70,IF($F$5=\"Course 3\",Général!D$72,Général!D$74)))","v":"Unicaen 2"},{"$f":"IF($G$5=\"Course 1\",Général!D$78,IF($G$5=\"Course 2\",Général!D$80,IF($G$5=\"Course 3\",Général!D$82,Général!D$84)))","v":"Karlsruhe"},{"$f":"IF($H$5=\"Course 1\",Général!D$88,IF($H$5=\"Course 2\",Général!D$90,IF($H$5=\"Course 3\",Général!D$92,Général!D$94)))","v":"UBO 1"},{"$f":"IF($I$5=\"Course 1\",Général!D$98,IF($I$5=\"Course 2\",Général!D$100,IF($I$5=\"Course 3\",Général!D$102,Général!D$104)))","v":"Hannover"},{"$f":"IF($J$5=\"Course 1\",Général!D$108,IF($J$5=\"Course 2\",Général!D$110,IF($J$5=\"Course 3\",Général!D$112,Général!D$114)))","v":"IMT Brest 1"},{"$f":"IF($K$5=\"Course 1\",Général!D$118,IF($K$5=\"Course 2\",Général!D$120,IF($K$5=\"Course 3\",Général!D$122,Général!D$124)))","v":"Unicaen 2"},{"$f":"IF($L$5=\"Course 1\",Général!D$128,IF($L$5=\"Course 2\",Général!D$130,IF($L$5=\"Course 3\",Général!D$132,Général!D$134)))","v":"UBS Lorient 1"},{"$f":"IF($M$5=\"Course 1\",Général!D$138,IF($M$5=\"Course 2\",Général!D$140,IF($M$5=\"Course 3\",Général!D$142,Général!D$144)))","v":"UBS Lorient 1"},{"$f":"IF($N$5=\"Course 1\",Général!D$148,IF($N$5=\"Course 2\",Général!D$150,IF($N$5=\"Course 3\",Général!D$152,Général!D$154)))","v":"IMT Brest 2"},{"$f":"IF($O$5=\"Course 1\",Général!D$158,IF($O$5=\"Course 2\",Général!D$160,IF($O$5=\"Course 3\",Général!D$162,Général!D$164)))","v":"IMT Nantes"},{"$f":"IF($P$5=\"Course 1\",Général!D$168,IF($P$5=\"Course 2\",Général!D$170,IF($P$5=\"Course 3\",Général!D$172,Général!D$174)))","v":"Karlsruhe"},{"$f":"IF($Q$5=\"Course 1\",Général!D$178,IF($Q$5=\"Course 2\",Général!D$180,IF($Q$5=\"Course 3\",Général!D$182,Général!D$184)))","v":"La Rochelle 1"},{"$f":"IF($R$5=\"Course 1\",Général!D$188,IF($R$5=\"Course 2\",Général!D$190,IF($R$5=\"Course 3\",Général!D$192,Général!D$194)))","v":"La Rochelle 1"},{"$f":"IF($S$5=\"Course 1\",Général!D$198,IF($S$5=\"Course 2\",Général!D$200,IF($S$5=\"Course 3\",Général!D$202,Général!D$204)))","v":"Paris Cité"},{"$f":"IF($T$5=\"Course 1\",Général!D$208,IF($T$5=\"Course 2\",Général!D$210,IF($T$5=\"Course 3\",Général!D$212,Général!D$214)))","v":"La Rochelle 2"},null,{"$f":"Général!B12","v":"IMT Brest 2"},7]
["4ème Equipage",null,{"$f":"IF($C$5=\"Course 1\",Général!E38,IF($C$5=\"Course 2\",Général!E40,IF($C$5=\"Course 3\",Général!E42,Général!E44)))","v":"Orléans"},{"$f":"IF($D$5=\"Course 1\",Général!E48,IF($D$5=\"Course 2\",Général!E50,IF($D$5=\"Course 3\",Général!E52,Général!E54)))","v":"IMT Nantes"},{"$f":"IF($E$5=\"Course 1\",Général!E58,IF($E$5=\"Course 2\",Général!E60,IF($E$5=\"Course 3\",Général!E62,Général!E64)))","v":"Paris Cité"},{"$f":"IF($F$5=\"Course 1\",Général!E$68,IF($F$5=\"Course 2\",Général!E$70,IF($F$5=\"Course 3\",Général!E$72,Général!E$74)))","v":"Univ Nantes 2"},{"$f":"IF($G$5=\"Course 1\",Général!E$78,IF($G$5=\"Course 2\",Général!E$80,IF($G$5=\"Course 3\",Général!E$82,Général!E$84)))","v":"UNIV Nantes 1"},{"$f":"IF($H$5=\"Course 1\",Général!E$88,IF($H$5=\"Course 2\",Général!E$90,IF($H$5=\"Course 3\",Général!E$92,Général!E$94)))","v":"La Rochelle 1"},{"$f":"IF($I$5=\"Course 1\",Général!E$98,IF($I$5=\"Course 2\",Général!E$100,IF($I$5=\"Course 3\",Général!E$102,Général!E$104)))","v":"Paris Sorbone"},{"$f":"IF($J$5=\"Course 1\",Général!E$108,IF($J$5=\"Course 2\",Général!E$110,IF($J$5=\"Course 3\",Général!E$112,Général!E$114)))","v":"UBS Lorient 2"},{"$f":"IF($K$5=\"Course 1\",Général!E$118,IF($K$5=\"Course 2\",Général!E$120,IF($K$5=\"Course 3\",Général!E$122,Général!E$124)))","v":"UBO 1"},{"$f":"IF($L$5=\"Course 1\",Général!E$128,IF($L$5=\"Course 2\",Général!E$130,IF($L$5=\"Course 3\",Général!E$132,Général!E$134)))","v":"Karlsruhe"},{"$f":"IF($M$5=\"Course 1\",Général!E$138,IF($M$5=\"Course 2\",Général!E$140,IF($M$5=\"Course 3\",Général!E$142,Général!E$144)))","v":"Orléans"},{"$f":"IF($N$5=\"Course 1\",Général!E$148,IF($N$5=\"Course 2\",Général!E$150,IF($N$5=\"Course 3\",Général!E$152,Général!E$154)))","v":"UBO 2"},{"$f":"IF($O$5=\"Course 1\",Général!E$158,IF($O$5=\"Course 2\",Général!E$160,IF($O$5=\"Course 3\",Général!E$162,Général!E$164)))","v":"ST Brieuc 2"},{"$f":"IF($P$5=\"Course 1\",Général!E$168,IF($P$5=\"Course 2\",Général!E$170,IF($P$5=\"Course 3\",Général!E$172,Général!E$174)))","v":"UBO 1"},{"$f":"IF($Q$5=\"Course 1\",Général!E$178,IF($Q$5=\"Course 2\",Général!E$180,IF($Q$5=\"Course 3\",Général!E$182,Général!E$184)))","v":"Centrale Nantes 1"},{"$f":"IF($R$5=\"Course 1\",Général!E$188,IF($R$5=\"Course 2\",Général!E$190,IF($R$5=\"Course 3\",Général!E$192,Général!E$194)))","v":"St Brieuc 1"},{"$f":"IF($S$5=\"Course 1\",Général!E$198,IF($S$5=\"Course 2\",Général!E$200,IF($S$5=\"Course 3\",Général!E$202,Général!E$204)))","v":"ENSMAC"},{"$f":"IF($T$5=\"Course 1\",Général!E$208,IF($T$5=\"Course 2\",Général!E$210,IF($T$5=\"Course 3\",Général!E$212,Général!E$214)))","v":"Plymouth"},null,{"$f":"Général!B13","v":"Unicaen 1"},6]
["5ème Equipage",null,{"$f":"IF($C$5=\"Course 1\",Général!F38,IF($C$5=\"Course 2\",Général!F40,IF($C$5=\"Course 3\",Général!F42,Général!F44)))","v":"Unicaen 2"},{"$f":"IF($D$5=\"Course 1\",Général!F48,IF($D$5=\"Course 2\",Général!F50,IF($D$5=\"Course 3\",Général!F52,Général!F54)))","v":"Hannover"},{"$f":"IF($E$5=\"Course 1\",Général!F58,IF($E$5=\"Course 2\",Général!F60,IF($E$5=\"Course 3\",Général!F62,Général!F64)))","v":"UBO 2"},{"$f":"IF($F$5=\"Course 1\",Général!F$68,IF($F$5=\"Course 2\",Général!F$70,IF($F$5=\"Course 3\",Général!F$72,Général!F$74)))","v":"La Rochelle 2"},{"$f":"IF($G$5=\"Course 1\",Général!F$78,IF($G$5=\"Course 2\",Général!F$80,IF($G$5=\"Course 3\",Général!F$82,Général!F$84)))","v":"ST Brieuc 2"},{"$f":"IF($H$5=\"Course 1\",Général!F$88,IF($H$5=\"Course 2\",Général!F$90,IF($H$5=\"Course 3\",Général!F$92,Général!F$94)))","v":"Orléans"},{"$f":"IF($I$5=\"Course 1\",Général!F$98,IF($I$5=\"Course 2\",Général!F$100,IF($I$5=\"Course 3\",Général!F$102,Général!F$104)))","v":"Centrale Nantes 1"},{"$f":"IF($J$5=\"Course 1\",Général!F$108,IF($J$5=\"Course 2\",Général!F$110,IF($J$5=\"Course 3\",Général!F$112,Général!F$114)))","v":"Intechmer"},{"$f":"IF($K$5=\"Course 1\",Général!F$118,IF($K$5=\"Course 2\",Général!F$120,IF($K$5=\"Course 3\",Général!F$122,Général!F$124)))","v":"ENSTA 1"},{"$f":"IF($L$5=\"Course 1\",Général!F$128,IF($L$5=\"Course 2\",Général!$F130,IF($L$5=\"Course 3\",Général!F$132,Général!F$134)))","v":"Paris Sorbone"},{"$f":"IF($M$5=\"Course 1\",Général!F$138,IF($M$5=\"Course 2\",Général!F$140,IF($M$5=\"Course 3\",Général!F$142,Général!F$144)))","v":"Paris Cité"},{"$f":"IF($N$5=\"Course 1\",Général!F$148,IF($N$5=\"Course 2\",Général!F$150,IF($N$5=\"Course 3\",Général!F$152,Général!F$154)))","v":"INSA Lyon"},{"$f":"IF($O$5=\"Course 1\",Général!F$158,IF($O$5=\"Course 2\",Général!F$160,IF($O$5=\"Course 3\",Général!F$162,Général!F$164)))","v":"Unicaen 1"},{"$f":"IF($P$5=\"Course 1\",Général!F$168,IF($P$5=\"Course 2\",Général!F$170,IF($P$5=\"Course 3\",Général!F$172,Général!F$174)))","v":"Hannover"},{"$f":"IF($Q$5=\"Course 1\",Général!F$178,IF($Q$5=\"Course 2\",Général!F$180,IF($Q$5=\"Course 3\",Général!F$182,Général!F$184)))","v":"Hannover"},{"$f":"IF($R$5=\"Course 1\",Général!F$188,IF($R$5=\"Course 2\",Général!F$190,IF($R$5=\"Course 3\",Général!F$192,Général!F$194)))","v":"Hannover"},{"$f":"IF($S$5=\"Course 1\",Général!F$198,IF($S$5=\"Course 2\",Général!F$200,IF($S$5=\"Course 3\",Général!F$202,Général!F$204)))","v":"Unicaen 2"},{"$f":"IF($T$5=\"Course 1\",Général!F$208,IF($T$5=\"Course 2\",Général!F$210,IF($T$5=\"Course 3\",Général!F$212,Général!F$214)))","v":"La Rochelle 1"},null,{"$f":"Général!B14","v":"ENSTA 1"},5]
["6ème Equipage",null,{"$f":"IF($C$5=\"Course 1\",Général!G38,IF($C$5=\"Course 2\",Général!G40,IF($C$5=\"Course 3\",Général!G42,Général!G44)))","v":"Hannover"},{"$f":"IF($D$5=\"Course 1\",Général!G48,IF($D$5=\"Course 2\",Général!G50,IF($D$5=\"Course 3\",Général!G52,Général!G54)))","v":"Plymouth"},{"$f":"IF($E$5=\"Course 1\",Général!G58,IF($E$5=\"Course 2\",Général!G60,IF($E$5=\"Course 3\",Général!G62,Général!G64)))","v":"ENSMAC"},{"$f":"IF($F$5=\"Course 1\",Général!G$68,IF($F$5=\"Course 2\",Général!G$70,IF($F$5=\"Course 3\",Général!G$72,Général!G$74)))","v":"ENSTA 2"},{"$f":"IF($G$5=\"Course 1\",Général!G$78,IF($G$5=\"Course 2\",Général!G$80,IF($G$5=\"Course 3\",Général!G$82,Général!G$84)))","v":"UBO 1"},{"$f":"IF($H$5=\"Course 1\",Général!G$88,IF($H$5=\"Course 2\",Général!G$90,IF($H$5=\"Course 3\",Général!G$92,Général!G$94)))","v":"Paris Cité"},{"$f":"IF($I$5=\"Course 1\",Général!G$98,IF($I$5=\"Course 2\",Général!G$100,IF($I$5=\"Course 3\",Général!G$102,Général!G$104)))","v":"Unicaen 2"},{"$f":"IF($J$5=\"Course 1\",Général!G$108,IF($J$5=\"Course 2\",Général!G$110,IF($J$5=\"Course 3\",Général!G$112,Général!G$114)))","v":"ENSTA 1"},{"$f":"IF($K$5=\"Course 1\",Général!G$118,IF($K$5=\"Course 2\",Général!G$120,IF($K$5=\"Course 3\",Général!G$122,Général!G$124)))","v":"La Rochelle 2"},{"$f":"IF($L$5=\"Course 1\",Général!G$128,IF($L$5=\"Course 2\",Général!G$130,IF($L$5=\"Course 3\",Général!G$132,Général!G$134)))","v":"ENSTA 2"},{"$f":"IF($M$5=\"Course 1\",Général!G$138,IF($M$5=\"Course 2\",Général!G$140,IF($M$5=\"Course 3\",Général!G$142,Général!G$144)))","v":"Unicaen 1"},{"$f":"IF($N$5=\"Course 1\",Général!G$148,IF($N$5=\"Course 2\",Général!G$150,IF($N$5=\"Course 3\",Général!G$152,Général!G$154)))","v":"Hannover"},{"$f":"IF($O$5=\"Course 1\",Général!G$158,IF($O$5=\"Course 2\",Général!G$160,IF($O$5=\"Course 3\",Général!G$162,Général!G$164)))","v":"Hannover"},{"$f":"IF($P$5=\"Course 1\",Général!G$168,IF($P$5=\"Course 2\",Général!G$170,IF($P$5=\"Course 3\",Général!G$172,Général!G$174)))","v":"UBS Lorient 2"},{"$f":"IF($Q$5=\"Course 1\",Général!G$178,IF($Q$5=\"Course 2\",Général!G$180,IF($Q$5=\"Course 3\",Général!G$182,Général!G$184)))","v":"Centrale Nantes 2"},{"$f":"IF($R$5=\"Course 1\",Général!G$188,IF($R$5=\"Course 2\",Général!G$190,IF($R$5=\"Course 3\",Général!G$192,Général!G$194)))","v":"Unicaen 2"},{"$f":"IF($S$5=\"Course 1\",Général!G$198,IF($S$5=\"Course 2\",Général!G$200,IF($S$5=\"Course 3\",Général!G$202,Général!G$204)))","v":"UBS Lorient 1"},{"$f":"IF($T$5=\"Course 1\",Général!G$208,IF($T$5=\"Course 2\",Général!G$210,IF($T$5=\"Course 3\",Général!G$212,Général!G$214)))","v":"Southampton"},null,{"$f":"Général!B15","v":"Orléans"},5]
["7ème Equipage",null,{"$f":"IF($C$5=\"Course 1\",Général!H38,IF($C$5=\"Course 2\",Général!H40,IF($C$5=\"Course 3\",Général!H42,Général!H44)))","v":"IMT Brest 2"},{"$f":"IF($D$5=\"Course 1\",Général!H48,IF($D$5=\"Course 2\",Général!H50,IF($D$5=\"Course 3\",Général!H52,Général!H54)))","v":"Univ Nantes 2"},{"$f":"IF($E$5=\"Course 1\",Général!H58,IF($E$5=\"Course 2\",Général!H60,IF($E$5=\"Course 3\",Général!H62,Général!H64)))","v":"Hannover"},{"$f":"IF($F$5=\"Course 1\",Général!H$68,IF($F$5=\"Course 2\",Général!H$70,IF($F$5=\"Course 3\",Général!H$72,Général!H$74)))","v":"UBS Lorient 2"},{"$f":"IF($G$5=\"Course 1\",Général!H$78,IF($G$5=\"Course 2\",Général!H$80,IF($G$5=\"Course 3\",Général!H$82,Général!H$84)))","v":"IMT Brest 1"},{"$f":"IF($H$5=\"Course 1\",Général!H$88,IF($H$5=\"Course 2\",Général!H$90,IF($H$5=\"Course 3\",Général!H$92,Général!H$94)))","v":"Hannover"},{"$f":"IF($I$5=\"Course 1\",Général!H$98,IF($I$5=\"Course 2\",Général!H$100,IF($I$5=\"Course 3\",Général!H$102,Général!H$104)))","v":"IMT Brest 2"},{"$f":"IF($J$5=\"Course 1\",Général!H$108,IF($J$5=\"Course 2\",Général!H$110,IF($J$5=\"Course 3\",Général!H$112,Général!H$114)))","v":"Hannover"},{"$f":"IF($K$5=\"Course 1\",Général!H$118,IF($K$5=\"Course 2\",Général!H$120,IF($K$5=\"Course 3\",Général!H$122,Général!H$124)))","v":"IMT Nantes"},{"$f":"IF($L$5=\"Course 1\",Général!H$128,IF($L$5=\"Course 2\",Général!H$130,IF($L$5=\"Course 3\",Général!H$132,Général!H$134)))","v":"Centrale Nantes 1"},{"$f":"IF($M$5=\"Course 1\",Général!H$138,IF($M$5=\"Course 2\",Général!H$140,IF($M$5=\"Course 3\",Général!H$142,Général!H$144)))","v":"Centrale Nantes 1"},{"$f":"IF($N$5=\"Course 1\",Général!H$148,IF($N$5=\"Course 2\",Général!H$150,IF($N$5=\"Course 3\",Général!H$152,Général!H$154)))","v":"La Rochelle 2"},{"$f":"IF($O$5=\"Course 1\",Général!H$158,IF($O$5=\"Course 2\",Général!H$160,IF($O$5=\"Course 3\",Général!H$162,Général!H$164)))","v":"La Rochelle 2"},{"$f":"IF($P$5=\"Course 1\",Général!H$168,IF($P$5=\"Course 2\",Général!H$170,IF($P$5=\"Course 3\",Général!H$172,Général!H$174)))","v":"UBS Lorient 1"},{"$f":"IF($Q$5=\"Course 1\",Général!H$178,IF($Q$5=\"Course 2\",Général!H$180,IF($Q$5=\"Course 3\",Général!H$182,Général!H$184)))","v":"IMT Brest 1"},{"$f":"IF($R$5=\"Course 1\",Général!H$188,IF($R$5=\"Course 2\",Général!H$190,IF($R$5=\"Course 3\",Général!H$192,Général!H$194)))","v":"Unicaen 1"},{"$f":"IF($S$5=\"Course 1\",Général!H$198,IF($S$5=\"Course 2\",Général!H$200,IF($S$5=\"Course 3\",Général!H$202,Général!H$204)))","v":"UBO 1"},{"$f":"IF($T$5=\"Course 1\",Général!H$208,IF($T$5=\"Course 2\",Général!H$210,IF($T$5=\"Course 3\",Général!H$212,Général!H$214)))","v":"Unicaen 1"},null,{"$f":"Général!B16","v":"IMT Brest 1"},6]
["8ème Equipage",null,{"$f":"IF($C$5=\"Course 1\",Général!I38,IF($C$5=\"Course 2\",Général!I40,IF($C$5=\"Course 3\",Général!I42,Général!I44)))","v":"Paris Cité"},{"$f":"IF($D$5=\"Course 1\",Général!I48,IF($D$5=\"Course 2\",Général!I50,IF($D$5=\"Course 3\",Général!I52,Général!I54)))","v":"Orléans"},{"$f":"IF($E$5=\"Course 1\",Général!I58,IF($E$5=\"Course 2\",Général!I60,IF($E$5=\"Course 3\",Général!I62,Général!I64)))","v":"Unicaen 1"},{"$f":"IF($F$5=\"Course 1\",Général!I$68,IF($F$5=\"Course 2\",Général!I$70,IF($F$5=\"Course 3\",Général!I$72,Général!I$74)))","v":"INSA Lyon"},{"$f":"IF($G$5=\"Course 1\",Général!I$78,IF($G$5=\"Course 2\",Général!I$80,IF($G$5=\"Course 3\",Général!I$82,Général!I$84)))","v":"Southampton"},{"$f":"IF($H$5=\"Course 1\",Général!I$88,IF($H$5=\"Course 2\",Général!I$90,IF($H$5=\"Course 3\",Général!I$92,Général!I$94)))","v":"IMT Nantes"},{"$f":"IF($I$5=\"Course 1\",Général!I$98,IF($I$5=\"Course 2\",Général!I$100,IF($I$5=\"Course 3\",Général!I$102,Général!I$104)))","v":"INSA Lyon"},{"$f":"IF($J$5=\"Course 1\",Général!I$108,IF($J$5=\"Course 2\",Général!I$110,IF($J$5=\"Course 3\",Général!I$112,Général!I$114)))","v":"Southampton"},{"$f":"IF($K$5=\"Course 1\",Général!I$118,IF($K$5=\"Course 2\",Général!I$120,IF($K$5=\"Course 3\",Général!I$122,Général!I$124)))","v":"Plymouth"},{"$f":"IF($L$5=\"Course 1\",Général!I$128,IF($L$5=\"Course 2\",Général!I$130,IF($L$5=\"Course 3\",Général!I$132,Général!I$134)))","v":"Hannover"},{"$f":"IF($M$5=\"Course 1\",Général!I$138,IF($M$5=\"Course 2\",Général!I$140,IF($M$5=\"Course 3\",Général!I$142,Général!I$144)))","v":"Hannover"},{"$f":"IF($N$5=\"Course 1\",Général!I$148,IF($N$5=\"Course 2\",Général!I$150,IF($N$5=\"Course 3\",Général!I$152,Général!I$154)))","v":"UNIV Nantes 1"},{"$f":"IF($O$5=\"Course 1\",Général!I$158,IF($O$5=\"Course 2\",Général!I$160,IF($O$5=\"Course 3\",Général!I$162,Général!I$164)))","v":"Orléans"},{"$f":"IF($P$5=\"Course 1\",Général!I$168,IF($P$5=\"Course 2\",Général!I$170,IF($P$5=\"Course 3\",Général!I$172,Général!I$174)))","v":"Unicaen 2"},{"$f":"IF($Q$5=\"Course 1\",Général!I$178,IF($Q$5=\"Course 2\",Général!I$180,IF($Q$5=\"Course 3\",Général!I$182,Général!I$184)))","v":"Univ Nantes 3"},{"$f":"IF($R$5=\"Course 1\",Général!I$188,IF($R$5=\"Course 2\",Général!I$190,IF($R$5=\"Course 3\",Général!I$192,Général!I$194)))","v":"Univ Nantes 3"},{"$f":"IF($S$5=\"Course 1\",Général!I$198,IF($S$5=\"Course 2\",Général!I$200,IF($S$5=\"Course 3\",Général!I$202,Général!I$204)))","v":"IMT Brest 1"},{"$f":"IF($T$5=\"Course 1\",Général!I$208,IF($T$5=\"Course 2\",Général!I$210,IF($T$5=\"Course 3\",Général!I$212,Général!I$214)))","v":"Centrale Nantes 1"},null,{"$f":"Général!B17","v":"ENSMAC"},4]
["9ème Equipage",null,{"$f":"IF($C$5=\"Course 1\",Général!J38,IF($C$5=\"Course 2\",Général!J40,IF($C$5=\"Course 3\",Général!J42,Général!J44)))","v":"ENSMAC"},{"$f":"IF($D$5=\"Course 1\",Général!J48,IF($D$5=\"Course 2\",Général!J50,IF($D$5=\"Course 3\",Général!J52,Général!J54)))","v":"Intechmer"},{"$f":"IF($E$5=\"Course 1\",Général!J58,IF($E$5=\"Course 2\",Général!J60,IF($E$5=\"Course 3\",Général!J62,Général!J64)))","v":"Southampton"},{"$f":"IF($F$5=\"Course 1\",Général!J$68,IF($F$5=\"Course 2\",Général!J$70,IF($F$5=\"Course 3\",Général!J$72,Général!J$74)))","v":"Unicaen 1"},{"$f":"IF($G$5=\"Course 1\",Général!J$78,IF($G$5=\"Course 2\",Général!J$80,IF($G$5=\"Course 3\",Général!J$82,Général!J$84)))","v":"ENSTA 1"},{"$f":"IF($H$5=\"Course 1\",Général!J$88,IF($H$5=\"Course 2\",Général!J$90,IF($H$5=\"Course 3\",Général!$J92,Général!J$94)))","v":"Centrale Nantes 1"},{"$f":"IF($I$5=\"Course 1\",Général!J$98,IF($I$5=\"Course 2\",Général!J$100,IF($I$5=\"Course 3\",Général!J$102,Général!J$104)))","v":"UBO 1"},{"$f":"IF($J$5=\"Course 1\",Général!J$108,IF($J$5=\"Course 2\",Général!J$110,IF($J$5=\"Course 3\",Général!J$112,Général!J$114)))","v":"La Rochelle 1"},{"$f":"IF($K$5=\"Course 1\",Général!J$118,IF($K$5=\"Course 2\",Général!J$120,IF($K$5=\"Course 3\",Général!J$122,Général!J$124)))","v":"Paris Sorbone"},{"$f":"IF($L$5=\"Course 1\",Général!J$128,IF($L$5=\"Course 2\",Général!J$130,IF($L$5=\"Course 3\",Général!J$132,Général!J$134)))","v":"St Brieuc 1"},{"$f":"IF($M$5=\"Course 1\",Général!J$138,IF($M$5=\"Course 2\",Général!J$140,IF($M$5=\"Course 3\",Général!J$142,Général!J$144)))","v":"St Brieuc 1"},{"$f":"IF($N$5=\"Course 1\",Général!J$148,IF($N$5=\"Course 2\",Général!J$150,IF($N$5=\"Course 3\",Général!J$152,Général!J$154)))","v":"Plymouth"},{"$f":"IF($O$5=\"Course 1\",Général!J$158,IF($O$5=\"Course 2\",Général!J$160,IF($O$5=\"Course 3\",Général!J$162,Général!J$164)))","v":"UBS Lorient 1"},{"$f":"IF($P$5=\"Course 1\",Général!J$168,IF($P$5=\"Course 2\",Général!J$170,IF($P$5=\"Course 3\",Général!J$172,Général!J$174)))","v":"IMT Brest 2"},{"$f":"IF($Q$5=\"Course 1\",Général!J$178,IF($Q$5=\"Course 2\",Général!J$180,IF($Q$5=\"Course 3\",Général!J$182,Général!J$184)))","v":"Intechmer"},{"$f":"IF($R$5=\"Course 1\",Général!J$188,IF($R$5=\"Course 2\",Général!J$190,IF($R$5=\"Course 3\",Général!J$192,Général!J$194)))","v":"Southampton"},{"$f":"IF($S$5=\"Course 1\",Général!J$198,IF($S$5=\"Course 2\",Général!J$200,IF($S$5=\"Course 3\",Général!J$202,Général!J$204)))","v":"Hannover"},{"$f":"IF($T$5=\"Course 1\",Général!J$208,IF($T$5=\"Course 2\",Général!J$210,IF($T$5=\"Course 3\",Général!J$212,Général!J$214)))","v":"Intechmer"},null,{"$f":"Général!B18","v":"St Brieuc 1"},3]
["10ème Equipage",null,{"$f":"IF($C$5=\"Course 1\",Général!K38,IF($C$5=\"Course 2\",Général!K40,IF($C$5=\"Course 3\",Général!K42,Général!K44)))","v":"Paris Sorbone"},{"$f":"IF($D$5=\"Course 1\",Général!K48,IF($D$5=\"Course 2\",Général!K50,IF($D$5=\"Course 3\",Général!K52,Général!K54)))","v":"IMT Brest 1"},{"$f":"IF($E$5=\"Course 1\",Général!K58,IF($E$5=\"Course 2\",Général!K60,IF($E$5=\"Course 3\",Général!K62,Général!K64)))","v":"UBO 1"},{"$f":"IF($F$5=\"Course 1\",Général!K$68,IF($F$5=\"Course 2\",Général!K$70,IF($F$5=\"Course 3\",Général!K$72,Général!K$74)))","v":"Hannover"},{"$f":"IF($G$5=\"Course 1\",Général!K$78,IF($G$5=\"Course 2\",Général!K$80,IF($G$5=\"Course 3\",Général!K$82,Général!K$84)))","v":"UBO 2"},{"$f":"IF($H$5=\"Course 1\",Général!K$88,IF($H$5=\"Course 2\",Général!K$90,IF($H$5=\"Course 3\",Général!$K92,Général!K$94)))","v":"ENSTA 1"},{"$f":"IF($I$5=\"Course 1\",Général!K$98,IF($I$5=\"Course 2\",Général!K$100,IF($I$5=\"Course 3\",Général!K$102,Général!K$104)))","v":"ENSMAC"},{"$f":"IF($J$5=\"Course 1\",Général!K$108,IF($J$5=\"Course 2\",Général!K$110,IF($J$5=\"Course 3\",Général!K$112,Général!K$114)))","v":"IMT Brest 2"},{"$f":"IF($K$5=\"Course 1\",Général!K$118,IF($K$5=\"Course 2\",Général!K$120,IF($K$5=\"Course 3\",Général!K$122,Général!K$124)))","v":"UBO 2"},{"$f":"IF($L$5=\"Course 1\",Général!K$128,IF($L$5=\"Course 2\",Général!K$130,IF($L$5=\"Course 3\",Général!K$132,Général!K$134)))","v":"INSA Lyon"},{"$f":"IF($M$5=\"Course 1\",Général!K$138,IF($M$5=\"Course 2\",Général!K$140,IF($M$5=\"Course 3\",Général!K$142,Général!K$144)))","v":"IMT Brest 1"},{"$f":"IF($N$5=\"Course 1\",Général!K$148,IF($N$5=\"Course 2\",Général!K$150,IF($N$5=\"Course 3\",Général!K$152,Général!K$154)))","v":"Karlsruhe"},{"$f":"IF($O$5=\"Course 1\",Général!K$158,IF($O$5=\"Course 2\",Général!K$160,IF($O$5=\"Course 3\",Général!K$162,Général!K$164)))","v":"Paris Sorbone"},{"$f":"IF($P$5=\"Course 1\",Général!K$168,IF($P$5=\"Course 2\",Général!K$170,IF($P$5=\"Course 3\",Général!K$172,Général!K$174)))","v":"Centrale Nantes 1"},{"$f":"IF($Q$5=\"Course 1\",Général!K$178,IF($Q$5=\"Course 2\",Général!K$180,IF($Q$5=\"Course 3\",Général!K$182,Général!K$184)))","v":"ST Brieuc 2"},{"$f":"IF($R$5=\"Course 1\",Général!K$188,IF($R$5=\"Course 2\",Général!K$190,IF($R$5=\"Course 3\",Général!K$192,Général!K$194)))","v":"Paris Sorbone"},{"$f":"IF($S$5=\"Course 1\",Général!K$198,IF($S$5=\"Course 2\",Général!K$200,IF($S$5=\"Course 3\",Général!K$202,Général!K$204)))","v":"Univ Nantes 3"},{"$f":"IF($T$5=\"Course 1\",Général!K$208,IF($T$5=\"Course 2\",Général!K$210,IF($T$5=\"Course 3\",Général!K$212,Général!K$214)))","v":"ENSTA 2"},null,{"$f":"Général!B19","v":"Hannover"},17]
[null,null,null,null,null,null,null,null,null,null,null,null,null,null,null,null,null,null,null,null,null,{"$f":"Général!B20","v":"ENSTA 2"},6]
[null,null,null,null,null,null,null,null,null,null,null,null,null,null,null,null,null,null,null,null,null,{"$f":"Général!B21","v":"Southampton"},7]
[null,null,null,null,null,null,null,null,null,null,null,null,null,null,null,null,null,null,null,null,null,{"$f":"Général!B22","v":"La Rochelle 1"},7]
[null,null,null,null,null,null,null,null,null,null,null,null,null,null,null,null,null,null,null,null,null,{"$f":"Général!B23","v":"Centrale Nantes 1"},6]
[null,null,null,null,null,null,null,null,null,null,null,null,null,null,null,null,null,null,null,null,null,{"$f":"Général!B24","v":"ST Brieuc 2"},3]
[null,null,null,null,null,null,null,null,null,null,null,null,null,null,null,null,null,null,null,null,null,{"$f":"Général!B25","v":"UNIV Nantes 1"},6]
[null,null,null,null,null,null,null,null,null,null,null,null,null,null,null,null,null,null,null,null,null,{"$f":"Général!B26","v":"Intechmer"},5]
[null,null,null,null,null,null,null,null,null,null,null,null,null,null,null,null,null,null,null,null,null,{"$f":"Général!B27","v":"IMT Nantes"},6]
[null,null,null,null,null,null,null,null,null,null,null,null,null,null,null,null,null,null,null,null,null,{"$f":"Général!B28","v":"INSA Lyon"},3]
[null,null,null,null,null,null,null,null,null,null,null,null,null,null,null,null,null,null,null,null,null,{"$f":"Général!B29","v":"Centrale Nantes 2"},1]
[null,null,null,null,null,null,null,null,null,null,null,null,null,null,null,null,null,null,null,null,null,{"$f":"Général!B30","v":"UBS Lorient 2"},4]
[null,null,null,null,null,null,null,null,null,null,null,null,null,null,null,null,null,null,null,null,null,{"$f":"Général!B31","v":"La Rochelle 2"},7]
[null,null,null,null,null,null,null,null,null,null,null,null,null,null,null,null,null,null,null,null,null,{"$f":"Général!B32","v":"UBO 1"},6]
[null,null,null,null,null,null,null,null,null,null,null,null,null,null,null,null,null,null,null,null,null,{"$f":"Général!B33","v":"Eq.31"},0]
[null,null,null,null,null,null,null,null,null,null,null,null,null,null,null,null,null,null,null,null,null,{"$f":"Général!B34","v":"Eq.32"},0]

{"sheet":"Eq.18","index":23,"n_rows":32,"n_cols":23,"rows_kept":32,"cut":false,"hidden":false,"merged":[[7,0,7,1],[0,0,1,5],[0,6,1,10],[3,0,3,1],[4,0,4,1],[5,0,5,1],[14,0,14,1],[15,0,15,1],[16,0,16,1],[8,0,8,1],[9,0,9,1],[10,0,10,1],[11,0,11,1],[12,0,12,1],[13,0,13,1]]}
["Equipage ",null,null,null,null,null,{"$f":"Général!B20","v":"ENSTA 2"},null,null,null,null,null,null,null,null,null,null,null,null,null,null,{"$f":"Général!B3","v":"UBO 2"},{"$f":"COUNTIF(C$8:T$16,V1)","v":5}]
[null,null,null,null,null,null,null,null,null,null,null,null,null,null,null,null,null,null,null,null,null,{"$f":"Général!B4","v":"Paris Sorbone"},{"$f":"COUNTIF($C$8:$T$16,V2)","v":4}]
[null,null,null,null,null,null,null,null,null,null,null,null,null,null,null,null,null,null,null,null,null,{"$f":"Général!B5","v":"UBS Lorient 1"},{"$f":"COUNTIF($C$8:$T$16,V3)","v":5}]
[null,null,"FLIGHT 1","FLIGHT 2","FLIGHT 3","FLIGHT 4","FLIGHT 5","FLIGHT 6","FLIGHT 7","FLIGHT 8","FLIGHT 9","FLIGHT 10","FLIGHT 11","FLIGHT 12","FLIGHT 13","FLIGHT 14","FLIGHT 15","FLIGHT 16","FLIGHT 17","FLIGHT 18",null,{"$f":"Général!B6","v":"Univ Nantes 3"},6]
["N° de course",null,{"$f":"IF(COUNTIF(Général!B38:K38,$G$1)=1,\"Course 1\",IF(COUNTIF(Général!B40:K40,$G$1)=1,\"Course 2\",IF(COUNTIF(Général!B42:K42,$G$1)=1,\"Course 3\",\"Course 4\")))","v":"Course 3"},{"$f":"IF(COUNTIF(Général!B48:K48,$G$1)=1,\"Course 1\",IF(COUNTIF(Général!B50:K50,$G$1)=1,\"Course 2\",IF(COUNTIF(Général!B52:K52,$G$1)=1,\"Course 3\",\"Course 4\")))","v":"Course 2"},{"$f":"IF(COUNTIF(Général!B58:K58,$G$1)=1,\"Course 1\",IF(COUNTIF(Général!B60:K60,$G$1)=1,\"Course 2\",IF(COUNTIF(Général!B62:K62,$G$1)=1,\"Course 3\",\"Course 4\")))","v":"Course 2"},{"$f":"IF(COUNTIF(Général!B68:K68,$G$1)=1,\"Course 1\",IF(COUNTIF(Général!B70:K70,$G$1)=1,\"Course 2\",IF(COUNTIF(Général!B72:K72,$G$1)=1,\"Course 3\",\"Course 4\")))","v":"Course 2"},{"$f":"IF(COUNTIF(Général!B78:K78,$G$1)=1,\"Course 1\",IF(COUNTIF(Général!B80:K80,$G$1)=1,\"Course 2\",IF(COUNTIF(Général!B82:K82,$G$1)=1,\"Course 3\",\"Course 4\")))","v":"Course 3"},{"$f":"IF(COUNTIF(Général!B88:K88,$G$1)=1,\"Course 1\",IF(COUNTIF(Général!B90:K90,$G$1)=1,\"Course 2\",IF(COUNTIF(Général!B92:K92,$G$1)=1,\"Course 3\",\"Course 4\")))","v":"Course 1"},{"$f":"IF(COUNTIF(Général!B98:K98,$G$1)=1,\"Course 1\",IF(COUNTIF(Général!B100:K100,$G$1)=1,\"Course 2\",IF(COUNTIF(Général!B102:K102,$G$1)=1,\"Course 3\",\"Course 4\")))","v":"Course 3"},{"$f":"IF(COUNTIF(Général!B108:K108,$G$1)=1,\"Course 1\",IF(COUNTIF(Général!B110:K110,$G$1)=1,\"Course 2\",IF(COUNTIF(Général!B112:K112,$G$1)=1,\"Course 3\",\"Course 4\")))","v":"Course 1"},{"$f":"IF(COUNTIF(Général!B118:K118,$G$1)=1,\"Course 1\",IF(COUNTIF(Général!B120:K120,$G$1)=1,\"Course 2\",IF(COUNTIF(Général!B122:K122,$G$1)=1,\"Course 3\",\"Course 4\")))","v":"Course 3"},{"$f":"IF(COUNTIF(Général!B128:K128,$G$1)=1,\"Course 1\",IF(COUNTIF(Général!B130:K130,$G$1)=1,\"Course 2\",IF(COUNTIF(Général!B132:K132,$G$1)=1,\"Course 3\",\"Course 4\")))","v":"Course 3"},{"$f":"IF(COUNTIF(Général!B138:K138,$G$1)=1,\"Course 1\",IF(COUNTIF(Général!B140:K140,$G$1)=1,\"Course 2\",IF(COUNTIF(Général!B142:K142,$G$1)=1,\"Course 3\",\"Course 4\")))","v":"Course 2"},{"$f":"IF(COUNTIF(Général!B148:K148,$G$1)=1,\"Course 1\",IF(COUNTIF(Général!B150:K150,$G$1)=1,\"Course 2\",IF(COUNTIF(Général!B152:K152,$G$1)=1,\"Course 3\",\"Course 4\")))","v":"Course 2"},{"$f":"IF(COUNTIF(Général!B158:K158,$G$1)=1,\"Course 1\",IF(COUNTIF(Général!B160:K160,$G$1)=1,\"Course 2\",IF(COUNTIF(Général!B162:K162,$G$1)=1,\"Course 3\",\"Course 4\")))","v":"Course 2"},{"$f":"IF(COUNTIF(Général!B168:K168,$G$1)=1,\"Course 1\",IF(COUNTIF(Général!B170:K170,$G$1)=1,\"Course 2\",IF(COUNTIF(Général!B172:K172,$G$1)=1,\"Course 3\",\"Course 4\")))","v":"Course 2"},{"$f":"IF(COUNTIF(Général!B178:K178,$G$1)=1,\"Course 1\",IF(COUNTIF(Général!B180:K180,$G$1)=1,\"Course 2\",IF(COUNTIF(Général!B182:K182,$G$1)=1,\"Course 3\",\"Course 4\")))","v":"Course 2"},{"$f":"IF(COUNTIF(Général!B188:K188,$G$1)=1,\"Course 1\",IF(COUNTIF(Général!B190:K190,$G$1)=1,\"Course 2\",IF(COUNTIF(Général!B192:K192,$G$1)=1,\"Course 3\",\"Course 4\")))","v":"Course 3"},{"$f":"IF(COUNTIF(Général!B198:K198,$G$1)=1,\"Course 1\",IF(COUNTIF(Général!B200:K200,$G$1)=1,\"Course 2\",IF(COUNTIF(Général!B202:K202,$G$1)=1,\"Course 3\",\"Course 4\")))","v":"Course 2"},{"$f":"IF(COUNTIF(Général!B208:K208,$G$1)=1,\"Course 1\",IF(COUNTIF(Général!B210:K210,$G$1)=1,\"Course 2\",IF(COUNTIF(Général!B212:K212,$G$1)=1,\"Course 3\",\"Course 4\")))","v":"Course 3"},null,{"$f":"Général!B7","v":"Paris Cité"},7]
["Bateau",null,{"$f":"IF(COUNTIF(Général!B38:B44,$G$1)=1,\"Boat 1\",IF(COUNTIF(Général!C38:C44,$G$1)=1,\"Boat 2\",IF(COUNTIF(Général!D38:D44,$G$1)=1,\"Boat 3\", IF(COUNTIF(Général!E38:E44,$G$1)=1,\"Boat 4\", IF(COUNTIF(Général!F38:F44,$G$1)=1,\"Boat 5\", IF(COUNTIF(Général!G38:G44,$G$1)=1,\"Boat 6\", IF(COUNTIF(Général!H38:H44,$G$1)=1,\"Boat 7\",IF(COUNTIF(Général!I38:I44,$G$1)=1,\"Boat 8\",\"Boat 9\"))))))))","v":"Boat 5"},{"$f":"IF(COUNTIF(Général!B48:B54,$G$1)=1,\"Boat 1\",IF(COUNTIF(Général!C48:C54,$G$1)=1,\"Boat 2\",IF(COUNTIF(Général!D48:D54,$G$1)=1,\"Boat 3\", IF(COUNTIF(Général!E48:E54,$G$1)=1,\"Boat 4\", IF(COUNTIF(Général!F48:F54,$G$1)=1,\"Boat 5\", IF(COUNTIF(Général!G48:G54,$G$1)=1,\"Boat 6\", IF(COUNTIF(Général!H48:H54,$G$1)=1,\"Boat 7\",IF(COUNTIF(Général!I38:I44,$G$1)=1,\"Boat 8\",\"Boat 9\"))))))))","v":"Boat 4"},{"$f":"IF(COUNTIF(Général!B58:B64,$G$1)=1,\"Boat 1\",IF(COUNTIF(Général!C58:C64,$G$1)=1,\"Boat 2\",IF(COUNTIF(Général!D58:D64,$G$1)=1,\"Boat 3\", IF(COUNTIF(Général!E58:E64,$G$1)=1,\"Boat 4\", IF(COUNTIF(Général!F58:F64,$G$1)=1,\"Boat 5\", IF(COUNTIF(Général!G58:G64,$G$1)=1,\"Boat 6\", IF(COUNTIF(Général!H58:H64,$G$1)=1,\"Boat 7\",IF(COUNTIF(Général!I38:I44,$G$1)=1,\"Boat 8\",\"Boat 9\"))))))))","v":"Boat 3"},{"$f":"IF(COUNTIF(Général!B68:B74,$G$1)=1,\"Boat 1\",IF(COUNTIF(Général!C68:C74,$G$1)=1,\"Boat 2\",IF(COUNTIF(Général!D68:D74,$G$1)=1,\"Boat 3\", IF(COUNTIF(Général!E68:E74,$G$1)=1,\"Boat 4\", IF(COUNTIF(Général!F68:F74,$G$1)=1,\"Boat 5\", IF(COUNTIF(Général!G68:G74,$G$1)=1,\"Boat 6\", IF(COUNTIF(Général!H68:H74,$G$1)=1,\"Boat 7\",IF(COUNTIF(Général!I38:I44,$G$1)=1,\"Boat 8\",\"Boat 9\"))))))))","v":"Boat 6"},{"$f":"IF(COUNTIF(Général!B78:B84,$G$1)=1,\"Boat 1\",IF(COUNTIF(Général!C78:C84,$G$1)=1,\"Boat 2\",IF(COUNTIF(Général!D78:D84,$G$1)=1,\"Boat 3\", IF(COUNTIF(Général!E78:E84,$G$1)=1,\"Boat 4\", IF(COUNTIF(Général!F78:F84,$G$1)=1,\"Boat 5\", IF(COUNTIF(Général!G78:G84,$G$1)=1,\"Boat 6\", IF(COUNTIF(Général!H78:H84,$G$1)=1,\"Boat 7\",IF(COUNTIF(Général!I38:I44,$G$1)=1,\"Boat 8\",\"Boat 9\"))))))))","v":"Boat 1"},{"$f":"IF(COUNTIF(Général!B88:B94,$G$1)=1,\"Boat 1\",IF(COUNTIF(Général!C88:C94,$G$1)=1,\"Boat 2\",IF(COUNTIF(Général!D88:D94,$G$1)=1,\"Boat 3\", IF(COUNTIF(Général!E88:E94,$G$1)=1,\"Boat 4\", IF(COUNTIF(Général!F88:F94,$G$1)=1,\"Boat 5\", IF(COUNTIF(Général!G88:G94,$G$1)=1,\"Boat 6\", IF(COUNTIF(Général!H88:H94,$G$1)=1,\"Boat 7\",IF(COUNTIF(Général!I38:I44,$G$1)=1,\"Boat 8\",\"Boat 9\"))))))))","v":"Boat 1"},{"$f":"IF(COUNTIF(Général!B98:B104,$G$1)=1,\"Boat 1\",IF(COUNTIF(Général!C98:C104,$G$1)=1,\"Boat 2\",IF(COUNTIF(Général!D98:D104,$G$1)=1,\"Boat 3\", IF(COUNTIF(Général!E98:E104,$G$1)=1,\"Boat 4\", IF(COUNTIF(Général!F98:F104,$G$1)=1,\"Boat 5\", IF(COUNTIF(Général!G98:G104,$G$1)=1,\"Boat 6\", IF(COUNTIF(Général!H98:H104,$G$1)=1,\"Boat 7\",IF(COUNTIF(Général!I38:I44,$G$1)=1,\"Boat 8\",\"Boat 9\"))))))))","v":"Boat 2"},{"$f":"IF(COUNTIF(Général!B108:B114,$G$1)=1,\"Boat 1\",IF(COUNTIF(Général!C108:C114,$G$1)=1,\"Boat 2\",IF(COUNTIF(Général!D108:D114,$G$1)=1,\"Boat 3\", IF(COUNTIF(Général!E108:E114,$G$1)=1,\"Boat 4\", IF(COUNTIF(Général!F108:F114,$G$1)=1,\"Boat 5\", IF(COUNTIF(Général!G108:G114,$G$1)=1,\"Boat 6\", IF(COUNTIF(Général!H108:H114,$G$1)=1,\"Boat 7\",IF(COUNTIF(Général!I38:I44,$G$1)=1,\"Boat 8\",\"Boat 9\"))))))))","v":"Boat 2"},{"$f":"IF(COUNTIF(Général!B118:B124,$G$1)=1,\"Boat 1\",IF(COUNTIF(Général!C118:C124,$G$1)=1,\"Boat 2\",IF(COUNTIF(Général!D118:D124,$G$1)=1,\"Boat 3\", IF(COUNTIF(Général!E118:E124,$G$1)=1,\"Boat 4\", IF(COUNTIF(Général!F118:F124,$G$1)=1,\"Boat 5\", IF(COUNTIF(Général!G118:G124,$G$1)=1,\"Boat 6\", IF(COUNTIF(Général!H118:H124,$G$1)=1,\"Boat 7\",IF(COUNTIF(Général!I38:I44,$G$1)=1,\"Boat 8\",\"Boat 9\"))))))))","v":"Boat 2"},{"$f":"IF(COUNTIF(Général!B128:B134,$G$1)=1,\"Boat 1\",IF(COUNTIF(Général!C128:C134,$G$1)=1,\"Boat 2\",IF(COUNTIF(Général!D128:D134,$G$1)=1,\"Boat 3\", IF(COUNTIF(Général!E128:E134,$G$1)=1,\"Boat 4\", IF(COUNTIF(Général!F128:F134,$G$1)=1,\"Boat 5\", IF(COUNTIF(Général!G128:G134,$G$1)=1,\"Boat 6\", IF(COUNTIF(Général!H128:H134,$G$1)=1,\"Boat 7\",IF(COUNTIF(Général!I38:I44,$G$1)=1,\"Boat 8\",\"Boat 9\"))))))))","v":"Boat 6"},{"$f":"IF(COUNTIF(Général!B138:B144,$G$1)=1,\"Boat 1\",IF(COUNTIF(Général!C138:C144,$G$1)=1,\"Boat 2\",IF(COUNTIF(Général!C138:D144,$G$1)=1,\"Boat 3\", IF(COUNTIF(Général!C138:E144,$G$1)=1,\"Boat 4\", IF(COUNTIF(Général!F138:F144,$G$1)=1,\"Boat 5\", IF(COUNTIF(Général!G138:G144,$G$1)=1,\"Boat 6\", IF(COUNTIF(Général!H138:H144,$G$1)=1,\"Boat 7\",IF(COUNTIF(Général!I38:I44,$G$1)=1,\"Boat 8\",\"Boat 9\"))))))))","v":"Boat 5"},{"$f":"IF(COUNTIF(Général!B148:B154,$G$1)=1,\"Boat 1\",IF(COUNTIF(Général!C148:C154,$G$1)=1,\"Boat 2\",IF(COUNTIF(Général!D148:D154,$G$1)=1,\"Boat 3\", IF(COUNTIF(Général!E148:E154,$G$1)=1,\"Boat 4\", IF(COUNTIF(Général!F148:F154,$G$1)=1,\"Boat 5\", IF(COUNTIF(Général!G148:G154,$G$1)=1,\"Boat 6\", IF(COUNTIF(Général!H148:H154,$G$1)=1,\"Boat 7\",IF(COUNTIF(Général!I38:I44,$G$1)=1,\"Boat 8\",\"Boat 9\"))))))))","v":"Boat 9"},{"$f":"IF(COUNTIF(Général!B158:B164,$G$1)=1,\"Boat 1\",IF(COUNTIF(Général!C158:C164,$G$1)=1,\"Boat 2\",IF(COUNTIF(Général!D160:D164,$G$1)=1,\"Boat 3\", IF(COUNTIF(Général!E158:E164,$G$1)=1,\"Boat 4\", IF(COUNTIF(Général!F158:F164,$G$1)=1,\"Boat 5\", IF(COUNTIF(Général!G158:G164,$G$1)=1,\"Boat 6\", IF(COUNTIF(Général!H158:H164,$G$1)=1,\"Boat 7\",IF(COUNTIF(Général!I38:I44,$G$1)=1,\"Boat 8\",\"Boat 9\"))))))))","v":"Boat 3"},{"$f":"IF(COUNTIF(Général!B168:B174,$G$1)=1,\"Boat 1\",IF(COUNTIF(Général!C168:C174,$G$1)=1,\"Boat 2\",IF(COUNTIF(Général!D168:D174,$G$1)=1,\"Boat 3\", IF(COUNTIF(Général!E168:E174,$G$1)=1,\"Boat 4\", IF(COUNTIF(Général!F178:F184,$G$1)=1,\"Boat 5\", IF(COUNTIF(Général!G178:G184,$G$1)=1,\"Boat 6\", IF(COUNTIF(Général!H178:H184,$G$1)=1,\"Boat 7\",IF(COUNTIF(Général!I38:I44,$G$1)=1,\"Boat 8\",\"Boat 9\"))))))))","v":"Boat 5"},{"$f":"IF(COUNTIF(Général!B178:B184,$G$1)=1,\"Boat 1\",IF(COUNTIF(Général!C178:C184,$G$1)=1,\"Boat 2\",IF(COUNTIF(Général!D178:D184,$G$1)=1,\"Boat 3\", IF(COUNTIF(Général!E178:E184,$G$1)=1,\"Boat 4\", IF(COUNTIF(Général!F178:F184,$G$1)=1,\"Boat 5\", IF(COUNTIF(Général!G178:G184,$G$1)=1,\"Boat 6\", IF(COUNTIF(Général!H178:H184,$G$1)=1,\"Boat 7\",IF(COUNTIF(Général!I38:I44,$G$1)=1,\"Boat 8\",\"Boat 9\"))))))))","v":"Boat 5"},{"$f":"IF(COUNTIF(Général!B188:B194,$G$1)=1,\"Boat 1\",IF(COUNTIF(Général!C188:C194,$G$1)=1,\"Boat 2\",IF(COUNTIF(Général!D188:D194,$G$1)=1,\"Boat 3\", IF(COUNTIF(Général!E188:E194,$G$1)=1,\"Boat 4\", IF(COUNTIF(Général!F188:F194,$G$1)=1,\"Boat 5\", IF(COUNTIF(Général!G188:G194,$G$1)=1,\"Boat 6\", IF(COUNTIF(Général!H188:H194,$G$1)=1,\"Boat 7\",IF(COUNTIF(Général!I38:I44,$G$1)=1,\"Boat 8\",\"Boat 9\"))))))))","v":"Boat 5"},{"$f":"IF(COUNTIF(Général!B198:B204,$G$1)=1,\"Boat 1\",IF(COUNTIF(Général!C198:C204,$G$1)=1,\"Boat 2\",IF(COUNTIF(Général!D198:D204,$G$1)=1,\"Boat 3\", IF(COUNTIF(Général!E198:E204,$G$1)=1,\"Boat 4\", IF(COUNTIF(Général!F198:F204,$G$1)=1,\"Boat 5\", IF(COUNTIF(Général!G198:G204,$G$1)=1,\"Boat 6\", IF(COUNTIF(Général!H198:H204,$G$1)=1,\"Boat 7\",IF(COUNTIF(Général!I38:I44,$G$1)=1,\"Boat 8\",\"Boat 9\"))))))))","v":"Boat 1"},{"$f":"IF(COUNTIF(Général!B208:B214,$G$1)=1,\"Boat 1\",IF(COUNTIF(Général!C208:C214,$G$1)=1,\"Boat 2\",IF(COUNTIF(Général!D208:D214,$G$1)=1,\"Boat 3\", IF(COUNTIF(Général!E208:E214,$G$1)=1,\"Boat 4\", IF(COUNTIF(Général!F208:F214,$G$1)=1,\"Boat 5\", IF(COUNTIF(Général!G208:G214,$G$1)=1,\"Boat 6\", IF(COUNTIF(Général!H208:H214,$G$1)=1,\"Boat 7\",IF(COUNTIF(Général!I38:I44,$G$1)=1,\"Boat 8\",\"Boat 9\"))))))))","v":"Boat 9"},null,{"$f":"Général!B8","v":"Plymouth"},5]
[null,null,null,null,null,null,null,null,null,null,null,null,null,null,null,null,null,null,null,null,null,{"$f":"Général!B9","v":"Unicaen 2"},6]
["1er Equipage",null,{"$f":"IF($C$5=\"Course 1\",Général!B38,IF($C$5=\"Course 2\",Général!B40,IF($C$5=\"Course 3\",Général!B42,Général!B44)))","v":"La Rochelle 1"},{"$f":"IF($D$5=\"Course 1\",Général!B48,IF($D$5=\"Course 2\",Général!B50,IF($D$5=\"Course 3\",Général!B52,Général!B54)))","v":"St Brieuc 1"},{"$f":"IF($E$5=\"Course 1\",Général!B58,IF($E$5=\"Course 2\",Général!B60,IF($E$5=\"Course 3\",Général!B62,Général!B64)))","v":"Univ Nantes 3"},{"$f":"IF($F$5=\"Course 1\",Général!B$68,IF($F$5=\"Course 2\",Général!B$70,IF($F$5=\"Course 3\",Général!B$72,Général!B$74)))","v":"Univ Nantes 3"},{"$f":"IF($G$5=\"Course 1\",Général!B$78,IF($G$5=\"Course 2\",Général!B$80,IF($G$5=\"Course 3\",Général!B$82,Général!B$84)))","v":"ENSTA 2"},{"$f":"IF($H$5=\"Course 1\",Général!B$88,IF($H$5=\"Course 2\",Général!B$90,IF($H$5=\"Course 3\",Général!B$92,Général!B$94)))","v":"ENSTA 2"},{"$f":"IF($I$5=\"Course 1\",Général!B$98,IF($I$5=\"Course 2\",Général!B$100,IF($I$5=\"Course 3\",Général!B$102,Général!B$104)))","v":"La Rochelle 2"},{"$f":"IF($J$5=\"Course 1\",Général!B$108,IF($J$5=\"Course 2\",Général!B$110,IF($J$5=\"Course 3\",Général!B$112,Général!B$114)))","v":"La Rochelle 2"},{"$f":"IF($K$5=\"Course 1\",Général!B$118,IF($K$5=\"Course 2\",Général!B$120,IF($K$5=\"Course 3\",Général!B$122,Général!B$124)))","v":"INSA Lyon"},{"$f":"IF($L$5=\"Course 1\",Général!B$128,IF($L$5=\"Course 2\",Général!B$130,IF($L$5=\"Course 3\",Général!B$132,Général!B$134)))","v":"IMT Brest 2"},{"$f":"IF($M$5=\"Course 1\",Général!B$138,IF($M$5=\"Course 2\",Général!B$140,IF($M$5=\"Course 3\",Général!B$142,Général!B$144)))","v":"Plymouth"},{"$f":"IF($N$5=\"Course 1\",Général!B$148,IF($N$5=\"Course 2\",Général!B$150,IF($N$5=\"Course 3\",Général!B$152,Général!B$154)))","v":"UBS Lorient 2"},{"$f":"IF($O$5=\"Course 1\",Général!B$158,IF($O$5=\"Course 2\",Général!B$160,IF($O$5=\"Course 3\",Général!B$162,Général!B$164)))","v":"ENSMAC"},{"$f":"IF($P$5=\"Course 1\",Général!B$168,IF($P$5=\"Course 2\",Général!B$170,IF($P$5=\"Course 3\",Général!B$172,Général!B$174)))","v":"ENSMAC"},{"$f":"IF($Q$5=\"Course 1\",Général!B$178,IF($Q$5=\"Course 2\",Général!B$180,IF($Q$5=\"Course 3\",Général!B$182,Général!B$184)))","v":"La Rochelle 2"},{"$f":"IF($R$5=\"Course 1\",Général!B$188,IF($R$5=\"Course 2\",Général!B$190,IF($R$5=\"Course 3\",Général!B$192,Général!B$194)))","v":"ENSTA 1"},{"$f":"IF($S$5=\"Course 1\",Général!B$198,IF($S$5=\"Course 2\",Général!B$200,IF($S$5=\"Course 3\",Général!B$202,Général!B$204)))","v":"ENSTA 2"},{"$f":"IF($T$5=\"Course 1\",Général!B$208,IF($T$5=\"Course 2\",Général!B$210,IF($T$5=\"Course 3\",Général!B$212,Général!B$214)))","v":"IMT Brest 1"},null,{"$f":"Général!B10","v":"Univ Nantes 2"},6]
["2nd Equipage",null,{"$f":"IF($C$5=\"Course 1\",Général!C38,IF($C$5=\"Course 2\",Général!C40,IF($C$5=\"Course 3\",Général!C42,Général!C44)))","v":"UBS Lorient 1"},{"$f":"IF($D$5=\"Course 1\",Général!C48,IF($D$5=\"Course 2\",Général!C50,IF($D$5=\"Course 3\",Général!C52,Général!C54)))","v":"Univ Nantes 3"},{"$f":"IF($E$5=\"Course 1\",Général!C58,IF($E$5=\"Course 2\",Général!C60,IF($E$5=\"Course 3\",Général!C62,Général!C64)))","v":"IMT Nantes"},{"$f":"IF($F$5=\"Course 1\",Général!C$68,IF($F$5=\"Course 2\",Général!C$70,IF($F$5=\"Course 3\",Général!C$72,Général!C$74)))","v":"Paris Cité"},{"$f":"IF($G$5=\"Course 1\",Général!C$78,IF($G$5=\"Course 2\",Général!C$80,IF($G$5=\"Course 3\",Général!C$82,Général!C$84)))","v":"IMT Brest 2"},{"$f":"IF($H$5=\"Course 1\",Général!C$88,IF($H$5=\"Course 2\",Général!C$90,IF($H$5=\"Course 3\",Général!C$92,Général!C$94)))","v":"Southampton"},{"$f":"IF($I$5=\"Course 1\",Général!C$98,IF($I$5=\"Course 2\",Général!C$100,IF($I$5=\"Course 3\",Général!C$102,Général!C$104)))","v":"ENSTA 2"},{"$f":"IF($J$5=\"Course 1\",Général!C$108,IF($J$5=\"Course 2\",Général!C$110,IF($J$5=\"Course 3\",Général!C$112,Général!C$114)))","v":"ENSTA 2"},{"$f":"IF($K$5=\"Course 1\",Général!C$118,IF($K$5=\"Course 2\",Général!C$120,IF($K$5=\"Course 3\",Général!C$122,Général!C$124)))","v":"ENSTA 2"},{"$f":"IF($L$5=\"Course 1\",Général!C$128,IF($L$5=\"Course 2\",Général!C$130,IF($L$5=\"Course 3\",Général!C$132,Général!C$134)))","v":"UNIV Nantes 1"},{"$f":"IF($M$5=\"Course 1\",Général!C$138,IF($M$5=\"Course 2\",Général!C$140,IF($M$5=\"Course 3\",Général!C$142,Général!C$144)))","v":"Karlsruhe"},{"$f":"IF($N$5=\"Course 1\",Général!C$148,IF($N$5=\"Course 2\",Général!C$150,IF($N$5=\"Course 3\",Général!C$152,Général!C$154)))","v":"UBO 1"},{"$f":"IF($O$5=\"Course 1\",Général!C$158,IF($O$5=\"Course 2\",Général!C$160,IF($O$5=\"Course 3\",Général!C$162,Général!C$164)))","v":"UBO 2"},{"$f":"IF($P$5=\"Course 1\",Général!C$168,IF($P$5=\"Course 2\",Général!C$170,IF($P$5=\"Course 3\",Général!C$172,Général!C$174)))","v":"Univ Nantes 3"},{"$f":"IF($Q$5=\"Course 1\",Général!C$178,IF($Q$5=\"Course 2\",Général!C$180,IF($Q$5=\"Course 3\",Général!C$182,Général!C$184)))","v":"Unicaen 2"},{"$f":"IF($R$5=\"Course 1\",Général!C$188,IF($R$5=\"Course 2\",Général!C$190,IF($R$5=\"Course 3\",Général!C$192,Général!C$194)))","v":"INSA Lyon"},{"$f":"IF($S$5=\"Course 1\",Général!C$198,IF($S$5=\"Course 2\",Général!C$200,IF($S$5=\"Course 3\",Général!C$202,Général!C$204)))","v":"Southampton"},{"$f":"IF($T$5=\"Course 1\",Général!C$208,IF($T$5=\"Course 2\",Général!C$210,IF($T$5=\"Course 3\",Général!C$212,Général!C$214)))","v":"Hannover"},null,{"$f":"Général!B11","v":"Karlsruhe"},4]
["3ème Equipage",null,{"$f":"IF($C$5=\"Course 1\",Général!D38,IF($C$5=\"Course 2\",Général!D40,IF($C$5=\"Course 3\",Général!D42,Général!D44)))","v":"UBO 1"},{"$f":"IF($D$5=\"Course 1\",Général!D48,IF($D$5=\"Course 2\",Général!D50,IF($D$5=\"Course 3\",Général!D52,Général!D54)))","v":"UBS Lorient 2"},{"$f":"IF($E$5=\"Course 1\",Général!D58,IF($E$5=\"Course 2\",Général!D60,IF($E$5=\"Course 3\",Général!D62,Général!D64)))","v":"ENSTA 2"},{"$f":"IF($F$5=\"Course 1\",Général!D$68,IF($F$5=\"Course 2\",Général!D$70,IF($F$5=\"Course 3\",Général!D$72,Général!D$74)))","v":"Unicaen 2"},{"$f":"IF($G$5=\"Course 1\",Général!D$78,IF($G$5=\"Course 2\",Général!D$80,IF($G$5=\"Course 3\",Général!D$82,Général!D$84)))","v":"Unicaen 1"},{"$f":"IF($H$5=\"Course 1\",Général!D$88,IF($H$5=\"Course 2\",Général!D$90,IF($H$5=\"Course 3\",Général!D$92,Général!D$94)))","v":"UBO 1"},{"$f":"IF($I$5=\"Course 1\",Général!D$98,IF($I$5=\"Course 2\",Général!D$100,IF($I$5=\"Course 3\",Général!D$102,Général!D$104)))","v":"Hannover"},{"$f":"IF($J$5=\"Course 1\",Général!D$108,IF($J$5=\"Course 2\",Général!D$110,IF($J$5=\"Course 3\",Général!D$112,Général!D$114)))","v":"UBO 2"},{"$f":"IF($K$5=\"Course 1\",Général!D$118,IF($K$5=\"Course 2\",Général!D$120,IF($K$5=\"Course 3\",Général!D$122,Général!D$124)))","v":"Southampton"},{"$f":"IF($L$5=\"Course 1\",Général!D$128,IF($L$5=\"Course 2\",Général!D$130,IF($L$5=\"Course 3\",Général!D$132,Général!D$134)))","v":"UBS Lorient 1"},{"$f":"IF($M$5=\"Course 1\",Général!D$138,IF($M$5=\"Course 2\",Général!D$140,IF($M$5=\"Course 3\",Général!D$142,Général!D$144)))","v":"Paris Sorbone"},{"$f":"IF($N$5=\"Course 1\",Général!D$148,IF($N$5=\"Course 2\",Général!D$150,IF($N$5=\"Course 3\",Général!D$152,Général!D$154)))","v":"Centrale Nantes 2"},{"$f":"IF($O$5=\"Course 1\",Général!D$158,IF($O$5=\"Course 2\",Général!D$160,IF($O$5=\"Course 3\",Général!D$162,Général!D$164)))","v":"ENSTA 2"},{"$f":"IF($P$5=\"Course 1\",Général!D$168,IF($P$5=\"Course 2\",Général!D$170,IF($P$5=\"Course 3\",Général!D$172,Général!D$174)))","v":"Intechmer"},{"$f":"IF($Q$5=\"Course 1\",Général!D$178,IF($Q$5=\"Course 2\",Général!D$180,IF($Q$5=\"Course 3\",Général!D$182,Général!D$184)))","v":"UBS Lorient 1"},{"$f":"IF($R$5=\"Course 1\",Général!D$188,IF($R$5=\"Course 2\",Général!D$190,IF($R$5=\"Course 3\",Général!D$192,Général!D$194)))","v":"Intechmer"},{"$f":"IF($S$5=\"Course 1\",Général!D$198,IF($S$5=\"Course 2\",Général!D$200,IF($S$5=\"Course 3\",Général!D$202,Général!D$204)))","v":"Paris Cité"},{"$f":"IF($T$5=\"Course 1\",Général!D$208,IF($T$5=\"Course 2\",Général!D$210,IF($T$5=\"Course 3\",Général!D$212,Général!D$214)))","v":"La Rochelle 2"},null,{"$f":"Général!B12","v":"IMT Brest 2"},4]
["4ème Equipage",null,{"$f":"IF($C$5=\"Course 1\",Général!E38,IF($C$5=\"Course 2\",Général!E40,IF($C$5=\"Course 3\",Général!E42,Général!E44)))","v":"Southampton"},{"$f":"IF($D$5=\"Course 1\",Général!E48,IF($D$5=\"Course 2\",Général!E50,IF($D$5=\"Course 3\",Général!E52,Général!E54)))","v":"ENSTA 2"},{"$f":"IF($E$5=\"Course 1\",Général!E58,IF($E$5=\"Course 2\",Général!E60,IF($E$5=\"Course 3\",Général!E62,Général!E64)))","v":"Paris Cité"},{"$f":"IF($F$5=\"Course 1\",Général!E$68,IF($F$5=\"Course 2\",Général!E$70,IF($F$5=\"Course 3\",Général!E$72,Général!E$74)))","v":"Univ Nantes 2"},{"$f":"IF($G$5=\"Course 1\",Général!E$78,IF($G$5=\"Course 2\",Général!E$80,IF($G$5=\"Course 3\",Général!E$82,Général!E$84)))","v":"La Rochelle 1"},{"$f":"IF($H$5=\"Course 1\",Général!E$88,IF($H$5=\"Course 2\",Général!E$90,IF($H$5=\"Course 3\",Général!E$92,Général!E$94)))","v":"La Rochelle 1"},{"$f":"IF($I$5=\"Course 1\",Général!E$98,IF($I$5=\"Course 2\",Général!E$100,IF($I$5=\"Course 3\",Général!E$102,Général!E$104)))","v":"Paris Sorbone"},{"$f":"IF($J$5=\"Course 1\",Général!E$108,IF($J$5=\"Course 2\",Général!E$110,IF($J$5=\"Course 3\",Général!E$112,Général!E$114)))","v":"Paris Sorbone"},{"$f":"IF($K$5=\"Course 1\",Général!E$118,IF($K$5=\"Course 2\",Général!E$120,IF($K$5=\"Course 3\",Général!E$122,Général!E$124)))","v":"IMT Brest 1"},{"$f":"IF($L$5=\"Course 1\",Général!E$128,IF($L$5=\"Course 2\",Général!E$130,IF($L$5=\"Course 3\",Général!E$132,Général!E$134)))","v":"Karlsruhe"},{"$f":"IF($M$5=\"Course 1\",Général!E$138,IF($M$5=\"Course 2\",Général!E$140,IF($M$5=\"Course 3\",Général!E$142,Général!E$144)))","v":"UBO 2"},{"$f":"IF($N$5=\"Course 1\",Général!E$148,IF($N$5=\"Course 2\",Général!E$150,IF($N$5=\"Course 3\",Général!E$152,Général!E$154)))","v":"UBS Lorient 1"},{"$f":"IF($O$5=\"Course 1\",Général!E$158,IF($O$5=\"Course 2\",Général!E$160,IF($O$5=\"Course 3\",Général!E$162,Général!E$164)))","v":"UBO 1"},{"$f":"IF($P$5=\"Course 1\",Général!E$168,IF($P$5=\"Course 2\",Général!E$170,IF($P$5=\"Course 3\",Général!E$172,Général!E$174)))","v":"INSA Lyon"},{"$f":"IF($Q$5=\"Course 1\",Général!E$178,IF($Q$5=\"Course 2\",Général!E$180,IF($Q$5=\"Course 3\",Général!E$182,Général!E$184)))","v":"St Brieuc 1"},{"$f":"IF($R$5=\"Course 1\",Général!E$188,IF($R$5=\"Course 2\",Général!E$190,IF($R$5=\"Course 3\",Général!E$192,Général!E$194)))","v":"Univ Nantes 2"},{"$f":"IF($S$5=\"Course 1\",Général!E$198,IF($S$5=\"Course 2\",Général!E$200,IF($S$5=\"Course 3\",Général!E$202,Général!E$204)))","v":"ENSMAC"},{"$f":"IF($T$5=\"Course 1\",Général!E$208,IF($T$5=\"Course 2\",Général!E$210,IF($T$5=\"Course 3\",Général!E$212,Général!E$214)))","v":"Plymouth"},null,{"$f":"Général!B13","v":"Unicaen 1"},5]
["5ème Equipage",null,{"$f":"IF($C$5=\"Course 1\",Général!F38,IF($C$5=\"Course 2\",Général!F40,IF($C$5=\"Course 3\",Général!F42,Général!F44)))","v":"ENSTA 2"},{"$f":"IF($D$5=\"Course 1\",Général!F48,IF($D$5=\"Course 2\",Général!F50,IF($D$5=\"Course 3\",Général!F52,Général!F54)))","v":"ST Brieuc 2"},{"$f":"IF($E$5=\"Course 1\",Général!F58,IF($E$5=\"Course 2\",Général!F60,IF($E$5=\"Course 3\",Général!F62,Général!F64)))","v":"UBO 2"},{"$f":"IF($F$5=\"Course 1\",Général!F$68,IF($F$5=\"Course 2\",Général!F$70,IF($F$5=\"Course 3\",Général!F$72,Général!F$74)))","v":"La Rochelle 2"},{"$f":"IF($G$5=\"Course 1\",Général!F$78,IF($G$5=\"Course 2\",Général!F$80,IF($G$5=\"Course 3\",Général!F$82,Général!F$84)))","v":"Orléans"},{"$f":"IF($H$5=\"Course 1\",Général!F$88,IF($H$5=\"Course 2\",Général!F$90,IF($H$5=\"Course 3\",Général!F$92,Général!F$94)))","v":"Orléans"},{"$f":"IF($I$5=\"Course 1\",Général!F$98,IF($I$5=\"Course 2\",Général!F$100,IF($I$5=\"Course 3\",Général!F$102,Général!F$104)))","v":"Centrale Nantes 1"},{"$f":"IF($J$5=\"Course 1\",Général!F$108,IF($J$5=\"Course 2\",Général!F$110,IF($J$5=\"Course 3\",Général!F$112,Général!F$114)))","v":"ST Brieuc 2"},{"$f":"IF($K$5=\"Course 1\",Général!F$118,IF($K$5=\"Course 2\",Général!F$120,IF($K$5=\"Course 3\",Général!F$122,Général!F$124)))","v":"IMT Brest 2"},{"$f":"IF($L$5=\"Course 1\",Général!F$128,IF($L$5=\"Course 2\",Général!$F130,IF($L$5=\"Course 3\",Général!F$132,Général!F$134)))","v":"Paris Sorbone"},{"$f":"IF($M$5=\"Course 1\",Général!F$138,IF($M$5=\"Course 2\",Général!F$140,IF($M$5=\"Course 3\",Général!F$142,Général!F$144)))","v":"ENSTA 2"},{"$f":"IF($N$5=\"Course 1\",Général!F$148,IF($N$5=\"Course 2\",Général!F$150,IF($N$5=\"Course 3\",Général!F$152,Général!F$154)))","v":"ST Brieuc 2"},{"$f":"IF($O$5=\"Course 1\",Général!F$158,IF($O$5=\"Course 2\",Général!F$160,IF($O$5=\"Course 3\",Général!F$162,Général!F$164)))","v":"INSA Lyon"},{"$f":"IF($P$5=\"Course 1\",Général!F$168,IF($P$5=\"Course 2\",Général!F$170,IF($P$5=\"Course 3\",Général!F$172,Général!F$174)))","v":"ENSTA 2"},{"$f":"IF($Q$5=\"Course 1\",Général!F$178,IF($Q$5=\"Course 2\",Général!F$180,IF($Q$5=\"Course 3\",Général!F$182,Général!F$184)))","v":"ENSTA 2"},{"$f":"IF($R$5=\"Course 1\",Général!F$188,IF($R$5=\"Course 2\",Général!F$190,IF($R$5=\"Course 3\",Général!F$192,Général!F$194)))","v":"ENSTA 2"},{"$f":"IF($S$5=\"Course 1\",Général!F$198,IF($S$5=\"Course 2\",Général!F$200,IF($S$5=\"Course 3\",Général!F$202,Général!F$204)))","v":"Unicaen 2"},{"$f":"IF($T$5=\"Course 1\",Général!F$208,IF($T$5=\"Course 2\",Général!F$210,IF($T$5=\"Course 3\",Général!F$212,Général!F$214)))","v":"La Rochelle 1"},null,{"$f":"Général!B14","v":"ENSTA 1"},1]
["6ème Equipage",null,{"$f":"IF($C$5=\"Course 1\",Général!G38,IF($C$5=\"Course 2\",Général!G40,IF($C$5=\"Course 3\",Général!G42,Général!G44)))","v":"Plymouth"},{"$f":"IF($D$5=\"Course 1\",Général!G48,IF($D$5=\"Course 2\",Général!G50,IF($D$5=\"Course 3\",Général!G52,Général!G54)))","v":"La Rochelle 1"},{"$f":"IF($E$5=\"Course 1\",Général!G58,IF($E$5=\"Course 2\",Général!G60,IF($E$5=\"Course 3\",Général!G62,Général!G64)))","v":"ENSMAC"},{"$f":"IF($F$5=\"Course 1\",Général!G$68,IF($F$5=\"Course 2\",Général!G$70,IF($F$5=\"Course 3\",Général!G$72,Général!G$74)))","v":"ENSTA 2"},{"$f":"IF($G$5=\"Course 1\",Général!G$78,IF($G$5=\"Course 2\",Général!G$80,IF($G$5=\"Course 3\",Général!G$82,Général!G$84)))","v":"Paris Cité"},{"$f":"IF($H$5=\"Course 1\",Général!G$88,IF($H$5=\"Course 2\",Général!G$90,IF($H$5=\"Course 3\",Général!G$92,Général!G$94)))","v":"Paris Cité"},{"$f":"IF($I$5=\"Course 1\",Général!G$98,IF($I$5=\"Course 2\",Général!G$100,IF($I$5=\"Course 3\",Général!G$102,Général!G$104)))","v":"Unicaen 2"},{"$f":"IF($J$5=\"Course 1\",Général!G$108,IF($J$5=\"Course 2\",Général!G$110,IF($J$5=\"Course 3\",Général!G$112,Général!G$114)))","v":"Centrale Nantes 2"},{"$f":"IF($K$5=\"Course 1\",Général!G$118,IF($K$5=\"Course 2\",Général!G$120,IF($K$5=\"Course 3\",Général!G$122,Général!G$124)))","v":"Unicaen 1"},{"$f":"IF($L$5=\"Course 1\",Général!G$128,IF($L$5=\"Course 2\",Général!G$130,IF($L$5=\"Course 3\",Général!G$132,Général!G$134)))","v":"ENSTA 2"},{"$f":"IF($M$5=\"Course 1\",Général!G$138,IF($M$5=\"Course 2\",Général!G$140,IF($M$5=\"Course 3\",Général!G$142,Général!G$144)))","v":"Univ Nantes 3"},{"$f":"IF($N$5=\"Course 1\",Général!G$148,IF($N$5=\"Course 2\",Général!G$150,IF($N$5=\"Course 3\",Général!G$152,Général!G$154)))","v":"Univ Nantes 2"},{"$f":"IF($O$5=\"Course 1\",Général!G$158,IF($O$5=\"Course 2\",Général!G$160,IF($O$5=\"Course 3\",Général!G$162,Général!G$164)))","v":"Plymouth"},{"$f":"IF($P$5=\"Course 1\",Général!G$168,IF($P$5=\"Course 2\",Général!G$170,IF($P$5=\"Course 3\",Général!G$172,Général!G$174)))","v":"ST Brieuc 2"},{"$f":"IF($Q$5=\"Course 1\",Général!G$178,IF($Q$5=\"Course 2\",Général!G$180,IF($Q$5=\"Course 3\",Général!G$182,Général!G$184)))","v":"ENSMAC"},{"$f":"IF($R$5=\"Course 1\",Général!G$188,IF($R$5=\"Course 2\",Général!G$190,IF($R$5=\"Course 3\",Général!G$192,Général!G$194)))","v":"La Rochelle 2"},{"$f":"IF($S$5=\"Course 1\",Général!G$198,IF($S$5=\"Course 2\",Général!G$200,IF($S$5=\"Course 3\",Général!G$202,Général!G$204)))","v":"UBS Lorient 1"},{"$f":"IF($T$5=\"Course 1\",Général!G$208,IF($T$5=\"Course 2\",Général!G$210,IF($T$5=\"Course 3\",Général!G$212,Général!G$214)))","v":"Southampton"},null,{"$f":"Général!B15","v":"Orléans"},3]
["7ème Equipage",null,{"$f":"IF($C$5=\"Course 1\",Général!H38,IF($C$5=\"Course 2\",Général!H40,IF($C$5=\"Course 3\",Général!H42,Général!H44)))","v":"Univ Nantes 2"},{"$f":"IF($D$5=\"Course 1\",Général!H48,IF($D$5=\"Course 2\",Général!H50,IF($D$5=\"Course 3\",Général!H52,Général!H54)))","v":"Unicaen 2"},{"$f":"IF($E$5=\"Course 1\",Général!H58,IF($E$5=\"Course 2\",Général!H60,IF($E$5=\"Course 3\",Général!H62,Général!H64)))","v":"Hannover"},{"$f":"IF($F$5=\"Course 1\",Général!H$68,IF($F$5=\"Course 2\",Général!H$70,IF($F$5=\"Course 3\",Général!H$72,Général!H$74)))","v":"UBS Lorient 2"},{"$f":"IF($G$5=\"Course 1\",Général!H$78,IF($G$5=\"Course 2\",Général!H$80,IF($G$5=\"Course 3\",Général!H$82,Général!H$84)))","v":"Univ Nantes 2"},{"$f":"IF($H$5=\"Course 1\",Général!H$88,IF($H$5=\"Course 2\",Général!H$90,IF($H$5=\"Course 3\",Général!H$92,Général!H$94)))","v":"Hannover"},{"$f":"IF($I$5=\"Course 1\",Général!H$98,IF($I$5=\"Course 2\",Général!H$100,IF($I$5=\"Course 3\",Général!H$102,Général!H$104)))","v":"IMT Brest 2"},{"$f":"IF($J$5=\"Course 1\",Général!H$108,IF($J$5=\"Course 2\",Général!H$110,IF($J$5=\"Course 3\",Général!H$112,Général!H$114)))","v":"St Brieuc 1"},{"$f":"IF($K$5=\"Course 1\",Général!H$118,IF($K$5=\"Course 2\",Général!H$120,IF($K$5=\"Course 3\",Général!H$122,Général!H$124)))","v":"Intechmer"},{"$f":"IF($L$5=\"Course 1\",Général!H$128,IF($L$5=\"Course 2\",Général!H$130,IF($L$5=\"Course 3\",Général!H$132,Général!H$134)))","v":"Centrale Nantes 1"},{"$f":"IF($M$5=\"Course 1\",Général!H$138,IF($M$5=\"Course 2\",Général!H$140,IF($M$5=\"Course 3\",Général!H$142,Général!H$144)))","v":"Univ Nantes 2"},{"$f":"IF($N$5=\"Course 1\",Général!H$148,IF($N$5=\"Course 2\",Général!H$150,IF($N$5=\"Course 3\",Général!H$152,Général!H$154)))","v":"ENSMAC"},{"$f":"IF($O$5=\"Course 1\",Général!H$158,IF($O$5=\"Course 2\",Général!H$160,IF($O$5=\"Course 3\",Général!H$162,Général!H$164)))","v":"Paris Cité"},{"$f":"IF($P$5=\"Course 1\",Général!H$168,IF($P$5=\"Course 2\",Général!H$170,IF($P$5=\"Course 3\",Général!H$172,Général!H$174)))","v":"UNIV Nantes 1"},{"$f":"IF($Q$5=\"Course 1\",Général!H$178,IF($Q$5=\"Course 2\",Général!H$180,IF($Q$5=\"Course 3\",Général!H$182,Général!H$184)))","v":"Karlsruhe"},{"$f":"IF($R$5=\"Course 1\",Général!H$188,IF($R$5=\"Course 2\",Général!H$190,IF($R$5=\"Course 3\",Général!H$192,Général!H$194)))","v":"UBO 2"},{"$f":"IF($S$5=\"Course 1\",Général!H$198,IF($S$5=\"Course 2\",Général!H$200,IF($S$5=\"Course 3\",Général!H$202,Général!H$204)))","v":"UBO 1"},{"$f":"IF($T$5=\"Course 1\",Général!H$208,IF($T$5=\"Course 2\",Général!H$210,IF($T$5=\"Course 3\",Général!H$212,Général!H$214)))","v":"Unicaen 1"},null,{"$f":"Général!B16","v":"IMT Brest 1"},3]
["8ème Equipage",null,{"$f":"IF($C$5=\"Course 1\",Général!I38,IF($C$5=\"Course 2\",Général!I40,IF($C$5=\"Course 3\",Général!I42,Général!I44)))","v":"INSA Lyon"},{"$f":"IF($D$5=\"Course 1\",Général!I48,IF($D$5=\"Course 2\",Général!I50,IF($D$5=\"Course 3\",Général!I52,Général!I54)))","v":"UNIV Nantes 1"},{"$f":"IF($E$5=\"Course 1\",Général!I58,IF($E$5=\"Course 2\",Général!I60,IF($E$5=\"Course 3\",Général!I62,Général!I64)))","v":"Unicaen 1"},{"$f":"IF($F$5=\"Course 1\",Général!I$68,IF($F$5=\"Course 2\",Général!I$70,IF($F$5=\"Course 3\",Général!I$72,Général!I$74)))","v":"INSA Lyon"},{"$f":"IF($G$5=\"Course 1\",Général!I$78,IF($G$5=\"Course 2\",Général!I$80,IF($G$5=\"Course 3\",Général!I$82,Général!I$84)))","v":"IMT Nantes"},{"$f":"IF($H$5=\"Course 1\",Général!I$88,IF($H$5=\"Course 2\",Général!I$90,IF($H$5=\"Course 3\",Général!I$92,Général!I$94)))","v":"IMT Nantes"},{"$f":"IF($I$5=\"Course 1\",Général!I$98,IF($I$5=\"Course 2\",Général!I$100,IF($I$5=\"Course 3\",Général!I$102,Général!I$104)))","v":"INSA Lyon"},{"$f":"IF($J$5=\"Course 1\",Général!I$108,IF($J$5=\"Course 2\",Général!I$110,IF($J$5=\"Course 3\",Général!I$112,Général!I$114)))","v":"Paris Cité"},{"$f":"IF($K$5=\"Course 1\",Général!I$118,IF($K$5=\"Course 2\",Général!I$120,IF($K$5=\"Course 3\",Général!I$122,Général!I$124)))","v":"Karlsruhe"},{"$f":"IF($L$5=\"Course 1\",Général!I$128,IF($L$5=\"Course 2\",Général!I$130,IF($L$5=\"Course 3\",Général!I$132,Général!I$134)))","v":"Hannover"},{"$f":"IF($M$5=\"Course 1\",Général!I$138,IF($M$5=\"Course 2\",Général!I$140,IF($M$5=\"Course 3\",Général!I$142,Général!I$144)))","v":"ST Brieuc 2"},{"$f":"IF($N$5=\"Course 1\",Général!I$148,IF($N$5=\"Course 2\",Général!I$150,IF($N$5=\"Course 3\",Général!I$152,Général!I$154)))","v":"Univ Nantes 3"},{"$f":"IF($O$5=\"Course 1\",Général!I$158,IF($O$5=\"Course 2\",Général!I$160,IF($O$5=\"Course 3\",Général!I$162,Général!I$164)))","v":"Centrale Nantes 2"},{"$f":"IF($P$5=\"Course 1\",Général!I$168,IF($P$5=\"Course 2\",Général!I$170,IF($P$5=\"Course 3\",Général!I$172,Général!I$174)))","v":"Centrale Nantes 2"},{"$f":"IF($Q$5=\"Course 1\",Général!I$178,IF($Q$5=\"Course 2\",Général!I$180,IF($Q$5=\"Course 3\",Général!I$182,Général!I$184)))","v":"Orléans"},{"$f":"IF($R$5=\"Course 1\",Général!I$188,IF($R$5=\"Course 2\",Général!I$190,IF($R$5=\"Course 3\",Général!I$192,Général!I$194)))","v":"Plymouth"},{"$f":"IF($S$5=\"Course 1\",Général!I$198,IF($S$5=\"Course 2\",Général!I$200,IF($S$5=\"Course 3\",Général!I$202,Général!I$204)))","v":"IMT Brest 1"},{"$f":"IF($T$5=\"Course 1\",Général!I$208,IF($T$5=\"Course 2\",Général!I$210,IF($T$5=\"Course 3\",Général!I$212,Général!I$214)))","v":"Centrale Nantes 1"},null,{"$f":"Général!B17","v":"ENSMAC"},6]
["9ème Equipage",null,{"$f":"IF($C$5=\"Course 1\",Général!J38,IF($C$5=\"Course 2\",Général!J40,IF($C$5=\"Course 3\",Général!J42,Général!J44)))","v":"Centrale Nantes 1"},{"$f":"IF($D$5=\"Course 1\",Général!J48,IF($D$5=\"Course 2\",Général!J50,IF($D$5=\"Course 3\",Général!J52,Général!J54)))","v":"Southampton"},{"$f":"IF($E$5=\"Course 1\",Général!J58,IF($E$5=\"Course 2\",Général!J60,IF($E$5=\"Course 3\",Général!J62,Général!J64)))","v":"Southampton"},{"$f":"IF($F$5=\"Course 1\",Général!J$68,IF($F$5=\"Course 2\",Général!J$70,IF($F$5=\"Course 3\",Général!J$72,Général!J$74)))","v":"Unicaen 1"},{"$f":"IF($G$5=\"Course 1\",Général!J$78,IF($G$5=\"Course 2\",Général!J$80,IF($G$5=\"Course 3\",Général!J$82,Général!J$84)))","v":"Unicaen 2"},{"$f":"IF($H$5=\"Course 1\",Général!J$88,IF($H$5=\"Course 2\",Général!J$90,IF($H$5=\"Course 3\",Général!$J92,Général!J$94)))","v":"Centrale Nantes 1"},{"$f":"IF($I$5=\"Course 1\",Général!J$98,IF($I$5=\"Course 2\",Général!J$100,IF($I$5=\"Course 3\",Général!J$102,Général!J$104)))","v":"UBO 1"},{"$f":"IF($J$5=\"Course 1\",Général!J$108,IF($J$5=\"Course 2\",Général!J$110,IF($J$5=\"Course 3\",Général!J$112,Général!J$114)))","v":"UBO 1"},{"$f":"IF($K$5=\"Course 1\",Général!J$118,IF($K$5=\"Course 2\",Général!J$120,IF($K$5=\"Course 3\",Général!J$122,Général!J$124)))","v":"Centrale Nantes 2"},{"$f":"IF($L$5=\"Course 1\",Général!J$128,IF($L$5=\"Course 2\",Général!J$130,IF($L$5=\"Course 3\",Général!J$132,Général!J$134)))","v":"St Brieuc 1"},{"$f":"IF($M$5=\"Course 1\",Général!J$138,IF($M$5=\"Course 2\",Général!J$140,IF($M$5=\"Course 3\",Général!J$142,Général!J$144)))","v":"La Rochelle 1"},{"$f":"IF($N$5=\"Course 1\",Général!J$148,IF($N$5=\"Course 2\",Général!J$150,IF($N$5=\"Course 3\",Général!J$152,Général!J$154)))","v":"ENSTA 2"},{"$f":"IF($O$5=\"Course 1\",Général!J$158,IF($O$5=\"Course 2\",Général!J$160,IF($O$5=\"Course 3\",Général!J$162,Général!J$164)))","v":"Intechmer"},{"$f":"IF($P$5=\"Course 1\",Général!J$168,IF($P$5=\"Course 2\",Général!J$170,IF($P$5=\"Course 3\",Général!J$172,Général!J$174)))","v":"Southampton"},{"$f":"IF($Q$5=\"Course 1\",Général!J$178,IF($Q$5=\"Course 2\",Général!J$180,IF($Q$5=\"Course 3\",Général!J$182,Général!J$184)))","v":"IMT Nantes"},{"$f":"IF($R$5=\"Course 1\",Général!J$188,IF($R$5=\"Course 2\",Général!J$190,IF($R$5=\"Course 3\",Général!J$192,Général!J$194)))","v":"UNIV Nantes 1"},{"$f":"IF($S$5=\"Course 1\",Général!J$198,IF($S$5=\"Course 2\",Général!J$200,IF($S$5=\"Course 3\",Général!J$202,Général!J$204)))","v":"Hannover"},{"$f":"IF($T$5=\"Course 1\",Général!J$208,IF($T$5=\"Course 2\",Général!J$210,IF($T$5=\"Course 3\",Général!J$212,Général!J$214)))","v":"Intechmer"},null,{"$f":"Général!B18","v":"St Brieuc 1"},4]
["10ème Equipage",null,{"$f":"IF($C$5=\"Course 1\",Général!K38,IF($C$5=\"Course 2\",Général!K40,IF($C$5=\"Course 3\",Général!K42,Général!K44)))","v":"Centrale Nantes 2"},{"$f":"IF($D$5=\"Course 1\",Général!K48,IF($D$5=\"Course 2\",Général!K50,IF($D$5=\"Course 3\",Général!K52,Général!K54)))","v":"ENSMAC"},{"$f":"IF($E$5=\"Course 1\",Général!K58,IF($E$5=\"Course 2\",Général!K60,IF($E$5=\"Course 3\",Général!K62,Général!K64)))","v":"UBO 1"},{"$f":"IF($F$5=\"Course 1\",Général!K$68,IF($F$5=\"Course 2\",Général!K$70,IF($F$5=\"Course 3\",Général!K$72,Général!K$74)))","v":"Hannover"},{"$f":"IF($G$5=\"Course 1\",Général!K$78,IF($G$5=\"Course 2\",Général!K$80,IF($G$5=\"Course 3\",Général!K$82,Général!K$84)))","v":"Intechmer"},{"$f":"IF($H$5=\"Course 1\",Général!K$88,IF($H$5=\"Course 2\",Général!K$90,IF($H$5=\"Course 3\",Général!$K92,Général!K$94)))","v":"ENSTA 1"},{"$f":"IF($I$5=\"Course 1\",Général!K$98,IF($I$5=\"Course 2\",Général!K$100,IF($I$5=\"Course 3\",Général!K$102,Général!K$104)))","v":"ENSMAC"},{"$f":"IF($J$5=\"Course 1\",Général!K$108,IF($J$5=\"Course 2\",Général!K$110,IF($J$5=\"Course 3\",Général!K$112,Général!K$114)))","v":"Univ Nantes 3"},{"$f":"IF($K$5=\"Course 1\",Général!K$118,IF($K$5=\"Course 2\",Général!K$120,IF($K$5=\"Course 3\",Général!K$122,Général!K$124)))","v":"ST Brieuc 2"},{"$f":"IF($L$5=\"Course 1\",Général!K$128,IF($L$5=\"Course 2\",Général!K$130,IF($L$5=\"Course 3\",Général!K$132,Général!K$134)))","v":"INSA Lyon"},{"$f":"IF($M$5=\"Course 1\",Général!K$138,IF($M$5=\"Course 2\",Général!K$140,IF($M$5=\"Course 3\",Général!K$142,Général!K$144)))","v":"UBS Lorient 2"},{"$f":"IF($N$5=\"Course 1\",Général!K$148,IF($N$5=\"Course 2\",Général!K$150,IF($N$5=\"Course 3\",Général!K$152,Général!K$154)))","v":"ENSTA 1"},{"$f":"IF($O$5=\"Course 1\",Général!K$158,IF($O$5=\"Course 2\",Général!K$160,IF($O$5=\"Course 3\",Général!K$162,Général!K$164)))","v":"IMT Brest 2"},{"$f":"IF($P$5=\"Course 1\",Général!K$168,IF($P$5=\"Course 2\",Général!K$170,IF($P$5=\"Course 3\",Général!K$172,Général!K$174)))","v":"UBO 2"},{"$f":"IF($Q$5=\"Course 1\",Général!K$178,IF($Q$5=\"Course 2\",Général!K$180,IF($Q$5=\"Course 3\",Général!K$182,Général!K$184)))","v":"Paris Sorbone"},{"$f":"IF($R$5=\"Course 1\",Général!K$188,IF($R$5=\"Course 2\",Général!K$190,IF($R$5=\"Course 3\",Général!K$192,Général!K$194)))","v":"Centrale Nantes 2"},{"$f":"IF($S$5=\"Course 1\",Général!K$198,IF($S$5=\"Course 2\",Général!K$200,IF($S$5=\"Course 3\",Général!K$202,Général!K$204)))","v":"Univ Nantes 3"},{"$f":"IF($T$5=\"Course 1\",Général!K$208,IF($T$5=\"Course 2\",Général!K$210,IF($T$5=\"Course 3\",Général!K$212,Général!K$214)))","v":"ENSTA 2"},null,{"$f":"Général!B19","v":"Hannover"},6]
[null,null,null,null,null,null,null,null,null,null,null,null,null,null,null,null,null,null,null,null,null,{"$f":"Général!B20","v":"ENSTA 2"},17]
[null,null,null,null,null,null,null,null,null,null,null,null,null,null,null,null,null,null,null,null,null,{"$f":"Général!B21","v":"Southampton"},8]
[null,null,null,null,null,null,null,null,null,null,null,null,null,null,null,null,null,null,null,null,null,{"$f":"Général!B22","v":"La Rochelle 1"},6]
[null,null,null,null,null,null,null,null,null,null,null,null,null,null,null,null,null,null,null,null,null,{"$f":"Général!B23","v":"Centrale Nantes 1"},5]
[null,null,null,null,null,null,null,null,null,null,null,null,null,null,null,null,null,null,null,null,null,{"$f":"Général!B24","v":"ST Brieuc 2"},5]
[null,null,null,null,null,null,null,null,null,null,null,null,null,null,null,null,null,null,null,null,null,{"$f":"Général!B25","v":"UNIV Nantes 1"},4]
[null,null,null,null,null,null,null,null,null,null,null,null,null,null,null,null,null,null,null,null,null,{"$f":"Général!B26","v":"Intechmer"},5]
[null,null,null,null,null,null,null,null,null,null,null,null,null,null,null,null,null,null,null,null,null,{"$f":"Général!B27","v":"IMT Nantes"},4]
[null,null,null,null,null,null,null,null,null,null,null,null,null,null,null,null,null,null,null,null,null,{"$f":"Général!B28","v":"INSA Lyon"},7]
[null,null,null,null,null,null,null,null,null,null,null,null,null,null,null,null,null,null,null,null,null,{"$f":"Général!B29","v":"Centrale Nantes 2"},5]
[null,null,null,null,null,null,null,null,null,null,null,null,null,null,null,null,null,null,null,null,null,{"$f":"Général!B30","v":"UBS Lorient 2"},3]
[null,null,null,null,null,null,null,null,null,null,null,null,null,null,null,null,null,null,null,null,null,{"$f":"Général!B31","v":"La Rochelle 2"},6]
[null,null,null,null,null,null,null,null,null,null,null,null,null,null,null,null,null,null,null,null,null,{"$f":"Général!B32","v":"UBO 1"},7]
[null,null,null,null,null,null,null,null,null,null,null,null,null,null,null,null,null,null,null,null,null,{"$f":"Général!B33","v":"Eq.31"},0]
[null,null,null,null,null,null,null,null,null,null,null,null,null,null,null,null,null,null,null,null,null,{"$f":"Général!B34","v":"Eq.32"},0]

{"sheet":"Eq.19","index":24,"n_rows":32,"n_cols":23,"rows_kept":32,"cut":false,"hidden":false,"merged":[[7,0,7,1],[0,0,1,5],[0,6,1,10],[3,0,3,1],[4,0,4,1],[5,0,5,1],[14,0,14,1],[15,0,15,1],[16,0,16,1],[8,0,8,1],[9,0,9,1],[10,0,10,1],[11,0,11,1],[12,0,12,1],[13,0,13,1]]}
["Equipage ",null,null,null,null,null,{"$f":"Général!B21","v":"Southampton"},null,null,null,null,null,null,null,null,null,null,null,null,null,null,{"$f":"Général!B3","v":"UBO 2"},{"$f":"COUNTIF(C$8:T$16,V1)","v":2}]
[null,null,null,null,null,null,null,null,null,null,null,null,null,null,null,null,null,null,null,null,null,{"$f":"Général!B4","v":"Paris Sorbone"},{"$f":"COUNTIF($C$8:$T$16,V2)","v":1}]
[null,null,null,null,null,null,null,null,null,null,null,null,null,null,null,null,null,null,null,null,null,{"$f":"Général!B5","v":"UBS Lorient 1"},{"$f":"COUNTIF($C$8:$T$16,V3)","v":4}]
[null,null,"FLIGHT 1","FLIGHT 2","FLIGHT 3","FLIGHT 4","FLIGHT 5","FLIGHT 6","FLIGHT 7","FLIGHT 8","FLIGHT 9","FLIGHT 10","FLIGHT 11","FLIGHT 12","FLIGHT 13","FLIGHT 14","FLIGHT 15","FLIGHT 16","FLIGHT 17","FLIGHT 18",null,{"$f":"Général!B6","v":"Univ Nantes 3"},6]
["N° de course",null,{"$f":"IF(COUNTIF(Général!B38:K38,$G$1)=1,\"Course 1\",IF(COUNTIF(Général!B40:K40,$G$1)=1,\"Course 2\",IF(COUNTIF(Général!B42:K42,$G$1)=1,\"Course 3\",\"Course 4\")))","v":"Course 3"},{"$f":"IF(COUNTIF(Général!B48:K48,$G$1)=1,\"Course 1\",IF(COUNTIF(Général!B50:K50,$G$1)=1,\"Course 2\",IF(COUNTIF(Général!B52:K52,$G$1)=1,\"Course 3\",\"Course 4\")))","v":"Course 2"},{"$f":"IF(COUNTIF(Général!B58:K58,$G$1)=1,\"Course 1\",IF(COUNTIF(Général!B60:K60,$G$1)=1,\"Course 2\",IF(COUNTIF(Général!B62:K62,$G$1)=1,\"Course 3\",\"Course 4\")))","v":"Course 2"},{"$f":"IF(COUNTIF(Général!B68:K68,$G$1)=1,\"Course 1\",IF(COUNTIF(Général!B70:K70,$G$1)=1,\"Course 2\",IF(COUNTIF(Général!B72:K72,$G$1)=1,\"Course 3\",\"Course 4\")))","v":"Course 3"},{"$f":"IF(COUNTIF(Général!B78:K78,$G$1)=1,\"Course 1\",IF(COUNTIF(Général!B80:K80,$G$1)=1,\"Course 2\",IF(COUNTIF(Général!B82:K82,$G$1)=1,\"Course 3\",\"Course 4\")))","v":"Course 1"},{"$f":"IF(COUNTIF(Général!B88:K88,$G$1)=1,\"Course 1\",IF(COUNTIF(Général!B90:K90,$G$1)=1,\"Course 2\",IF(COUNTIF(Général!B92:K92,$G$1)=1,\"Course 3\",\"Course 4\")))","v":"Course 1"},{"$f":"IF(COUNTIF(Général!B98:K98,$G$1)=1,\"Course 1\",IF(COUNTIF(Général!B100:K100,$G$1)=1,\"Course 2\",IF(COUNTIF(Général!B102:K102,$G$1)=1,\"Course 3\",\"Course 4\")))","v":"Course 2"},{"$f":"IF(COUNTIF(Général!B108:K108,$G$1)=1,\"Course 1\",IF(COUNTIF(Général!B110:K110,$G$1)=1,\"Course 2\",IF(COUNTIF(Général!B112:K112,$G$1)=1,\"Course 3\",\"Course 4\")))","v":"Course 3"},{"$f":"IF(COUNTIF(Général!B118:K118,$G$1)=1,\"Course 1\",IF(COUNTIF(Général!B120:K120,$G$1)=1,\"Course 2\",IF(COUNTIF(Général!B122:K122,$G$1)=1,\"Course 3\",\"Course 4\")))","v":"Course 3"},{"$f":"IF(COUNTIF(Général!B128:K128,$G$1)=1,\"Course 1\",IF(COUNTIF(Général!B130:K130,$G$1)=1,\"Course 2\",IF(COUNTIF(Général!B132:K132,$G$1)=1,\"Course 3\",\"Course 4\")))","v":"Course 2"},{"$f":"IF(COUNTIF(Général!B138:K138,$G$1)=1,\"Course 1\",IF(COUNTIF(Général!B140:K140,$G$1)=1,\"Course 2\",IF(COUNTIF(Général!B142:K142,$G$1)=1,\"Course 3\",\"Course 4\")))","v":"Course 3"},{"$f":"IF(COUNTIF(Général!B148:K148,$G$1)=1,\"Course 1\",IF(COUNTIF(Général!B150:K150,$G$1)=1,\"Course 2\",IF(COUNTIF(Général!B152:K152,$G$1)=1,\"Course 3\",\"Course 4\")))","v":"Course 1"},{"$f":"IF(COUNTIF(Général!B158:K158,$G$1)=1,\"Course 1\",IF(COUNTIF(Général!B160:K160,$G$1)=1,\"Course 2\",IF(COUNTIF(Général!B162:K162,$G$1)=1,\"Course 3\",\"Course 4\")))","v":"Course 3"},{"$f":"IF(COUNTIF(Général!B168:K168,$G$1)=1,\"Course 1\",IF(COUNTIF(Général!B170:K170,$G$1)=1,\"Course 2\",IF(COUNTIF(Général!B172:K172,$G$1)=1,\"Course 3\",\"Course 4\")))","v":"Course 2"},{"$f":"IF(COUNTIF(Général!B178:K178,$G$1)=1,\"Course 1\",IF(COUNTIF(Général!B180:K180,$G$1)=1,\"Course 2\",IF(COUNTIF(Général!B182:K182,$G$1)=1,\"Course 3\",\"Course 4\")))","v":"Course 1"},{"$f":"IF(COUNTIF(Général!B188:K188,$G$1)=1,\"Course 1\",IF(COUNTIF(Général!B190:K190,$G$1)=1,\"Course 2\",IF(COUNTIF(Général!B192:K192,$G$1)=1,\"Course 3\",\"Course 4\")))","v":"Course 1"},{"$f":"IF(COUNTIF(Général!B198:K198,$G$1)=1,\"Course 1\",IF(COUNTIF(Général!B200:K200,$G$1)=1,\"Course 2\",IF(COUNTIF(Général!B202:K202,$G$1)=1,\"Course 3\",\"Course 4\")))","v":"Course 2"},{"$f":"IF(COUNTIF(Général!B208:K208,$G$1)=1,\"Course 1\",IF(COUNTIF(Général!B210:K210,$G$1)=1,\"Course 2\",IF(COUNTIF(Général!B212:K212,$G$1)=1,\"Course 3\",\"Course 4\")))","v":"Course 3"},null,{"$f":"Général!B7","v":"Paris Cité"},5]
["Bateau",null,{"$f":"IF(COUNTIF(Général!B38:B44,$G$1)=1,\"Boat 1\",IF(COUNTIF(Général!C38:C44,$G$1)=1,\"Boat 2\",IF(COUNTIF(Général!D38:D44,$G$1)=1,\"Boat 3\", IF(COUNTIF(Général!E38:E44,$G$1)=1,\"Boat 4\", IF(COUNTIF(Général!F38:F44,$G$1)=1,\"Boat 5\", IF(COUNTIF(Général!G38:G44,$G$1)=1,\"Boat 6\", IF(COUNTIF(Général!H38:H44,$G$1)=1,\"Boat 7\",IF(COUNTIF(Général!I38:I44,$G$1)=1,\"Boat 8\",\"Boat 9\"))))))))","v":"Boat 4"},{"$f":"IF(COUNTIF(Général!B48:B54,$G$1)=1,\"Boat 1\",IF(COUNTIF(Général!C48:C54,$G$1)=1,\"Boat 2\",IF(COUNTIF(Général!D48:D54,$G$1)=1,\"Boat 3\", IF(COUNTIF(Général!E48:E54,$G$1)=1,\"Boat 4\", IF(COUNTIF(Général!F48:F54,$G$1)=1,\"Boat 5\", IF(COUNTIF(Général!G48:G54,$G$1)=1,\"Boat 6\", IF(COUNTIF(Général!H48:H54,$G$1)=1,\"Boat 7\",IF(COUNTIF(Général!I38:I44,$G$1)=1,\"Boat 8\",\"Boat 9\"))))))))","v":"Boat 9"},{"$f":"IF(COUNTIF(Général!B58:B64,$G$1)=1,\"Boat 1\",IF(COUNTIF(Général!C58:C64,$G$1)=1,\"Boat 2\",IF(COUNTIF(Général!D58:D64,$G$1)=1,\"Boat 3\", IF(COUNTIF(Général!E58:E64,$G$1)=1,\"Boat 4\", IF(COUNTIF(Général!F58:F64,$G$1)=1,\"Boat 5\", IF(COUNTIF(Général!G58:G64,$G$1)=1,\"Boat 6\", IF(COUNTIF(Général!H58:H64,$G$1)=1,\"Boat 7\",IF(COUNTIF(Général!I38:I44,$G$1)=1,\"Boat 8\",\"Boat 9\"))))))))","v":"Boat 9"},{"$f":"IF(COUNTIF(Général!B68:B74,$G$1)=1,\"Boat 1\",IF(COUNTIF(Général!C68:C74,$G$1)=1,\"Boat 2\",IF(COUNTIF(Général!D68:D74,$G$1)=1,\"Boat 3\", IF(COUNTIF(Général!E68:E74,$G$1)=1,\"Boat 4\", IF(COUNTIF(Général!F68:F74,$G$1)=1,\"Boat 5\", IF(COUNTIF(Général!G68:G74,$G$1)=1,\"Boat 6\", IF(COUNTIF(Général!H68:H74,$G$1)=1,\"Boat 7\",IF(COUNTIF(Général!I38:I44,$G$1)=1,\"Boat 8\",\"Boat 9\"))))))))","v":"Boat 9"},{"$f":"IF(COUNTIF(Général!B78:B84,$G$1)=1,\"Boat 1\",IF(COUNTIF(Général!C78:C84,$G$1)=1,\"Boat 2\",IF(COUNTIF(Général!D78:D84,$G$1)=1,\"Boat 3\", IF(COUNTIF(Général!E78:E84,$G$1)=1,\"Boat 4\", IF(COUNTIF(Général!F78:F84,$G$1)=1,\"Boat 5\", IF(COUNTIF(Général!G78:G84,$G$1)=1,\"Boat 6\", IF(COUNTIF(Général!H78:H84,$G$1)=1,\"Boat 7\",IF(COUNTIF(Général!I38:I44,$G$1)=1,\"Boat 8\",\"Boat 9\"))))))))","v":"Boat 9"},{"$f":"IF(COUNTIF(Général!B88:B94,$G$1)=1,\"Boat 1\",IF(COUNTIF(Général!C88:C94,$G$1)=1,\"Boat 2\",IF(COUNTIF(Général!D88:D94,$G$1)=1,\"Boat 3\", IF(COUNTIF(Général!E88:E94,$G$1)=1,\"Boat 4\", IF(COUNTIF(Général!F88:F94,$G$1)=1,\"Boat 5\", IF(COUNTIF(Général!G88:G94,$G$1)=1,\"Boat 6\", IF(COUNTIF(Général!H88:H94,$G$1)=1,\"Boat 7\",IF(COUNTIF(Général!I38:I44,$G$1)=1,\"Boat 8\",\"Boat 9\"))))))))","v":"Boat 2"},{"$f":"IF(COUNTIF(Général!B98:B104,$G$1)=1,\"Boat 1\",IF(COUNTIF(Général!C98:C104,$G$1)=1,\"Boat 2\",IF(COUNTIF(Général!D98:D104,$G$1)=1,\"Boat 3\", IF(COUNTIF(Général!E98:E104,$G$1)=1,\"Boat 4\", IF(COUNTIF(Général!F98:F104,$G$1)=1,\"Boat 5\", IF(COUNTIF(Général!G98:G104,$G$1)=1,\"Boat 6\", IF(COUNTIF(Général!H98:H104,$G$1)=1,\"Boat 7\",IF(COUNTIF(Général!I38:I44,$G$1)=1,\"Boat 8\",\"Boat 9\"))))))))","v":"Boat 3"},{"$f":"IF(COUNTIF(Général!B108:B114,$G$1)=1,\"Boat 1\",IF(COUNTIF(Général!C108:C114,$G$1)=1,\"Boat 2\",IF(COUNTIF(Général!D108:D114,$G$1)=1,\"Boat 3\", IF(COUNTIF(Général!E108:E114,$G$1)=1,\"Boat 4\", IF(COUNTIF(Général!F108:F114,$G$1)=1,\"Boat 5\", IF(COUNTIF(Général!G108:G114,$G$1)=1,\"Boat 6\", IF(COUNTIF(Général!H108:H114,$G$1)=1,\"Boat 7\",IF(COUNTIF(Général!I38:I44,$G$1)=1,\"Boat 8\",\"Boat 9\"))))))))","v":"Boat 9"},{"$f":"IF(COUNTIF(Général!B118:B124,$G$1)=1,\"Boat 1\",IF(COUNTIF(Général!C118:C124,$G$1)=1,\"Boat 2\",IF(COUNTIF(Général!D118:D124,$G$1)=1,\"Boat 3\", IF(COUNTIF(Général!E118:E124,$G$1)=1,\"Boat 4\", IF(COUNTIF(Général!F118:F124,$G$1)=1,\"Boat 5\", IF(COUNTIF(Général!G118:G124,$G$1)=1,\"Boat 6\", IF(COUNTIF(Général!H118:H124,$G$1)=1,\"Boat 7\",IF(COUNTIF(Général!I38:I44,$G$1)=1,\"Boat 8\",\"Boat 9\"))))))))","v":"Boat 3"},{"$f":"IF(COUNTIF(Général!B128:B134,$G$1)=1,\"Boat 1\",IF(COUNTIF(Général!C128:C134,$G$1)=1,\"Boat 2\",IF(COUNTIF(Général!D128:D134,$G$1)=1,\"Boat 3\", IF(COUNTIF(Général!E128:E134,$G$1)=1,\"Boat 4\", IF(COUNTIF(Général!F128:F134,$G$1)=1,\"Boat 5\", IF(COUNTIF(Général!G128:G134,$G$1)=1,\"Boat 6\", IF(COUNTIF(Général!H128:H134,$G$1)=1,\"Boat 7\",IF(COUNTIF(Général!I38:I44,$G$1)=1,\"Boat 8\",\"Boat 9\"))))))))","v":"Boat 9"},{"$f":"IF(COUNTIF(Général!B138:B144,$G$1)=1,\"Boat 1\",IF(COUNTIF(Général!C138:C144,$G$1)=1,\"Boat 2\",IF(COUNTIF(Général!C138:D144,$G$1)=1,\"Boat 3\", IF(COUNTIF(Général!C138:E144,$G$1)=1,\"Boat 4\", IF(COUNTIF(Général!F138:F144,$G$1)=1,\"Boat 5\", IF(COUNTIF(Général!G138:G144,$G$1)=1,\"Boat 6\", IF(COUNTIF(Général!H138:H144,$G$1)=1,\"Boat 7\",IF(COUNTIF(Général!I38:I44,$G$1)=1,\"Boat 8\",\"Boat 9\"))))))))","v":"Boat 6"},{"$f":"IF(COUNTIF(Général!B148:B154,$G$1)=1,\"Boat 1\",IF(COUNTIF(Général!C148:C154,$G$1)=1,\"Boat 2\",IF(COUNTIF(Général!D148:D154,$G$1)=1,\"Boat 3\", IF(COUNTIF(Général!E148:E154,$G$1)=1,\"Boat 4\", IF(COUNTIF(Général!F148:F154,$G$1)=1,\"Boat 5\", IF(COUNTIF(Général!G148:G154,$G$1)=1,\"Boat 6\", IF(COUNTIF(Général!H148:H154,$G$1)=1,\"Boat 7\",IF(COUNTIF(Général!I38:I44,$G$1)=1,\"Boat 8\",\"Boat 9\"))))))))","v":"Boat 6"},{"$f":"IF(COUNTIF(Général!B158:B164,$G$1)=1,\"Boat 1\",IF(COUNTIF(Général!C158:C164,$G$1)=1,\"Boat 2\",IF(COUNTIF(Général!D160:D164,$G$1)=1,\"Boat 3\", IF(COUNTIF(Général!E158:E164,$G$1)=1,\"Boat 4\", IF(COUNTIF(Général!F158:F164,$G$1)=1,\"Boat 5\", IF(COUNTIF(Général!G158:G164,$G$1)=1,\"Boat 6\", IF(COUNTIF(Général!H158:H164,$G$1)=1,\"Boat 7\",IF(COUNTIF(Général!I38:I44,$G$1)=1,\"Boat 8\",\"Boat 9\"))))))))","v":"Boat 9"},{"$f":"IF(COUNTIF(Général!B168:B174,$G$1)=1,\"Boat 1\",IF(COUNTIF(Général!C168:C174,$G$1)=1,\"Boat 2\",IF(COUNTIF(Général!D168:D174,$G$1)=1,\"Boat 3\", IF(COUNTIF(Général!E168:E174,$G$1)=1,\"Boat 4\", IF(COUNTIF(Général!F178:F184,$G$1)=1,\"Boat 5\", IF(COUNTIF(Général!G178:G184,$G$1)=1,\"Boat 6\", IF(COUNTIF(Général!H178:H184,$G$1)=1,\"Boat 7\",IF(COUNTIF(Général!I38:I44,$G$1)=1,\"Boat 8\",\"Boat 9\"))))))))","v":"Boat 9"},{"$f":"IF(COUNTIF(Général!B178:B184,$G$1)=1,\"Boat 1\",IF(COUNTIF(Général!C178:C184,$G$1)=1,\"Boat 2\",IF(COUNTIF(Général!D178:D184,$G$1)=1,\"Boat 3\", IF(COUNTIF(Général!E178:E184,$G$1)=1,\"Boat 4\", IF(COUNTIF(Général!F178:F184,$G$1)=1,\"Boat 5\", IF(COUNTIF(Général!G178:G184,$G$1)=1,\"Boat 6\", IF(COUNTIF(Général!H178:H184,$G$1)=1,\"Boat 7\",IF(COUNTIF(Général!I38:I44,$G$1)=1,\"Boat 8\",\"Boat 9\"))))))))","v":"Boat 9"},{"$f":"IF(COUNTIF(Général!B188:B194,$G$1)=1,\"Boat 1\",IF(COUNTIF(Général!C188:C194,$G$1)=1,\"Boat 2\",IF(COUNTIF(Général!D188:D194,$G$1)=1,\"Boat 3\", IF(COUNTIF(Général!E188:E194,$G$1)=1,\"Boat 4\", IF(COUNTIF(Général!F188:F194,$G$1)=1,\"Boat 5\", IF(COUNTIF(Général!G188:G194,$G$1)=1,\"Boat 6\", IF(COUNTIF(Général!H188:H194,$G$1)=1,\"Boat 7\",IF(COUNTIF(Général!I38:I44,$G$1)=1,\"Boat 8\",\"Boat 9\"))))))))","v":"Boat 9"},{"$f":"IF(COUNTIF(Général!B198:B204,$G$1)=1,\"Boat 1\",IF(COUNTIF(Général!C198:C204,$G$1)=1,\"Boat 2\",IF(COUNTIF(Général!D198:D204,$G$1)=1,\"Boat 3\", IF(COUNTIF(Général!E198:E204,$G$1)=1,\"Boat 4\", IF(COUNTIF(Général!F198:F204,$G$1)=1,\"Boat 5\", IF(COUNTIF(Général!G198:G204,$G$1)=1,\"Boat 6\", IF(COUNTIF(Général!H198:H204,$G$1)=1,\"Boat 7\",IF(COUNTIF(Général!I38:I44,$G$1)=1,\"Boat 8\",\"Boat 9\"))))))))","v":"Boat 2"},{"$f":"IF(COUNTIF(Général!B208:B214,$G$1)=1,\"Boat 1\",IF(COUNTIF(Général!C208:C214,$G$1)=1,\"Boat 2\",IF(COUNTIF(Général!D208:D214,$G$1)=1,\"Boat 3\", IF(COUNTIF(Général!E208:E214,$G$1)=1,\"Boat 4\", IF(COUNTIF(Général!F208:F214,$G$1)=1,\"Boat 5\", IF(COUNTIF(Général!G208:G214,$G$1)=1,\"Boat 6\", IF(COUNTIF(Général!H208:H214,$G$1)=1,\"Boat 7\",IF(COUNTIF(Général!I38:I44,$G$1)=1,\"Boat 8\",\"Boat 9\"))))))))","v":"Boat 6"},null,{"$f":"Général!B8","v":"Plymouth"},5]
[null,null,null,null,null,null,null,null,null,null,null,null,null,null,null,null,null,null,null,null,null,{"$f":"Général!B9","v":"Unicaen 2"},6]
["1er Equipage",null,{"$f":"IF($C$5=\"Course 1\",Général!B38,IF($C$5=\"Course 2\",Général!B40,IF($C$5=\"Course 3\",Général!B42,Général!B44)))","v":"La Rochelle 1"},{"$f":"IF($D$5=\"Course 1\",Général!B48,IF($D$5=\"Course 2\",Général!B50,IF($D$5=\"Course 3\",Général!B52,Général!B54)))","v":"St Brieuc 1"},{"$f":"IF($E$5=\"Course 1\",Général!B58,IF($E$5=\"Course 2\",Général!B60,IF($E$5=\"Course 3\",Général!B62,Général!B64)))","v":"Univ Nantes 3"},{"$f":"IF($F$5=\"Course 1\",Général!B$68,IF($F$5=\"Course 2\",Général!B$70,IF($F$5=\"Course 3\",Général!B$72,Général!B$74)))","v":"ENSMAC"},{"$f":"IF($G$5=\"Course 1\",Général!B$78,IF($G$5=\"Course 2\",Général!B$80,IF($G$5=\"Course 3\",Général!B$82,Général!B$84)))","v":"ENSMAC"},{"$f":"IF($H$5=\"Course 1\",Général!B$88,IF($H$5=\"Course 2\",Général!B$90,IF($H$5=\"Course 3\",Général!B$92,Général!B$94)))","v":"ENSTA 2"},{"$f":"IF($I$5=\"Course 1\",Général!B$98,IF($I$5=\"Course 2\",Général!B$100,IF($I$5=\"Course 3\",Général!B$102,Général!B$104)))","v":"Unicaen 1"},{"$f":"IF($J$5=\"Course 1\",Général!B$108,IF($J$5=\"Course 2\",Général!B$110,IF($J$5=\"Course 3\",Général!B$112,Général!B$114)))","v":"UNIV Nantes 1"},{"$f":"IF($K$5=\"Course 1\",Général!B$118,IF($K$5=\"Course 2\",Général!B$120,IF($K$5=\"Course 3\",Général!B$122,Général!B$124)))","v":"INSA Lyon"},{"$f":"IF($L$5=\"Course 1\",Général!B$128,IF($L$5=\"Course 2\",Général!B$130,IF($L$5=\"Course 3\",Général!B$132,Général!B$134)))","v":"Plymouth"},{"$f":"IF($M$5=\"Course 1\",Général!B$138,IF($M$5=\"Course 2\",Général!B$140,IF($M$5=\"Course 3\",Général!B$142,Général!B$144)))","v":"ENSTA 1"},{"$f":"IF($N$5=\"Course 1\",Général!B$148,IF($N$5=\"Course 2\",Général!B$150,IF($N$5=\"Course 3\",Général!B$152,Général!B$154)))","v":"St Brieuc 1"},{"$f":"IF($O$5=\"Course 1\",Général!B$158,IF($O$5=\"Course 2\",Général!B$160,IF($O$5=\"Course 3\",Général!B$162,Général!B$164)))","v":"St Brieuc 1"},{"$f":"IF($P$5=\"Course 1\",Général!B$168,IF($P$5=\"Course 2\",Général!B$170,IF($P$5=\"Course 3\",Général!B$172,Général!B$174)))","v":"ENSMAC"},{"$f":"IF($Q$5=\"Course 1\",Général!B$178,IF($Q$5=\"Course 2\",Général!B$180,IF($Q$5=\"Course 3\",Général!B$182,Général!B$184)))","v":"Plymouth"},{"$f":"IF($R$5=\"Course 1\",Général!B$188,IF($R$5=\"Course 2\",Général!B$190,IF($R$5=\"Course 3\",Général!B$192,Général!B$194)))","v":"IMT Brest 2"},{"$f":"IF($S$5=\"Course 1\",Général!B$198,IF($S$5=\"Course 2\",Général!B$200,IF($S$5=\"Course 3\",Général!B$202,Général!B$204)))","v":"ENSTA 2"},{"$f":"IF($T$5=\"Course 1\",Général!B$208,IF($T$5=\"Course 2\",Général!B$210,IF($T$5=\"Course 3\",Général!B$212,Général!B$214)))","v":"IMT Brest 1"},null,{"$f":"Général!B10","v":"Univ Nantes 2"},3]
["2nd Equipage",null,{"$f":"IF($C$5=\"Course 1\",Général!C38,IF($C$5=\"Course 2\",Général!C40,IF($C$5=\"Course 3\",Général!C42,Général!C44)))","v":"UBS Lorient 1"},{"$f":"IF($D$5=\"Course 1\",Général!C48,IF($D$5=\"Course 2\",Général!C50,IF($D$5=\"Course 3\",Général!C52,Général!C54)))","v":"Univ Nantes 3"},{"$f":"IF($E$5=\"Course 1\",Général!C58,IF($E$5=\"Course 2\",Général!C60,IF($E$5=\"Course 3\",Général!C62,Général!C64)))","v":"IMT Nantes"},{"$f":"IF($F$5=\"Course 1\",Général!C$68,IF($F$5=\"Course 2\",Général!C$70,IF($F$5=\"Course 3\",Général!C$72,Général!C$74)))","v":"St Brieuc 1"},{"$f":"IF($G$5=\"Course 1\",Général!C$78,IF($G$5=\"Course 2\",Général!C$80,IF($G$5=\"Course 3\",Général!C$82,Général!C$84)))","v":"Hannover"},{"$f":"IF($H$5=\"Course 1\",Général!C$88,IF($H$5=\"Course 2\",Général!C$90,IF($H$5=\"Course 3\",Général!C$92,Général!C$94)))","v":"Southampton"},{"$f":"IF($I$5=\"Course 1\",Général!C$98,IF($I$5=\"Course 2\",Général!C$100,IF($I$5=\"Course 3\",Général!C$102,Général!C$104)))","v":"La Rochelle 1"},{"$f":"IF($J$5=\"Course 1\",Général!C$108,IF($J$5=\"Course 2\",Général!C$110,IF($J$5=\"Course 3\",Général!C$112,Général!C$114)))","v":"UBS Lorient 1"},{"$f":"IF($K$5=\"Course 1\",Général!C$118,IF($K$5=\"Course 2\",Général!C$120,IF($K$5=\"Course 3\",Général!C$122,Général!C$124)))","v":"ENSTA 2"},{"$f":"IF($L$5=\"Course 1\",Général!C$128,IF($L$5=\"Course 2\",Général!C$130,IF($L$5=\"Course 3\",Général!C$132,Général!C$134)))","v":"ENSMAC"},{"$f":"IF($M$5=\"Course 1\",Général!C$138,IF($M$5=\"Course 2\",Général!C$140,IF($M$5=\"Course 3\",Général!C$142,Général!C$144)))","v":"Intechmer"},{"$f":"IF($N$5=\"Course 1\",Général!C$148,IF($N$5=\"Course 2\",Général!C$150,IF($N$5=\"Course 3\",Général!C$152,Général!C$154)))","v":"Centrale Nantes 1"},{"$f":"IF($O$5=\"Course 1\",Général!C$158,IF($O$5=\"Course 2\",Général!C$160,IF($O$5=\"Course 3\",Général!C$162,Général!C$164)))","v":"Karlsruhe"},{"$f":"IF($P$5=\"Course 1\",Général!C$168,IF($P$5=\"Course 2\",Général!C$170,IF($P$5=\"Course 3\",Général!C$172,Général!C$174)))","v":"Univ Nantes 3"},{"$f":"IF($Q$5=\"Course 1\",Général!C$178,IF($Q$5=\"Course 2\",Général!C$180,IF($Q$5=\"Course 3\",Général!C$182,Général!C$184)))","v":"UNIV Nantes 1"},{"$f":"IF($R$5=\"Course 1\",Général!C$188,IF($R$5=\"Course 2\",Général!C$190,IF($R$5=\"Course 3\",Général!C$192,Général!C$194)))","v":"IMT Nantes"},{"$f":"IF($S$5=\"Course 1\",Général!C$198,IF($S$5=\"Course 2\",Général!C$200,IF($S$5=\"Course 3\",Général!C$202,Général!C$204)))","v":"Southampton"},{"$f":"IF($T$5=\"Course 1\",Général!C$208,IF($T$5=\"Course 2\",Général!C$210,IF($T$5=\"Course 3\",Général!C$212,Général!C$214)))","v":"Hannover"},null,{"$f":"Général!B11","v":"Karlsruhe"},5]
["3ème Equipage",null,{"$f":"IF($C$5=\"Course 1\",Général!D38,IF($C$5=\"Course 2\",Général!D40,IF($C$5=\"Course 3\",Général!D42,Général!D44)))","v":"UBO 1"},{"$f":"IF($D$5=\"Course 1\",Général!D48,IF($D$5=\"Course 2\",Général!D50,IF($D$5=\"Course 3\",Général!D52,Général!D54)))","v":"UBS Lorient 2"},{"$f":"IF($E$5=\"Course 1\",Général!D58,IF($E$5=\"Course 2\",Général!D60,IF($E$5=\"Course 3\",Général!D62,Général!D64)))","v":"ENSTA 2"},{"$f":"IF($F$5=\"Course 1\",Général!D$68,IF($F$5=\"Course 2\",Général!D$70,IF($F$5=\"Course 3\",Général!D$72,Général!D$74)))","v":"Karlsruhe"},{"$f":"IF($G$5=\"Course 1\",Général!D$78,IF($G$5=\"Course 2\",Général!D$80,IF($G$5=\"Course 3\",Général!D$82,Général!D$84)))","v":"Karlsruhe"},{"$f":"IF($H$5=\"Course 1\",Général!D$88,IF($H$5=\"Course 2\",Général!D$90,IF($H$5=\"Course 3\",Général!D$92,Général!D$94)))","v":"UBO 1"},{"$f":"IF($I$5=\"Course 1\",Général!D$98,IF($I$5=\"Course 2\",Général!D$100,IF($I$5=\"Course 3\",Général!D$102,Général!D$104)))","v":"Southampton"},{"$f":"IF($J$5=\"Course 1\",Général!D$108,IF($J$5=\"Course 2\",Général!D$110,IF($J$5=\"Course 3\",Général!D$112,Général!D$114)))","v":"IMT Brest 1"},{"$f":"IF($K$5=\"Course 1\",Général!D$118,IF($K$5=\"Course 2\",Général!D$120,IF($K$5=\"Course 3\",Général!D$122,Général!D$124)))","v":"Southampton"},{"$f":"IF($L$5=\"Course 1\",Général!D$128,IF($L$5=\"Course 2\",Général!D$130,IF($L$5=\"Course 3\",Général!D$132,Général!D$134)))","v":"ENSTA 1"},{"$f":"IF($M$5=\"Course 1\",Général!D$138,IF($M$5=\"Course 2\",Général!D$140,IF($M$5=\"Course 3\",Général!D$142,Général!D$144)))","v":"La Rochelle 2"},{"$f":"IF($N$5=\"Course 1\",Général!D$148,IF($N$5=\"Course 2\",Général!D$150,IF($N$5=\"Course 3\",Général!D$152,Général!D$154)))","v":"Unicaen 1"},{"$f":"IF($O$5=\"Course 1\",Général!D$158,IF($O$5=\"Course 2\",Général!D$160,IF($O$5=\"Course 3\",Général!D$162,Général!D$164)))","v":"ENSTA 1"},{"$f":"IF($P$5=\"Course 1\",Général!D$168,IF($P$5=\"Course 2\",Général!D$170,IF($P$5=\"Course 3\",Général!D$172,Général!D$174)))","v":"Intechmer"},{"$f":"IF($Q$5=\"Course 1\",Général!D$178,IF($Q$5=\"Course 2\",Général!D$180,IF($Q$5=\"Course 3\",Général!D$182,Général!D$184)))","v":"Univ Nantes 2"},{"$f":"IF($R$5=\"Course 1\",Général!D$188,IF($R$5=\"Course 2\",Général!D$190,IF($R$5=\"Course 3\",Général!D$192,Général!D$194)))","v":"La Rochelle 1"},{"$f":"IF($S$5=\"Course 1\",Général!D$198,IF($S$5=\"Course 2\",Général!D$200,IF($S$5=\"Course 3\",Général!D$202,Général!D$204)))","v":"Paris Cité"},{"$f":"IF($T$5=\"Course 1\",Général!D$208,IF($T$5=\"Course 2\",Général!D$210,IF($T$5=\"Course 3\",Général!D$212,Général!D$214)))","v":"La Rochelle 2"},null,{"$f":"Général!B12","v":"IMT Brest 2"},3]
["4ème Equipage",null,{"$f":"IF($C$5=\"Course 1\",Général!E38,IF($C$5=\"Course 2\",Général!E40,IF($C$5=\"Course 3\",Général!E42,Général!E44)))","v":"Southampton"},{"$f":"IF($D$5=\"Course 1\",Général!E48,IF($D$5=\"Course 2\",Général!E50,IF($D$5=\"Course 3\",Général!E52,Général!E54)))","v":"ENSTA 2"},{"$f":"IF($E$5=\"Course 1\",Général!E58,IF($E$5=\"Course 2\",Général!E60,IF($E$5=\"Course 3\",Général!E62,Général!E64)))","v":"Paris Cité"},{"$f":"IF($F$5=\"Course 1\",Général!E$68,IF($F$5=\"Course 2\",Général!E$70,IF($F$5=\"Course 3\",Général!E$72,Général!E$74)))","v":"UNIV Nantes 1"},{"$f":"IF($G$5=\"Course 1\",Général!E$78,IF($G$5=\"Course 2\",Général!E$80,IF($G$5=\"Course 3\",Général!E$82,Général!E$84)))","v":"UNIV Nantes 1"},{"$f":"IF($H$5=\"Course 1\",Général!E$88,IF($H$5=\"Course 2\",Général!E$90,IF($H$5=\"Course 3\",Général!E$92,Général!E$94)))","v":"La Rochelle 1"},{"$f":"IF($I$5=\"Course 1\",Général!E$98,IF($I$5=\"Course 2\",Général!E$100,IF($I$5=\"Course 3\",Général!E$102,Général!E$104)))","v":"Karlsruhe"},{"$f":"IF($J$5=\"Course 1\",Général!E$108,IF($J$5=\"Course 2\",Général!E$110,IF($J$5=\"Course 3\",Général!E$112,Général!E$114)))","v":"UBS Lorient 2"},{"$f":"IF($K$5=\"Course 1\",Général!E$118,IF($K$5=\"Course 2\",Général!E$120,IF($K$5=\"Course 3\",Général!E$122,Général!E$124)))","v":"IMT Brest 1"},{"$f":"IF($L$5=\"Course 1\",Général!E$128,IF($L$5=\"Course 2\",Général!E$130,IF($L$5=\"Course 3\",Général!E$132,Général!E$134)))","v":"Paris Cité"},{"$f":"IF($M$5=\"Course 1\",Général!E$138,IF($M$5=\"Course 2\",Général!E$140,IF($M$5=\"Course 3\",Général!E$142,Général!E$144)))","v":"ENSMAC"},{"$f":"IF($N$5=\"Course 1\",Général!E$148,IF($N$5=\"Course 2\",Général!E$150,IF($N$5=\"Course 3\",Général!E$152,Général!E$154)))","v":"Orléans"},{"$f":"IF($O$5=\"Course 1\",Général!E$158,IF($O$5=\"Course 2\",Général!E$160,IF($O$5=\"Course 3\",Général!E$162,Général!E$164)))","v":"Univ Nantes 2"},{"$f":"IF($P$5=\"Course 1\",Général!E$168,IF($P$5=\"Course 2\",Général!E$170,IF($P$5=\"Course 3\",Général!E$172,Général!E$174)))","v":"INSA Lyon"},{"$f":"IF($Q$5=\"Course 1\",Général!E$178,IF($Q$5=\"Course 2\",Général!E$180,IF($Q$5=\"Course 3\",Général!E$182,Général!E$184)))","v":"UBO 1"},{"$f":"IF($R$5=\"Course 1\",Général!E$188,IF($R$5=\"Course 2\",Général!E$190,IF($R$5=\"Course 3\",Général!E$192,Général!E$194)))","v":"St Brieuc 1"},{"$f":"IF($S$5=\"Course 1\",Général!E$198,IF($S$5=\"Course 2\",Général!E$200,IF($S$5=\"Course 3\",Général!E$202,Général!E$204)))","v":"ENSMAC"},{"$f":"IF($T$5=\"Course 1\",Général!E$208,IF($T$5=\"Course 2\",Général!E$210,IF($T$5=\"Course 3\",Général!E$212,Général!E$214)))","v":"Plymouth"},null,{"$f":"Général!B13","v":"Unicaen 1"},6]
["5ème Equipage",null,{"$f":"IF($C$5=\"Course 1\",Général!F38,IF($C$5=\"Course 2\",Général!F40,IF($C$5=\"Course 3\",Général!F42,Général!F44)))","v":"ENSTA 2"},{"$f":"IF($D$5=\"Course 1\",Général!F48,IF($D$5=\"Course 2\",Général!F50,IF($D$5=\"Course 3\",Général!F52,Général!F54)))","v":"ST Brieuc 2"},{"$f":"IF($E$5=\"Course 1\",Général!F58,IF($E$5=\"Course 2\",Général!F60,IF($E$5=\"Course 3\",Général!F62,Général!F64)))","v":"UBO 2"},{"$f":"IF($F$5=\"Course 1\",Général!F$68,IF($F$5=\"Course 2\",Général!F$70,IF($F$5=\"Course 3\",Général!F$72,Général!F$74)))","v":"Centrale Nantes 2"},{"$f":"IF($G$5=\"Course 1\",Général!F$78,IF($G$5=\"Course 2\",Général!F$80,IF($G$5=\"Course 3\",Général!F$82,Général!F$84)))","v":"ST Brieuc 2"},{"$f":"IF($H$5=\"Course 1\",Général!F$88,IF($H$5=\"Course 2\",Général!F$90,IF($H$5=\"Course 3\",Général!F$92,Général!F$94)))","v":"Orléans"},{"$f":"IF($I$5=\"Course 1\",Général!F$98,IF($I$5=\"Course 2\",Général!F$100,IF($I$5=\"Course 3\",Général!F$102,Général!F$104)))","v":"UBS Lorient 1"},{"$f":"IF($J$5=\"Course 1\",Général!F$108,IF($J$5=\"Course 2\",Général!F$110,IF($J$5=\"Course 3\",Général!F$112,Général!F$114)))","v":"Intechmer"},{"$f":"IF($K$5=\"Course 1\",Général!F$118,IF($K$5=\"Course 2\",Général!F$120,IF($K$5=\"Course 3\",Général!F$122,Général!F$124)))","v":"IMT Brest 2"},{"$f":"IF($L$5=\"Course 1\",Général!F$128,IF($L$5=\"Course 2\",Général!$F130,IF($L$5=\"Course 3\",Général!F$132,Général!F$134)))","v":"La Rochelle 2"},{"$f":"IF($M$5=\"Course 1\",Général!F$138,IF($M$5=\"Course 2\",Général!F$140,IF($M$5=\"Course 3\",Général!F$142,Général!F$144)))","v":"UBO 1"},{"$f":"IF($N$5=\"Course 1\",Général!F$148,IF($N$5=\"Course 2\",Général!F$150,IF($N$5=\"Course 3\",Général!F$152,Général!F$154)))","v":"Paris Cité"},{"$f":"IF($O$5=\"Course 1\",Général!F$158,IF($O$5=\"Course 2\",Général!F$160,IF($O$5=\"Course 3\",Général!F$162,Général!F$164)))","v":"UNIV Nantes 1"},{"$f":"IF($P$5=\"Course 1\",Général!F$168,IF($P$5=\"Course 2\",Général!F$170,IF($P$5=\"Course 3\",Général!F$172,Général!F$174)))","v":"ENSTA 2"},{"$f":"IF($Q$5=\"Course 1\",Général!F$178,IF($Q$5=\"Course 2\",Général!F$180,IF($Q$5=\"Course 3\",Général!F$182,Général!F$184)))","v":"INSA Lyon"},{"$f":"IF($R$5=\"Course 1\",Général!F$188,IF($R$5=\"Course 2\",Général!F$190,IF($R$5=\"Course 3\",Général!F$192,Général!F$194)))","v":"Hannover"},{"$f":"IF($S$5=\"Course 1\",Général!F$198,IF($S$5=\"Course 2\",Général!F$200,IF($S$5=\"Course 3\",Général!F$202,Général!F$204)))","v":"Unicaen 2"},{"$f":"IF($T$5=\"Course 1\",Général!F$208,IF($T$5=\"Course 2\",Général!F$210,IF($T$5=\"Course 3\",Général!F$212,Général!F$214)))","v":"La Rochelle 1"},null,{"$f":"Général!B14","v":"ENSTA 1"},6]
["6ème Equipage",null,{"$f":"IF($C$5=\"Course 1\",Général!G38,IF($C$5=\"Course 2\",Général!G40,IF($C$5=\"Course 3\",Général!G42,Général!G44)))","v":"Plymouth"},{"$f":"IF($D$5=\"Course 1\",Général!G48,IF($D$5=\"Course 2\",Général!G50,IF($D$5=\"Course 3\",Général!G52,Général!G54)))","v":"La Rochelle 1"},{"$f":"IF($E$5=\"Course 1\",Général!G58,IF($E$5=\"Course 2\",Général!G60,IF($E$5=\"Course 3\",Général!G62,Général!G64)))","v":"ENSMAC"},{"$f":"IF($F$5=\"Course 1\",Général!G$68,IF($F$5=\"Course 2\",Général!G$70,IF($F$5=\"Course 3\",Général!G$72,Général!G$74)))","v":"Paris Sorbone"},{"$f":"IF($G$5=\"Course 1\",Général!G$78,IF($G$5=\"Course 2\",Général!G$80,IF($G$5=\"Course 3\",Général!G$82,Général!G$84)))","v":"UBO 1"},{"$f":"IF($H$5=\"Course 1\",Général!G$88,IF($H$5=\"Course 2\",Général!G$90,IF($H$5=\"Course 3\",Général!G$92,Général!G$94)))","v":"Paris Cité"},{"$f":"IF($I$5=\"Course 1\",Général!G$98,IF($I$5=\"Course 2\",Général!G$100,IF($I$5=\"Course 3\",Général!G$102,Général!G$104)))","v":"Univ Nantes 3"},{"$f":"IF($J$5=\"Course 1\",Général!G$108,IF($J$5=\"Course 2\",Général!G$110,IF($J$5=\"Course 3\",Général!G$112,Général!G$114)))","v":"ENSTA 1"},{"$f":"IF($K$5=\"Course 1\",Général!G$118,IF($K$5=\"Course 2\",Général!G$120,IF($K$5=\"Course 3\",Général!G$122,Général!G$124)))","v":"Unicaen 1"},{"$f":"IF($L$5=\"Course 1\",Général!G$128,IF($L$5=\"Course 2\",Général!G$130,IF($L$5=\"Course 3\",Général!G$132,Général!G$134)))","v":"Intechmer"},{"$f":"IF($M$5=\"Course 1\",Général!G$138,IF($M$5=\"Course 2\",Général!G$140,IF($M$5=\"Course 3\",Général!G$142,Général!G$144)))","v":"Southampton"},{"$f":"IF($N$5=\"Course 1\",Général!G$148,IF($N$5=\"Course 2\",Général!G$150,IF($N$5=\"Course 3\",Général!G$152,Général!G$154)))","v":"Southampton"},{"$f":"IF($O$5=\"Course 1\",Général!G$158,IF($O$5=\"Course 2\",Général!G$160,IF($O$5=\"Course 3\",Général!G$162,Général!G$164)))","v":"Unicaen 2"},{"$f":"IF($P$5=\"Course 1\",Général!G$168,IF($P$5=\"Course 2\",Général!G$170,IF($P$5=\"Course 3\",Général!G$172,Général!G$174)))","v":"ST Brieuc 2"},{"$f":"IF($Q$5=\"Course 1\",Général!G$178,IF($Q$5=\"Course 2\",Général!G$180,IF($Q$5=\"Course 3\",Général!G$182,Général!G$184)))","v":"UBS Lorient 2"},{"$f":"IF($R$5=\"Course 1\",Général!G$188,IF($R$5=\"Course 2\",Général!G$190,IF($R$5=\"Course 3\",Général!G$192,Général!G$194)))","v":"Unicaen 2"},{"$f":"IF($S$5=\"Course 1\",Général!G$198,IF($S$5=\"Course 2\",Général!G$200,IF($S$5=\"Course 3\",Général!G$202,Général!G$204)))","v":"UBS Lorient 1"},{"$f":"IF($T$5=\"Course 1\",Général!G$208,IF($T$5=\"Course 2\",Général!G$210,IF($T$5=\"Course 3\",Général!G$212,Général!G$214)))","v":"Southampton"},null,{"$f":"Général!B15","v":"Orléans"},2]
["7ème Equipage",null,{"$f":"IF($C$5=\"Course 1\",Général!H38,IF($C$5=\"Course 2\",Général!H40,IF($C$5=\"Course 3\",Général!H42,Général!H44)))","v":"Univ Nantes 2"},{"$f":"IF($D$5=\"Course 1\",Général!H48,IF($D$5=\"Course 2\",Général!H50,IF($D$5=\"Course 3\",Général!H52,Général!H54)))","v":"Unicaen 2"},{"$f":"IF($E$5=\"Course 1\",Général!H58,IF($E$5=\"Course 2\",Général!H60,IF($E$5=\"Course 3\",Général!H62,Général!H64)))","v":"Hannover"},{"$f":"IF($F$5=\"Course 1\",Général!H$68,IF($F$5=\"Course 2\",Général!H$70,IF($F$5=\"Course 3\",Général!H$72,Général!H$74)))","v":"Intechmer"},{"$f":"IF($G$5=\"Course 1\",Général!H$78,IF($G$5=\"Course 2\",Général!H$80,IF($G$5=\"Course 3\",Général!H$82,Général!H$84)))","v":"IMT Brest 1"},{"$f":"IF($H$5=\"Course 1\",Général!H$88,IF($H$5=\"Course 2\",Général!H$90,IF($H$5=\"Course 3\",Général!H$92,Général!H$94)))","v":"Hannover"},{"$f":"IF($I$5=\"Course 1\",Général!H$98,IF($I$5=\"Course 2\",Général!H$100,IF($I$5=\"Course 3\",Général!H$102,Général!H$104)))","v":"Plymouth"},{"$f":"IF($J$5=\"Course 1\",Général!H$108,IF($J$5=\"Course 2\",Général!H$110,IF($J$5=\"Course 3\",Général!H$112,Général!H$114)))","v":"Hannover"},{"$f":"IF($K$5=\"Course 1\",Général!H$118,IF($K$5=\"Course 2\",Général!H$120,IF($K$5=\"Course 3\",Général!H$122,Général!H$124)))","v":"Intechmer"},{"$f":"IF($L$5=\"Course 1\",Général!H$128,IF($L$5=\"Course 2\",Général!H$130,IF($L$5=\"Course 3\",Général!H$132,Général!H$134)))","v":"IMT Nantes"},{"$f":"IF($M$5=\"Course 1\",Général!H$138,IF($M$5=\"Course 2\",Général!H$140,IF($M$5=\"Course 3\",Général!H$142,Général!H$144)))","v":"Centrale Nantes 2"},{"$f":"IF($N$5=\"Course 1\",Général!H$148,IF($N$5=\"Course 2\",Général!H$150,IF($N$5=\"Course 3\",Général!H$152,Général!H$154)))","v":"IMT Brest 1"},{"$f":"IF($O$5=\"Course 1\",Général!H$158,IF($O$5=\"Course 2\",Général!H$160,IF($O$5=\"Course 3\",Général!H$162,Général!H$164)))","v":"Univ Nantes 3"},{"$f":"IF($P$5=\"Course 1\",Général!H$168,IF($P$5=\"Course 2\",Général!H$170,IF($P$5=\"Course 3\",Général!H$172,Général!H$174)))","v":"UNIV Nantes 1"},{"$f":"IF($Q$5=\"Course 1\",Général!H$178,IF($Q$5=\"Course 2\",Général!H$180,IF($Q$5=\"Course 3\",Général!H$182,Général!H$184)))","v":"UBO 2"},{"$f":"IF($R$5=\"Course 1\",Général!H$188,IF($R$5=\"Course 2\",Général!H$190,IF($R$5=\"Course 3\",Général!H$192,Général!H$194)))","v":"Unicaen 1"},{"$f":"IF($S$5=\"Course 1\",Général!H$198,IF($S$5=\"Course 2\",Général!H$200,IF($S$5=\"Course 3\",Général!H$202,Général!H$204)))","v":"UBO 1"},{"$f":"IF($T$5=\"Course 1\",Général!H$208,IF($T$5=\"Course 2\",Général!H$210,IF($T$5=\"Course 3\",Général!H$212,Général!H$214)))","v":"Unicaen 1"},null,{"$f":"Général!B16","v":"IMT Brest 1"},6]
["8ème Equipage",null,{"$f":"IF($C$5=\"Course 1\",Général!I38,IF($C$5=\"Course 2\",Général!I40,IF($C$5=\"Course 3\",Général!I42,Général!I44)))","v":"INSA Lyon"},{"$f":"IF($D$5=\"Course 1\",Général!I48,IF($D$5=\"Course 2\",Général!I50,IF($D$5=\"Course 3\",Général!I52,Général!I54)))","v":"UNIV Nantes 1"},{"$f":"IF($E$5=\"Course 1\",Général!I58,IF($E$5=\"Course 2\",Général!I60,IF($E$5=\"Course 3\",Général!I62,Général!I64)))","v":"Unicaen 1"},{"$f":"IF($F$5=\"Course 1\",Général!I$68,IF($F$5=\"Course 2\",Général!I$70,IF($F$5=\"Course 3\",Général!I$72,Général!I$74)))","v":"Southampton"},{"$f":"IF($G$5=\"Course 1\",Général!I$78,IF($G$5=\"Course 2\",Général!I$80,IF($G$5=\"Course 3\",Général!I$82,Général!I$84)))","v":"Southampton"},{"$f":"IF($H$5=\"Course 1\",Général!I$88,IF($H$5=\"Course 2\",Général!I$90,IF($H$5=\"Course 3\",Général!I$92,Général!I$94)))","v":"IMT Nantes"},{"$f":"IF($I$5=\"Course 1\",Général!I$98,IF($I$5=\"Course 2\",Général!I$100,IF($I$5=\"Course 3\",Général!I$102,Général!I$104)))","v":"IMT Nantes"},{"$f":"IF($J$5=\"Course 1\",Général!I$108,IF($J$5=\"Course 2\",Général!I$110,IF($J$5=\"Course 3\",Général!I$112,Général!I$114)))","v":"Southampton"},{"$f":"IF($K$5=\"Course 1\",Général!I$118,IF($K$5=\"Course 2\",Général!I$120,IF($K$5=\"Course 3\",Général!I$122,Général!I$124)))","v":"Karlsruhe"},{"$f":"IF($L$5=\"Course 1\",Général!I$128,IF($L$5=\"Course 2\",Général!I$130,IF($L$5=\"Course 3\",Général!I$132,Général!I$134)))","v":"UBS Lorient 2"},{"$f":"IF($M$5=\"Course 1\",Général!I$138,IF($M$5=\"Course 2\",Général!I$140,IF($M$5=\"Course 3\",Général!I$142,Général!I$144)))","v":"Unicaen 2"},{"$f":"IF($N$5=\"Course 1\",Général!I$148,IF($N$5=\"Course 2\",Général!I$150,IF($N$5=\"Course 3\",Général!I$152,Général!I$154)))","v":"Unicaen 2"},{"$f":"IF($O$5=\"Course 1\",Général!I$158,IF($O$5=\"Course 2\",Général!I$160,IF($O$5=\"Course 3\",Général!I$162,Général!I$164)))","v":"UBS Lorient 2"},{"$f":"IF($P$5=\"Course 1\",Général!I$168,IF($P$5=\"Course 2\",Général!I$170,IF($P$5=\"Course 3\",Général!I$172,Général!I$174)))","v":"Centrale Nantes 2"},{"$f":"IF($Q$5=\"Course 1\",Général!I$178,IF($Q$5=\"Course 2\",Général!I$180,IF($Q$5=\"Course 3\",Général!I$182,Général!I$184)))","v":"Southampton"},{"$f":"IF($R$5=\"Course 1\",Général!I$188,IF($R$5=\"Course 2\",Général!I$190,IF($R$5=\"Course 3\",Général!I$192,Général!I$194)))","v":"Univ Nantes 3"},{"$f":"IF($S$5=\"Course 1\",Général!I$198,IF($S$5=\"Course 2\",Général!I$200,IF($S$5=\"Course 3\",Général!I$202,Général!I$204)))","v":"IMT Brest 1"},{"$f":"IF($T$5=\"Course 1\",Général!I$208,IF($T$5=\"Course 2\",Général!I$210,IF($T$5=\"Course 3\",Général!I$212,Général!I$214)))","v":"Centrale Nantes 1"},null,{"$f":"Général!B17","v":"ENSMAC"},7]
["9ème Equipage",null,{"$f":"IF($C$5=\"Course 1\",Général!J38,IF($C$5=\"Course 2\",Général!J40,IF($C$5=\"Course 3\",Général!J42,Général!J44)))","v":"Centrale Nantes 1"},{"$f":"IF($D$5=\"Course 1\",Général!J48,IF($D$5=\"Course 2\",Général!J50,IF($D$5=\"Course 3\",Général!J52,Général!J54)))","v":"Southampton"},{"$f":"IF($E$5=\"Course 1\",Général!J58,IF($E$5=\"Course 2\",Général!J60,IF($E$5=\"Course 3\",Général!J62,Général!J64)))","v":"Southampton"},{"$f":"IF($F$5=\"Course 1\",Général!J$68,IF($F$5=\"Course 2\",Général!J$70,IF($F$5=\"Course 3\",Général!J$72,Général!J$74)))","v":"IMT Nantes"},{"$f":"IF($G$5=\"Course 1\",Général!J$78,IF($G$5=\"Course 2\",Général!J$80,IF($G$5=\"Course 3\",Général!J$82,Général!J$84)))","v":"ENSTA 1"},{"$f":"IF($H$5=\"Course 1\",Général!J$88,IF($H$5=\"Course 2\",Général!J$90,IF($H$5=\"Course 3\",Général!$J92,Général!J$94)))","v":"Centrale Nantes 1"},{"$f":"IF($I$5=\"Course 1\",Général!J$98,IF($I$5=\"Course 2\",Général!J$100,IF($I$5=\"Course 3\",Général!J$102,Général!J$104)))","v":"ENSTA 1"},{"$f":"IF($J$5=\"Course 1\",Général!J$108,IF($J$5=\"Course 2\",Général!J$110,IF($J$5=\"Course 3\",Général!J$112,Général!J$114)))","v":"La Rochelle 1"},{"$f":"IF($K$5=\"Course 1\",Général!J$118,IF($K$5=\"Course 2\",Général!J$120,IF($K$5=\"Course 3\",Général!J$122,Général!J$124)))","v":"Centrale Nantes 2"},{"$f":"IF($L$5=\"Course 1\",Général!J$128,IF($L$5=\"Course 2\",Général!J$130,IF($L$5=\"Course 3\",Général!J$132,Général!J$134)))","v":"ST Brieuc 2"},{"$f":"IF($M$5=\"Course 1\",Général!J$138,IF($M$5=\"Course 2\",Général!J$140,IF($M$5=\"Course 3\",Général!J$142,Général!J$144)))","v":"IMT Nantes"},{"$f":"IF($N$5=\"Course 1\",Général!J$148,IF($N$5=\"Course 2\",Général!J$150,IF($N$5=\"Course 3\",Général!J$152,Général!J$154)))","v":"IMT Nantes"},{"$f":"IF($O$5=\"Course 1\",Général!J$158,IF($O$5=\"Course 2\",Général!J$160,IF($O$5=\"Course 3\",Général!J$162,Général!J$164)))","v":"Southampton"},{"$f":"IF($P$5=\"Course 1\",Général!J$168,IF($P$5=\"Course 2\",Général!J$170,IF($P$5=\"Course 3\",Général!J$172,Général!J$174)))","v":"Southampton"},{"$f":"IF($Q$5=\"Course 1\",Général!J$178,IF($Q$5=\"Course 2\",Général!J$180,IF($Q$5=\"Course 3\",Général!J$182,Général!J$184)))","v":"IMT Brest 2"},{"$f":"IF($R$5=\"Course 1\",Général!J$188,IF($R$5=\"Course 2\",Général!J$190,IF($R$5=\"Course 3\",Général!J$192,Général!J$194)))","v":"Southampton"},{"$f":"IF($S$5=\"Course 1\",Général!J$198,IF($S$5=\"Course 2\",Général!J$200,IF($S$5=\"Course 3\",Général!J$202,Général!J$204)))","v":"Hannover"},{"$f":"IF($T$5=\"Course 1\",Général!J$208,IF($T$5=\"Course 2\",Général!J$210,IF($T$5=\"Course 3\",Général!J$212,Général!J$214)))","v":"Intechmer"},null,{"$f":"Général!B18","v":"St Brieuc 1"},5]
["10ème Equipage",null,{"$f":"IF($C$5=\"Course 1\",Général!K38,IF($C$5=\"Course 2\",Général!K40,IF($C$5=\"Course 3\",Général!K42,Général!K44)))","v":"Centrale Nantes 2"},{"$f":"IF($D$5=\"Course 1\",Général!K48,IF($D$5=\"Course 2\",Général!K50,IF($D$5=\"Course 3\",Général!K52,Général!K54)))","v":"ENSMAC"},{"$f":"IF($E$5=\"Course 1\",Général!K58,IF($E$5=\"Course 2\",Général!K60,IF($E$5=\"Course 3\",Général!K62,Général!K64)))","v":"UBO 1"},{"$f":"IF($F$5=\"Course 1\",Général!K$68,IF($F$5=\"Course 2\",Général!K$70,IF($F$5=\"Course 3\",Général!K$72,Général!K$74)))","v":"UBO 2"},{"$f":"IF($G$5=\"Course 1\",Général!K$78,IF($G$5=\"Course 2\",Général!K$80,IF($G$5=\"Course 3\",Général!K$82,Général!K$84)))","v":"UBO 2"},{"$f":"IF($H$5=\"Course 1\",Général!K$88,IF($H$5=\"Course 2\",Général!K$90,IF($H$5=\"Course 3\",Général!$K92,Général!K$94)))","v":"ENSTA 1"},{"$f":"IF($I$5=\"Course 1\",Général!K$98,IF($I$5=\"Course 2\",Général!K$100,IF($I$5=\"Course 3\",Général!K$102,Général!K$104)))","v":"Orléans"},{"$f":"IF($J$5=\"Course 1\",Général!K$108,IF($J$5=\"Course 2\",Général!K$110,IF($J$5=\"Course 3\",Général!K$112,Général!K$114)))","v":"IMT Brest 2"},{"$f":"IF($K$5=\"Course 1\",Général!K$118,IF($K$5=\"Course 2\",Général!K$120,IF($K$5=\"Course 3\",Général!K$122,Général!K$124)))","v":"ST Brieuc 2"},{"$f":"IF($L$5=\"Course 1\",Général!K$128,IF($L$5=\"Course 2\",Général!K$130,IF($L$5=\"Course 3\",Général!K$132,Général!K$134)))","v":"Southampton"},{"$f":"IF($M$5=\"Course 1\",Général!K$138,IF($M$5=\"Course 2\",Général!K$140,IF($M$5=\"Course 3\",Général!K$142,Général!K$144)))","v":"INSA Lyon"},{"$f":"IF($N$5=\"Course 1\",Général!K$148,IF($N$5=\"Course 2\",Général!K$150,IF($N$5=\"Course 3\",Général!K$152,Général!K$154)))","v":"Paris Sorbone"},{"$f":"IF($O$5=\"Course 1\",Général!K$158,IF($O$5=\"Course 2\",Général!K$160,IF($O$5=\"Course 3\",Général!K$162,Général!K$164)))","v":"Centrale Nantes 1"},{"$f":"IF($P$5=\"Course 1\",Général!K$168,IF($P$5=\"Course 2\",Général!K$170,IF($P$5=\"Course 3\",Général!K$172,Général!K$174)))","v":"UBO 2"},{"$f":"IF($Q$5=\"Course 1\",Général!K$178,IF($Q$5=\"Course 2\",Général!K$180,IF($Q$5=\"Course 3\",Général!K$182,Général!K$184)))","v":"Unicaen 1"},{"$f":"IF($R$5=\"Course 1\",Général!K$188,IF($R$5=\"Course 2\",Général!K$190,IF($R$5=\"Course 3\",Général!K$192,Général!K$194)))","v":"Paris Sorbone"},{"$f":"IF($S$5=\"Course 1\",Général!K$198,IF($S$5=\"Course 2\",Général!K$200,IF($S$5=\"Course 3\",Général!K$202,Général!K$204)))","v":"Univ Nantes 3"},{"$f":"IF($T$5=\"Course 1\",Général!K$208,IF($T$5=\"Course 2\",Général!K$210,IF($T$5=\"Course 3\",Général!K$212,Général!K$214)))","v":"ENSTA 2"},null,{"$f":"Général!B19","v":"Hannover"},7]
[null,null,null,null,null,null,null,null,null,null,null,null,null,null,null,null,null,null,null,null,null,{"$f":"Général!B20","v":"ENSTA 2"},7]
[null,null,null,null,null,null,null,null,null,null,null,null,null,null,null,null,null,null,null,null,null,{"$f":"Général!B21","v":"Southampton"},17]
[null,null,null,null,null,null,null,null,null,null,null,null,null,null,null,null,null,null,null,null,null,{"$f":"Général!B22","v":"La Rochelle 1"},7]
[null,null,null,null,null,null,null,null,null,null,null,null,null,null,null,null,null,null,null,null,null,{"$f":"Général!B23","v":"Centrale Nantes 1"},4]
[null,null,null,null,null,null,null,null,null,null,null,null,null,null,null,null,null,null,null,null,null,{"$f":"Général!B24","v":"ST Brieuc 2"},4]
[null,null,null,null,null,null,null,null,null,null,null,null,null,null,null,null,null,null,null,null,null,{"$f":"Général!B25","v":"UNIV Nantes 1"},7]
[null,null,null,null,null,null,null,null,null,null,null,null,null,null,null,null,null,null,null,null,null,{"$f":"Général!B26","v":"Intechmer"},7]
[null,null,null,null,null,null,null,null,null,null,null,null,null,null,null,null,null,null,null,null,null,{"$f":"Général!B27","v":"IMT Nantes"},8]
[null,null,null,null,null,null,null,null,null,null,null,null,null,null,null,null,null,null,null,null,null,{"$f":"Général!B28","v":"INSA Lyon"},4]
[null,null,null,null,null,null,null,null,null,null,null,null,null,null,null,null,null,null,null,null,null,{"$f":"Général!B29","v":"Centrale Nantes 2"},4]
[null,null,null,null,null,null,null,null,null,null,null,null,null,null,null,null,null,null,null,null,null,{"$f":"Général!B30","v":"UBS Lorient 2"},5]
[null,null,null,null,null,null,null,null,null,null,null,null,null,null,null,null,null,null,null,null,null,{"$f":"Général!B31","v":"La Rochelle 2"},3]
[null,null,null,null,null,null,null,null,null,null,null,null,null,null,null,null,null,null,null,null,null,{"$f":"Général!B32","v":"UBO 1"},6]
[null,null,null,null,null,null,null,null,null,null,null,null,null,null,null,null,null,null,null,null,null,{"$f":"Général!B33","v":"Eq.31"},0]
[null,null,null,null,null,null,null,null,null,null,null,null,null,null,null,null,null,null,null,null,null,{"$f":"Général!B34","v":"Eq.32"},0]

{"sheet":"Eq.20","index":25,"n_rows":32,"n_cols":23,"rows_kept":32,"cut":false,"hidden":false,"merged":[[7,0,7,1],[0,0,1,5],[0,6,1,10],[3,0,3,1],[4,0,4,1],[5,0,5,1],[14,0,14,1],[15,0,15,1],[16,0,16,1],[8,0,8,1],[9,0,9,1],[10,0,10,1],[11,0,11,1],[12,0,12,1],[13,0,13,1]]}
["Equipage ",null,null,null,null,null,{"$f":"Général!B22","v":"La Rochelle 1"},null,null,null,null,null,null,null,null,null,null,null,null,null,null,{"$f":"Général!B3","v":"UBO 2"},{"$f":"COUNTIF(C$8:T$16,V1)","v":4}]
[null,null,null,null,null,null,null,null,null,null,null,null,null,null,null,null,null,null,null,null,null,{"$f":"Général!B4","v":"Paris Sorbone"},{"$f":"COUNTIF($C$8:$T$16,V2)","v":3}]
[null,null,null,null,null,null,null,null,null,null,null,null,null,null,null,null,null,null,null,null,null,{"$f":"Général!B5","v":"UBS Lorient 1"},{"$f":"COUNTIF($C$8:$T$16,V3)","v":7}]
[null,null,"FLIGHT 1","FLIGHT 2","FLIGHT 3","FLIGHT 4","FLIGHT 5","FLIGHT 6","FLIGHT 7","FLIGHT 8","FLIGHT 9","FLIGHT 10","FLIGHT 11","FLIGHT 12","FLIGHT 13","FLIGHT 14","FLIGHT 15","FLIGHT 16","FLIGHT 17","FLIGHT 18",null,{"$f":"Général!B6","v":"Univ Nantes 3"},6]
["N° de course",null,{"$f":"IF(COUNTIF(Général!B38:K38,$G$1)=1,\"Course 1\",IF(COUNTIF(Général!B40:K40,$G$1)=1,\"Course 2\",IF(COUNTIF(Général!B42:K42,$G$1)=1,\"Course 3\",\"Course 4\")))","v":"Course 3"},{"$f":"IF(COUNTIF(Général!B48:K48,$G$1)=1,\"Course 1\",IF(COUNTIF(Général!B50:K50,$G$1)=1,\"Course 2\",IF(COUNTIF(Général!B52:K52,$G$1)=1,\"Course 3\",\"Course 4\")))","v":"Course 2"},{"$f":"IF(COUNTIF(Général!B58:K58,$G$1)=1,\"Course 1\",IF(COUNTIF(Général!B60:K60,$G$1)=1,\"Course 2\",IF(COUNTIF(Général!B62:K62,$G$1)=1,\"Course 3\",\"Course 4\")))","v":"Course 3"},{"$f":"IF(COUNTIF(Général!B68:K68,$G$1)=1,\"Course 1\",IF(COUNTIF(Général!B70:K70,$G$1)=1,\"Course 2\",IF(COUNTIF(Général!B72:K72,$G$1)=1,\"Course 3\",\"Course 4\")))","v":"Course 1"},{"$f":"IF(COUNTIF(Général!B78:K78,$G$1)=1,\"Course 1\",IF(COUNTIF(Général!B80:K80,$G$1)=1,\"Course 2\",IF(COUNTIF(Général!B82:K82,$G$1)=1,\"Course 3\",\"Course 4\")))","v":"Course 3"},{"$f":"IF(COUNTIF(Général!B88:K88,$G$1)=1,\"Course 1\",IF(COUNTIF(Général!B90:K90,$G$1)=1,\"Course 2\",IF(COUNTIF(Général!B92:K92,$G$1)=1,\"Course 3\",\"Course 4\")))","v":"Course 1"},{"$f":"IF(COUNTIF(Général!B98:K98,$G$1)=1,\"Course 1\",IF(COUNTIF(Général!B100:K100,$G$1)=1,\"Course 2\",IF(COUNTIF(Général!B102:K102,$G$1)=1,\"Course 3\",\"Course 4\")))","v":"Course 2"},{"$f":"IF(COUNTIF(Général!B108:K108,$G$1)=1,\"Course 1\",IF(COUNTIF(Général!B110:K110,$G$1)=1,\"Course 2\",IF(COUNTIF(Général!B112:K112,$G$1)=1,\"Course 3\",\"Course 4\")))","v":"Course 3"},{"$f":"IF(COUNTIF(Général!B118:K118,$G$1)=1,\"Course 1\",IF(COUNTIF(Général!B120:K120,$G$1)=1,\"Course 2\",IF(COUNTIF(Général!B122:K122,$G$1)=1,\"Course 3\",\"Course 4\")))","v":"Course 1"},{"$f":"IF(COUNTIF(Général!B128:K128,$G$1)=1,\"Course 1\",IF(COUNTIF(Général!B130:K130,$G$1)=1,\"Course 2\",IF(COUNTIF(Général!B132:K132,$G$1)=1,\"Course 3\",\"Course 4\")))","v":"Course 1"},{"$f":"IF(COUNTIF(Général!B138:K138,$G$1)=1,\"Course 1\",IF(COUNTIF(Général!B140:K140,$G$1)=1,\"Course 2\",IF(COUNTIF(Général!B142:K142,$G$1)=1,\"Course 3\",\"Course 4\")))","v":"Course 2"},{"$f":"IF(COUNTIF(Général!B148:K148,$G$1)=1,\"Course 1\",IF(COUNTIF(Général!B150:K150,$G$1)=1,\"Course 2\",IF(COUNTIF(Général!B152:K152,$G$1)=1,\"Course 3\",\"Course 4\")))","v":"Course 3"},{"$f":"IF(COUNTIF(Général!B158:K158,$G$1)=1,\"Course 1\",IF(COUNTIF(Général!B160:K160,$G$1)=1,\"Course 2\",IF(COUNTIF(Général!B162:K162,$G$1)=1,\"Course 3\",\"Course 4\")))","v":"Course 1"},{"$f":"IF(COUNTIF(Général!B168:K168,$G$1)=1,\"Course 1\",IF(COUNTIF(Général!B170:K170,$G$1)=1,\"Course 2\",IF(COUNTIF(Général!B172:K172,$G$1)=1,\"Course 3\",\"Course 4\")))","v":"Course 1"},{"$f":"IF(COUNTIF(Général!B178:K178,$G$1)=1,\"Course 1\",IF(COUNTIF(Général!B180:K180,$G$1)=1,\"Course 2\",IF(COUNTIF(Général!B182:K182,$G$1)=1,\"Course 3\",\"Course 4\")))","v":"Course 3"},{"$f":"IF(COUNTIF(Général!B188:K188,$G$1)=1,\"Course 1\",IF(COUNTIF(Général!B190:K190,$G$1)=1,\"Course 2\",IF(COUNTIF(Général!B192:K192,$G$1)=1,\"Course 3\",\"Course 4\")))","v":"Course 1"},{"$f":"IF(COUNTIF(Général!B198:K198,$G$1)=1,\"Course 1\",IF(COUNTIF(Général!B200:K200,$G$1)=1,\"Course 2\",IF(COUNTIF(Général!B202:K202,$G$1)=1,\"Course 3\",\"Course 4\")))","v":"Course 3"},{"$f":"IF(COUNTIF(Général!B208:K208,$G$1)=1,\"Course 1\",IF(COUNTIF(Général!B210:K210,$G$1)=1,\"Course 2\",IF(COUNTIF(Général!B212:K212,$G$1)=1,\"Course 3\",\"Course 4\")))","v":"Course 3"},null,{"$f":"Général!B7","v":"Paris Cité"},4]
["Bateau",null,{"$f":"IF(COUNTIF(Général!B38:B44,$G$1)=1,\"Boat 1\",IF(COUNTIF(Général!C38:C44,$G$1)=1,\"Boat 2\",IF(COUNTIF(Général!D38:D44,$G$1)=1,\"Boat 3\", IF(COUNTIF(Général!E38:E44,$G$1)=1,\"Boat 4\", IF(COUNTIF(Général!F38:F44,$G$1)=1,\"Boat 5\", IF(COUNTIF(Général!G38:G44,$G$1)=1,\"Boat 6\", IF(COUNTIF(Général!H38:H44,$G$1)=1,\"Boat 7\",IF(COUNTIF(Général!I38:I44,$G$1)=1,\"Boat 8\",\"Boat 9\"))))))))","v":"Boat 1"},{"$f":"IF(COUNTIF(Général!B48:B54,$G$1)=1,\"Boat 1\",IF(COUNTIF(Général!C48:C54,$G$1)=1,\"Boat 2\",IF(COUNTIF(Général!D48:D54,$G$1)=1,\"Boat 3\", IF(COUNTIF(Général!E48:E54,$G$1)=1,\"Boat 4\", IF(COUNTIF(Général!F48:F54,$G$1)=1,\"Boat 5\", IF(COUNTIF(Général!G48:G54,$G$1)=1,\"Boat 6\", IF(COUNTIF(Général!H48:H54,$G$1)=1,\"Boat 7\",IF(COUNTIF(Général!I38:I44,$G$1)=1,\"Boat 8\",\"Boat 9\"))))))))","v":"Boat 6"},{"$f":"IF(COUNTIF(Général!B58:B64,$G$1)=1,\"Boat 1\",IF(COUNTIF(Général!C58:C64,$G$1)=1,\"Boat 2\",IF(COUNTIF(Général!D58:D64,$G$1)=1,\"Boat 3\", IF(COUNTIF(Général!E58:E64,$G$1)=1,\"Boat 4\", IF(COUNTIF(Général!F58:F64,$G$1)=1,\"Boat 5\", IF(COUNTIF(Général!G58:G64,$G$1)=1,\"Boat 6\", IF(COUNTIF(Général!H58:H64,$G$1)=1,\"Boat 7\",IF(COUNTIF(Général!I38:I44,$G$1)=1,\"Boat 8\",\"Boat 9\"))))))))","v":"Boat 2"},{"$f":"IF(COUNTIF(Général!B68:B74,$G$1)=1,\"Boat 1\",IF(COUNTIF(Général!C68:C74,$G$1)=1,\"Boat 2\",IF(COUNTIF(Général!D68:D74,$G$1)=1,\"Boat 3\", IF(COUNTIF(Général!E68:E74,$G$1)=1,\"Boat 4\", IF(COUNTIF(Général!F68:F74,$G$1)=1,\"Boat 5\", IF(COUNTIF(Général!G68:G74,$G$1)=1,\"Boat 6\", IF(COUNTIF(Général!H68:H74,$G$1)=1,\"Boat 7\",IF(COUNTIF(Général!I38:I44,$G$1)=1,\"Boat 8\",\"Boat 9\"))))))))","v":"Boat 2"},{"$f":"IF(COUNTIF(Général!B78:B84,$G$1)=1,\"Boat 1\",IF(COUNTIF(Général!C78:C84,$G$1)=1,\"Boat 2\",IF(COUNTIF(Général!D78:D84,$G$1)=1,\"Boat 3\", IF(COUNTIF(Général!E78:E84,$G$1)=1,\"Boat 4\", IF(COUNTIF(Général!F78:F84,$G$1)=1,\"Boat 5\", IF(COUNTIF(Général!G78:G84,$G$1)=1,\"Boat 6\", IF(COUNTIF(Général!H78:H84,$G$1)=1,\"Boat 7\",IF(COUNTIF(Général!I38:I44,$G$1)=1,\"Boat 8\",\"Boat 9\"))))))))","v":"Boat 4"},{"$f":"IF(COUNTIF(Général!B88:B94,$G$1)=1,\"Boat 1\",IF(COUNTIF(Général!C88:C94,$G$1)=1,\"Boat 2\",IF(COUNTIF(Général!D88:D94,$G$1)=1,\"Boat 3\", IF(COUNTIF(Général!E88:E94,$G$1)=1,\"Boat 4\", IF(COUNTIF(Général!F88:F94,$G$1)=1,\"Boat 5\", IF(COUNTIF(Général!G88:G94,$G$1)=1,\"Boat 6\", IF(COUNTIF(Général!H88:H94,$G$1)=1,\"Boat 7\",IF(COUNTIF(Général!I38:I44,$G$1)=1,\"Boat 8\",\"Boat 9\"))))))))","v":"Boat 4"},{"$f":"IF(COUNTIF(Général!B98:B104,$G$1)=1,\"Boat 1\",IF(COUNTIF(Général!C98:C104,$G$1)=1,\"Boat 2\",IF(COUNTIF(Général!D98:D104,$G$1)=1,\"Boat 3\", IF(COUNTIF(Général!E98:E104,$G$1)=1,\"Boat 4\", IF(COUNTIF(Général!F98:F104,$G$1)=1,\"Boat 5\", IF(COUNTIF(Général!G98:G104,$G$1)=1,\"Boat 6\", IF(COUNTIF(Général!H98:H104,$G$1)=1,\"Boat 7\",IF(COUNTIF(Général!I38:I44,$G$1)=1,\"Boat 8\",\"Boat 9\"))))))))","v":"Boat 2"},{"$f":"IF(COUNTIF(Général!B108:B114,$G$1)=1,\"Boat 1\",IF(COUNTIF(Général!C108:C114,$G$1)=1,\"Boat 2\",IF(COUNTIF(Général!D108:D114,$G$1)=1,\"Boat 3\", IF(COUNTIF(Général!E108:E114,$G$1)=1,\"Boat 4\", IF(COUNTIF(Général!F108:F114,$G$1)=1,\"Boat 5\", IF(COUNTIF(Général!G108:G114,$G$1)=1,\"Boat 6\", IF(COUNTIF(Général!H108:H114,$G$1)=1,\"Boat 7\",IF(COUNTIF(Général!I38:I44,$G$1)=1,\"Boat 8\",\"Boat 9\"))))))))","v":"Boat 9"},{"$f":"IF(COUNTIF(Général!B118:B124,$G$1)=1,\"Boat 1\",IF(COUNTIF(Général!C118:C124,$G$1)=1,\"Boat 2\",IF(COUNTIF(Général!D118:D124,$G$1)=1,\"Boat 3\", IF(COUNTIF(Général!E118:E124,$G$1)=1,\"Boat 4\", IF(COUNTIF(Général!F118:F124,$G$1)=1,\"Boat 5\", IF(COUNTIF(Général!G118:G124,$G$1)=1,\"Boat 6\", IF(COUNTIF(Général!H118:H124,$G$1)=1,\"Boat 7\",IF(COUNTIF(Général!I38:I44,$G$1)=1,\"Boat 8\",\"Boat 9\"))))))))","v":"Boat 9"},{"$f":"IF(COUNTIF(Général!B128:B134,$G$1)=1,\"Boat 1\",IF(COUNTIF(Général!C128:C134,$G$1)=1,\"Boat 2\",IF(COUNTIF(Général!D128:D134,$G$1)=1,\"Boat 3\", IF(COUNTIF(Général!E128:E134,$G$1)=1,\"Boat 4\", IF(COUNTIF(Général!F128:F134,$G$1)=1,\"Boat 5\", IF(COUNTIF(Général!G128:G134,$G$1)=1,\"Boat 6\", IF(COUNTIF(Général!H128:H134,$G$1)=1,\"Boat 7\",IF(COUNTIF(Général!I38:I44,$G$1)=1,\"Boat 8\",\"Boat 9\"))))))))","v":"Boat 9"},{"$f":"IF(COUNTIF(Général!B138:B144,$G$1)=1,\"Boat 1\",IF(COUNTIF(Général!C138:C144,$G$1)=1,\"Boat 2\",IF(COUNTIF(Général!C138:D144,$G$1)=1,\"Boat 3\", IF(COUNTIF(Général!C138:E144,$G$1)=1,\"Boat 4\", IF(COUNTIF(Général!F138:F144,$G$1)=1,\"Boat 5\", IF(COUNTIF(Général!G138:G144,$G$1)=1,\"Boat 6\", IF(COUNTIF(Général!H138:H144,$G$1)=1,\"Boat 7\",IF(COUNTIF(Général!I38:I44,$G$1)=1,\"Boat 8\",\"Boat 9\"))))))))","v":"Boat 9"},{"$f":"IF(COUNTIF(Général!B148:B154,$G$1)=1,\"Boat 1\",IF(COUNTIF(Général!C148:C154,$G$1)=1,\"Boat 2\",IF(COUNTIF(Général!D148:D154,$G$1)=1,\"Boat 3\", IF(COUNTIF(Général!E148:E154,$G$1)=1,\"Boat 4\", IF(COUNTIF(Général!F148:F154,$G$1)=1,\"Boat 5\", IF(COUNTIF(Général!G148:G154,$G$1)=1,\"Boat 6\", IF(COUNTIF(Général!H148:H154,$G$1)=1,\"Boat 7\",IF(COUNTIF(Général!I38:I44,$G$1)=1,\"Boat 8\",\"Boat 9\"))))))))","v":"Boat 1"},{"$f":"IF(COUNTIF(Général!B158:B164,$G$1)=1,\"Boat 1\",IF(COUNTIF(Général!C158:C164,$G$1)=1,\"Boat 2\",IF(COUNTIF(Général!D160:D164,$G$1)=1,\"Boat 3\", IF(COUNTIF(Général!E158:E164,$G$1)=1,\"Boat 4\", IF(COUNTIF(Général!F158:F164,$G$1)=1,\"Boat 5\", IF(COUNTIF(Général!G158:G164,$G$1)=1,\"Boat 6\", IF(COUNTIF(Général!H158:H164,$G$1)=1,\"Boat 7\",IF(COUNTIF(Général!I38:I44,$G$1)=1,\"Boat 8\",\"Boat 9\"))))))))","v":"Boat 1"},{"$f":"IF(COUNTIF(Général!B168:B174,$G$1)=1,\"Boat 1\",IF(COUNTIF(Général!C168:C174,$G$1)=1,\"Boat 2\",IF(COUNTIF(Général!D168:D174,$G$1)=1,\"Boat 3\", IF(COUNTIF(Général!E168:E174,$G$1)=1,\"Boat 4\", IF(COUNTIF(Général!F178:F184,$G$1)=1,\"Boat 5\", IF(COUNTIF(Général!G178:G184,$G$1)=1,\"Boat 6\", IF(COUNTIF(Général!H178:H184,$G$1)=1,\"Boat 7\",IF(COUNTIF(Général!I38:I44,$G$1)=1,\"Boat 8\",\"Boat 9\"))))))))","v":"Boat 9"},{"$f":"IF(COUNTIF(Général!B178:B184,$G$1)=1,\"Boat 1\",IF(COUNTIF(Général!C178:C184,$G$1)=1,\"Boat 2\",IF(COUNTIF(Général!D178:D184,$G$1)=1,\"Boat 3\", IF(COUNTIF(Général!E178:E184,$G$1)=1,\"Boat 4\", IF(COUNTIF(Général!F178:F184,$G$1)=1,\"Boat 5\", IF(COUNTIF(Général!G178:G184,$G$1)=1,\"Boat 6\", IF(COUNTIF(Général!H178:H184,$G$1)=1,\"Boat 7\",IF(COUNTIF(Général!I38:I44,$G$1)=1,\"Boat 8\",\"Boat 9\"))))))))","v":"Boat 3"},{"$f":"IF(COUNTIF(Général!B188:B194,$G$1)=1,\"Boat 1\",IF(COUNTIF(Général!C188:C194,$G$1)=1,\"Boat 2\",IF(COUNTIF(Général!D188:D194,$G$1)=1,\"Boat 3\", IF(COUNTIF(Général!E188:E194,$G$1)=1,\"Boat 4\", IF(COUNTIF(Général!F188:F194,$G$1)=1,\"Boat 5\", IF(COUNTIF(Général!G188:G194,$G$1)=1,\"Boat 6\", IF(COUNTIF(Général!H188:H194,$G$1)=1,\"Boat 7\",IF(COUNTIF(Général!I38:I44,$G$1)=1,\"Boat 8\",\"Boat 9\"))))))))","v":"Boat 3"},{"$f":"IF(COUNTIF(Général!B198:B204,$G$1)=1,\"Boat 1\",IF(COUNTIF(Général!C198:C204,$G$1)=1,\"Boat 2\",IF(COUNTIF(Général!D198:D204,$G$1)=1,\"Boat 3\", IF(COUNTIF(Général!E198:E204,$G$1)=1,\"Boat 4\", IF(COUNTIF(Général!F198:F204,$G$1)=1,\"Boat 5\", IF(COUNTIF(Général!G198:G204,$G$1)=1,\"Boat 6\", IF(COUNTIF(Général!H198:H204,$G$1)=1,\"Boat 7\",IF(COUNTIF(Général!I38:I44,$G$1)=1,\"Boat 8\",\"Boat 9\"))))))))","v":"Boat 7"},{"$f":"IF(COUNTIF(Général!B208:B214,$G$1)=1,\"Boat 1\",IF(COUNTIF(Général!C208:C214,$G$1)=1,\"Boat 2\",IF(COUNTIF(Général!D208:D214,$G$1)=1,\"Boat 3\", IF(COUNTIF(Général!E208:E214,$G$1)=1,\"Boat 4\", IF(COUNTIF(Général!F208:F214,$G$1)=1,\"Boat 5\", IF(COUNTIF(Général!G208:G214,$G$1)=1,\"Boat 6\", IF(COUNTIF(Général!H208:H214,$G$1)=1,\"Boat 7\",IF(COUNTIF(Général!I38:I44,$G$1)=1,\"Boat 8\",\"Boat 9\"))))))))","v":"Boat 5"},null,{"$f":"Général!B8","v":"Plymouth"},7]
[null,null,null,null,null,null,null,null,null,null,null,null,null,null,null,null,null,null,null,null,null,{"$f":"Général!B9","v":"Unicaen 2"},5]
["1er Equipage",null,{"$f":"IF($C$5=\"Course 1\",Général!B38,IF($C$5=\"Course 2\",Général!B40,IF($C$5=\"Course 3\",Général!B42,Général!B44)))","v":"La Rochelle 1"},{"$f":"IF($D$5=\"Course 1\",Général!B48,IF($D$5=\"Course 2\",Général!B50,IF($D$5=\"Course 3\",Général!B52,Général!B54)))","v":"St Brieuc 1"},{"$f":"IF($E$5=\"Course 1\",Général!B58,IF($E$5=\"Course 2\",Général!B60,IF($E$5=\"Course 3\",Général!B62,Général!B64)))","v":"ST Brieuc 2"},{"$f":"IF($F$5=\"Course 1\",Général!B$68,IF($F$5=\"Course 2\",Général!B$70,IF($F$5=\"Course 3\",Général!B$72,Général!B$74)))","v":"ST Brieuc 2"},{"$f":"IF($G$5=\"Course 1\",Général!B$78,IF($G$5=\"Course 2\",Général!B$80,IF($G$5=\"Course 3\",Général!B$82,Général!B$84)))","v":"ENSTA 2"},{"$f":"IF($H$5=\"Course 1\",Général!B$88,IF($H$5=\"Course 2\",Général!B$90,IF($H$5=\"Course 3\",Général!B$92,Général!B$94)))","v":"ENSTA 2"},{"$f":"IF($I$5=\"Course 1\",Général!B$98,IF($I$5=\"Course 2\",Général!B$100,IF($I$5=\"Course 3\",Général!B$102,Général!B$104)))","v":"Unicaen 1"},{"$f":"IF($J$5=\"Course 1\",Général!B$108,IF($J$5=\"Course 2\",Général!B$110,IF($J$5=\"Course 3\",Général!B$112,Général!B$114)))","v":"UNIV Nantes 1"},{"$f":"IF($K$5=\"Course 1\",Général!B$118,IF($K$5=\"Course 2\",Général!B$120,IF($K$5=\"Course 3\",Général!B$122,Général!B$124)))","v":"UNIV Nantes 1"},{"$f":"IF($L$5=\"Course 1\",Général!B$128,IF($L$5=\"Course 2\",Général!B$130,IF($L$5=\"Course 3\",Général!B$132,Général!B$134)))","v":"UBO 2"},{"$f":"IF($M$5=\"Course 1\",Général!B$138,IF($M$5=\"Course 2\",Général!B$140,IF($M$5=\"Course 3\",Général!B$142,Général!B$144)))","v":"Plymouth"},{"$f":"IF($N$5=\"Course 1\",Général!B$148,IF($N$5=\"Course 2\",Général!B$150,IF($N$5=\"Course 3\",Général!B$152,Général!B$154)))","v":"La Rochelle 1"},{"$f":"IF($O$5=\"Course 1\",Général!B$158,IF($O$5=\"Course 2\",Général!B$160,IF($O$5=\"Course 3\",Général!B$162,Général!B$164)))","v":"La Rochelle 1"},{"$f":"IF($P$5=\"Course 1\",Général!B$168,IF($P$5=\"Course 2\",Général!B$170,IF($P$5=\"Course 3\",Général!B$172,Général!B$174)))","v":"St Brieuc 1"},{"$f":"IF($Q$5=\"Course 1\",Général!B$178,IF($Q$5=\"Course 2\",Général!B$180,IF($Q$5=\"Course 3\",Général!B$182,Général!B$184)))","v":"Paris Cité"},{"$f":"IF($R$5=\"Course 1\",Général!B$188,IF($R$5=\"Course 2\",Général!B$190,IF($R$5=\"Course 3\",Général!B$192,Général!B$194)))","v":"IMT Brest 2"},{"$f":"IF($S$5=\"Course 1\",Général!B$198,IF($S$5=\"Course 2\",Général!B$200,IF($S$5=\"Course 3\",Général!B$202,Général!B$204)))","v":"UBS Lorient 2"},{"$f":"IF($T$5=\"Course 1\",Général!B$208,IF($T$5=\"Course 2\",Général!B$210,IF($T$5=\"Course 3\",Général!B$212,Général!B$214)))","v":"IMT Brest 1"},null,{"$f":"Général!B10","v":"Univ Nantes 2"},6]
["2nd Equipage",null,{"$f":"IF($C$5=\"Course 1\",Général!C38,IF($C$5=\"Course 2\",Général!C40,IF($C$5=\"Course 3\",Général!C42,Général!C44)))","v":"UBS Lorient 1"},{"$f":"IF($D$5=\"Course 1\",Général!C48,IF($D$5=\"Course 2\",Général!C50,IF($D$5=\"Course 3\",Général!C52,Général!C54)))","v":"Univ Nantes 3"},{"$f":"IF($E$5=\"Course 1\",Général!C58,IF($E$5=\"Course 2\",Général!C60,IF($E$5=\"Course 3\",Général!C62,Général!C64)))","v":"La Rochelle 1"},{"$f":"IF($F$5=\"Course 1\",Général!C$68,IF($F$5=\"Course 2\",Général!C$70,IF($F$5=\"Course 3\",Général!C$72,Général!C$74)))","v":"La Rochelle 1"},{"$f":"IF($G$5=\"Course 1\",Général!C$78,IF($G$5=\"Course 2\",Général!C$80,IF($G$5=\"Course 3\",Général!C$82,Général!C$84)))","v":"IMT Brest 2"},{"$f":"IF($H$5=\"Course 1\",Général!C$88,IF($H$5=\"Course 2\",Général!C$90,IF($H$5=\"Course 3\",Général!C$92,Général!C$94)))","v":"Southampton"},{"$f":"IF($I$5=\"Course 1\",Général!C$98,IF($I$5=\"Course 2\",Général!C$100,IF($I$5=\"Course 3\",Général!C$102,Général!C$104)))","v":"La Rochelle 1"},{"$f":"IF($J$5=\"Course 1\",Général!C$108,IF($J$5=\"Course 2\",Général!C$110,IF($J$5=\"Course 3\",Général!C$112,Général!C$114)))","v":"UBS Lorient 1"},{"$f":"IF($K$5=\"Course 1\",Général!C$118,IF($K$5=\"Course 2\",Général!C$120,IF($K$5=\"Course 3\",Général!C$122,Général!C$124)))","v":"UBS Lorient 1"},{"$f":"IF($L$5=\"Course 1\",Général!C$128,IF($L$5=\"Course 2\",Général!C$130,IF($L$5=\"Course 3\",Général!C$132,Général!C$134)))","v":"Univ Nantes 3"},{"$f":"IF($M$5=\"Course 1\",Général!C$138,IF($M$5=\"Course 2\",Général!C$140,IF($M$5=\"Course 3\",Général!C$142,Général!C$144)))","v":"Karlsruhe"},{"$f":"IF($N$5=\"Course 1\",Général!C$148,IF($N$5=\"Course 2\",Général!C$150,IF($N$5=\"Course 3\",Général!C$152,Général!C$154)))","v":"Intechmer"},{"$f":"IF($O$5=\"Course 1\",Général!C$158,IF($O$5=\"Course 2\",Général!C$160,IF($O$5=\"Course 3\",Général!C$162,Général!C$164)))","v":"IMT Brest 1"},{"$f":"IF($P$5=\"Course 1\",Général!C$168,IF($P$5=\"Course 2\",Général!C$170,IF($P$5=\"Course 3\",Général!C$172,Général!C$174)))","v":"Paris Sorbone"},{"$f":"IF($Q$5=\"Course 1\",Général!C$178,IF($Q$5=\"Course 2\",Général!C$180,IF($Q$5=\"Course 3\",Général!C$182,Général!C$184)))","v":"ENSTA 1"},{"$f":"IF($R$5=\"Course 1\",Général!C$188,IF($R$5=\"Course 2\",Général!C$190,IF($R$5=\"Course 3\",Général!C$192,Général!C$194)))","v":"IMT Nantes"},{"$f":"IF($S$5=\"Course 1\",Général!C$198,IF($S$5=\"Course 2\",Général!C$200,IF($S$5=\"Course 3\",Général!C$202,Général!C$204)))","v":"Paris Sorbone"},{"$f":"IF($T$5=\"Course 1\",Général!C$208,IF($T$5=\"Course 2\",Général!C$210,IF($T$5=\"Course 3\",Général!C$212,Général!C$214)))","v":"Hannover"},null,{"$f":"Général!B11","v":"Karlsruhe"},3]
["3ème Equipage",null,{"$f":"IF($C$5=\"Course 1\",Général!D38,IF($C$5=\"Course 2\",Général!D40,IF($C$5=\"Course 3\",Général!D42,Général!D44)))","v":"UBO 1"},{"$f":"IF($D$5=\"Course 1\",Général!D48,IF($D$5=\"Course 2\",Général!D50,IF($D$5=\"Course 3\",Général!D52,Général!D54)))","v":"UBS Lorient 2"},{"$f":"IF($E$5=\"Course 1\",Général!D58,IF($E$5=\"Course 2\",Général!D60,IF($E$5=\"Course 3\",Général!D62,Général!D64)))","v":"St Brieuc 1"},{"$f":"IF($F$5=\"Course 1\",Général!D$68,IF($F$5=\"Course 2\",Général!D$70,IF($F$5=\"Course 3\",Général!D$72,Général!D$74)))","v":"Centrale Nantes 1"},{"$f":"IF($G$5=\"Course 1\",Général!D$78,IF($G$5=\"Course 2\",Général!D$80,IF($G$5=\"Course 3\",Général!D$82,Général!D$84)))","v":"Unicaen 1"},{"$f":"IF($H$5=\"Course 1\",Général!D$88,IF($H$5=\"Course 2\",Général!D$90,IF($H$5=\"Course 3\",Général!D$92,Général!D$94)))","v":"UBO 1"},{"$f":"IF($I$5=\"Course 1\",Général!D$98,IF($I$5=\"Course 2\",Général!D$100,IF($I$5=\"Course 3\",Général!D$102,Général!D$104)))","v":"Southampton"},{"$f":"IF($J$5=\"Course 1\",Général!D$108,IF($J$5=\"Course 2\",Général!D$110,IF($J$5=\"Course 3\",Général!D$112,Général!D$114)))","v":"IMT Brest 1"},{"$f":"IF($K$5=\"Course 1\",Général!D$118,IF($K$5=\"Course 2\",Général!D$120,IF($K$5=\"Course 3\",Général!D$122,Général!D$124)))","v":"ENSMAC"},{"$f":"IF($L$5=\"Course 1\",Général!D$128,IF($L$5=\"Course 2\",Général!D$130,IF($L$5=\"Course 3\",Général!D$132,Général!D$134)))","v":"Orléans"},{"$f":"IF($M$5=\"Course 1\",Général!D$138,IF($M$5=\"Course 2\",Général!D$140,IF($M$5=\"Course 3\",Général!D$142,Général!D$144)))","v":"Paris Sorbone"},{"$f":"IF($N$5=\"Course 1\",Général!D$148,IF($N$5=\"Course 2\",Général!D$150,IF($N$5=\"Course 3\",Général!D$152,Général!D$154)))","v":"IMT Brest 2"},{"$f":"IF($O$5=\"Course 1\",Général!D$158,IF($O$5=\"Course 2\",Général!D$160,IF($O$5=\"Course 3\",Général!D$162,Général!D$164)))","v":"IMT Nantes"},{"$f":"IF($P$5=\"Course 1\",Général!D$168,IF($P$5=\"Course 2\",Général!D$170,IF($P$5=\"Course 3\",Général!D$172,Général!D$174)))","v":"ENSTA 1"},{"$f":"IF($Q$5=\"Course 1\",Général!D$178,IF($Q$5=\"Course 2\",Général!D$180,IF($Q$5=\"Course 3\",Général!D$182,Général!D$184)))","v":"La Rochelle 1"},{"$f":"IF($R$5=\"Course 1\",Général!D$188,IF($R$5=\"Course 2\",Général!D$190,IF($R$5=\"Course 3\",Général!D$192,Général!D$194)))","v":"La Rochelle 1"},{"$f":"IF($S$5=\"Course 1\",Général!D$198,IF($S$5=\"Course 2\",Général!D$200,IF($S$5=\"Course 3\",Général!D$202,Général!D$204)))","v":"IMT Brest 2"},{"$f":"IF($T$5=\"Course 1\",Général!D$208,IF($T$5=\"Course 2\",Général!D$210,IF($T$5=\"Course 3\",Général!D$212,Général!D$214)))","v":"La Rochelle 2"},null,{"$f":"Général!B12","v":"IMT Brest 2"},5]
["4ème Equipage",null,{"$f":"IF($C$5=\"Course 1\",Général!E38,IF($C$5=\"Course 2\",Général!E40,IF($C$5=\"Course 3\",Général!E42,Général!E44)))","v":"Southampton"},{"$f":"IF($D$5=\"Course 1\",Général!E48,IF($D$5=\"Course 2\",Général!E50,IF($D$5=\"Course 3\",Général!E52,Général!E54)))","v":"ENSTA 2"},{"$f":"IF($E$5=\"Course 1\",Général!E58,IF($E$5=\"Course 2\",Général!E60,IF($E$5=\"Course 3\",Général!E62,Général!E64)))","v":"Plymouth"},{"$f":"IF($F$5=\"Course 1\",Général!E$68,IF($F$5=\"Course 2\",Général!E$70,IF($F$5=\"Course 3\",Général!E$72,Général!E$74)))","v":"Plymouth"},{"$f":"IF($G$5=\"Course 1\",Général!E$78,IF($G$5=\"Course 2\",Général!E$80,IF($G$5=\"Course 3\",Général!E$82,Général!E$84)))","v":"La Rochelle 1"},{"$f":"IF($H$5=\"Course 1\",Général!E$88,IF($H$5=\"Course 2\",Général!E$90,IF($H$5=\"Course 3\",Général!E$92,Général!E$94)))","v":"La Rochelle 1"},{"$f":"IF($I$5=\"Course 1\",Général!E$98,IF($I$5=\"Course 2\",Général!E$100,IF($I$5=\"Course 3\",Général!E$102,Général!E$104)))","v":"Karlsruhe"},{"$f":"IF($J$5=\"Course 1\",Général!E$108,IF($J$5=\"Course 2\",Général!E$110,IF($J$5=\"Course 3\",Général!E$112,Général!E$114)))","v":"UBS Lorient 2"},{"$f":"IF($K$5=\"Course 1\",Général!E$118,IF($K$5=\"Course 2\",Général!E$120,IF($K$5=\"Course 3\",Général!E$122,Général!E$124)))","v":"UBS Lorient 2"},{"$f":"IF($L$5=\"Course 1\",Général!E$128,IF($L$5=\"Course 2\",Général!E$130,IF($L$5=\"Course 3\",Général!E$132,Général!E$134)))","v":"IMT Brest 1"},{"$f":"IF($M$5=\"Course 1\",Général!E$138,IF($M$5=\"Course 2\",Général!E$140,IF($M$5=\"Course 3\",Général!E$142,Général!E$144)))","v":"UBO 2"},{"$f":"IF($N$5=\"Course 1\",Général!E$148,IF($N$5=\"Course 2\",Général!E$150,IF($N$5=\"Course 3\",Général!E$152,Général!E$154)))","v":"UBO 2"},{"$f":"IF($O$5=\"Course 1\",Général!E$158,IF($O$5=\"Course 2\",Général!E$160,IF($O$5=\"Course 3\",Général!E$162,Général!E$164)))","v":"ST Brieuc 2"},{"$f":"IF($P$5=\"Course 1\",Général!E$168,IF($P$5=\"Course 2\",Général!E$170,IF($P$5=\"Course 3\",Général!E$172,Général!E$174)))","v":"Univ Nantes 2"},{"$f":"IF($Q$5=\"Course 1\",Général!E$178,IF($Q$5=\"Course 2\",Général!E$180,IF($Q$5=\"Course 3\",Général!E$182,Général!E$184)))","v":"Centrale Nantes 1"},{"$f":"IF($R$5=\"Course 1\",Général!E$188,IF($R$5=\"Course 2\",Général!E$190,IF($R$5=\"Course 3\",Général!E$192,Général!E$194)))","v":"St Brieuc 1"},{"$f":"IF($S$5=\"Course 1\",Général!E$198,IF($S$5=\"Course 2\",Général!E$200,IF($S$5=\"Course 3\",Général!E$202,Général!E$204)))","v":"Centrale Nantes 2"},{"$f":"IF($T$5=\"Course 1\",Général!E$208,IF($T$5=\"Course 2\",Général!E$210,IF($T$5=\"Course 3\",Général!E$212,Général!E$214)))","v":"Plymouth"},null,{"$f":"Général!B13","v":"Unicaen 1"},7]
["5ème Equipage",null,{"$f":"IF($C$5=\"Course 1\",Général!F38,IF($C$5=\"Course 2\",Général!F40,IF($C$5=\"Course 3\",Général!F42,Général!F44)))","v":"ENSTA 2"},{"$f":"IF($D$5=\"Course 1\",Général!F48,IF($D$5=\"Course 2\",Général!F50,IF($D$5=\"Course 3\",Général!F52,Général!F54)))","v":"ST Brieuc 2"},{"$f":"IF($E$5=\"Course 1\",Général!F58,IF($E$5=\"Course 2\",Général!F60,IF($E$5=\"Course 3\",Général!F62,Général!F64)))","v":"UBS Lorient 1"},{"$f":"IF($F$5=\"Course 1\",Général!F$68,IF($F$5=\"Course 2\",Général!F$70,IF($F$5=\"Course 3\",Général!F$72,Général!F$74)))","v":"UBS Lorient 1"},{"$f":"IF($G$5=\"Course 1\",Général!F$78,IF($G$5=\"Course 2\",Général!F$80,IF($G$5=\"Course 3\",Général!F$82,Général!F$84)))","v":"Orléans"},{"$f":"IF($H$5=\"Course 1\",Général!F$88,IF($H$5=\"Course 2\",Général!F$90,IF($H$5=\"Course 3\",Général!F$92,Général!F$94)))","v":"Orléans"},{"$f":"IF($I$5=\"Course 1\",Général!F$98,IF($I$5=\"Course 2\",Général!F$100,IF($I$5=\"Course 3\",Général!F$102,Général!F$104)))","v":"UBS Lorient 1"},{"$f":"IF($J$5=\"Course 1\",Général!F$108,IF($J$5=\"Course 2\",Général!F$110,IF($J$5=\"Course 3\",Général!F$112,Général!F$114)))","v":"Intechmer"},{"$f":"IF($K$5=\"Course 1\",Général!F$118,IF($K$5=\"Course 2\",Général!F$120,IF($K$5=\"Course 3\",Général!F$122,Général!F$124)))","v":"Centrale Nantes 1"},{"$f":"IF($L$5=\"Course 1\",Général!F$128,IF($L$5=\"Course 2\",Général!$F130,IF($L$5=\"Course 3\",Général!F$132,Général!F$134)))","v":"Univ Nantes 2"},{"$f":"IF($M$5=\"Course 1\",Général!F$138,IF($M$5=\"Course 2\",Général!F$140,IF($M$5=\"Course 3\",Général!F$142,Général!F$144)))","v":"ENSTA 2"},{"$f":"IF($N$5=\"Course 1\",Général!F$148,IF($N$5=\"Course 2\",Général!F$150,IF($N$5=\"Course 3\",Général!F$152,Général!F$154)))","v":"INSA Lyon"},{"$f":"IF($O$5=\"Course 1\",Général!F$158,IF($O$5=\"Course 2\",Général!F$160,IF($O$5=\"Course 3\",Général!F$162,Général!F$164)))","v":"Unicaen 1"},{"$f":"IF($P$5=\"Course 1\",Général!F$168,IF($P$5=\"Course 2\",Général!F$170,IF($P$5=\"Course 3\",Général!F$172,Général!F$174)))","v":"Unicaen 1"},{"$f":"IF($Q$5=\"Course 1\",Général!F$178,IF($Q$5=\"Course 2\",Général!F$180,IF($Q$5=\"Course 3\",Général!F$182,Général!F$184)))","v":"Hannover"},{"$f":"IF($R$5=\"Course 1\",Général!F$188,IF($R$5=\"Course 2\",Général!F$190,IF($R$5=\"Course 3\",Général!F$192,Général!F$194)))","v":"Hannover"},{"$f":"IF($S$5=\"Course 1\",Général!F$198,IF($S$5=\"Course 2\",Général!F$200,IF($S$5=\"Course 3\",Général!F$202,Général!F$204)))","v":"Centrale Nantes 1"},{"$f":"IF($T$5=\"Course 1\",Général!F$208,IF($T$5=\"Course 2\",Général!F$210,IF($T$5=\"Course 3\",Général!F$212,Général!F$214)))","v":"La Rochelle 1"},null,{"$f":"Général!B14","v":"ENSTA 1"},6]
["6ème Equipage",null,{"$f":"IF($C$5=\"Course 1\",Général!G38,IF($C$5=\"Course 2\",Général!G40,IF($C$5=\"Course 3\",Général!G42,Général!G44)))","v":"Plymouth"},{"$f":"IF($D$5=\"Course 1\",Général!G48,IF($D$5=\"Course 2\",Général!G50,IF($D$5=\"Course 3\",Général!G52,Général!G54)))","v":"La Rochelle 1"},{"$f":"IF($E$5=\"Course 1\",Général!G58,IF($E$5=\"Course 2\",Général!G60,IF($E$5=\"Course 3\",Général!G62,Général!G64)))","v":"IMT Brest 1"},{"$f":"IF($F$5=\"Course 1\",Général!G$68,IF($F$5=\"Course 2\",Général!G$70,IF($F$5=\"Course 3\",Général!G$72,Général!G$74)))","v":"IMT Brest 1"},{"$f":"IF($G$5=\"Course 1\",Général!G$78,IF($G$5=\"Course 2\",Général!G$80,IF($G$5=\"Course 3\",Général!G$82,Général!G$84)))","v":"Paris Cité"},{"$f":"IF($H$5=\"Course 1\",Général!G$88,IF($H$5=\"Course 2\",Général!G$90,IF($H$5=\"Course 3\",Général!G$92,Général!G$94)))","v":"Paris Cité"},{"$f":"IF($I$5=\"Course 1\",Général!G$98,IF($I$5=\"Course 2\",Général!G$100,IF($I$5=\"Course 3\",Général!G$102,Général!G$104)))","v":"Univ Nantes 3"},{"$f":"IF($J$5=\"Course 1\",Général!G$108,IF($J$5=\"Course 2\",Général!G$110,IF($J$5=\"Course 3\",Général!G$112,Général!G$114)))","v":"ENSTA 1"},{"$f":"IF($K$5=\"Course 1\",Général!G$118,IF($K$5=\"Course 2\",Général!G$120,IF($K$5=\"Course 3\",Général!G$122,Général!G$124)))","v":"St Brieuc 1"},{"$f":"IF($L$5=\"Course 1\",Général!G$128,IF($L$5=\"Course 2\",Général!G$130,IF($L$5=\"Course 3\",Général!G$132,Général!G$134)))","v":"Unicaen 1"},{"$f":"IF($M$5=\"Course 1\",Général!G$138,IF($M$5=\"Course 2\",Général!G$140,IF($M$5=\"Course 3\",Général!G$142,Général!G$144)))","v":"Univ Nantes 3"},{"$f":"IF($N$5=\"Course 1\",Général!G$148,IF($N$5=\"Course 2\",Général!G$150,IF($N$5=\"Course 3\",Général!G$152,Général!G$154)))","v":"Hannover"},{"$f":"IF($O$5=\"Course 1\",Général!G$158,IF($O$5=\"Course 2\",Général!G$160,IF($O$5=\"Course 3\",Général!G$162,Général!G$164)))","v":"Hannover"},{"$f":"IF($P$5=\"Course 1\",Général!G$168,IF($P$5=\"Course 2\",Général!G$170,IF($P$5=\"Course 3\",Général!G$172,Général!G$174)))","v":"Paris Cité"},{"$f":"IF($Q$5=\"Course 1\",Général!G$178,IF($Q$5=\"Course 2\",Général!G$180,IF($Q$5=\"Course 3\",Général!G$182,Général!G$184)))","v":"Centrale Nantes 2"},{"$f":"IF($R$5=\"Course 1\",Général!G$188,IF($R$5=\"Course 2\",Général!G$190,IF($R$5=\"Course 3\",Général!G$192,Général!G$194)))","v":"Unicaen 2"},{"$f":"IF($S$5=\"Course 1\",Général!G$198,IF($S$5=\"Course 2\",Général!G$200,IF($S$5=\"Course 3\",Général!G$202,Général!G$204)))","v":"Orléans"},{"$f":"IF($T$5=\"Course 1\",Général!G$208,IF($T$5=\"Course 2\",Général!G$210,IF($T$5=\"Course 3\",Général!G$212,Général!G$214)))","v":"Southampton"},null,{"$f":"Général!B15","v":"Orléans"},7]
["7ème Equipage",null,{"$f":"IF($C$5=\"Course 1\",Général!H38,IF($C$5=\"Course 2\",Général!H40,IF($C$5=\"Course 3\",Général!H42,Général!H44)))","v":"Univ Nantes 2"},{"$f":"IF($D$5=\"Course 1\",Général!H48,IF($D$5=\"Course 2\",Général!H50,IF($D$5=\"Course 3\",Général!H52,Général!H54)))","v":"Unicaen 2"},{"$f":"IF($E$5=\"Course 1\",Général!H58,IF($E$5=\"Course 2\",Général!H60,IF($E$5=\"Course 3\",Général!H62,Général!H64)))","v":"Centrale Nantes 2"},{"$f":"IF($F$5=\"Course 1\",Général!H$68,IF($F$5=\"Course 2\",Général!H$70,IF($F$5=\"Course 3\",Général!H$72,Général!H$74)))","v":"IMT Brest 2"},{"$f":"IF($G$5=\"Course 1\",Général!H$78,IF($G$5=\"Course 2\",Général!H$80,IF($G$5=\"Course 3\",Général!H$82,Général!H$84)))","v":"Univ Nantes 2"},{"$f":"IF($H$5=\"Course 1\",Général!H$88,IF($H$5=\"Course 2\",Général!H$90,IF($H$5=\"Course 3\",Général!H$92,Général!H$94)))","v":"Hannover"},{"$f":"IF($I$5=\"Course 1\",Général!H$98,IF($I$5=\"Course 2\",Général!H$100,IF($I$5=\"Course 3\",Général!H$102,Général!H$104)))","v":"Plymouth"},{"$f":"IF($J$5=\"Course 1\",Général!H$108,IF($J$5=\"Course 2\",Général!H$110,IF($J$5=\"Course 3\",Général!H$112,Général!H$114)))","v":"Hannover"},{"$f":"IF($K$5=\"Course 1\",Général!H$118,IF($K$5=\"Course 2\",Général!H$120,IF($K$5=\"Course 3\",Général!H$122,Général!H$124)))","v":"Orléans"},{"$f":"IF($L$5=\"Course 1\",Général!H$128,IF($L$5=\"Course 2\",Général!H$130,IF($L$5=\"Course 3\",Général!H$132,Général!H$134)))","v":"UBO 1"},{"$f":"IF($M$5=\"Course 1\",Général!H$138,IF($M$5=\"Course 2\",Général!H$140,IF($M$5=\"Course 3\",Général!H$142,Général!H$144)))","v":"Univ Nantes 2"},{"$f":"IF($N$5=\"Course 1\",Général!H$148,IF($N$5=\"Course 2\",Général!H$150,IF($N$5=\"Course 3\",Général!H$152,Général!H$154)))","v":"La Rochelle 2"},{"$f":"IF($O$5=\"Course 1\",Général!H$158,IF($O$5=\"Course 2\",Général!H$160,IF($O$5=\"Course 3\",Général!H$162,Général!H$164)))","v":"La Rochelle 2"},{"$f":"IF($P$5=\"Course 1\",Général!H$168,IF($P$5=\"Course 2\",Général!H$170,IF($P$5=\"Course 3\",Général!H$172,Général!H$174)))","v":"Orléans"},{"$f":"IF($Q$5=\"Course 1\",Général!H$178,IF($Q$5=\"Course 2\",Général!H$180,IF($Q$5=\"Course 3\",Général!H$182,Général!H$184)))","v":"IMT Brest 1"},{"$f":"IF($R$5=\"Course 1\",Général!H$188,IF($R$5=\"Course 2\",Général!H$190,IF($R$5=\"Course 3\",Général!H$192,Général!H$194)))","v":"Unicaen 1"},{"$f":"IF($S$5=\"Course 1\",Général!H$198,IF($S$5=\"Course 2\",Général!H$200,IF($S$5=\"Course 3\",Général!H$202,Général!H$204)))","v":"La Rochelle 1"},{"$f":"IF($T$5=\"Course 1\",Général!H$208,IF($T$5=\"Course 2\",Général!H$210,IF($T$5=\"Course 3\",Général!H$212,Général!H$214)))","v":"Unicaen 1"},null,{"$f":"Général!B16","v":"IMT Brest 1"},8]
["8ème Equipage",null,{"$f":"IF($C$5=\"Course 1\",Général!I38,IF($C$5=\"Course 2\",Général!I40,IF($C$5=\"Course 3\",Général!I42,Général!I44)))","v":"INSA Lyon"},{"$f":"IF($D$5=\"Course 1\",Général!I48,IF($D$5=\"Course 2\",Général!I50,IF($D$5=\"Course 3\",Général!I52,Général!I54)))","v":"UNIV Nantes 1"},{"$f":"IF($E$5=\"Course 1\",Général!I58,IF($E$5=\"Course 2\",Général!I60,IF($E$5=\"Course 3\",Général!I62,Général!I64)))","v":"Unicaen 2"},{"$f":"IF($F$5=\"Course 1\",Général!I$68,IF($F$5=\"Course 2\",Général!I$70,IF($F$5=\"Course 3\",Général!I$72,Général!I$74)))","v":"UBO 1"},{"$f":"IF($G$5=\"Course 1\",Général!I$78,IF($G$5=\"Course 2\",Général!I$80,IF($G$5=\"Course 3\",Général!I$82,Général!I$84)))","v":"IMT Nantes"},{"$f":"IF($H$5=\"Course 1\",Général!I$88,IF($H$5=\"Course 2\",Général!I$90,IF($H$5=\"Course 3\",Général!I$92,Général!I$94)))","v":"IMT Nantes"},{"$f":"IF($I$5=\"Course 1\",Général!I$98,IF($I$5=\"Course 2\",Général!I$100,IF($I$5=\"Course 3\",Général!I$102,Général!I$104)))","v":"IMT Nantes"},{"$f":"IF($J$5=\"Course 1\",Général!I$108,IF($J$5=\"Course 2\",Général!I$110,IF($J$5=\"Course 3\",Général!I$112,Général!I$114)))","v":"Southampton"},{"$f":"IF($K$5=\"Course 1\",Général!I$118,IF($K$5=\"Course 2\",Général!I$120,IF($K$5=\"Course 3\",Général!I$122,Général!I$124)))","v":"Univ Nantes 2"},{"$f":"IF($L$5=\"Course 1\",Général!I$128,IF($L$5=\"Course 2\",Général!I$130,IF($L$5=\"Course 3\",Général!I$132,Général!I$134)))","v":"Unicaen 2"},{"$f":"IF($M$5=\"Course 1\",Général!I$138,IF($M$5=\"Course 2\",Général!I$140,IF($M$5=\"Course 3\",Général!I$142,Général!I$144)))","v":"ST Brieuc 2"},{"$f":"IF($N$5=\"Course 1\",Général!I$148,IF($N$5=\"Course 2\",Général!I$150,IF($N$5=\"Course 3\",Général!I$152,Général!I$154)))","v":"UNIV Nantes 1"},{"$f":"IF($O$5=\"Course 1\",Général!I$158,IF($O$5=\"Course 2\",Général!I$160,IF($O$5=\"Course 3\",Général!I$162,Général!I$164)))","v":"Orléans"},{"$f":"IF($P$5=\"Course 1\",Général!I$168,IF($P$5=\"Course 2\",Général!I$170,IF($P$5=\"Course 3\",Général!I$172,Général!I$174)))","v":"La Rochelle 1"},{"$f":"IF($Q$5=\"Course 1\",Général!I$178,IF($Q$5=\"Course 2\",Général!I$180,IF($Q$5=\"Course 3\",Général!I$182,Général!I$184)))","v":"Univ Nantes 3"},{"$f":"IF($R$5=\"Course 1\",Général!I$188,IF($R$5=\"Course 2\",Général!I$190,IF($R$5=\"Course 3\",Général!I$192,Général!I$194)))","v":"Univ Nantes 3"},{"$f":"IF($S$5=\"Course 1\",Général!I$198,IF($S$5=\"Course 2\",Général!I$200,IF($S$5=\"Course 3\",Général!I$202,Général!I$204)))","v":"UBO 2"},{"$f":"IF($T$5=\"Course 1\",Général!I$208,IF($T$5=\"Course 2\",Général!I$210,IF($T$5=\"Course 3\",Général!I$212,Général!I$214)))","v":"Centrale Nantes 1"},null,{"$f":"Général!B17","v":"ENSMAC"},1]
["9ème Equipage",null,{"$f":"IF($C$5=\"Course 1\",Général!J38,IF($C$5=\"Course 2\",Général!J40,IF($C$5=\"Course 3\",Général!J42,Général!J44)))","v":"Centrale Nantes 1"},{"$f":"IF($D$5=\"Course 1\",Général!J48,IF($D$5=\"Course 2\",Général!J50,IF($D$5=\"Course 3\",Général!J52,Général!J54)))","v":"Southampton"},{"$f":"IF($E$5=\"Course 1\",Général!J58,IF($E$5=\"Course 2\",Général!J60,IF($E$5=\"Course 3\",Général!J62,Général!J64)))","v":"ENSTA 1"},{"$f":"IF($F$5=\"Course 1\",Général!J$68,IF($F$5=\"Course 2\",Général!J$70,IF($F$5=\"Course 3\",Général!J$72,Général!J$74)))","v":"ENSTA 1"},{"$f":"IF($G$5=\"Course 1\",Général!J$78,IF($G$5=\"Course 2\",Général!J$80,IF($G$5=\"Course 3\",Général!J$82,Général!J$84)))","v":"Unicaen 2"},{"$f":"IF($H$5=\"Course 1\",Général!J$88,IF($H$5=\"Course 2\",Général!J$90,IF($H$5=\"Course 3\",Général!$J92,Général!J$94)))","v":"Centrale Nantes 1"},{"$f":"IF($I$5=\"Course 1\",Général!J$98,IF($I$5=\"Course 2\",Général!J$100,IF($I$5=\"Course 3\",Général!J$102,Général!J$104)))","v":"ENSTA 1"},{"$f":"IF($J$5=\"Course 1\",Général!J$108,IF($J$5=\"Course 2\",Général!J$110,IF($J$5=\"Course 3\",Général!J$112,Général!J$114)))","v":"La Rochelle 1"},{"$f":"IF($K$5=\"Course 1\",Général!J$118,IF($K$5=\"Course 2\",Général!J$120,IF($K$5=\"Course 3\",Général!J$122,Général!J$124)))","v":"La Rochelle 1"},{"$f":"IF($L$5=\"Course 1\",Général!J$128,IF($L$5=\"Course 2\",Général!J$130,IF($L$5=\"Course 3\",Général!J$132,Général!J$134)))","v":"Centrale Nantes 2"},{"$f":"IF($M$5=\"Course 1\",Général!J$138,IF($M$5=\"Course 2\",Général!J$140,IF($M$5=\"Course 3\",Général!J$142,Général!J$144)))","v":"La Rochelle 1"},{"$f":"IF($N$5=\"Course 1\",Général!J$148,IF($N$5=\"Course 2\",Général!J$150,IF($N$5=\"Course 3\",Général!J$152,Général!J$154)))","v":"Plymouth"},{"$f":"IF($O$5=\"Course 1\",Général!J$158,IF($O$5=\"Course 2\",Général!J$160,IF($O$5=\"Course 3\",Général!J$162,Général!J$164)))","v":"UBS Lorient 1"},{"$f":"IF($P$5=\"Course 1\",Général!J$168,IF($P$5=\"Course 2\",Général!J$170,IF($P$5=\"Course 3\",Général!J$172,Général!J$174)))","v":"IMT Brest 1"},{"$f":"IF($Q$5=\"Course 1\",Général!J$178,IF($Q$5=\"Course 2\",Général!J$180,IF($Q$5=\"Course 3\",Général!J$182,Général!J$184)))","v":"Intechmer"},{"$f":"IF($R$5=\"Course 1\",Général!J$188,IF($R$5=\"Course 2\",Général!J$190,IF($R$5=\"Course 3\",Général!J$192,Général!J$194)))","v":"Southampton"},{"$f":"IF($S$5=\"Course 1\",Général!J$198,IF($S$5=\"Course 2\",Général!J$200,IF($S$5=\"Course 3\",Général!J$202,Général!J$204)))","v":"Karlsruhe"},{"$f":"IF($T$5=\"Course 1\",Général!J$208,IF($T$5=\"Course 2\",Général!J$210,IF($T$5=\"Course 3\",Général!J$212,Général!J$214)))","v":"Intechmer"},null,{"$f":"Général!B18","v":"St Brieuc 1"},5]
["10ème Equipage",null,{"$f":"IF($C$5=\"Course 1\",Général!K38,IF($C$5=\"Course 2\",Général!K40,IF($C$5=\"Course 3\",Général!K42,Général!K44)))","v":"Centrale Nantes 2"},{"$f":"IF($D$5=\"Course 1\",Général!K48,IF($D$5=\"Course 2\",Général!K50,IF($D$5=\"Course 3\",Général!K52,Général!K54)))","v":"ENSMAC"},{"$f":"IF($E$5=\"Course 1\",Général!K58,IF($E$5=\"Course 2\",Général!K60,IF($E$5=\"Course 3\",Général!K62,Général!K64)))","v":"Karlsruhe"},{"$f":"IF($F$5=\"Course 1\",Général!K$68,IF($F$5=\"Course 2\",Général!K$70,IF($F$5=\"Course 3\",Général!K$72,Général!K$74)))","v":"Orléans"},{"$f":"IF($G$5=\"Course 1\",Général!K$78,IF($G$5=\"Course 2\",Général!K$80,IF($G$5=\"Course 3\",Général!K$82,Général!K$84)))","v":"Intechmer"},{"$f":"IF($H$5=\"Course 1\",Général!K$88,IF($H$5=\"Course 2\",Général!K$90,IF($H$5=\"Course 3\",Général!$K92,Général!K$94)))","v":"ENSTA 1"},{"$f":"IF($I$5=\"Course 1\",Général!K$98,IF($I$5=\"Course 2\",Général!K$100,IF($I$5=\"Course 3\",Général!K$102,Général!K$104)))","v":"Orléans"},{"$f":"IF($J$5=\"Course 1\",Général!K$108,IF($J$5=\"Course 2\",Général!K$110,IF($J$5=\"Course 3\",Général!K$112,Général!K$114)))","v":"IMT Brest 2"},{"$f":"IF($K$5=\"Course 1\",Général!K$118,IF($K$5=\"Course 2\",Général!K$120,IF($K$5=\"Course 3\",Général!K$122,Général!K$124)))","v":"Univ Nantes 3"},{"$f":"IF($L$5=\"Course 1\",Général!K$128,IF($L$5=\"Course 2\",Général!K$130,IF($L$5=\"Course 3\",Général!K$132,Général!K$134)))","v":"La Rochelle 1"},{"$f":"IF($M$5=\"Course 1\",Général!K$138,IF($M$5=\"Course 2\",Général!K$140,IF($M$5=\"Course 3\",Général!K$142,Général!K$144)))","v":"UBS Lorient 2"},{"$f":"IF($N$5=\"Course 1\",Général!K$148,IF($N$5=\"Course 2\",Général!K$150,IF($N$5=\"Course 3\",Général!K$152,Général!K$154)))","v":"Karlsruhe"},{"$f":"IF($O$5=\"Course 1\",Général!K$158,IF($O$5=\"Course 2\",Général!K$160,IF($O$5=\"Course 3\",Général!K$162,Général!K$164)))","v":"Paris Sorbone"},{"$f":"IF($P$5=\"Course 1\",Général!K$168,IF($P$5=\"Course 2\",Général!K$170,IF($P$5=\"Course 3\",Général!K$172,Général!K$174)))","v":"IMT Nantes"},{"$f":"IF($Q$5=\"Course 1\",Général!K$178,IF($Q$5=\"Course 2\",Général!K$180,IF($Q$5=\"Course 3\",Général!K$182,Général!K$184)))","v":"ST Brieuc 2"},{"$f":"IF($R$5=\"Course 1\",Général!K$188,IF($R$5=\"Course 2\",Général!K$190,IF($R$5=\"Course 3\",Général!K$192,Général!K$194)))","v":"Paris Sorbone"},{"$f":"IF($S$5=\"Course 1\",Général!K$198,IF($S$5=\"Course 2\",Général!K$200,IF($S$5=\"Course 3\",Général!K$202,Général!K$204)))","v":"Univ Nantes 2"},{"$f":"IF($T$5=\"Course 1\",Général!K$208,IF($T$5=\"Course 2\",Général!K$210,IF($T$5=\"Course 3\",Général!K$212,Général!K$214)))","v":"ENSTA 2"},null,{"$f":"Général!B19","v":"Hannover"},7]
[null,null,null,null,null,null,null,null,null,null,null,null,null,null,null,null,null,null,null,null,null,{"$f":"Général!B20","v":"ENSTA 2"},5]
[null,null,null,null,null,null,null,null,null,null,null,null,null,null,null,null,null,null,null,null,null,{"$f":"Général!B21","v":"Southampton"},7]
[null,null,null,null,null,null,null,null,null,null,null,null,null,null,null,null,null,null,null,null,null,{"$f":"Général!B22","v":"La Rochelle 1"},17]
[null,null,null,null,null,null,null,null,null,null,null,null,null,null,null,null,null,null,null,null,null,{"$f":"Général!B23","v":"Centrale Nantes 1"},7]
[null,null,null,null,null,null,null,null,null,null,null,null,null,null,null,null,null,null,null,null,null,{"$f":"Général!B24","v":"ST Brieuc 2"},5]
[null,null,null,null,null,null,null,null,null,null,null,null,null,null,null,null,null,null,null,null,null,{"$f":"Général!B25","v":"UNIV Nantes 1"},4]
[null,null,null,null,null,null,null,null,null,null,null,null,null,null,null,null,null,null,null,null,null,{"$f":"Général!B26","v":"Intechmer"},4]
[null,null,null,null,null,null,null,null,null,null,null,null,null,null,null,null,null,null,null,null,null,{"$f":"Général!B27","v":"IMT Nantes"},5]
[null,null,null,null,null,null,null,null,null,null,null,null,null,null,null,null,null,null,null,null,null,{"$f":"Général!B28","v":"INSA Lyon"},2]
[null,null,null,null,null,null,null,null,null,null,null,null,null,null,null,null,null,null,null,null,null,{"$f":"Général!B29","v":"Centrale Nantes 2"},4]
[null,null,null,null,null,null,null,null,null,null,null,null,null,null,null,null,null,null,null,null,null,{"$f":"Général!B30","v":"UBS Lorient 2"},4]
[null,null,null,null,null,null,null,null,null,null,null,null,null,null,null,null,null,null,null,null,null,{"$f":"Général!B31","v":"La Rochelle 2"},3]
[null,null,null,null,null,null,null,null,null,null,null,null,null,null,null,null,null,null,null,null,null,{"$f":"Général!B32","v":"UBO 1"},4]
[null,null,null,null,null,null,null,null,null,null,null,null,null,null,null,null,null,null,null,null,null,{"$f":"Général!B33","v":"Eq.31"},0]
[null,null,null,null,null,null,null,null,null,null,null,null,null,null,null,null,null,null,null,null,null,{"$f":"Général!B34","v":"Eq.32"},0]

{"sheet":"Eq.21","index":26,"n_rows":32,"n_cols":23,"rows_kept":32,"cut":false,"hidden":false,"merged":[[7,0,7,1],[0,0,1,5],[0,6,1,10],[3,0,3,1],[4,0,4,1],[5,0,5,1],[14,0,14,1],[15,0,15,1],[16,0,16,1],[8,0,8,1],[9,0,9,1],[10,0,10,1],[11,0,11,1],[12,0,12,1],[13,0,13,1]]}
["Equipage ",null,null,null,null,null,{"$f":"Général!B23","v":"Centrale Nantes 1"},null,null,null,null,null,null,null,null,null,null,null,null,null,null,{"$f":"Général!B3","v":"UBO 2"},{"$f":"COUNTIF(C$8:T$16,V1)","v":2}]
[null,null,null,null,null,null,null,null,null,null,null,null,null,null,null,null,null,null,null,null,null,{"$f":"Général!B4","v":"Paris Sorbone"},{"$f":"COUNTIF($C$8:$T$16,V2)","v":5}]
[null,null,null,null,null,null,null,null,null,null,null,null,null,null,null,null,null,null,null,null,null,{"$f":"Général!B5","v":"UBS Lorient 1"},{"$f":"COUNTIF($C$8:$T$16,V3)","v":7}]
[null,null,"FLIGHT 1","FLIGHT 2","FLIGHT 3","FLIGHT 4","FLIGHT 5","FLIGHT 6","FLIGHT 7","FLIGHT 8","FLIGHT 9","FLIGHT 10","FLIGHT 11","FLIGHT 12","FLIGHT 13","FLIGHT 14","FLIGHT 15","FLIGHT 16","FLIGHT 17","FLIGHT 18",null,{"$f":"Général!B6","v":"Univ Nantes 3"},3]
["N° de course",null,{"$f":"IF(COUNTIF(Général!B38:K38,$G$1)=1,\"Course 1\",IF(COUNTIF(Général!B40:K40,$G$1)=1,\"Course 2\",IF(COUNTIF(Général!B42:K42,$G$1)=1,\"Course 3\",\"Course 4\")))","v":"Course 3"},{"$f":"IF(COUNTIF(Général!B48:K48,$G$1)=1,\"Course 1\",IF(COUNTIF(Général!B50:K50,$G$1)=1,\"Course 2\",IF(COUNTIF(Général!B52:K52,$G$1)=1,\"Course 3\",\"Course 4\")))","v":"Course 3"},{"$f":"IF(COUNTIF(Général!B58:K58,$G$1)=1,\"Course 1\",IF(COUNTIF(Général!B60:K60,$G$1)=1,\"Course 2\",IF(COUNTIF(Général!B62:K62,$G$1)=1,\"Course 3\",\"Course 4\")))","v":"Course 1"},{"$f":"IF(COUNTIF(Général!B68:K68,$G$1)=1,\"Course 1\",IF(COUNTIF(Général!B70:K70,$G$1)=1,\"Course 2\",IF(COUNTIF(Général!B72:K72,$G$1)=1,\"Course 3\",\"Course 4\")))","v":"Course 1"},{"$f":"IF(COUNTIF(Général!B78:K78,$G$1)=1,\"Course 1\",IF(COUNTIF(Général!B80:K80,$G$1)=1,\"Course 2\",IF(COUNTIF(Général!B82:K82,$G$1)=1,\"Course 3\",\"Course 4\")))","v":"Course 2"},{"$f":"IF(COUNTIF(Général!B88:K88,$G$1)=1,\"Course 1\",IF(COUNTIF(Général!B90:K90,$G$1)=1,\"Course 2\",IF(COUNTIF(Général!B92:K92,$G$1)=1,\"Course 3\",\"Course 4\")))","v":"Course 1"},{"$f":"IF(COUNTIF(Général!B98:K98,$G$1)=1,\"Course 1\",IF(COUNTIF(Général!B100:K100,$G$1)=1,\"Course 2\",IF(COUNTIF(Général!B102:K102,$G$1)=1,\"Course 3\",\"Course 4\")))","v":"Course 3"},{"$f":"IF(COUNTIF(Général!B108:K108,$G$1)=1,\"Course 1\",IF(COUNTIF(Général!B110:K110,$G$1)=1,\"Course 2\",IF(COUNTIF(Général!B112:K112,$G$1)=1,\"Course 3\",\"Course 4\")))","v":"Course 2"},{"$f":"IF(COUNTIF(Général!B118:K118,$G$1)=1,\"Course 1\",IF(COUNTIF(Général!B120:K120,$G$1)=1,\"Course 2\",IF(COUNTIF(Général!B122:K122,$G$1)=1,\"Course 3\",\"Course 4\")))","v":"Course 1"},{"$f":"IF(COUNTIF(Général!B128:K128,$G$1)=1,\"Course 1\",IF(COUNTIF(Général!B130:K130,$G$1)=1,\"Course 2\",IF(COUNTIF(Général!B132:K132,$G$1)=1,\"Course 3\",\"Course 4\")))","v":"Course 3"},{"$f":"IF(COUNTIF(Général!B138:K138,$G$1)=1,\"Course 1\",IF(COUNTIF(Général!B140:K140,$G$1)=1,\"Course 2\",IF(COUNTIF(Général!B142:K142,$G$1)=1,\"Course 3\",\"Course 4\")))","v":"Course 1"},{"$f":"IF(COUNTIF(Général!B148:K148,$G$1)=1,\"Course 1\",IF(COUNTIF(Général!B150:K150,$G$1)=1,\"Course 2\",IF(COUNTIF(Général!B152:K152,$G$1)=1,\"Course 3\",\"Course 4\")))","v":"Course 1"},{"$f":"IF(COUNTIF(Général!B158:K158,$G$1)=1,\"Course 1\",IF(COUNTIF(Général!B160:K160,$G$1)=1,\"Course 2\",IF(COUNTIF(Général!B162:K162,$G$1)=1,\"Course 3\",\"Course 4\")))","v":"Course 3"},{"$f":"IF(COUNTIF(Général!B168:K168,$G$1)=1,\"Course 1\",IF(COUNTIF(Général!B170:K170,$G$1)=1,\"Course 2\",IF(COUNTIF(Général!B172:K172,$G$1)=1,\"Course 3\",\"Course 4\")))","v":"Course 3"},{"$f":"IF(COUNTIF(Général!B178:K178,$G$1)=1,\"Course 1\",IF(COUNTIF(Général!B180:K180,$G$1)=1,\"Course 2\",IF(COUNTIF(Général!B182:K182,$G$1)=1,\"Course 3\",\"Course 4\")))","v":"Course 3"},{"$f":"IF(COUNTIF(Général!B188:K188,$G$1)=1,\"Course 1\",IF(COUNTIF(Général!B190:K190,$G$1)=1,\"Course 2\",IF(COUNTIF(Général!B192:K192,$G$1)=1,\"Course 3\",\"Course 4\")))","v":"Course 2"},{"$f":"IF(COUNTIF(Général!B198:K198,$G$1)=1,\"Course 1\",IF(COUNTIF(Général!B200:K200,$G$1)=1,\"Course 2\",IF(COUNTIF(Général!B202:K202,$G$1)=1,\"Course 3\",\"Course 4\")))","v":"Course 3"},{"$f":"IF(COUNTIF(Général!B208:K208,$G$1)=1,\"Course 1\",IF(COUNTIF(Général!B210:K210,$G$1)=1,\"Course 2\",IF(COUNTIF(Général!B212:K212,$G$1)=1,\"Course 3\",\"Course 4\")))","v":"Course 3"},null,{"$f":"Général!B7","v":"Paris Cité"},6]
["Bateau",null,{"$f":"IF(COUNTIF(Général!B38:B44,$G$1)=1,\"Boat 1\",IF(COUNTIF(Général!C38:C44,$G$1)=1,\"Boat 2\",IF(COUNTIF(Général!D38:D44,$G$1)=1,\"Boat 3\", IF(COUNTIF(Général!E38:E44,$G$1)=1,\"Boat 4\", IF(COUNTIF(Général!F38:F44,$G$1)=1,\"Boat 5\", IF(COUNTIF(Général!G38:G44,$G$1)=1,\"Boat 6\", IF(COUNTIF(Général!H38:H44,$G$1)=1,\"Boat 7\",IF(COUNTIF(Général!I38:I44,$G$1)=1,\"Boat 8\",\"Boat 9\"))))))))","v":"Boat 9"},{"$f":"IF(COUNTIF(Général!B48:B54,$G$1)=1,\"Boat 1\",IF(COUNTIF(Général!C48:C54,$G$1)=1,\"Boat 2\",IF(COUNTIF(Général!D48:D54,$G$1)=1,\"Boat 3\", IF(COUNTIF(Général!E48:E54,$G$1)=1,\"Boat 4\", IF(COUNTIF(Général!F48:F54,$G$1)=1,\"Boat 5\", IF(COUNTIF(Général!G48:G54,$G$1)=1,\"Boat 6\", IF(COUNTIF(Général!H48:H54,$G$1)=1,\"Boat 7\",IF(COUNTIF(Général!I38:I44,$G$1)=1,\"Boat 8\",\"Boat 9\"))))))))","v":"Boat 9"},{"$f":"IF(COUNTIF(Général!B58:B64,$G$1)=1,\"Boat 1\",IF(COUNTIF(Général!C58:C64,$G$1)=1,\"Boat 2\",IF(COUNTIF(Général!D58:D64,$G$1)=1,\"Boat 3\", IF(COUNTIF(Général!E58:E64,$G$1)=1,\"Boat 4\", IF(COUNTIF(Général!F58:F64,$G$1)=1,\"Boat 5\", IF(COUNTIF(Général!G58:G64,$G$1)=1,\"Boat 6\", IF(COUNTIF(Général!H58:H64,$G$1)=1,\"Boat 7\",IF(COUNTIF(Général!I38:I44,$G$1)=1,\"Boat 8\",\"Boat 9\"))))))))","v":"Boat 9"},{"$f":"IF(COUNTIF(Général!B68:B74,$G$1)=1,\"Boat 1\",IF(COUNTIF(Général!C68:C74,$G$1)=1,\"Boat 2\",IF(COUNTIF(Général!D68:D74,$G$1)=1,\"Boat 3\", IF(COUNTIF(Général!E68:E74,$G$1)=1,\"Boat 4\", IF(COUNTIF(Général!F68:F74,$G$1)=1,\"Boat 5\", IF(COUNTIF(Général!G68:G74,$G$1)=1,\"Boat 6\", IF(COUNTIF(Général!H68:H74,$G$1)=1,\"Boat 7\",IF(COUNTIF(Général!I38:I44,$G$1)=1,\"Boat 8\",\"Boat 9\"))))))))","v":"Boat 3"},{"$f":"IF(COUNTIF(Général!B78:B84,$G$1)=1,\"Boat 1\",IF(COUNTIF(Général!C78:C84,$G$1)=1,\"Boat 2\",IF(COUNTIF(Général!D78:D84,$G$1)=1,\"Boat 3\", IF(COUNTIF(Général!E78:E84,$G$1)=1,\"Boat 4\", IF(COUNTIF(Général!F78:F84,$G$1)=1,\"Boat 5\", IF(COUNTIF(Général!G78:G84,$G$1)=1,\"Boat 6\", IF(COUNTIF(Général!H78:H84,$G$1)=1,\"Boat 7\",IF(COUNTIF(Général!I38:I44,$G$1)=1,\"Boat 8\",\"Boat 9\"))))))))","v":"Boat 6"},{"$f":"IF(COUNTIF(Général!B88:B94,$G$1)=1,\"Boat 1\",IF(COUNTIF(Général!C88:C94,$G$1)=1,\"Boat 2\",IF(COUNTIF(Général!D88:D94,$G$1)=1,\"Boat 3\", IF(COUNTIF(Général!E88:E94,$G$1)=1,\"Boat 4\", IF(COUNTIF(Général!F88:F94,$G$1)=1,\"Boat 5\", IF(COUNTIF(Général!G88:G94,$G$1)=1,\"Boat 6\", IF(COUNTIF(Général!H88:H94,$G$1)=1,\"Boat 7\",IF(COUNTIF(Général!I38:I44,$G$1)=1,\"Boat 8\",\"Boat 9\"))))))))","v":"Boat 9"},{"$f":"IF(COUNTIF(Général!B98:B104,$G$1)=1,\"Boat 1\",IF(COUNTIF(Général!C98:C104,$G$1)=1,\"Boat 2\",IF(COUNTIF(Général!D98:D104,$G$1)=1,\"Boat 3\", IF(COUNTIF(Général!E98:E104,$G$1)=1,\"Boat 4\", IF(COUNTIF(Général!F98:F104,$G$1)=1,\"Boat 5\", IF(COUNTIF(Général!G98:G104,$G$1)=1,\"Boat 6\", IF(COUNTIF(Général!H98:H104,$G$1)=1,\"Boat 7\",IF(COUNTIF(Général!I38:I44,$G$1)=1,\"Boat 8\",\"Boat 9\"))))))))","v":"Boat 5"},{"$f":"IF(COUNTIF(Général!B108:B114,$G$1)=1,\"Boat 1\",IF(COUNTIF(Général!C108:C114,$G$1)=1,\"Boat 2\",IF(COUNTIF(Général!D108:D114,$G$1)=1,\"Boat 3\", IF(COUNTIF(Général!E108:E114,$G$1)=1,\"Boat 4\", IF(COUNTIF(Général!F108:F114,$G$1)=1,\"Boat 5\", IF(COUNTIF(Général!G108:G114,$G$1)=1,\"Boat 6\", IF(COUNTIF(Général!H108:H114,$G$1)=1,\"Boat 7\",IF(COUNTIF(Général!I38:I44,$G$1)=1,\"Boat 8\",\"Boat 9\"))))))))","v":"Boat 1"},{"$f":"IF(COUNTIF(Général!B118:B124,$G$1)=1,\"Boat 1\",IF(COUNTIF(Général!C118:C124,$G$1)=1,\"Boat 2\",IF(COUNTIF(Général!D118:D124,$G$1)=1,\"Boat 3\", IF(COUNTIF(Général!E118:E124,$G$1)=1,\"Boat 4\", IF(COUNTIF(Général!F118:F124,$G$1)=1,\"Boat 5\", IF(COUNTIF(Général!G118:G124,$G$1)=1,\"Boat 6\", IF(COUNTIF(Général!H118:H124,$G$1)=1,\"Boat 7\",IF(COUNTIF(Général!I38:I44,$G$1)=1,\"Boat 8\",\"Boat 9\"))))))))","v":"Boat 5"},{"$f":"IF(COUNTIF(Général!B128:B134,$G$1)=1,\"Boat 1\",IF(COUNTIF(Général!C128:C134,$G$1)=1,\"Boat 2\",IF(COUNTIF(Général!D128:D134,$G$1)=1,\"Boat 3\", IF(COUNTIF(Général!E128:E134,$G$1)=1,\"Boat 4\", IF(COUNTIF(Général!F128:F134,$G$1)=1,\"Boat 5\", IF(COUNTIF(Général!G128:G134,$G$1)=1,\"Boat 6\", IF(COUNTIF(Général!H128:H134,$G$1)=1,\"Boat 7\",IF(COUNTIF(Général!I38:I44,$G$1)=1,\"Boat 8\",\"Boat 9\"))))))))","v":"Boat 7"},{"$f":"IF(COUNTIF(Général!B138:B144,$G$1)=1,\"Boat 1\",IF(COUNTIF(Général!C138:C144,$G$1)=1,\"Boat 2\",IF(COUNTIF(Général!C138:D144,$G$1)=1,\"Boat 3\", IF(COUNTIF(Général!C138:E144,$G$1)=1,\"Boat 4\", IF(COUNTIF(Général!F138:F144,$G$1)=1,\"Boat 5\", IF(COUNTIF(Général!G138:G144,$G$1)=1,\"Boat 6\", IF(COUNTIF(Général!H138:H144,$G$1)=1,\"Boat 7\",IF(COUNTIF(Général!I38:I44,$G$1)=1,\"Boat 8\",\"Boat 9\"))))))))","v":"Boat 7"},{"$f":"IF(COUNTIF(Général!B148:B154,$G$1)=1,\"Boat 1\",IF(COUNTIF(Général!C148:C154,$G$1)=1,\"Boat 2\",IF(COUNTIF(Général!D148:D154,$G$1)=1,\"Boat 3\", IF(COUNTIF(Général!E148:E154,$G$1)=1,\"Boat 4\", IF(COUNTIF(Général!F148:F154,$G$1)=1,\"Boat 5\", IF(COUNTIF(Général!G148:G154,$G$1)=1,\"Boat 6\", IF(COUNTIF(Général!H148:H154,$G$1)=1,\"Boat 7\",IF(COUNTIF(Général!I38:I44,$G$1)=1,\"Boat 8\",\"Boat 9\"))))))))","v":"Boat 2"},{"$f":"IF(COUNTIF(Général!B158:B164,$G$1)=1,\"Boat 1\",IF(COUNTIF(Général!C158:C164,$G$1)=1,\"Boat 2\",IF(COUNTIF(Général!D160:D164,$G$1)=1,\"Boat 3\", IF(COUNTIF(Général!E158:E164,$G$1)=1,\"Boat 4\", IF(COUNTIF(Général!F158:F164,$G$1)=1,\"Boat 5\", IF(COUNTIF(Général!G158:G164,$G$1)=1,\"Boat 6\", IF(COUNTIF(Général!H158:H164,$G$1)=1,\"Boat 7\",IF(COUNTIF(Général!I38:I44,$G$1)=1,\"Boat 8\",\"Boat 9\"))))))))","v":"Boat 9"},{"$f":"IF(COUNTIF(Général!B168:B174,$G$1)=1,\"Boat 1\",IF(COUNTIF(Général!C168:C174,$G$1)=1,\"Boat 2\",IF(COUNTIF(Général!D168:D174,$G$1)=1,\"Boat 3\", IF(COUNTIF(Général!E168:E174,$G$1)=1,\"Boat 4\", IF(COUNTIF(Général!F178:F184,$G$1)=1,\"Boat 5\", IF(COUNTIF(Général!G178:G184,$G$1)=1,\"Boat 6\", IF(COUNTIF(Général!H178:H184,$G$1)=1,\"Boat 7\",IF(COUNTIF(Général!I38:I44,$G$1)=1,\"Boat 8\",\"Boat 9\"))))))))","v":"Boat 9"},{"$f":"IF(COUNTIF(Général!B178:B184,$G$1)=1,\"Boat 1\",IF(COUNTIF(Général!C178:C184,$G$1)=1,\"Boat 2\",IF(COUNTIF(Général!D178:D184,$G$1)=1,\"Boat 3\", IF(COUNTIF(Général!E178:E184,$G$1)=1,\"Boat 4\", IF(COUNTIF(Général!F178:F184,$G$1)=1,\"Boat 5\", IF(COUNTIF(Général!G178:G184,$G$1)=1,\"Boat 6\", IF(COUNTIF(Général!H178:H184,$G$1)=1,\"Boat 7\",IF(COUNTIF(Général!I38:I44,$G$1)=1,\"Boat 8\",\"Boat 9\"))))))))","v":"Boat 4"},{"$f":"IF(COUNTIF(Général!B188:B194,$G$1)=1,\"Boat 1\",IF(COUNTIF(Général!C188:C194,$G$1)=1,\"Boat 2\",IF(COUNTIF(Général!D188:D194,$G$1)=1,\"Boat 3\", IF(COUNTIF(Général!E188:E194,$G$1)=1,\"Boat 4\", IF(COUNTIF(Général!F188:F194,$G$1)=1,\"Boat 5\", IF(COUNTIF(Général!G188:G194,$G$1)=1,\"Boat 6\", IF(COUNTIF(Général!H188:H194,$G$1)=1,\"Boat 7\",IF(COUNTIF(Général!I38:I44,$G$1)=1,\"Boat 8\",\"Boat 9\"))))))))","v":"Boat 7"},{"$f":"IF(COUNTIF(Général!B198:B204,$G$1)=1,\"Boat 1\",IF(COUNTIF(Général!C198:C204,$G$1)=1,\"Boat 2\",IF(COUNTIF(Général!D198:D204,$G$1)=1,\"Boat 3\", IF(COUNTIF(Général!E198:E204,$G$1)=1,\"Boat 4\", IF(COUNTIF(Général!F198:F204,$G$1)=1,\"Boat 5\", IF(COUNTIF(Général!G198:G204,$G$1)=1,\"Boat 6\", IF(COUNTIF(Général!H198:H204,$G$1)=1,\"Boat 7\",IF(COUNTIF(Général!I38:I44,$G$1)=1,\"Boat 8\",\"Boat 9\"))))))))","v":"Boat 5"},{"$f":"IF(COUNTIF(Général!B208:B214,$G$1)=1,\"Boat 1\",IF(COUNTIF(Général!C208:C214,$G$1)=1,\"Boat 2\",IF(COUNTIF(Général!D208:D214,$G$1)=1,\"Boat 3\", IF(COUNTIF(Général!E208:E214,$G$1)=1,\"Boat 4\", IF(COUNTIF(Général!F208:F214,$G$1)=1,\"Boat 5\", IF(COUNTIF(Général!G208:G214,$G$1)=1,\"Boat 6\", IF(COUNTIF(Général!H208:H214,$G$1)=1,\"Boat 7\",IF(COUNTIF(Général!I38:I44,$G$1)=1,\"Boat 8\",\"Boat 9\"))))))))","v":"Boat 9"},null,{"$f":"Général!B8","v":"Plymouth"},5]
[null,null,null,null,null,null,null,null,null,null,null,null,null,null,null,null,null,null,null,null,null,{"$f":"Général!B9","v":"Unicaen 2"},5]
["1er Equipage",null,{"$f":"IF($C$5=\"Course 1\",Général!B38,IF($C$5=\"Course 2\",Général!B40,IF($C$5=\"Course 3\",Général!B42,Général!B44)))","v":"La Rochelle 1"},{"$f":"IF($D$5=\"Course 1\",Général!B48,IF($D$5=\"Course 2\",Général!B50,IF($D$5=\"Course 3\",Général!B52,Général!B54)))","v":"UBO 1"},{"$f":"IF($E$5=\"Course 1\",Général!B58,IF($E$5=\"Course 2\",Général!B60,IF($E$5=\"Course 3\",Général!B62,Général!B64)))","v":"Orléans"},{"$f":"IF($F$5=\"Course 1\",Général!B$68,IF($F$5=\"Course 2\",Général!B$70,IF($F$5=\"Course 3\",Général!B$72,Général!B$74)))","v":"ST Brieuc 2"},{"$f":"IF($G$5=\"Course 1\",Général!B$78,IF($G$5=\"Course 2\",Général!B$80,IF($G$5=\"Course 3\",Général!B$82,Général!B$84)))","v":"Plymouth"},{"$f":"IF($H$5=\"Course 1\",Général!B$88,IF($H$5=\"Course 2\",Général!B$90,IF($H$5=\"Course 3\",Général!B$92,Général!B$94)))","v":"ENSTA 2"},{"$f":"IF($I$5=\"Course 1\",Général!B$98,IF($I$5=\"Course 2\",Général!B$100,IF($I$5=\"Course 3\",Général!B$102,Général!B$104)))","v":"La Rochelle 2"},{"$f":"IF($J$5=\"Course 1\",Général!B$108,IF($J$5=\"Course 2\",Général!B$110,IF($J$5=\"Course 3\",Général!B$112,Général!B$114)))","v":"Centrale Nantes 1"},{"$f":"IF($K$5=\"Course 1\",Général!B$118,IF($K$5=\"Course 2\",Général!B$120,IF($K$5=\"Course 3\",Général!B$122,Général!B$124)))","v":"UNIV Nantes 1"},{"$f":"IF($L$5=\"Course 1\",Général!B$128,IF($L$5=\"Course 2\",Général!B$130,IF($L$5=\"Course 3\",Général!B$132,Général!B$134)))","v":"IMT Brest 2"},{"$f":"IF($M$5=\"Course 1\",Général!B$138,IF($M$5=\"Course 2\",Général!B$140,IF($M$5=\"Course 3\",Général!B$142,Général!B$144)))","v":"IMT Brest 2"},{"$f":"IF($N$5=\"Course 1\",Général!B$148,IF($N$5=\"Course 2\",Général!B$150,IF($N$5=\"Course 3\",Général!B$152,Général!B$154)))","v":"St Brieuc 1"},{"$f":"IF($O$5=\"Course 1\",Général!B$158,IF($O$5=\"Course 2\",Général!B$160,IF($O$5=\"Course 3\",Général!B$162,Général!B$164)))","v":"St Brieuc 1"},{"$f":"IF($P$5=\"Course 1\",Général!B$168,IF($P$5=\"Course 2\",Général!B$170,IF($P$5=\"Course 3\",Général!B$172,Général!B$174)))","v":"Plymouth"},{"$f":"IF($Q$5=\"Course 1\",Général!B$178,IF($Q$5=\"Course 2\",Général!B$180,IF($Q$5=\"Course 3\",Général!B$182,Général!B$184)))","v":"Paris Cité"},{"$f":"IF($R$5=\"Course 1\",Général!B$188,IF($R$5=\"Course 2\",Général!B$190,IF($R$5=\"Course 3\",Général!B$192,Général!B$194)))","v":"Karlsruhe"},{"$f":"IF($S$5=\"Course 1\",Général!B$198,IF($S$5=\"Course 2\",Général!B$200,IF($S$5=\"Course 3\",Général!B$202,Général!B$204)))","v":"UBS Lorient 2"},{"$f":"IF($T$5=\"Course 1\",Général!B$208,IF($T$5=\"Course 2\",Général!B$210,IF($T$5=\"Course 3\",Général!B$212,Général!B$214)))","v":"IMT Brest 1"},null,{"$f":"Général!B10","v":"Univ Nantes 2"},5]
["2nd Equipage",null,{"$f":"IF($C$5=\"Course 1\",Général!C38,IF($C$5=\"Course 2\",Général!C40,IF($C$5=\"Course 3\",Général!C42,Général!C44)))","v":"UBS Lorient 1"},{"$f":"IF($D$5=\"Course 1\",Général!C48,IF($D$5=\"Course 2\",Général!C50,IF($D$5=\"Course 3\",Général!C52,Général!C54)))","v":"Centrale Nantes 2"},{"$f":"IF($E$5=\"Course 1\",Général!C58,IF($E$5=\"Course 2\",Général!C60,IF($E$5=\"Course 3\",Général!C62,Général!C64)))","v":"UBS Lorient 2"},{"$f":"IF($F$5=\"Course 1\",Général!C$68,IF($F$5=\"Course 2\",Général!C$70,IF($F$5=\"Course 3\",Général!C$72,Général!C$74)))","v":"La Rochelle 1"},{"$f":"IF($G$5=\"Course 1\",Général!C$78,IF($G$5=\"Course 2\",Général!C$80,IF($G$5=\"Course 3\",Général!C$82,Général!C$84)))","v":"Univ Nantes 3"},{"$f":"IF($H$5=\"Course 1\",Général!C$88,IF($H$5=\"Course 2\",Général!C$90,IF($H$5=\"Course 3\",Général!C$92,Général!C$94)))","v":"Southampton"},{"$f":"IF($I$5=\"Course 1\",Général!C$98,IF($I$5=\"Course 2\",Général!C$100,IF($I$5=\"Course 3\",Général!C$102,Général!C$104)))","v":"ENSTA 2"},{"$f":"IF($J$5=\"Course 1\",Général!C$108,IF($J$5=\"Course 2\",Général!C$110,IF($J$5=\"Course 3\",Général!C$112,Général!C$114)))","v":"ENSMAC"},{"$f":"IF($K$5=\"Course 1\",Général!C$118,IF($K$5=\"Course 2\",Général!C$120,IF($K$5=\"Course 3\",Général!C$122,Général!C$124)))","v":"UBS Lorient 1"},{"$f":"IF($L$5=\"Course 1\",Général!C$128,IF($L$5=\"Course 2\",Général!C$130,IF($L$5=\"Course 3\",Général!C$132,Général!C$134)))","v":"UNIV Nantes 1"},{"$f":"IF($M$5=\"Course 1\",Général!C$138,IF($M$5=\"Course 2\",Général!C$140,IF($M$5=\"Course 3\",Général!C$142,Général!C$144)))","v":"UNIV Nantes 1"},{"$f":"IF($N$5=\"Course 1\",Général!C$148,IF($N$5=\"Course 2\",Général!C$150,IF($N$5=\"Course 3\",Général!C$152,Général!C$154)))","v":"Centrale Nantes 1"},{"$f":"IF($O$5=\"Course 1\",Général!C$158,IF($O$5=\"Course 2\",Général!C$160,IF($O$5=\"Course 3\",Général!C$162,Général!C$164)))","v":"Karlsruhe"},{"$f":"IF($P$5=\"Course 1\",Général!C$168,IF($P$5=\"Course 2\",Général!C$170,IF($P$5=\"Course 3\",Général!C$172,Général!C$174)))","v":"La Rochelle 2"},{"$f":"IF($Q$5=\"Course 1\",Général!C$178,IF($Q$5=\"Course 2\",Général!C$180,IF($Q$5=\"Course 3\",Général!C$182,Général!C$184)))","v":"ENSTA 1"},{"$f":"IF($R$5=\"Course 1\",Général!C$188,IF($R$5=\"Course 2\",Général!C$190,IF($R$5=\"Course 3\",Général!C$192,Général!C$194)))","v":"ST Brieuc 2"},{"$f":"IF($S$5=\"Course 1\",Général!C$198,IF($S$5=\"Course 2\",Général!C$200,IF($S$5=\"Course 3\",Général!C$202,Général!C$204)))","v":"Paris Sorbone"},{"$f":"IF($T$5=\"Course 1\",Général!C$208,IF($T$5=\"Course 2\",Général!C$210,IF($T$5=\"Course 3\",Général!C$212,Général!C$214)))","v":"Hannover"},null,{"$f":"Général!B11","v":"Karlsruhe"},7]
["3ème Equipage",null,{"$f":"IF($C$5=\"Course 1\",Général!D38,IF($C$5=\"Course 2\",Général!D40,IF($C$5=\"Course 3\",Général!D42,Général!D44)))","v":"UBO 1"},{"$f":"IF($D$5=\"Course 1\",Général!D48,IF($D$5=\"Course 2\",Général!D50,IF($D$5=\"Course 3\",Général!D52,Général!D54)))","v":"IMT Brest 2"},{"$f":"IF($E$5=\"Course 1\",Général!D58,IF($E$5=\"Course 2\",Général!D60,IF($E$5=\"Course 3\",Général!D62,Général!D64)))","v":"IMT Brest 2"},{"$f":"IF($F$5=\"Course 1\",Général!D$68,IF($F$5=\"Course 2\",Général!D$70,IF($F$5=\"Course 3\",Général!D$72,Général!D$74)))","v":"Centrale Nantes 1"},{"$f":"IF($G$5=\"Course 1\",Général!D$78,IF($G$5=\"Course 2\",Général!D$80,IF($G$5=\"Course 3\",Général!D$82,Général!D$84)))","v":"Paris Sorbone"},{"$f":"IF($H$5=\"Course 1\",Général!D$88,IF($H$5=\"Course 2\",Général!D$90,IF($H$5=\"Course 3\",Général!D$92,Général!D$94)))","v":"UBO 1"},{"$f":"IF($I$5=\"Course 1\",Général!D$98,IF($I$5=\"Course 2\",Général!D$100,IF($I$5=\"Course 3\",Général!D$102,Général!D$104)))","v":"Hannover"},{"$f":"IF($J$5=\"Course 1\",Général!D$108,IF($J$5=\"Course 2\",Général!D$110,IF($J$5=\"Course 3\",Général!D$112,Général!D$114)))","v":"INSA Lyon"},{"$f":"IF($K$5=\"Course 1\",Général!D$118,IF($K$5=\"Course 2\",Général!D$120,IF($K$5=\"Course 3\",Général!D$122,Général!D$124)))","v":"ENSMAC"},{"$f":"IF($L$5=\"Course 1\",Général!D$128,IF($L$5=\"Course 2\",Général!D$130,IF($L$5=\"Course 3\",Général!D$132,Général!D$134)))","v":"UBS Lorient 1"},{"$f":"IF($M$5=\"Course 1\",Général!D$138,IF($M$5=\"Course 2\",Général!D$140,IF($M$5=\"Course 3\",Général!D$142,Général!D$144)))","v":"UBS Lorient 1"},{"$f":"IF($N$5=\"Course 1\",Général!D$148,IF($N$5=\"Course 2\",Général!D$150,IF($N$5=\"Course 3\",Général!D$152,Général!D$154)))","v":"Unicaen 1"},{"$f":"IF($O$5=\"Course 1\",Général!D$158,IF($O$5=\"Course 2\",Général!D$160,IF($O$5=\"Course 3\",Général!D$162,Général!D$164)))","v":"ENSTA 1"},{"$f":"IF($P$5=\"Course 1\",Général!D$168,IF($P$5=\"Course 2\",Général!D$170,IF($P$5=\"Course 3\",Général!D$172,Général!D$174)))","v":"Karlsruhe"},{"$f":"IF($Q$5=\"Course 1\",Général!D$178,IF($Q$5=\"Course 2\",Général!D$180,IF($Q$5=\"Course 3\",Général!D$182,Général!D$184)))","v":"La Rochelle 1"},{"$f":"IF($R$5=\"Course 1\",Général!D$188,IF($R$5=\"Course 2\",Général!D$190,IF($R$5=\"Course 3\",Général!D$192,Général!D$194)))","v":"Orléans"},{"$f":"IF($S$5=\"Course 1\",Général!D$198,IF($S$5=\"Course 2\",Général!D$200,IF($S$5=\"Course 3\",Général!D$202,Général!D$204)))","v":"IMT Brest 2"},{"$f":"IF($T$5=\"Course 1\",Général!D$208,IF($T$5=\"Course 2\",Général!D$210,IF($T$5=\"Course 3\",Général!D$212,Général!D$214)))","v":"La Rochelle 2"},null,{"$f":"Général!B12","v":"IMT Brest 2"},8]
["4ème Equipage",null,{"$f":"IF($C$5=\"Course 1\",Général!E38,IF($C$5=\"Course 2\",Général!E40,IF($C$5=\"Course 3\",Général!E42,Général!E44)))","v":"Southampton"},{"$f":"IF($D$5=\"Course 1\",Général!E48,IF($D$5=\"Course 2\",Général!E50,IF($D$5=\"Course 3\",Général!E52,Général!E54)))","v":"Paris Cité"},{"$f":"IF($E$5=\"Course 1\",Général!E58,IF($E$5=\"Course 2\",Général!E60,IF($E$5=\"Course 3\",Général!E62,Général!E64)))","v":"Paris Sorbone"},{"$f":"IF($F$5=\"Course 1\",Général!E$68,IF($F$5=\"Course 2\",Général!E$70,IF($F$5=\"Course 3\",Général!E$72,Général!E$74)))","v":"Plymouth"},{"$f":"IF($G$5=\"Course 1\",Général!E$78,IF($G$5=\"Course 2\",Général!E$80,IF($G$5=\"Course 3\",Général!E$82,Général!E$84)))","v":"St Brieuc 1"},{"$f":"IF($H$5=\"Course 1\",Général!E$88,IF($H$5=\"Course 2\",Général!E$90,IF($H$5=\"Course 3\",Général!E$92,Général!E$94)))","v":"La Rochelle 1"},{"$f":"IF($I$5=\"Course 1\",Général!E$98,IF($I$5=\"Course 2\",Général!E$100,IF($I$5=\"Course 3\",Général!E$102,Général!E$104)))","v":"Paris Sorbone"},{"$f":"IF($J$5=\"Course 1\",Général!E$108,IF($J$5=\"Course 2\",Général!E$110,IF($J$5=\"Course 3\",Général!E$112,Général!E$114)))","v":"Univ Nantes 2"},{"$f":"IF($K$5=\"Course 1\",Général!E$118,IF($K$5=\"Course 2\",Général!E$120,IF($K$5=\"Course 3\",Général!E$122,Général!E$124)))","v":"UBS Lorient 2"},{"$f":"IF($L$5=\"Course 1\",Général!E$128,IF($L$5=\"Course 2\",Général!E$130,IF($L$5=\"Course 3\",Général!E$132,Général!E$134)))","v":"Karlsruhe"},{"$f":"IF($M$5=\"Course 1\",Général!E$138,IF($M$5=\"Course 2\",Général!E$140,IF($M$5=\"Course 3\",Général!E$142,Général!E$144)))","v":"Orléans"},{"$f":"IF($N$5=\"Course 1\",Général!E$148,IF($N$5=\"Course 2\",Général!E$150,IF($N$5=\"Course 3\",Général!E$152,Général!E$154)))","v":"Orléans"},{"$f":"IF($O$5=\"Course 1\",Général!E$158,IF($O$5=\"Course 2\",Général!E$160,IF($O$5=\"Course 3\",Général!E$162,Général!E$164)))","v":"Univ Nantes 2"},{"$f":"IF($P$5=\"Course 1\",Général!E$168,IF($P$5=\"Course 2\",Général!E$170,IF($P$5=\"Course 3\",Général!E$172,Général!E$174)))","v":"UBO 1"},{"$f":"IF($Q$5=\"Course 1\",Général!E$178,IF($Q$5=\"Course 2\",Général!E$180,IF($Q$5=\"Course 3\",Général!E$182,Général!E$184)))","v":"Centrale Nantes 1"},{"$f":"IF($R$5=\"Course 1\",Général!E$188,IF($R$5=\"Course 2\",Général!E$190,IF($R$5=\"Course 3\",Général!E$192,Général!E$194)))","v":"Paris Cité"},{"$f":"IF($S$5=\"Course 1\",Général!E$198,IF($S$5=\"Course 2\",Général!E$200,IF($S$5=\"Course 3\",Général!E$202,Général!E$204)))","v":"Centrale Nantes 2"},{"$f":"IF($T$5=\"Course 1\",Général!E$208,IF($T$5=\"Course 2\",Général!E$210,IF($T$5=\"Course 3\",Général!E$212,Général!E$214)))","v":"Plymouth"},null,{"$f":"Général!B13","v":"Unicaen 1"},4]
["5ème Equipage",null,{"$f":"IF($C$5=\"Course 1\",Général!F38,IF($C$5=\"Course 2\",Général!F40,IF($C$5=\"Course 3\",Général!F42,Général!F44)))","v":"ENSTA 2"},{"$f":"IF($D$5=\"Course 1\",Général!F48,IF($D$5=\"Course 2\",Général!F50,IF($D$5=\"Course 3\",Général!F52,Général!F54)))","v":"UBO 2"},{"$f":"IF($E$5=\"Course 1\",Général!F58,IF($E$5=\"Course 2\",Général!F60,IF($E$5=\"Course 3\",Général!F62,Général!F64)))","v":"Univ Nantes 2"},{"$f":"IF($F$5=\"Course 1\",Général!F$68,IF($F$5=\"Course 2\",Général!F$70,IF($F$5=\"Course 3\",Général!F$72,Général!F$74)))","v":"UBS Lorient 1"},{"$f":"IF($G$5=\"Course 1\",Général!F$78,IF($G$5=\"Course 2\",Général!F$80,IF($G$5=\"Course 3\",Général!F$82,Général!F$84)))","v":"INSA Lyon"},{"$f":"IF($H$5=\"Course 1\",Général!F$88,IF($H$5=\"Course 2\",Général!F$90,IF($H$5=\"Course 3\",Général!F$92,Général!F$94)))","v":"Orléans"},{"$f":"IF($I$5=\"Course 1\",Général!F$98,IF($I$5=\"Course 2\",Général!F$100,IF($I$5=\"Course 3\",Général!F$102,Général!F$104)))","v":"Centrale Nantes 1"},{"$f":"IF($J$5=\"Course 1\",Général!F$108,IF($J$5=\"Course 2\",Général!F$110,IF($J$5=\"Course 3\",Général!F$112,Général!F$114)))","v":"IMT Nantes"},{"$f":"IF($K$5=\"Course 1\",Général!F$118,IF($K$5=\"Course 2\",Général!F$120,IF($K$5=\"Course 3\",Général!F$122,Général!F$124)))","v":"Centrale Nantes 1"},{"$f":"IF($L$5=\"Course 1\",Général!F$128,IF($L$5=\"Course 2\",Général!$F130,IF($L$5=\"Course 3\",Général!F$132,Général!F$134)))","v":"Paris Sorbone"},{"$f":"IF($M$5=\"Course 1\",Général!F$138,IF($M$5=\"Course 2\",Général!F$140,IF($M$5=\"Course 3\",Général!F$142,Général!F$144)))","v":"Paris Cité"},{"$f":"IF($N$5=\"Course 1\",Général!F$148,IF($N$5=\"Course 2\",Général!F$150,IF($N$5=\"Course 3\",Général!F$152,Général!F$154)))","v":"Paris Cité"},{"$f":"IF($O$5=\"Course 1\",Général!F$158,IF($O$5=\"Course 2\",Général!F$160,IF($O$5=\"Course 3\",Général!F$162,Général!F$164)))","v":"UNIV Nantes 1"},{"$f":"IF($P$5=\"Course 1\",Général!F$168,IF($P$5=\"Course 2\",Général!F$170,IF($P$5=\"Course 3\",Général!F$172,Général!F$174)))","v":"Hannover"},{"$f":"IF($Q$5=\"Course 1\",Général!F$178,IF($Q$5=\"Course 2\",Général!F$180,IF($Q$5=\"Course 3\",Général!F$182,Général!F$184)))","v":"Hannover"},{"$f":"IF($R$5=\"Course 1\",Général!F$188,IF($R$5=\"Course 2\",Général!F$190,IF($R$5=\"Course 3\",Général!F$192,Général!F$194)))","v":"ENSMAC"},{"$f":"IF($S$5=\"Course 1\",Général!F$198,IF($S$5=\"Course 2\",Général!F$200,IF($S$5=\"Course 3\",Général!F$202,Général!F$204)))","v":"Centrale Nantes 1"},{"$f":"IF($T$5=\"Course 1\",Général!F$208,IF($T$5=\"Course 2\",Général!F$210,IF($T$5=\"Course 3\",Général!F$212,Général!F$214)))","v":"La Rochelle 1"},null,{"$f":"Général!B14","v":"ENSTA 1"},3]
["6ème Equipage",null,{"$f":"IF($C$5=\"Course 1\",Général!G38,IF($C$5=\"Course 2\",Général!G40,IF($C$5=\"Course 3\",Général!G42,Général!G44)))","v":"Plymouth"},{"$f":"IF($D$5=\"Course 1\",Général!G48,IF($D$5=\"Course 2\",Général!G50,IF($D$5=\"Course 3\",Général!G52,Général!G54)))","v":"La Rochelle 2"},{"$f":"IF($E$5=\"Course 1\",Général!G58,IF($E$5=\"Course 2\",Général!G60,IF($E$5=\"Course 3\",Général!G62,Général!G64)))","v":"La Rochelle 2"},{"$f":"IF($F$5=\"Course 1\",Général!G$68,IF($F$5=\"Course 2\",Général!G$70,IF($F$5=\"Course 3\",Général!G$72,Général!G$74)))","v":"IMT Brest 1"},{"$f":"IF($G$5=\"Course 1\",Général!G$78,IF($G$5=\"Course 2\",Général!G$80,IF($G$5=\"Course 3\",Général!G$82,Général!G$84)))","v":"Centrale Nantes 1"},{"$f":"IF($H$5=\"Course 1\",Général!G$88,IF($H$5=\"Course 2\",Général!G$90,IF($H$5=\"Course 3\",Général!G$92,Général!G$94)))","v":"Paris Cité"},{"$f":"IF($I$5=\"Course 1\",Général!G$98,IF($I$5=\"Course 2\",Général!G$100,IF($I$5=\"Course 3\",Général!G$102,Général!G$104)))","v":"Unicaen 2"},{"$f":"IF($J$5=\"Course 1\",Général!G$108,IF($J$5=\"Course 2\",Général!G$110,IF($J$5=\"Course 3\",Général!G$112,Général!G$114)))","v":"Karlsruhe"},{"$f":"IF($K$5=\"Course 1\",Général!G$118,IF($K$5=\"Course 2\",Général!G$120,IF($K$5=\"Course 3\",Général!G$122,Général!G$124)))","v":"St Brieuc 1"},{"$f":"IF($L$5=\"Course 1\",Général!G$128,IF($L$5=\"Course 2\",Général!G$130,IF($L$5=\"Course 3\",Général!G$132,Général!G$134)))","v":"ENSTA 2"},{"$f":"IF($M$5=\"Course 1\",Général!G$138,IF($M$5=\"Course 2\",Général!G$140,IF($M$5=\"Course 3\",Général!G$142,Général!G$144)))","v":"Unicaen 1"},{"$f":"IF($N$5=\"Course 1\",Général!G$148,IF($N$5=\"Course 2\",Général!G$150,IF($N$5=\"Course 3\",Général!G$152,Général!G$154)))","v":"Southampton"},{"$f":"IF($O$5=\"Course 1\",Général!G$158,IF($O$5=\"Course 2\",Général!G$160,IF($O$5=\"Course 3\",Général!G$162,Général!G$164)))","v":"Unicaen 2"},{"$f":"IF($P$5=\"Course 1\",Général!G$168,IF($P$5=\"Course 2\",Général!G$170,IF($P$5=\"Course 3\",Général!G$172,Général!G$174)))","v":"UBS Lorient 2"},{"$f":"IF($Q$5=\"Course 1\",Général!G$178,IF($Q$5=\"Course 2\",Général!G$180,IF($Q$5=\"Course 3\",Général!G$182,Général!G$184)))","v":"Centrale Nantes 2"},{"$f":"IF($R$5=\"Course 1\",Général!G$188,IF($R$5=\"Course 2\",Général!G$190,IF($R$5=\"Course 3\",Général!G$192,Général!G$194)))","v":"IMT Brest 1"},{"$f":"IF($S$5=\"Course 1\",Général!G$198,IF($S$5=\"Course 2\",Général!G$200,IF($S$5=\"Course 3\",Général!G$202,Général!G$204)))","v":"Orléans"},{"$f":"IF($T$5=\"Course 1\",Général!G$208,IF($T$5=\"Course 2\",Général!G$210,IF($T$5=\"Course 3\",Général!G$212,Général!G$214)))","v":"Southampton"},null,{"$f":"Général!B15","v":"Orléans"},8]
["7ème Equipage",null,{"$f":"IF($C$5=\"Course 1\",Général!H38,IF($C$5=\"Course 2\",Général!H40,IF($C$5=\"Course 3\",Général!H42,Général!H44)))","v":"Univ Nantes 2"},{"$f":"IF($D$5=\"Course 1\",Général!H48,IF($D$5=\"Course 2\",Général!H50,IF($D$5=\"Course 3\",Général!H52,Général!H54)))","v":"Karlsruhe"},{"$f":"IF($E$5=\"Course 1\",Général!H58,IF($E$5=\"Course 2\",Général!H60,IF($E$5=\"Course 3\",Général!H62,Général!H64)))","v":"Intechmer"},{"$f":"IF($F$5=\"Course 1\",Général!H$68,IF($F$5=\"Course 2\",Général!H$70,IF($F$5=\"Course 3\",Général!H$72,Général!H$74)))","v":"IMT Brest 2"},{"$f":"IF($G$5=\"Course 1\",Général!H$78,IF($G$5=\"Course 2\",Général!H$80,IF($G$5=\"Course 3\",Général!H$82,Général!H$84)))","v":"La Rochelle 2"},{"$f":"IF($H$5=\"Course 1\",Général!H$88,IF($H$5=\"Course 2\",Général!H$90,IF($H$5=\"Course 3\",Général!H$92,Général!H$94)))","v":"Hannover"},{"$f":"IF($I$5=\"Course 1\",Général!H$98,IF($I$5=\"Course 2\",Général!H$100,IF($I$5=\"Course 3\",Général!H$102,Général!H$104)))","v":"IMT Brest 2"},{"$f":"IF($J$5=\"Course 1\",Général!H$108,IF($J$5=\"Course 2\",Général!H$110,IF($J$5=\"Course 3\",Général!H$112,Général!H$114)))","v":"Unicaen 2"},{"$f":"IF($K$5=\"Course 1\",Général!H$118,IF($K$5=\"Course 2\",Général!H$120,IF($K$5=\"Course 3\",Général!H$122,Général!H$124)))","v":"Orléans"},{"$f":"IF($L$5=\"Course 1\",Général!H$128,IF($L$5=\"Course 2\",Général!H$130,IF($L$5=\"Course 3\",Général!H$132,Général!H$134)))","v":"Centrale Nantes 1"},{"$f":"IF($M$5=\"Course 1\",Général!H$138,IF($M$5=\"Course 2\",Général!H$140,IF($M$5=\"Course 3\",Général!H$142,Général!H$144)))","v":"Centrale Nantes 1"},{"$f":"IF($N$5=\"Course 1\",Général!H$148,IF($N$5=\"Course 2\",Général!H$150,IF($N$5=\"Course 3\",Général!H$152,Général!H$154)))","v":"IMT Brest 1"},{"$f":"IF($O$5=\"Course 1\",Général!H$158,IF($O$5=\"Course 2\",Général!H$160,IF($O$5=\"Course 3\",Général!H$162,Général!H$164)))","v":"Univ Nantes 3"},{"$f":"IF($P$5=\"Course 1\",Général!H$168,IF($P$5=\"Course 2\",Général!H$170,IF($P$5=\"Course 3\",Général!H$172,Général!H$174)))","v":"UBS Lorient 1"},{"$f":"IF($Q$5=\"Course 1\",Général!H$178,IF($Q$5=\"Course 2\",Général!H$180,IF($Q$5=\"Course 3\",Général!H$182,Général!H$184)))","v":"IMT Brest 1"},{"$f":"IF($R$5=\"Course 1\",Général!H$188,IF($R$5=\"Course 2\",Général!H$190,IF($R$5=\"Course 3\",Général!H$192,Général!H$194)))","v":"Centrale Nantes 1"},{"$f":"IF($S$5=\"Course 1\",Général!H$198,IF($S$5=\"Course 2\",Général!H$200,IF($S$5=\"Course 3\",Général!H$202,Général!H$204)))","v":"La Rochelle 1"},{"$f":"IF($T$5=\"Course 1\",Général!H$208,IF($T$5=\"Course 2\",Général!H$210,IF($T$5=\"Course 3\",Général!H$212,Général!H$214)))","v":"Unicaen 1"},null,{"$f":"Général!B16","v":"IMT Brest 1"},5]
["8ème Equipage",null,{"$f":"IF($C$5=\"Course 1\",Général!I38,IF($C$5=\"Course 2\",Général!I40,IF($C$5=\"Course 3\",Général!I42,Général!I44)))","v":"INSA Lyon"},{"$f":"IF($D$5=\"Course 1\",Général!I48,IF($D$5=\"Course 2\",Général!I50,IF($D$5=\"Course 3\",Général!I52,Général!I54)))","v":"Centrale Nantes 1"},{"$f":"IF($E$5=\"Course 1\",Général!I58,IF($E$5=\"Course 2\",Général!I60,IF($E$5=\"Course 3\",Général!I62,Général!I64)))","v":"Centrale Nantes 1"},{"$f":"IF($F$5=\"Course 1\",Général!I$68,IF($F$5=\"Course 2\",Général!I$70,IF($F$5=\"Course 3\",Général!I$72,Général!I$74)))","v":"UBO 1"},{"$f":"IF($G$5=\"Course 1\",Général!I$78,IF($G$5=\"Course 2\",Général!I$80,IF($G$5=\"Course 3\",Général!I$82,Général!I$84)))","v":"Centrale Nantes 2"},{"$f":"IF($H$5=\"Course 1\",Général!I$88,IF($H$5=\"Course 2\",Général!I$90,IF($H$5=\"Course 3\",Général!I$92,Général!I$94)))","v":"IMT Nantes"},{"$f":"IF($I$5=\"Course 1\",Général!I$98,IF($I$5=\"Course 2\",Général!I$100,IF($I$5=\"Course 3\",Général!I$102,Général!I$104)))","v":"INSA Lyon"},{"$f":"IF($J$5=\"Course 1\",Général!I$108,IF($J$5=\"Course 2\",Général!I$110,IF($J$5=\"Course 3\",Général!I$112,Général!I$114)))","v":"Unicaen 1"},{"$f":"IF($K$5=\"Course 1\",Général!I$118,IF($K$5=\"Course 2\",Général!I$120,IF($K$5=\"Course 3\",Général!I$122,Général!I$124)))","v":"Univ Nantes 2"},{"$f":"IF($L$5=\"Course 1\",Général!I$128,IF($L$5=\"Course 2\",Général!I$130,IF($L$5=\"Course 3\",Général!I$132,Général!I$134)))","v":"Hannover"},{"$f":"IF($M$5=\"Course 1\",Général!I$138,IF($M$5=\"Course 2\",Général!I$140,IF($M$5=\"Course 3\",Général!I$142,Général!I$144)))","v":"Hannover"},{"$f":"IF($N$5=\"Course 1\",Général!I$148,IF($N$5=\"Course 2\",Général!I$150,IF($N$5=\"Course 3\",Général!I$152,Général!I$154)))","v":"Unicaen 2"},{"$f":"IF($O$5=\"Course 1\",Général!I$158,IF($O$5=\"Course 2\",Général!I$160,IF($O$5=\"Course 3\",Général!I$162,Général!I$164)))","v":"UBS Lorient 2"},{"$f":"IF($P$5=\"Course 1\",Général!I$168,IF($P$5=\"Course 2\",Général!I$170,IF($P$5=\"Course 3\",Général!I$172,Général!I$174)))","v":"Unicaen 2"},{"$f":"IF($Q$5=\"Course 1\",Général!I$178,IF($Q$5=\"Course 2\",Général!I$180,IF($Q$5=\"Course 3\",Général!I$182,Général!I$184)))","v":"Univ Nantes 3"},{"$f":"IF($R$5=\"Course 1\",Général!I$188,IF($R$5=\"Course 2\",Général!I$190,IF($R$5=\"Course 3\",Général!I$192,Général!I$194)))","v":"UBS Lorient 2"},{"$f":"IF($S$5=\"Course 1\",Général!I$198,IF($S$5=\"Course 2\",Général!I$200,IF($S$5=\"Course 3\",Général!I$202,Général!I$204)))","v":"UBO 2"},{"$f":"IF($T$5=\"Course 1\",Général!I$208,IF($T$5=\"Course 2\",Général!I$210,IF($T$5=\"Course 3\",Général!I$212,Général!I$214)))","v":"Centrale Nantes 1"},null,{"$f":"Général!B17","v":"ENSMAC"},3]
["9ème Equipage",null,{"$f":"IF($C$5=\"Course 1\",Général!J38,IF($C$5=\"Course 2\",Général!J40,IF($C$5=\"Course 3\",Général!J42,Général!J44)))","v":"Centrale Nantes 1"},{"$f":"IF($D$5=\"Course 1\",Général!J48,IF($D$5=\"Course 2\",Général!J50,IF($D$5=\"Course 3\",Général!J52,Général!J54)))","v":"INSA Lyon"},{"$f":"IF($E$5=\"Course 1\",Général!J58,IF($E$5=\"Course 2\",Général!J60,IF($E$5=\"Course 3\",Général!J62,Général!J64)))","v":"INSA Lyon"},{"$f":"IF($F$5=\"Course 1\",Général!J$68,IF($F$5=\"Course 2\",Général!J$70,IF($F$5=\"Course 3\",Général!J$72,Général!J$74)))","v":"ENSTA 1"},{"$f":"IF($G$5=\"Course 1\",Général!J$78,IF($G$5=\"Course 2\",Général!J$80,IF($G$5=\"Course 3\",Général!J$82,Général!J$84)))","v":"UBS Lorient 2"},{"$f":"IF($H$5=\"Course 1\",Général!J$88,IF($H$5=\"Course 2\",Général!J$90,IF($H$5=\"Course 3\",Général!$J92,Général!J$94)))","v":"Centrale Nantes 1"},{"$f":"IF($I$5=\"Course 1\",Général!J$98,IF($I$5=\"Course 2\",Général!J$100,IF($I$5=\"Course 3\",Général!J$102,Général!J$104)))","v":"UBO 1"},{"$f":"IF($J$5=\"Course 1\",Général!J$108,IF($J$5=\"Course 2\",Général!J$110,IF($J$5=\"Course 3\",Général!J$112,Général!J$114)))","v":"Orléans"},{"$f":"IF($K$5=\"Course 1\",Général!J$118,IF($K$5=\"Course 2\",Général!J$120,IF($K$5=\"Course 3\",Général!J$122,Général!J$124)))","v":"La Rochelle 1"},{"$f":"IF($L$5=\"Course 1\",Général!J$128,IF($L$5=\"Course 2\",Général!J$130,IF($L$5=\"Course 3\",Général!J$132,Général!J$134)))","v":"St Brieuc 1"},{"$f":"IF($M$5=\"Course 1\",Général!J$138,IF($M$5=\"Course 2\",Général!J$140,IF($M$5=\"Course 3\",Général!J$142,Général!J$144)))","v":"St Brieuc 1"},{"$f":"IF($N$5=\"Course 1\",Général!J$148,IF($N$5=\"Course 2\",Général!J$150,IF($N$5=\"Course 3\",Général!J$152,Général!J$154)))","v":"IMT Nantes"},{"$f":"IF($O$5=\"Course 1\",Général!J$158,IF($O$5=\"Course 2\",Général!J$160,IF($O$5=\"Course 3\",Général!J$162,Général!J$164)))","v":"Southampton"},{"$f":"IF($P$5=\"Course 1\",Général!J$168,IF($P$5=\"Course 2\",Général!J$170,IF($P$5=\"Course 3\",Général!J$172,Général!J$174)))","v":"IMT Brest 2"},{"$f":"IF($Q$5=\"Course 1\",Général!J$178,IF($Q$5=\"Course 2\",Général!J$180,IF($Q$5=\"Course 3\",Général!J$182,Général!J$184)))","v":"Intechmer"},{"$f":"IF($R$5=\"Course 1\",Général!J$188,IF($R$5=\"Course 2\",Général!J$190,IF($R$5=\"Course 3\",Général!J$192,Général!J$194)))","v":"UBS Lorient 1"},{"$f":"IF($S$5=\"Course 1\",Général!J$198,IF($S$5=\"Course 2\",Général!J$200,IF($S$5=\"Course 3\",Général!J$202,Général!J$204)))","v":"Karlsruhe"},{"$f":"IF($T$5=\"Course 1\",Général!J$208,IF($T$5=\"Course 2\",Général!J$210,IF($T$5=\"Course 3\",Général!J$212,Général!J$214)))","v":"Intechmer"},null,{"$f":"Général!B18","v":"St Brieuc 1"},6]
["10ème Equipage",null,{"$f":"IF($C$5=\"Course 1\",Général!K38,IF($C$5=\"Course 2\",Général!K40,IF($C$5=\"Course 3\",Général!K42,Général!K44)))","v":"Centrale Nantes 2"},{"$f":"IF($D$5=\"Course 1\",Général!K48,IF($D$5=\"Course 2\",Général!K50,IF($D$5=\"Course 3\",Général!K52,Général!K54)))","v":"Unicaen 1"},{"$f":"IF($E$5=\"Course 1\",Général!K58,IF($E$5=\"Course 2\",Général!K60,IF($E$5=\"Course 3\",Général!K62,Général!K64)))","v":"UNIV Nantes 1"},{"$f":"IF($F$5=\"Course 1\",Général!K$68,IF($F$5=\"Course 2\",Général!K$70,IF($F$5=\"Course 3\",Général!K$72,Général!K$74)))","v":"Orléans"},{"$f":"IF($G$5=\"Course 1\",Général!K$78,IF($G$5=\"Course 2\",Général!K$80,IF($G$5=\"Course 3\",Général!K$82,Général!K$84)))","v":"UBS Lorient 1"},{"$f":"IF($H$5=\"Course 1\",Général!K$88,IF($H$5=\"Course 2\",Général!K$90,IF($H$5=\"Course 3\",Général!$K92,Général!K$94)))","v":"ENSTA 1"},{"$f":"IF($I$5=\"Course 1\",Général!K$98,IF($I$5=\"Course 2\",Général!K$100,IF($I$5=\"Course 3\",Général!K$102,Général!K$104)))","v":"ENSMAC"},{"$f":"IF($J$5=\"Course 1\",Général!K$108,IF($J$5=\"Course 2\",Général!K$110,IF($J$5=\"Course 3\",Général!K$112,Général!K$114)))","v":"Plymouth"},{"$f":"IF($K$5=\"Course 1\",Général!K$118,IF($K$5=\"Course 2\",Général!K$120,IF($K$5=\"Course 3\",Général!K$122,Général!K$124)))","v":"Univ Nantes 3"},{"$f":"IF($L$5=\"Course 1\",Général!K$128,IF($L$5=\"Course 2\",Général!K$130,IF($L$5=\"Course 3\",Général!K$132,Général!K$134)))","v":"INSA Lyon"},{"$f":"IF($M$5=\"Course 1\",Général!K$138,IF($M$5=\"Course 2\",Général!K$140,IF($M$5=\"Course 3\",Général!K$142,Général!K$144)))","v":"IMT Brest 1"},{"$f":"IF($N$5=\"Course 1\",Général!K$148,IF($N$5=\"Course 2\",Général!K$150,IF($N$5=\"Course 3\",Général!K$152,Général!K$154)))","v":"Paris Sorbone"},{"$f":"IF($O$5=\"Course 1\",Général!K$158,IF($O$5=\"Course 2\",Général!K$160,IF($O$5=\"Course 3\",Général!K$162,Général!K$164)))","v":"Centrale Nantes 1"},{"$f":"IF($P$5=\"Course 1\",Général!K$168,IF($P$5=\"Course 2\",Général!K$170,IF($P$5=\"Course 3\",Général!K$172,Général!K$174)))","v":"Centrale Nantes 1"},{"$f":"IF($Q$5=\"Course 1\",Général!K$178,IF($Q$5=\"Course 2\",Général!K$180,IF($Q$5=\"Course 3\",Général!K$182,Général!K$184)))","v":"ST Brieuc 2"},{"$f":"IF($R$5=\"Course 1\",Général!K$188,IF($R$5=\"Course 2\",Général!K$190,IF($R$5=\"Course 3\",Général!K$192,Général!K$194)))","v":"UBO 1"},{"$f":"IF($S$5=\"Course 1\",Général!K$198,IF($S$5=\"Course 2\",Général!K$200,IF($S$5=\"Course 3\",Général!K$202,Général!K$204)))","v":"Univ Nantes 2"},{"$f":"IF($T$5=\"Course 1\",Général!K$208,IF($T$5=\"Course 2\",Général!K$210,IF($T$5=\"Course 3\",Général!K$212,Général!K$214)))","v":"ENSTA 2"},null,{"$f":"Général!B19","v":"Hannover"},7]
[null,null,null,null,null,null,null,null,null,null,null,null,null,null,null,null,null,null,null,null,null,{"$f":"Général!B20","v":"ENSTA 2"},4]
[null,null,null,null,null,null,null,null,null,null,null,null,null,null,null,null,null,null,null,null,null,{"$f":"Général!B21","v":"Southampton"},5]
[null,null,null,null,null,null,null,null,null,null,null,null,null,null,null,null,null,null,null,null,null,{"$f":"Général!B22","v":"La Rochelle 1"},7]
[null,null,null,null,null,null,null,null,null,null,null,null,null,null,null,null,null,null,null,null,null,{"$f":"Général!B23","v":"Centrale Nantes 1"},16]
[null,null,null,null,null,null,null,null,null,null,null,null,null,null,null,null,null,null,null,null,null,{"$f":"Général!B24","v":"ST Brieuc 2"},2]
[null,null,null,null,null,null,null,null,null,null,null,null,null,null,null,null,null,null,null,null,null,{"$f":"Général!B25","v":"UNIV Nantes 1"},4]
[null,null,null,null,null,null,null,null,null,null,null,null,null,null,null,null,null,null,null,null,null,{"$f":"Général!B26","v":"Intechmer"},3]
[null,null,null,null,null,null,null,null,null,null,null,null,null,null,null,null,null,null,null,null,null,{"$f":"Général!B27","v":"IMT Nantes"},3]
[null,null,null,null,null,null,null,null,null,null,null,null,null,null,null,null,null,null,null,null,null,{"$f":"Général!B28","v":"INSA Lyon"},6]
[null,null,null,null,null,null,null,null,null,null,null,null,null,null,null,null,null,null,null,null,null,{"$f":"Général!B29","v":"Centrale Nantes 2"},4]
[null,null,null,null,null,null,null,null,null,null,null,null,null,null,null,null,null,null,null,null,null,{"$f":"Général!B30","v":"UBS Lorient 2"},7]
[null,null,null,null,null,null,null,null,null,null,null,null,null,null,null,null,null,null,null,null,null,{"$f":"Général!B31","v":"La Rochelle 2"},6]
[null,null,null,null,null,null,null,null,null,null,null,null,null,null,null,null,null,null,null,null,null,{"$f":"Général!B32","v":"UBO 1"},6]
[null,null,null,null,null,null,null,null,null,null,null,null,null,null,null,null,null,null,null,null,null,{"$f":"Général!B33","v":"Eq.31"},0]
[null,null,null,null,null,null,null,null,null,null,null,null,null,null,null,null,null,null,null,null,null,{"$f":"Général!B34","v":"Eq.32"},0]

{"sheet":"Eq.22","index":27,"n_rows":32,"n_cols":23,"rows_kept":32,"cut":false,"hidden":false,"merged":[[7,0,7,1],[0,0,1,5],[0,6,1,10],[3,0,3,1],[4,0,4,1],[5,0,5,1],[14,0,14,1],[15,0,15,1],[16,0,16,1],[8,0,8,1],[9,0,9,1],[10,0,10,1],[11,0,11,1],[12,0,12,1],[13,0,13,1]]}
["Equipage ",null,null,null,null,null,{"$f":"Général!B24","v":"ST Brieuc 2"},null,null,null,null,null,null,null,null,null,null,null,null,null,null,{"$f":"Général!B3","v":"UBO 2"},{"$f":"COUNTIF(C$8:T$16,V1)","v":5}]
[null,null,null,null,null,null,null,null,null,null,null,null,null,null,null,null,null,null,null,null,null,{"$f":"Général!B4","v":"Paris Sorbone"},{"$f":"COUNTIF($C$8:$T$16,V2)","v":3}]
[null,null,null,null,null,null,null,null,null,null,null,null,null,null,null,null,null,null,null,null,null,{"$f":"Général!B5","v":"UBS Lorient 1"},{"$f":"COUNTIF($C$8:$T$16,V3)","v":6}]
[null,null,"FLIGHT 1","FLIGHT 2","FLIGHT 3","FLIGHT 4","FLIGHT 5","FLIGHT 6","FLIGHT 7","FLIGHT 8","FLIGHT 9","FLIGHT 10","FLIGHT 11","FLIGHT 12","FLIGHT 13","FLIGHT 14","FLIGHT 15","FLIGHT 16","FLIGHT 17","FLIGHT 18",null,{"$f":"Général!B6","v":"Univ Nantes 3"},5]
["N° de course",null,{"$f":"IF(COUNTIF(Général!B38:K38,$G$1)=1,\"Course 1\",IF(COUNTIF(Général!B40:K40,$G$1)=1,\"Course 2\",IF(COUNTIF(Général!B42:K42,$G$1)=1,\"Course 3\",\"Course 4\")))","v":"Course 2"},{"$f":"IF(COUNTIF(Général!B48:K48,$G$1)=1,\"Course 1\",IF(COUNTIF(Général!B50:K50,$G$1)=1,\"Course 2\",IF(COUNTIF(Général!B52:K52,$G$1)=1,\"Course 3\",\"Course 4\")))","v":"Course 2"},{"$f":"IF(COUNTIF(Général!B58:K58,$G$1)=1,\"Course 1\",IF(COUNTIF(Général!B60:K60,$G$1)=1,\"Course 2\",IF(COUNTIF(Général!B62:K62,$G$1)=1,\"Course 3\",\"Course 4\")))","v":"Course 3"},{"$f":"IF(COUNTIF(Général!B68:K68,$G$1)=1,\"Course 1\",IF(COUNTIF(Général!B70:K70,$G$1)=1,\"Course 2\",IF(COUNTIF(Général!B72:K72,$G$1)=1,\"Course 3\",\"Course 4\")))","v":"Course 1"},{"$f":"IF(COUNTIF(Général!B78:K78,$G$1)=1,\"Course 1\",IF(COUNTIF(Général!B80:K80,$G$1)=1,\"Course 2\",IF(COUNTIF(Général!B82:K82,$G$1)=1,\"Course 3\",\"Course 4\")))","v":"Course 1"},{"$f":"IF(COUNTIF(Général!B88:K88,$G$1)=1,\"Course 1\",IF(COUNTIF(Général!B90:K90,$G$1)=1,\"Course 2\",IF(COUNTIF(Général!B92:K92,$G$1)=1,\"Course 3\",\"Course 4\")))","v":"Course 3"},{"$f":"IF(COUNTIF(Général!B98:K98,$G$1)=1,\"Course 1\",IF(COUNTIF(Général!B100:K100,$G$1)=1,\"Course 2\",IF(COUNTIF(Général!B102:K102,$G$1)=1,\"Course 3\",\"Course 4\")))","v":"Course 1"},{"$f":"IF(COUNTIF(Général!B108:K108,$G$1)=1,\"Course 1\",IF(COUNTIF(Général!B110:K110,$G$1)=1,\"Course 2\",IF(COUNTIF(Général!B112:K112,$G$1)=1,\"Course 3\",\"Course 4\")))","v":"Course 1"},{"$f":"IF(COUNTIF(Général!B118:K118,$G$1)=1,\"Course 1\",IF(COUNTIF(Général!B120:K120,$G$1)=1,\"Course 2\",IF(COUNTIF(Général!B122:K122,$G$1)=1,\"Course 3\",\"Course 4\")))","v":"Course 3"},{"$f":"IF(COUNTIF(Général!B128:K128,$G$1)=1,\"Course 1\",IF(COUNTIF(Général!B130:K130,$G$1)=1,\"Course 2\",IF(COUNTIF(Général!B132:K132,$G$1)=1,\"Course 3\",\"Course 4\")))","v":"Course 2"},{"$f":"IF(COUNTIF(Général!B138:K138,$G$1)=1,\"Course 1\",IF(COUNTIF(Général!B140:K140,$G$1)=1,\"Course 2\",IF(COUNTIF(Général!B142:K142,$G$1)=1,\"Course 3\",\"Course 4\")))","v":"Course 2"},{"$f":"IF(COUNTIF(Général!B148:K148,$G$1)=1,\"Course 1\",IF(COUNTIF(Général!B150:K150,$G$1)=1,\"Course 2\",IF(COUNTIF(Général!B152:K152,$G$1)=1,\"Course 3\",\"Course 4\")))","v":"Course 2"},{"$f":"IF(COUNTIF(Général!B158:K158,$G$1)=1,\"Course 1\",IF(COUNTIF(Général!B160:K160,$G$1)=1,\"Course 2\",IF(COUNTIF(Général!B162:K162,$G$1)=1,\"Course 3\",\"Course 4\")))","v":"Course 1"},{"$f":"IF(COUNTIF(Général!B168:K168,$G$1)=1,\"Course 1\",IF(COUNTIF(Général!B170:K170,$G$1)=1,\"Course 2\",IF(COUNTIF(Général!B172:K172,$G$1)=1,\"Course 3\",\"Course 4\")))","v":"Course 2"},{"$f":"IF(COUNTIF(Général!B178:K178,$G$1)=1,\"Course 1\",IF(COUNTIF(Général!B180:K180,$G$1)=1,\"Course 2\",IF(COUNTIF(Général!B182:K182,$G$1)=1,\"Course 3\",\"Course 4\")))","v":"Course 3"},{"$f":"IF(COUNTIF(Général!B188:K188,$G$1)=1,\"Course 1\",IF(COUNTIF(Général!B190:K190,$G$1)=1,\"Course 2\",IF(COUNTIF(Général!B192:K192,$G$1)=1,\"Course 3\",\"Course 4\")))","v":"Course 2"},{"$f":"IF(COUNTIF(Général!B198:K198,$G$1)=1,\"Course 1\",IF(COUNTIF(Général!B200:K200,$G$1)=1,\"Course 2\",IF(COUNTIF(Général!B202:K202,$G$1)=1,\"Course 3\",\"Course 4\")))","v":"Course 1"},{"$f":"IF(COUNTIF(Général!B208:K208,$G$1)=1,\"Course 1\",IF(COUNTIF(Général!B210:K210,$G$1)=1,\"Course 2\",IF(COUNTIF(Général!B212:K212,$G$1)=1,\"Course 3\",\"Course 4\")))","v":"Course 1"},null,{"$f":"Général!B7","v":"Paris Cité"},6]
["Bateau",null,{"$f":"IF(COUNTIF(Général!B38:B44,$G$1)=1,\"Boat 1\",IF(COUNTIF(Général!C38:C44,$G$1)=1,\"Boat 2\",IF(COUNTIF(Général!D38:D44,$G$1)=1,\"Boat 3\", IF(COUNTIF(Général!E38:E44,$G$1)=1,\"Boat 4\", IF(COUNTIF(Général!F38:F44,$G$1)=1,\"Boat 5\", IF(COUNTIF(Général!G38:G44,$G$1)=1,\"Boat 6\", IF(COUNTIF(Général!H38:H44,$G$1)=1,\"Boat 7\",IF(COUNTIF(Général!I38:I44,$G$1)=1,\"Boat 8\",\"Boat 9\"))))))))","v":"Boat 1"},{"$f":"IF(COUNTIF(Général!B48:B54,$G$1)=1,\"Boat 1\",IF(COUNTIF(Général!C48:C54,$G$1)=1,\"Boat 2\",IF(COUNTIF(Général!D48:D54,$G$1)=1,\"Boat 3\", IF(COUNTIF(Général!E48:E54,$G$1)=1,\"Boat 4\", IF(COUNTIF(Général!F48:F54,$G$1)=1,\"Boat 5\", IF(COUNTIF(Général!G48:G54,$G$1)=1,\"Boat 6\", IF(COUNTIF(Général!H48:H54,$G$1)=1,\"Boat 7\",IF(COUNTIF(Général!I38:I44,$G$1)=1,\"Boat 8\",\"Boat 9\"))))))))","v":"Boat 5"},{"$f":"IF(COUNTIF(Général!B58:B64,$G$1)=1,\"Boat 1\",IF(COUNTIF(Général!C58:C64,$G$1)=1,\"Boat 2\",IF(COUNTIF(Général!D58:D64,$G$1)=1,\"Boat 3\", IF(COUNTIF(Général!E58:E64,$G$1)=1,\"Boat 4\", IF(COUNTIF(Général!F58:F64,$G$1)=1,\"Boat 5\", IF(COUNTIF(Général!G58:G64,$G$1)=1,\"Boat 6\", IF(COUNTIF(Général!H58:H64,$G$1)=1,\"Boat 7\",IF(COUNTIF(Général!I38:I44,$G$1)=1,\"Boat 8\",\"Boat 9\"))))))))","v":"Boat 1"},{"$f":"IF(COUNTIF(Général!B68:B74,$G$1)=1,\"Boat 1\",IF(COUNTIF(Général!C68:C74,$G$1)=1,\"Boat 2\",IF(COUNTIF(Général!D68:D74,$G$1)=1,\"Boat 3\", IF(COUNTIF(Général!E68:E74,$G$1)=1,\"Boat 4\", IF(COUNTIF(Général!F68:F74,$G$1)=1,\"Boat 5\", IF(COUNTIF(Général!G68:G74,$G$1)=1,\"Boat 6\", IF(COUNTIF(Général!H68:H74,$G$1)=1,\"Boat 7\",IF(COUNTIF(Général!I38:I44,$G$1)=1,\"Boat 8\",\"Boat 9\"))))))))","v":"Boat 1"},{"$f":"IF(COUNTIF(Général!B78:B84,$G$1)=1,\"Boat 1\",IF(COUNTIF(Général!C78:C84,$G$1)=1,\"Boat 2\",IF(COUNTIF(Général!D78:D84,$G$1)=1,\"Boat 3\", IF(COUNTIF(Général!E78:E84,$G$1)=1,\"Boat 4\", IF(COUNTIF(Général!F78:F84,$G$1)=1,\"Boat 5\", IF(COUNTIF(Général!G78:G84,$G$1)=1,\"Boat 6\", IF(COUNTIF(Général!H78:H84,$G$1)=1,\"Boat 7\",IF(COUNTIF(Général!I38:I44,$G$1)=1,\"Boat 8\",\"Boat 9\"))))))))","v":"Boat 5"},{"$f":"IF(COUNTIF(Général!B88:B94,$G$1)=1,\"Boat 1\",IF(COUNTIF(Général!C88:C94,$G$1)=1,\"Boat 2\",IF(COUNTIF(Général!D88:D94,$G$1)=1,\"Boat 3\", IF(COUNTIF(Général!E88:E94,$G$1)=1,\"Boat 4\", IF(COUNTIF(Général!F88:F94,$G$1)=1,\"Boat 5\", IF(COUNTIF(Général!G88:G94,$G$1)=1,\"Boat 6\", IF(COUNTIF(Général!H88:H94,$G$1)=1,\"Boat 7\",IF(COUNTIF(Général!I38:I44,$G$1)=1,\"Boat 8\",\"Boat 9\"))))))))","v":"Boat 7"},{"$f":"IF(COUNTIF(Général!B98:B104,$G$1)=1,\"Boat 1\",IF(COUNTIF(Général!C98:C104,$G$1)=1,\"Boat 2\",IF(COUNTIF(Général!D98:D104,$G$1)=1,\"Boat 3\", IF(COUNTIF(Général!E98:E104,$G$1)=1,\"Boat 4\", IF(COUNTIF(Général!F98:F104,$G$1)=1,\"Boat 5\", IF(COUNTIF(Général!G98:G104,$G$1)=1,\"Boat 6\", IF(COUNTIF(Général!H98:H104,$G$1)=1,\"Boat 7\",IF(COUNTIF(Général!I38:I44,$G$1)=1,\"Boat 8\",\"Boat 9\"))))))))","v":"Boat 7"},{"$f":"IF(COUNTIF(Général!B108:B114,$G$1)=1,\"Boat 1\",IF(COUNTIF(Général!C108:C114,$G$1)=1,\"Boat 2\",IF(COUNTIF(Général!D108:D114,$G$1)=1,\"Boat 3\", IF(COUNTIF(Général!E108:E114,$G$1)=1,\"Boat 4\", IF(COUNTIF(Général!F108:F114,$G$1)=1,\"Boat 5\", IF(COUNTIF(Général!G108:G114,$G$1)=1,\"Boat 6\", IF(COUNTIF(Général!H108:H114,$G$1)=1,\"Boat 7\",IF(COUNTIF(Général!I38:I44,$G$1)=1,\"Boat 8\",\"Boat 9\"))))))))","v":"Boat 5"},{"$f":"IF(COUNTIF(Général!B118:B124,$G$1)=1,\"Boat 1\",IF(COUNTIF(Général!C118:C124,$G$1)=1,\"Boat 2\",IF(COUNTIF(Général!D118:D124,$G$1)=1,\"Boat 3\", IF(COUNTIF(Général!E118:E124,$G$1)=1,\"Boat 4\", IF(COUNTIF(Général!F118:F124,$G$1)=1,\"Boat 5\", IF(COUNTIF(Général!G118:G124,$G$1)=1,\"Boat 6\", IF(COUNTIF(Général!H118:H124,$G$1)=1,\"Boat 7\",IF(COUNTIF(Général!I38:I44,$G$1)=1,\"Boat 8\",\"Boat 9\"))))))))","v":"Boat 9"},{"$f":"IF(COUNTIF(Général!B128:B134,$G$1)=1,\"Boat 1\",IF(COUNTIF(Général!C128:C134,$G$1)=1,\"Boat 2\",IF(COUNTIF(Général!D128:D134,$G$1)=1,\"Boat 3\", IF(COUNTIF(Général!E128:E134,$G$1)=1,\"Boat 4\", IF(COUNTIF(Général!F128:F134,$G$1)=1,\"Boat 5\", IF(COUNTIF(Général!G128:G134,$G$1)=1,\"Boat 6\", IF(COUNTIF(Général!H128:H134,$G$1)=1,\"Boat 7\",IF(COUNTIF(Général!I38:I44,$G$1)=1,\"Boat 8\",\"Boat 9\"))))))))","v":"Boat 9"},{"$f":"IF(COUNTIF(Général!B138:B144,$G$1)=1,\"Boat 1\",IF(COUNTIF(Général!C138:C144,$G$1)=1,\"Boat 2\",IF(COUNTIF(Général!C138:D144,$G$1)=1,\"Boat 3\", IF(COUNTIF(Général!C138:E144,$G$1)=1,\"Boat 4\", IF(COUNTIF(Général!F138:F144,$G$1)=1,\"Boat 5\", IF(COUNTIF(Général!G138:G144,$G$1)=1,\"Boat 6\", IF(COUNTIF(Général!H138:H144,$G$1)=1,\"Boat 7\",IF(COUNTIF(Général!I38:I44,$G$1)=1,\"Boat 8\",\"Boat 9\"))))))))","v":"Boat 9"},{"$f":"IF(COUNTIF(Général!B148:B154,$G$1)=1,\"Boat 1\",IF(COUNTIF(Général!C148:C154,$G$1)=1,\"Boat 2\",IF(COUNTIF(Général!D148:D154,$G$1)=1,\"Boat 3\", IF(COUNTIF(Général!E148:E154,$G$1)=1,\"Boat 4\", IF(COUNTIF(Général!F148:F154,$G$1)=1,\"Boat 5\", IF(COUNTIF(Général!G148:G154,$G$1)=1,\"Boat 6\", IF(COUNTIF(Général!H148:H154,$G$1)=1,\"Boat 7\",IF(COUNTIF(Général!I38:I44,$G$1)=1,\"Boat 8\",\"Boat 9\"))))))))","v":"Boat 5"},{"$f":"IF(COUNTIF(Général!B158:B164,$G$1)=1,\"Boat 1\",IF(COUNTIF(Général!C158:C164,$G$1)=1,\"Boat 2\",IF(COUNTIF(Général!D160:D164,$G$1)=1,\"Boat 3\", IF(COUNTIF(Général!E158:E164,$G$1)=1,\"Boat 4\", IF(COUNTIF(Général!F158:F164,$G$1)=1,\"Boat 5\", IF(COUNTIF(Général!G158:G164,$G$1)=1,\"Boat 6\", IF(COUNTIF(Général!H158:H164,$G$1)=1,\"Boat 7\",IF(COUNTIF(Général!I38:I44,$G$1)=1,\"Boat 8\",\"Boat 9\"))))))))","v":"Boat 4"},{"$f":"IF(COUNTIF(Général!B168:B174,$G$1)=1,\"Boat 1\",IF(COUNTIF(Général!C168:C174,$G$1)=1,\"Boat 2\",IF(COUNTIF(Général!D168:D174,$G$1)=1,\"Boat 3\", IF(COUNTIF(Général!E168:E174,$G$1)=1,\"Boat 4\", IF(COUNTIF(Général!F178:F184,$G$1)=1,\"Boat 5\", IF(COUNTIF(Général!G178:G184,$G$1)=1,\"Boat 6\", IF(COUNTIF(Général!H178:H184,$G$1)=1,\"Boat 7\",IF(COUNTIF(Général!I38:I44,$G$1)=1,\"Boat 8\",\"Boat 9\"))))))))","v":"Boat 9"},{"$f":"IF(COUNTIF(Général!B178:B184,$G$1)=1,\"Boat 1\",IF(COUNTIF(Général!C178:C184,$G$1)=1,\"Boat 2\",IF(COUNTIF(Général!D178:D184,$G$1)=1,\"Boat 3\", IF(COUNTIF(Général!E178:E184,$G$1)=1,\"Boat 4\", IF(COUNTIF(Général!F178:F184,$G$1)=1,\"Boat 5\", IF(COUNTIF(Général!G178:G184,$G$1)=1,\"Boat 6\", IF(COUNTIF(Général!H178:H184,$G$1)=1,\"Boat 7\",IF(COUNTIF(Général!I38:I44,$G$1)=1,\"Boat 8\",\"Boat 9\"))))))))","v":"Boat 9"},{"$f":"IF(COUNTIF(Général!B188:B194,$G$1)=1,\"Boat 1\",IF(COUNTIF(Général!C188:C194,$G$1)=1,\"Boat 2\",IF(COUNTIF(Général!D188:D194,$G$1)=1,\"Boat 3\", IF(COUNTIF(Général!E188:E194,$G$1)=1,\"Boat 4\", IF(COUNTIF(Général!F188:F194,$G$1)=1,\"Boat 5\", IF(COUNTIF(Général!G188:G194,$G$1)=1,\"Boat 6\", IF(COUNTIF(Général!H188:H194,$G$1)=1,\"Boat 7\",IF(COUNTIF(Général!I38:I44,$G$1)=1,\"Boat 8\",\"Boat 9\"))))))))","v":"Boat 2"},{"$f":"IF(COUNTIF(Général!B198:B204,$G$1)=1,\"Boat 1\",IF(COUNTIF(Général!C198:C204,$G$1)=1,\"Boat 2\",IF(COUNTIF(Général!D198:D204,$G$1)=1,\"Boat 3\", IF(COUNTIF(Général!E198:E204,$G$1)=1,\"Boat 4\", IF(COUNTIF(Général!F198:F204,$G$1)=1,\"Boat 5\", IF(COUNTIF(Général!G198:G204,$G$1)=1,\"Boat 6\", IF(COUNTIF(Général!H198:H204,$G$1)=1,\"Boat 7\",IF(COUNTIF(Général!I38:I44,$G$1)=1,\"Boat 8\",\"Boat 9\"))))))))","v":"Boat 9"},{"$f":"IF(COUNTIF(Général!B208:B214,$G$1)=1,\"Boat 1\",IF(COUNTIF(Général!C208:C214,$G$1)=1,\"Boat 2\",IF(COUNTIF(Général!D208:D214,$G$1)=1,\"Boat 3\", IF(COUNTIF(Général!E208:E214,$G$1)=1,\"Boat 4\", IF(COUNTIF(Général!F208:F214,$G$1)=1,\"Boat 5\", IF(COUNTIF(Général!G208:G214,$G$1)=1,\"Boat 6\", IF(COUNTIF(Général!H208:H214,$G$1)=1,\"Boat 7\",IF(COUNTIF(Général!I38:I44,$G$1)=1,\"Boat 8\",\"Boat 9\"))))))))","v":"Boat 5"},null,{"$f":"Général!B8","v":"Plymouth"},5]
[null,null,null,null,null,null,null,null,null,null,null,null,null,null,null,null,null,null,null,null,null,{"$f":"Général!B9","v":"Unicaen 2"},5]
["1er Equipage",null,{"$f":"IF($C$5=\"Course 1\",Général!B38,IF($C$5=\"Course 2\",Général!B40,IF($C$5=\"Course 3\",Général!B42,Général!B44)))","v":"ST Brieuc 2"},{"$f":"IF($D$5=\"Course 1\",Général!B48,IF($D$5=\"Course 2\",Général!B50,IF($D$5=\"Course 3\",Général!B52,Général!B54)))","v":"St Brieuc 1"},{"$f":"IF($E$5=\"Course 1\",Général!B58,IF($E$5=\"Course 2\",Général!B60,IF($E$5=\"Course 3\",Général!B62,Général!B64)))","v":"ST Brieuc 2"},{"$f":"IF($F$5=\"Course 1\",Général!B$68,IF($F$5=\"Course 2\",Général!B$70,IF($F$5=\"Course 3\",Général!B$72,Général!B$74)))","v":"ST Brieuc 2"},{"$f":"IF($G$5=\"Course 1\",Général!B$78,IF($G$5=\"Course 2\",Général!B$80,IF($G$5=\"Course 3\",Général!B$82,Général!B$84)))","v":"ENSMAC"},{"$f":"IF($H$5=\"Course 1\",Général!B$88,IF($H$5=\"Course 2\",Général!B$90,IF($H$5=\"Course 3\",Général!B$92,Général!B$94)))","v":"Unicaen 2"},{"$f":"IF($I$5=\"Course 1\",Général!B$98,IF($I$5=\"Course 2\",Général!B$100,IF($I$5=\"Course 3\",Général!B$102,Général!B$104)))","v":"Centrale Nantes 2"},{"$f":"IF($J$5=\"Course 1\",Général!B$108,IF($J$5=\"Course 2\",Général!B$110,IF($J$5=\"Course 3\",Général!B$112,Général!B$114)))","v":"La Rochelle 2"},{"$f":"IF($K$5=\"Course 1\",Général!B$118,IF($K$5=\"Course 2\",Général!B$120,IF($K$5=\"Course 3\",Général!B$122,Général!B$124)))","v":"INSA Lyon"},{"$f":"IF($L$5=\"Course 1\",Général!B$128,IF($L$5=\"Course 2\",Général!B$130,IF($L$5=\"Course 3\",Général!B$132,Général!B$134)))","v":"Plymouth"},{"$f":"IF($M$5=\"Course 1\",Général!B$138,IF($M$5=\"Course 2\",Général!B$140,IF($M$5=\"Course 3\",Général!B$142,Général!B$144)))","v":"Plymouth"},{"$f":"IF($N$5=\"Course 1\",Général!B$148,IF($N$5=\"Course 2\",Général!B$150,IF($N$5=\"Course 3\",Général!B$152,Général!B$154)))","v":"UBS Lorient 2"},{"$f":"IF($O$5=\"Course 1\",Général!B$158,IF($O$5=\"Course 2\",Général!B$160,IF($O$5=\"Course 3\",Général!B$162,Général!B$164)))","v":"La Rochelle 1"},{"$f":"IF($P$5=\"Course 1\",Général!B$168,IF($P$5=\"Course 2\",Général!B$170,IF($P$5=\"Course 3\",Général!B$172,Général!B$174)))","v":"ENSMAC"},{"$f":"IF($Q$5=\"Course 1\",Général!B$178,IF($Q$5=\"Course 2\",Général!B$180,IF($Q$5=\"Course 3\",Général!B$182,Général!B$184)))","v":"Paris Cité"},{"$f":"IF($R$5=\"Course 1\",Général!B$188,IF($R$5=\"Course 2\",Général!B$190,IF($R$5=\"Course 3\",Général!B$192,Général!B$194)))","v":"Karlsruhe"},{"$f":"IF($S$5=\"Course 1\",Général!B$198,IF($S$5=\"Course 2\",Général!B$200,IF($S$5=\"Course 3\",Général!B$202,Général!B$204)))","v":"ENSTA 1"},{"$f":"IF($T$5=\"Course 1\",Général!B$208,IF($T$5=\"Course 2\",Général!B$210,IF($T$5=\"Course 3\",Général!B$212,Général!B$214)))","v":"UBS Lorient 2"},null,{"$f":"Général!B10","v":"Univ Nantes 2"},3]
["2nd Equipage",null,{"$f":"IF($C$5=\"Course 1\",Général!C38,IF($C$5=\"Course 2\",Général!C40,IF($C$5=\"Course 3\",Général!C42,Général!C44)))","v":"UBS Lorient 2"},{"$f":"IF($D$5=\"Course 1\",Général!C48,IF($D$5=\"Course 2\",Général!C50,IF($D$5=\"Course 3\",Général!C52,Général!C54)))","v":"Univ Nantes 3"},{"$f":"IF($E$5=\"Course 1\",Général!C58,IF($E$5=\"Course 2\",Général!C60,IF($E$5=\"Course 3\",Général!C62,Général!C64)))","v":"La Rochelle 1"},{"$f":"IF($F$5=\"Course 1\",Général!C$68,IF($F$5=\"Course 2\",Général!C$70,IF($F$5=\"Course 3\",Général!C$72,Général!C$74)))","v":"La Rochelle 1"},{"$f":"IF($G$5=\"Course 1\",Général!C$78,IF($G$5=\"Course 2\",Général!C$80,IF($G$5=\"Course 3\",Général!C$82,Général!C$84)))","v":"Hannover"},{"$f":"IF($H$5=\"Course 1\",Général!C$88,IF($H$5=\"Course 2\",Général!C$90,IF($H$5=\"Course 3\",Général!C$92,Général!C$94)))","v":"Paris Sorbone"},{"$f":"IF($I$5=\"Course 1\",Général!C$98,IF($I$5=\"Course 2\",Général!C$100,IF($I$5=\"Course 3\",Général!C$102,Général!C$104)))","v":"Intechmer"},{"$f":"IF($J$5=\"Course 1\",Général!C$108,IF($J$5=\"Course 2\",Général!C$110,IF($J$5=\"Course 3\",Général!C$112,Général!C$114)))","v":"ENSTA 2"},{"$f":"IF($K$5=\"Course 1\",Général!C$118,IF($K$5=\"Course 2\",Général!C$120,IF($K$5=\"Course 3\",Général!C$122,Général!C$124)))","v":"ENSTA 2"},{"$f":"IF($L$5=\"Course 1\",Général!C$128,IF($L$5=\"Course 2\",Général!C$130,IF($L$5=\"Course 3\",Général!C$132,Général!C$134)))","v":"ENSMAC"},{"$f":"IF($M$5=\"Course 1\",Général!C$138,IF($M$5=\"Course 2\",Général!C$140,IF($M$5=\"Course 3\",Général!C$142,Général!C$144)))","v":"Karlsruhe"},{"$f":"IF($N$5=\"Course 1\",Général!C$148,IF($N$5=\"Course 2\",Général!C$150,IF($N$5=\"Course 3\",Général!C$152,Général!C$154)))","v":"UBO 1"},{"$f":"IF($O$5=\"Course 1\",Général!C$158,IF($O$5=\"Course 2\",Général!C$160,IF($O$5=\"Course 3\",Général!C$162,Général!C$164)))","v":"IMT Brest 1"},{"$f":"IF($P$5=\"Course 1\",Général!C$168,IF($P$5=\"Course 2\",Général!C$170,IF($P$5=\"Course 3\",Général!C$172,Général!C$174)))","v":"Univ Nantes 3"},{"$f":"IF($Q$5=\"Course 1\",Général!C$178,IF($Q$5=\"Course 2\",Général!C$180,IF($Q$5=\"Course 3\",Général!C$182,Général!C$184)))","v":"ENSTA 1"},{"$f":"IF($R$5=\"Course 1\",Général!C$188,IF($R$5=\"Course 2\",Général!C$190,IF($R$5=\"Course 3\",Général!C$192,Général!C$194)))","v":"ST Brieuc 2"},{"$f":"IF($S$5=\"Course 1\",Général!C$198,IF($S$5=\"Course 2\",Général!C$200,IF($S$5=\"Course 3\",Général!C$202,Général!C$204)))","v":"INSA Lyon"},{"$f":"IF($T$5=\"Course 1\",Général!C$208,IF($T$5=\"Course 2\",Général!C$210,IF($T$5=\"Course 3\",Général!C$212,Général!C$214)))","v":"Unicaen 2"},null,{"$f":"Général!B11","v":"Karlsruhe"},5]
["3ème Equipage",null,{"$f":"IF($C$5=\"Course 1\",Général!D38,IF($C$5=\"Course 2\",Général!D40,IF($C$5=\"Course 3\",Général!D42,Général!D44)))","v":"UNIV Nantes 1"},{"$f":"IF($D$5=\"Course 1\",Général!D48,IF($D$5=\"Course 2\",Général!D50,IF($D$5=\"Course 3\",Général!D52,Général!D54)))","v":"UBS Lorient 2"},{"$f":"IF($E$5=\"Course 1\",Général!D58,IF($E$5=\"Course 2\",Général!D60,IF($E$5=\"Course 3\",Général!D62,Général!D64)))","v":"St Brieuc 1"},{"$f":"IF($F$5=\"Course 1\",Général!D$68,IF($F$5=\"Course 2\",Général!D$70,IF($F$5=\"Course 3\",Général!D$72,Général!D$74)))","v":"Centrale Nantes 1"},{"$f":"IF($G$5=\"Course 1\",Général!D$78,IF($G$5=\"Course 2\",Général!D$80,IF($G$5=\"Course 3\",Général!D$82,Général!D$84)))","v":"Karlsruhe"},{"$f":"IF($H$5=\"Course 1\",Général!D$88,IF($H$5=\"Course 2\",Général!D$90,IF($H$5=\"Course 3\",Général!D$92,Général!D$94)))","v":"UBS Lorient 2"},{"$f":"IF($I$5=\"Course 1\",Général!D$98,IF($I$5=\"Course 2\",Général!D$100,IF($I$5=\"Course 3\",Général!D$102,Général!D$104)))","v":"UBS Lorient 2"},{"$f":"IF($J$5=\"Course 1\",Général!D$108,IF($J$5=\"Course 2\",Général!D$110,IF($J$5=\"Course 3\",Général!D$112,Général!D$114)))","v":"UBO 2"},{"$f":"IF($K$5=\"Course 1\",Général!D$118,IF($K$5=\"Course 2\",Général!D$120,IF($K$5=\"Course 3\",Général!D$122,Général!D$124)))","v":"Southampton"},{"$f":"IF($L$5=\"Course 1\",Général!D$128,IF($L$5=\"Course 2\",Général!D$130,IF($L$5=\"Course 3\",Général!D$132,Général!D$134)))","v":"ENSTA 1"},{"$f":"IF($M$5=\"Course 1\",Général!D$138,IF($M$5=\"Course 2\",Général!D$140,IF($M$5=\"Course 3\",Général!D$142,Général!D$144)))","v":"Paris Sorbone"},{"$f":"IF($N$5=\"Course 1\",Général!D$148,IF($N$5=\"Course 2\",Général!D$150,IF($N$5=\"Course 3\",Général!D$152,Général!D$154)))","v":"Centrale Nantes 2"},{"$f":"IF($O$5=\"Course 1\",Général!D$158,IF($O$5=\"Course 2\",Général!D$160,IF($O$5=\"Course 3\",Général!D$162,Général!D$164)))","v":"IMT Nantes"},{"$f":"IF($P$5=\"Course 1\",Général!D$168,IF($P$5=\"Course 2\",Général!D$170,IF($P$5=\"Course 3\",Général!D$172,Général!D$174)))","v":"Intechmer"},{"$f":"IF($Q$5=\"Course 1\",Général!D$178,IF($Q$5=\"Course 2\",Général!D$180,IF($Q$5=\"Course 3\",Général!D$182,Général!D$184)))","v":"La Rochelle 1"},{"$f":"IF($R$5=\"Course 1\",Général!D$188,IF($R$5=\"Course 2\",Général!D$190,IF($R$5=\"Course 3\",Général!D$192,Général!D$194)))","v":"Orléans"},{"$f":"IF($S$5=\"Course 1\",Général!D$198,IF($S$5=\"Course 2\",Général!D$200,IF($S$5=\"Course 3\",Général!D$202,Général!D$204)))","v":"Intechmer"},{"$f":"IF($T$5=\"Course 1\",Général!D$208,IF($T$5=\"Course 2\",Général!D$210,IF($T$5=\"Course 3\",Général!D$212,Général!D$214)))","v":"IMT Brest 2"},null,{"$f":"Général!B12","v":"IMT Brest 2"},5]
["4ème Equipage",null,{"$f":"IF($C$5=\"Course 1\",Général!E38,IF($C$5=\"Course 2\",Général!E40,IF($C$5=\"Course 3\",Général!E42,Général!E44)))","v":"Orléans"},{"$f":"IF($D$5=\"Course 1\",Général!E48,IF($D$5=\"Course 2\",Général!E50,IF($D$5=\"Course 3\",Général!E52,Général!E54)))","v":"ENSTA 2"},{"$f":"IF($E$5=\"Course 1\",Général!E58,IF($E$5=\"Course 2\",Général!E60,IF($E$5=\"Course 3\",Général!E62,Général!E64)))","v":"Plymouth"},{"$f":"IF($F$5=\"Course 1\",Général!E$68,IF($F$5=\"Course 2\",Général!E$70,IF($F$5=\"Course 3\",Général!E$72,Général!E$74)))","v":"Plymouth"},{"$f":"IF($G$5=\"Course 1\",Général!E$78,IF($G$5=\"Course 2\",Général!E$80,IF($G$5=\"Course 3\",Général!E$82,Général!E$84)))","v":"UNIV Nantes 1"},{"$f":"IF($H$5=\"Course 1\",Général!E$88,IF($H$5=\"Course 2\",Général!E$90,IF($H$5=\"Course 3\",Général!E$92,Général!E$94)))","v":"UBS Lorient 1"},{"$f":"IF($I$5=\"Course 1\",Général!E$98,IF($I$5=\"Course 2\",Général!E$100,IF($I$5=\"Course 3\",Général!E$102,Général!E$104)))","v":"UNIV Nantes 1"},{"$f":"IF($J$5=\"Course 1\",Général!E$108,IF($J$5=\"Course 2\",Général!E$110,IF($J$5=\"Course 3\",Général!E$112,Général!E$114)))","v":"Paris Sorbone"},{"$f":"IF($K$5=\"Course 1\",Général!E$118,IF($K$5=\"Course 2\",Général!E$120,IF($K$5=\"Course 3\",Général!E$122,Général!E$124)))","v":"IMT Brest 1"},{"$f":"IF($L$5=\"Course 1\",Général!E$128,IF($L$5=\"Course 2\",Général!E$130,IF($L$5=\"Course 3\",Général!E$132,Général!E$134)))","v":"Paris Cité"},{"$f":"IF($M$5=\"Course 1\",Général!E$138,IF($M$5=\"Course 2\",Général!E$140,IF($M$5=\"Course 3\",Général!E$142,Général!E$144)))","v":"UBO 2"},{"$f":"IF($N$5=\"Course 1\",Général!E$148,IF($N$5=\"Course 2\",Général!E$150,IF($N$5=\"Course 3\",Général!E$152,Général!E$154)))","v":"UBS Lorient 1"},{"$f":"IF($O$5=\"Course 1\",Général!E$158,IF($O$5=\"Course 2\",Général!E$160,IF($O$5=\"Course 3\",Général!E$162,Général!E$164)))","v":"ST Brieuc 2"},{"$f":"IF($P$5=\"Course 1\",Général!E$168,IF($P$5=\"Course 2\",Général!E$170,IF($P$5=\"Course 3\",Général!E$172,Général!E$174)))","v":"INSA Lyon"},{"$f":"IF($Q$5=\"Course 1\",Général!E$178,IF($Q$5=\"Course 2\",Général!E$180,IF($Q$5=\"Course 3\",Général!E$182,Général!E$184)))","v":"Centrale Nantes 1"},{"$f":"IF($R$5=\"Course 1\",Général!E$188,IF($R$5=\"Course 2\",Général!E$190,IF($R$5=\"Course 3\",Général!E$192,Général!E$194)))","v":"Paris Cité"},{"$f":"IF($S$5=\"Course 1\",Général!E$198,IF($S$5=\"Course 2\",Général!E$200,IF($S$5=\"Course 3\",Général!E$202,Général!E$204)))","v":"St Brieuc 1"},{"$f":"IF($T$5=\"Course 1\",Général!E$208,IF($T$5=\"Course 2\",Général!E$210,IF($T$5=\"Course 3\",Général!E$212,Général!E$214)))","v":"IMT Nantes"},null,{"$f":"Général!B13","v":"Unicaen 1"},3]
["5ème Equipage",null,{"$f":"IF($C$5=\"Course 1\",Général!F38,IF($C$5=\"Course 2\",Général!F40,IF($C$5=\"Course 3\",Général!F42,Général!F44)))","v":"Unicaen 2"},{"$f":"IF($D$5=\"Course 1\",Général!F48,IF($D$5=\"Course 2\",Général!F50,IF($D$5=\"Course 3\",Général!F52,Général!F54)))","v":"ST Brieuc 2"},{"$f":"IF($E$5=\"Course 1\",Général!F58,IF($E$5=\"Course 2\",Général!F60,IF($E$5=\"Course 3\",Général!F62,Général!F64)))","v":"UBS Lorient 1"},{"$f":"IF($F$5=\"Course 1\",Général!F$68,IF($F$5=\"Course 2\",Général!F$70,IF($F$5=\"Course 3\",Général!F$72,Général!F$74)))","v":"UBS Lorient 1"},{"$f":"IF($G$5=\"Course 1\",Général!F$78,IF($G$5=\"Course 2\",Général!F$80,IF($G$5=\"Course 3\",Général!F$82,Général!F$84)))","v":"ST Brieuc 2"},{"$f":"IF($H$5=\"Course 1\",Général!F$88,IF($H$5=\"Course 2\",Général!F$90,IF($H$5=\"Course 3\",Général!F$92,Général!F$94)))","v":"IMT Brest 1"},{"$f":"IF($I$5=\"Course 1\",Général!F$98,IF($I$5=\"Course 2\",Général!F$100,IF($I$5=\"Course 3\",Général!F$102,Général!F$104)))","v":"IMT Brest 1"},{"$f":"IF($J$5=\"Course 1\",Général!F$108,IF($J$5=\"Course 2\",Général!F$110,IF($J$5=\"Course 3\",Général!F$112,Général!F$114)))","v":"ST Brieuc 2"},{"$f":"IF($K$5=\"Course 1\",Général!F$118,IF($K$5=\"Course 2\",Général!F$120,IF($K$5=\"Course 3\",Général!F$122,Général!F$124)))","v":"IMT Brest 2"},{"$f":"IF($L$5=\"Course 1\",Général!F$128,IF($L$5=\"Course 2\",Général!$F130,IF($L$5=\"Course 3\",Général!F$132,Général!F$134)))","v":"La Rochelle 2"},{"$f":"IF($M$5=\"Course 1\",Général!F$138,IF($M$5=\"Course 2\",Général!F$140,IF($M$5=\"Course 3\",Général!F$142,Général!F$144)))","v":"ENSTA 2"},{"$f":"IF($N$5=\"Course 1\",Général!F$148,IF($N$5=\"Course 2\",Général!F$150,IF($N$5=\"Course 3\",Général!F$152,Général!F$154)))","v":"ST Brieuc 2"},{"$f":"IF($O$5=\"Course 1\",Général!F$158,IF($O$5=\"Course 2\",Général!F$160,IF($O$5=\"Course 3\",Général!F$162,Général!F$164)))","v":"Unicaen 1"},{"$f":"IF($P$5=\"Course 1\",Général!F$168,IF($P$5=\"Course 2\",Général!F$170,IF($P$5=\"Course 3\",Général!F$172,Général!F$174)))","v":"ENSTA 2"},{"$f":"IF($Q$5=\"Course 1\",Général!F$178,IF($Q$5=\"Course 2\",Général!F$180,IF($Q$5=\"Course 3\",Général!F$182,Général!F$184)))","v":"Hannover"},{"$f":"IF($R$5=\"Course 1\",Général!F$188,IF($R$5=\"Course 2\",Général!F$190,IF($R$5=\"Course 3\",Général!F$192,Général!F$194)))","v":"ENSMAC"},{"$f":"IF($S$5=\"Course 1\",Général!F$198,IF($S$5=\"Course 2\",Général!F$200,IF($S$5=\"Course 3\",Général!F$202,Général!F$204)))","v":"IMT Nantes"},{"$f":"IF($T$5=\"Course 1\",Général!F$208,IF($T$5=\"Course 2\",Général!F$210,IF($T$5=\"Course 3\",Général!F$212,Général!F$214)))","v":"ST Brieuc 2"},null,{"$f":"Général!B14","v":"ENSTA 1"},6]
["6ème Equipage",null,{"$f":"IF($C$5=\"Course 1\",Général!G38,IF($C$5=\"Course 2\",Général!G40,IF($C$5=\"Course 3\",Général!G42,Général!G44)))","v":"Hannover"},{"$f":"IF($D$5=\"Course 1\",Général!G48,IF($D$5=\"Course 2\",Général!G50,IF($D$5=\"Course 3\",Général!G52,Général!G54)))","v":"La Rochelle 1"},{"$f":"IF($E$5=\"Course 1\",Général!G58,IF($E$5=\"Course 2\",Général!G60,IF($E$5=\"Course 3\",Général!G62,Général!G64)))","v":"IMT Brest 1"},{"$f":"IF($F$5=\"Course 1\",Général!G$68,IF($F$5=\"Course 2\",Général!G$70,IF($F$5=\"Course 3\",Général!G$72,Général!G$74)))","v":"IMT Brest 1"},{"$f":"IF($G$5=\"Course 1\",Général!G$78,IF($G$5=\"Course 2\",Général!G$80,IF($G$5=\"Course 3\",Général!G$82,Général!G$84)))","v":"UBO 1"},{"$f":"IF($H$5=\"Course 1\",Général!G$88,IF($H$5=\"Course 2\",Général!G$90,IF($H$5=\"Course 3\",Général!G$92,Général!G$94)))","v":"IMT Brest 2"},{"$f":"IF($I$5=\"Course 1\",Général!G$98,IF($I$5=\"Course 2\",Général!G$100,IF($I$5=\"Course 3\",Général!G$102,Général!G$104)))","v":"Univ Nantes 2"},{"$f":"IF($J$5=\"Course 1\",Général!G$108,IF($J$5=\"Course 2\",Général!G$110,IF($J$5=\"Course 3\",Général!G$112,Général!G$114)))","v":"Centrale Nantes 2"},{"$f":"IF($K$5=\"Course 1\",Général!G$118,IF($K$5=\"Course 2\",Général!G$120,IF($K$5=\"Course 3\",Général!G$122,Général!G$124)))","v":"Unicaen 1"},{"$f":"IF($L$5=\"Course 1\",Général!G$128,IF($L$5=\"Course 2\",Général!G$130,IF($L$5=\"Course 3\",Général!G$132,Général!G$134)))","v":"Intechmer"},{"$f":"IF($M$5=\"Course 1\",Général!G$138,IF($M$5=\"Course 2\",Général!G$140,IF($M$5=\"Course 3\",Général!G$142,Général!G$144)))","v":"Univ Nantes 3"},{"$f":"IF($N$5=\"Course 1\",Général!G$148,IF($N$5=\"Course 2\",Général!G$150,IF($N$5=\"Course 3\",Général!G$152,Général!G$154)))","v":"Univ Nantes 2"},{"$f":"IF($O$5=\"Course 1\",Général!G$158,IF($O$5=\"Course 2\",Général!G$160,IF($O$5=\"Course 3\",Général!G$162,Général!G$164)))","v":"Hannover"},{"$f":"IF($P$5=\"Course 1\",Général!G$168,IF($P$5=\"Course 2\",Général!G$170,IF($P$5=\"Course 3\",Général!G$172,Général!G$174)))","v":"ST Brieuc 2"},{"$f":"IF($Q$5=\"Course 1\",Général!G$178,IF($Q$5=\"Course 2\",Général!G$180,IF($Q$5=\"Course 3\",Général!G$182,Général!G$184)))","v":"Centrale Nantes 2"},{"$f":"IF($R$5=\"Course 1\",Général!G$188,IF($R$5=\"Course 2\",Général!G$190,IF($R$5=\"Course 3\",Général!G$192,Général!G$194)))","v":"IMT Brest 1"},{"$f":"IF($S$5=\"Course 1\",Général!G$198,IF($S$5=\"Course 2\",Général!G$200,IF($S$5=\"Course 3\",Général!G$202,Général!G$204)))","v":"La Rochelle 2"},{"$f":"IF($T$5=\"Course 1\",Général!G$208,IF($T$5=\"Course 2\",Général!G$210,IF($T$5=\"Course 3\",Général!G$212,Général!G$214)))","v":"Orléans"},null,{"$f":"Général!B15","v":"Orléans"},4]
["7ème Equipage",null,{"$f":"IF($C$5=\"Course 1\",Général!H38,IF($C$5=\"Course 2\",Général!H40,IF($C$5=\"Course 3\",Général!H42,Général!H44)))","v":"IMT Brest 2"},{"$f":"IF($D$5=\"Course 1\",Général!H48,IF($D$5=\"Course 2\",Général!H50,IF($D$5=\"Course 3\",Général!H52,Général!H54)))","v":"Unicaen 2"},{"$f":"IF($E$5=\"Course 1\",Général!H58,IF($E$5=\"Course 2\",Général!H60,IF($E$5=\"Course 3\",Général!H62,Général!H64)))","v":"Centrale Nantes 2"},{"$f":"IF($F$5=\"Course 1\",Général!H$68,IF($F$5=\"Course 2\",Général!H$70,IF($F$5=\"Course 3\",Général!H$72,Général!H$74)))","v":"IMT Brest 2"},{"$f":"IF($G$5=\"Course 1\",Général!H$78,IF($G$5=\"Course 2\",Général!H$80,IF($G$5=\"Course 3\",Général!H$82,Général!H$84)))","v":"IMT Brest 1"},{"$f":"IF($H$5=\"Course 1\",Général!H$88,IF($H$5=\"Course 2\",Général!H$90,IF($H$5=\"Course 3\",Général!H$92,Général!H$94)))","v":"ST Brieuc 2"},{"$f":"IF($I$5=\"Course 1\",Général!H$98,IF($I$5=\"Course 2\",Général!H$100,IF($I$5=\"Course 3\",Général!H$102,Général!H$104)))","v":"ST Brieuc 2"},{"$f":"IF($J$5=\"Course 1\",Général!H$108,IF($J$5=\"Course 2\",Général!H$110,IF($J$5=\"Course 3\",Général!H$112,Général!H$114)))","v":"St Brieuc 1"},{"$f":"IF($K$5=\"Course 1\",Général!H$118,IF($K$5=\"Course 2\",Général!H$120,IF($K$5=\"Course 3\",Général!H$122,Général!H$124)))","v":"Intechmer"},{"$f":"IF($L$5=\"Course 1\",Général!H$128,IF($L$5=\"Course 2\",Général!H$130,IF($L$5=\"Course 3\",Général!H$132,Général!H$134)))","v":"IMT Nantes"},{"$f":"IF($M$5=\"Course 1\",Général!H$138,IF($M$5=\"Course 2\",Général!H$140,IF($M$5=\"Course 3\",Général!H$142,Général!H$144)))","v":"Univ Nantes 2"},{"$f":"IF($N$5=\"Course 1\",Général!H$148,IF($N$5=\"Course 2\",Général!H$150,IF($N$5=\"Course 3\",Général!H$152,Général!H$154)))","v":"ENSMAC"},{"$f":"IF($O$5=\"Course 1\",Général!H$158,IF($O$5=\"Course 2\",Général!H$160,IF($O$5=\"Course 3\",Général!H$162,Général!H$164)))","v":"La Rochelle 2"},{"$f":"IF($P$5=\"Course 1\",Général!H$168,IF($P$5=\"Course 2\",Général!H$170,IF($P$5=\"Course 3\",Général!H$172,Général!H$174)))","v":"UNIV Nantes 1"},{"$f":"IF($Q$5=\"Course 1\",Général!H$178,IF($Q$5=\"Course 2\",Général!H$180,IF($Q$5=\"Course 3\",Général!H$182,Général!H$184)))","v":"IMT Brest 1"},{"$f":"IF($R$5=\"Course 1\",Général!H$188,IF($R$5=\"Course 2\",Général!H$190,IF($R$5=\"Course 3\",Général!H$192,Général!H$194)))","v":"Centrale Nantes 1"},{"$f":"IF($S$5=\"Course 1\",Général!H$198,IF($S$5=\"Course 2\",Général!H$200,IF($S$5=\"Course 3\",Général!H$202,Général!H$204)))","v":"Unicaen 1"},{"$f":"IF($T$5=\"Course 1\",Général!H$208,IF($T$5=\"Course 2\",Général!H$210,IF($T$5=\"Course 3\",Général!H$212,Général!H$214)))","v":"St Brieuc 1"},null,{"$f":"Général!B16","v":"IMT Brest 1"},9]
["8ème Equipage",null,{"$f":"IF($C$5=\"Course 1\",Général!I38,IF($C$5=\"Course 2\",Général!I40,IF($C$5=\"Course 3\",Général!I42,Général!I44)))","v":"Paris Cité"},{"$f":"IF($D$5=\"Course 1\",Général!I48,IF($D$5=\"Course 2\",Général!I50,IF($D$5=\"Course 3\",Général!I52,Général!I54)))","v":"UNIV Nantes 1"},{"$f":"IF($E$5=\"Course 1\",Général!I58,IF($E$5=\"Course 2\",Général!I60,IF($E$5=\"Course 3\",Général!I62,Général!I64)))","v":"Unicaen 2"},{"$f":"IF($F$5=\"Course 1\",Général!I$68,IF($F$5=\"Course 2\",Général!I$70,IF($F$5=\"Course 3\",Général!I$72,Général!I$74)))","v":"UBO 1"},{"$f":"IF($G$5=\"Course 1\",Général!I$78,IF($G$5=\"Course 2\",Général!I$80,IF($G$5=\"Course 3\",Général!I$82,Général!I$84)))","v":"Southampton"},{"$f":"IF($H$5=\"Course 1\",Général!I$88,IF($H$5=\"Course 2\",Général!I$90,IF($H$5=\"Course 3\",Général!I$92,Général!I$94)))","v":"UBO 2"},{"$f":"IF($I$5=\"Course 1\",Général!I$98,IF($I$5=\"Course 2\",Général!I$100,IF($I$5=\"Course 3\",Général!I$102,Général!I$104)))","v":"UBO 2"},{"$f":"IF($J$5=\"Course 1\",Général!I$108,IF($J$5=\"Course 2\",Général!I$110,IF($J$5=\"Course 3\",Général!I$112,Général!I$114)))","v":"Paris Cité"},{"$f":"IF($K$5=\"Course 1\",Général!I$118,IF($K$5=\"Course 2\",Général!I$120,IF($K$5=\"Course 3\",Général!I$122,Général!I$124)))","v":"Karlsruhe"},{"$f":"IF($L$5=\"Course 1\",Général!I$128,IF($L$5=\"Course 2\",Général!I$130,IF($L$5=\"Course 3\",Général!I$132,Général!I$134)))","v":"UBS Lorient 2"},{"$f":"IF($M$5=\"Course 1\",Général!I$138,IF($M$5=\"Course 2\",Général!I$140,IF($M$5=\"Course 3\",Général!I$142,Général!I$144)))","v":"ST Brieuc 2"},{"$f":"IF($N$5=\"Course 1\",Général!I$148,IF($N$5=\"Course 2\",Général!I$150,IF($N$5=\"Course 3\",Général!I$152,Général!I$154)))","v":"Univ Nantes 3"},{"$f":"IF($O$5=\"Course 1\",Général!I$158,IF($O$5=\"Course 2\",Général!I$160,IF($O$5=\"Course 3\",Général!I$162,Général!I$164)))","v":"Orléans"},{"$f":"IF($P$5=\"Course 1\",Général!I$168,IF($P$5=\"Course 2\",Général!I$170,IF($P$5=\"Course 3\",Général!I$172,Général!I$174)))","v":"Centrale Nantes 2"},{"$f":"IF($Q$5=\"Course 1\",Général!I$178,IF($Q$5=\"Course 2\",Général!I$180,IF($Q$5=\"Course 3\",Général!I$182,Général!I$184)))","v":"Univ Nantes 3"},{"$f":"IF($R$5=\"Course 1\",Général!I$188,IF($R$5=\"Course 2\",Général!I$190,IF($R$5=\"Course 3\",Général!I$192,Général!I$194)))","v":"UBS Lorient 2"},{"$f":"IF($S$5=\"Course 1\",Général!I$198,IF($S$5=\"Course 2\",Général!I$200,IF($S$5=\"Course 3\",Général!I$202,Général!I$204)))","v":"Plymouth"},{"$f":"IF($T$5=\"Course 1\",Général!I$208,IF($T$5=\"Course 2\",Général!I$210,IF($T$5=\"Course 3\",Général!I$212,Général!I$214)))","v":"UBO 2"},null,{"$f":"Général!B17","v":"ENSMAC"},6]
["9ème Equipage",null,{"$f":"IF($C$5=\"Course 1\",Général!J38,IF($C$5=\"Course 2\",Général!J40,IF($C$5=\"Course 3\",Général!J42,Général!J44)))","v":"ENSMAC"},{"$f":"IF($D$5=\"Course 1\",Général!J48,IF($D$5=\"Course 2\",Général!J50,IF($D$5=\"Course 3\",Général!J52,Général!J54)))","v":"Southampton"},{"$f":"IF($E$5=\"Course 1\",Général!J58,IF($E$5=\"Course 2\",Général!J60,IF($E$5=\"Course 3\",Général!J62,Général!J64)))","v":"ENSTA 1"},{"$f":"IF($F$5=\"Course 1\",Général!J$68,IF($F$5=\"Course 2\",Général!J$70,IF($F$5=\"Course 3\",Général!J$72,Général!J$74)))","v":"ENSTA 1"},{"$f":"IF($G$5=\"Course 1\",Général!J$78,IF($G$5=\"Course 2\",Général!J$80,IF($G$5=\"Course 3\",Général!J$82,Général!J$84)))","v":"ENSTA 1"},{"$f":"IF($H$5=\"Course 1\",Général!J$88,IF($H$5=\"Course 2\",Général!J$90,IF($H$5=\"Course 3\",Général!$J92,Général!J$94)))","v":"INSA Lyon"},{"$f":"IF($I$5=\"Course 1\",Général!J$98,IF($I$5=\"Course 2\",Général!J$100,IF($I$5=\"Course 3\",Général!J$102,Général!J$104)))","v":"Paris Cité"},{"$f":"IF($J$5=\"Course 1\",Général!J$108,IF($J$5=\"Course 2\",Général!J$110,IF($J$5=\"Course 3\",Général!J$112,Général!J$114)))","v":"UBO 1"},{"$f":"IF($K$5=\"Course 1\",Général!J$118,IF($K$5=\"Course 2\",Général!J$120,IF($K$5=\"Course 3\",Général!J$122,Général!J$124)))","v":"Centrale Nantes 2"},{"$f":"IF($L$5=\"Course 1\",Général!J$128,IF($L$5=\"Course 2\",Général!J$130,IF($L$5=\"Course 3\",Général!J$132,Général!J$134)))","v":"ST Brieuc 2"},{"$f":"IF($M$5=\"Course 1\",Général!J$138,IF($M$5=\"Course 2\",Général!J$140,IF($M$5=\"Course 3\",Général!J$142,Général!J$144)))","v":"La Rochelle 1"},{"$f":"IF($N$5=\"Course 1\",Général!J$148,IF($N$5=\"Course 2\",Général!J$150,IF($N$5=\"Course 3\",Général!J$152,Général!J$154)))","v":"ENSTA 2"},{"$f":"IF($O$5=\"Course 1\",Général!J$158,IF($O$5=\"Course 2\",Général!J$160,IF($O$5=\"Course 3\",Général!J$162,Général!J$164)))","v":"UBS Lorient 1"},{"$f":"IF($P$5=\"Course 1\",Général!J$168,IF($P$5=\"Course 2\",Général!J$170,IF($P$5=\"Course 3\",Général!J$172,Général!J$174)))","v":"Southampton"},{"$f":"IF($Q$5=\"Course 1\",Général!J$178,IF($Q$5=\"Course 2\",Général!J$180,IF($Q$5=\"Course 3\",Général!J$182,Général!J$184)))","v":"Intechmer"},{"$f":"IF($R$5=\"Course 1\",Général!J$188,IF($R$5=\"Course 2\",Général!J$190,IF($R$5=\"Course 3\",Général!J$192,Général!J$194)))","v":"UBS Lorient 1"},{"$f":"IF($S$5=\"Course 1\",Général!J$198,IF($S$5=\"Course 2\",Général!J$200,IF($S$5=\"Course 3\",Général!J$202,Général!J$204)))","v":"UNIV Nantes 1"},{"$f":"IF($T$5=\"Course 1\",Général!J$208,IF($T$5=\"Course 2\",Général!J$210,IF($T$5=\"Course 3\",Général!J$212,Général!J$214)))","v":"Karlsruhe"},null,{"$f":"Général!B18","v":"St Brieuc 1"},5]
["10ème Equipage",null,{"$f":"IF($C$5=\"Course 1\",Général!K38,IF($C$5=\"Course 2\",Général!K40,IF($C$5=\"Course 3\",Général!K42,Général!K44)))","v":"Paris Sorbone"},{"$f":"IF($D$5=\"Course 1\",Général!K48,IF($D$5=\"Course 2\",Général!K50,IF($D$5=\"Course 3\",Général!K52,Général!K54)))","v":"ENSMAC"},{"$f":"IF($E$5=\"Course 1\",Général!K58,IF($E$5=\"Course 2\",Général!K60,IF($E$5=\"Course 3\",Général!K62,Général!K64)))","v":"Karlsruhe"},{"$f":"IF($F$5=\"Course 1\",Général!K$68,IF($F$5=\"Course 2\",Général!K$70,IF($F$5=\"Course 3\",Général!K$72,Général!K$74)))","v":"Orléans"},{"$f":"IF($G$5=\"Course 1\",Général!K$78,IF($G$5=\"Course 2\",Général!K$80,IF($G$5=\"Course 3\",Général!K$82,Général!K$84)))","v":"UBO 2"},{"$f":"IF($H$5=\"Course 1\",Général!K$88,IF($H$5=\"Course 2\",Général!K$90,IF($H$5=\"Course 3\",Général!$K92,Général!K$94)))","v":"St Brieuc 1"},{"$f":"IF($I$5=\"Course 1\",Général!K$98,IF($I$5=\"Course 2\",Général!K$100,IF($I$5=\"Course 3\",Général!K$102,Général!K$104)))","v":"St Brieuc 1"},{"$f":"IF($J$5=\"Course 1\",Général!K$108,IF($J$5=\"Course 2\",Général!K$110,IF($J$5=\"Course 3\",Général!K$112,Général!K$114)))","v":"Univ Nantes 3"},{"$f":"IF($K$5=\"Course 1\",Général!K$118,IF($K$5=\"Course 2\",Général!K$120,IF($K$5=\"Course 3\",Général!K$122,Général!K$124)))","v":"ST Brieuc 2"},{"$f":"IF($L$5=\"Course 1\",Général!K$128,IF($L$5=\"Course 2\",Général!K$130,IF($L$5=\"Course 3\",Général!K$132,Général!K$134)))","v":"Southampton"},{"$f":"IF($M$5=\"Course 1\",Général!K$138,IF($M$5=\"Course 2\",Général!K$140,IF($M$5=\"Course 3\",Général!K$142,Général!K$144)))","v":"UBS Lorient 2"},{"$f":"IF($N$5=\"Course 1\",Général!K$148,IF($N$5=\"Course 2\",Général!K$150,IF($N$5=\"Course 3\",Général!K$152,Général!K$154)))","v":"ENSTA 1"},{"$f":"IF($O$5=\"Course 1\",Général!K$158,IF($O$5=\"Course 2\",Général!K$160,IF($O$5=\"Course 3\",Général!K$162,Général!K$164)))","v":"Paris Sorbone"},{"$f":"IF($P$5=\"Course 1\",Général!K$168,IF($P$5=\"Course 2\",Général!K$170,IF($P$5=\"Course 3\",Général!K$172,Général!K$174)))","v":"UBO 2"},{"$f":"IF($Q$5=\"Course 1\",Général!K$178,IF($Q$5=\"Course 2\",Général!K$180,IF($Q$5=\"Course 3\",Général!K$182,Général!K$184)))","v":"ST Brieuc 2"},{"$f":"IF($R$5=\"Course 1\",Général!K$188,IF($R$5=\"Course 2\",Général!K$190,IF($R$5=\"Course 3\",Général!K$192,Général!K$194)))","v":"UBO 1"},{"$f":"IF($S$5=\"Course 1\",Général!K$198,IF($S$5=\"Course 2\",Général!K$200,IF($S$5=\"Course 3\",Général!K$202,Général!K$204)))","v":"ST Brieuc 2"},{"$f":"IF($T$5=\"Course 1\",Général!K$208,IF($T$5=\"Course 2\",Général!K$210,IF($T$5=\"Course 3\",Général!K$212,Général!K$214)))","v":"ENSTA 1"},null,{"$f":"Général!B19","v":"Hannover"},4]
[null,null,null,null,null,null,null,null,null,null,null,null,null,null,null,null,null,null,null,null,null,{"$f":"Général!B20","v":"ENSTA 2"},6]
[null,null,null,null,null,null,null,null,null,null,null,null,null,null,null,null,null,null,null,null,null,{"$f":"Général!B21","v":"Southampton"},4]
[null,null,null,null,null,null,null,null,null,null,null,null,null,null,null,null,null,null,null,null,null,{"$f":"Général!B22","v":"La Rochelle 1"},6]
[null,null,null,null,null,null,null,null,null,null,null,null,null,null,null,null,null,null,null,null,null,{"$f":"Général!B23","v":"Centrale Nantes 1"},3]
[null,null,null,null,null,null,null,null,null,null,null,null,null,null,null,null,null,null,null,null,null,{"$f":"Général!B24","v":"ST Brieuc 2"},15]
[null,null,null,null,null,null,null,null,null,null,null,null,null,null,null,null,null,null,null,null,null,{"$f":"Général!B25","v":"UNIV Nantes 1"},6]
[null,null,null,null,null,null,null,null,null,null,null,null,null,null,null,null,null,null,null,null,null,{"$f":"Général!B26","v":"Intechmer"},6]
[null,null,null,null,null,null,null,null,null,null,null,null,null,null,null,null,null,null,null,null,null,{"$f":"Général!B27","v":"IMT Nantes"},4]
[null,null,null,null,null,null,null,null,null,null,null,null,null,null,null,null,null,null,null,null,null,{"$f":"Général!B28","v":"INSA Lyon"},4]
[null,null,null,null,null,null,null,null,null,null,null,null,null,null,null,null,null,null,null,null,null,{"$f":"Général!B29","v":"Centrale Nantes 2"},7]
[null,null,null,null,null,null,null,null,null,null,null,null,null,null,null,null,null,null,null,null,null,{"$f":"Général!B30","v":"UBS Lorient 2"},8]
[null,null,null,null,null,null,null,null,null,null,null,null,null,null,null,null,null,null,null,null,null,{"$f":"Général!B31","v":"La Rochelle 2"},4]
[null,null,null,null,null,null,null,null,null,null,null,null,null,null,null,null,null,null,null,null,null,{"$f":"Général!B32","v":"UBO 1"},4]
[null,null,null,null,null,null,null,null,null,null,null,null,null,null,null,null,null,null,null,null,null,{"$f":"Général!B33","v":"Eq.31"},0]
[null,null,null,null,null,null,null,null,null,null,null,null,null,null,null,null,null,null,null,null,null,{"$f":"Général!B34","v":"Eq.32"},0]

{"sheet":"Eq.23","index":28,"n_rows":32,"n_cols":23,"rows_kept":32,"cut":false,"hidden":false,"merged":[[7,0,7,1],[0,0,1,5],[0,6,1,10],[3,0,3,1],[4,0,4,1],[5,0,5,1],[14,0,14,1],[15,0,15,1],[16,0,16,1],[8,0,8,1],[9,0,9,1],[10,0,10,1],[11,0,11,1],[12,0,12,1],[13,0,13,1]]}
["Equipage ",null,null,null,null,null,{"$f":"Général!B25","v":"UNIV Nantes 1"},null,null,null,null,null,null,null,null,null,null,null,null,null,null,{"$f":"Général!B3","v":"UBO 2"},{"$f":"COUNTIF(C$8:T$16,V1)","v":4}]
[null,null,null,null,null,null,null,null,null,null,null,null,null,null,null,null,null,null,null,null,null,{"$f":"Général!B4","v":"Paris Sorbone"},{"$f":"COUNTIF($C$8:$T$16,V2)","v":4}]
[null,null,null,null,null,null,null,null,null,null,null,null,null,null,null,null,null,null,null,null,null,{"$f":"Général!B5","v":"UBS Lorient 1"},{"$f":"COUNTIF($C$8:$T$16,V3)","v":5}]
[null,null,"FLIGHT 1","FLIGHT 2","FLIGHT 3","FLIGHT 4","FLIGHT 5","FLIGHT 6","FLIGHT 7","FLIGHT 8","FLIGHT 9","FLIGHT 10","FLIGHT 11","FLIGHT 12","FLIGHT 13","FLIGHT 14","FLIGHT 15","FLIGHT 16","FLIGHT 17","FLIGHT 18",null,{"$f":"Général!B6","v":"Univ Nantes 3"},4]
["N° de course",null,{"$f":"IF(COUNTIF(Général!B38:K38,$G$1)=1,\"Course 1\",IF(COUNTIF(Général!B40:K40,$G$1)=1,\"Course 2\",IF(COUNTIF(Général!B42:K42,$G$1)=1,\"Course 3\",\"Course 4\")))","v":"Course 2"},{"$f":"IF(COUNTIF(Général!B48:K48,$G$1)=1,\"Course 1\",IF(COUNTIF(Général!B50:K50,$G$1)=1,\"Course 2\",IF(COUNTIF(Général!B52:K52,$G$1)=1,\"Course 3\",\"Course 4\")))","v":"Course 2"},{"$f":"IF(COUNTIF(Général!B58:K58,$G$1)=1,\"Course 1\",IF(COUNTIF(Général!B60:K60,$G$1)=1,\"Course 2\",IF(COUNTIF(Général!B62:K62,$G$1)=1,\"Course 3\",\"Course 4\")))","v":"Course 1"},{"$f":"IF(COUNTIF(Général!B68:K68,$G$1)=1,\"Course 1\",IF(COUNTIF(Général!B70:K70,$G$1)=1,\"Course 2\",IF(COUNTIF(Général!B72:K72,$G$1)=1,\"Course 3\",\"Course 4\")))","v":"Course 3"},{"$f":"IF(COUNTIF(Général!B78:K78,$G$1)=1,\"Course 1\",IF(COUNTIF(Général!B80:K80,$G$1)=1,\"Course 2\",IF(COUNTIF(Général!B82:K82,$G$1)=1,\"Course 3\",\"Course 4\")))","v":"Course 1"},{"$f":"IF(COUNTIF(Général!B88:K88,$G$1)=1,\"Course 1\",IF(COUNTIF(Général!B90:K90,$G$1)=1,\"Course 2\",IF(COUNTIF(Général!B92:K92,$G$1)=1,\"Course 3\",\"Course 4\")))","v":"Course 2"},{"$f":"IF(COUNTIF(Général!B98:K98,$G$1)=1,\"Course 1\",IF(COUNTIF(Général!B100:K100,$G$1)=1,\"Course 2\",IF(COUNTIF(Général!B102:K102,$G$1)=1,\"Course 3\",\"Course 4\")))","v":"Course 1"},{"$f":"IF(COUNTIF(Général!B108:K108,$G$1)=1,\"Course 1\",IF(COUNTIF(Général!B110:K110,$G$1)=1,\"Course 2\",IF(COUNTIF(Général!B112:K112,$G$1)=1,\"Course 3\",\"Course 4\")))","v":"Course 3"},{"$f":"IF(COUNTIF(Général!B118:K118,$G$1)=1,\"Course 1\",IF(COUNTIF(Général!B120:K120,$G$1)=1,\"Course 2\",IF(COUNTIF(Général!B122:K122,$G$1)=1,\"Course 3\",\"Course 4\")))","v":"Course 1"},{"$f":"IF(COUNTIF(Général!B128:K128,$G$1)=1,\"Course 1\",IF(COUNTIF(Général!B130:K130,$G$1)=1,\"Course 2\",IF(COUNTIF(Général!B132:K132,$G$1)=1,\"Course 3\",\"Course 4\")))","v":"Course 3"},{"$f":"IF(COUNTIF(Général!B138:K138,$G$1)=1,\"Course 1\",IF(COUNTIF(Général!B140:K140,$G$1)=1,\"Course 2\",IF(COUNTIF(Général!B142:K142,$G$1)=1,\"Course 3\",\"Course 4\")))","v":"Course 1"},{"$f":"IF(COUNTIF(Général!B148:K148,$G$1)=1,\"Course 1\",IF(COUNTIF(Général!B150:K150,$G$1)=1,\"Course 2\",IF(COUNTIF(Général!B152:K152,$G$1)=1,\"Course 3\",\"Course 4\")))","v":"Course 3"},{"$f":"IF(COUNTIF(Général!B158:K158,$G$1)=1,\"Course 1\",IF(COUNTIF(Général!B160:K160,$G$1)=1,\"Course 2\",IF(COUNTIF(Général!B162:K162,$G$1)=1,\"Course 3\",\"Course 4\")))","v":"Course 3"},{"$f":"IF(COUNTIF(Général!B168:K168,$G$1)=1,\"Course 1\",IF(COUNTIF(Général!B170:K170,$G$1)=1,\"Course 2\",IF(COUNTIF(Général!B172:K172,$G$1)=1,\"Course 3\",\"Course 4\")))","v":"Course 2"},{"$f":"IF(COUNTIF(Général!B178:K178,$G$1)=1,\"Course 1\",IF(COUNTIF(Général!B180:K180,$G$1)=1,\"Course 2\",IF(COUNTIF(Général!B182:K182,$G$1)=1,\"Course 3\",\"Course 4\")))","v":"Course 1"},{"$f":"IF(COUNTIF(Général!B188:K188,$G$1)=1,\"Course 1\",IF(COUNTIF(Général!B190:K190,$G$1)=1,\"Course 2\",IF(COUNTIF(Général!B192:K192,$G$1)=1,\"Course 3\",\"Course 4\")))","v":"Course 3"},{"$f":"IF(COUNTIF(Général!B198:K198,$G$1)=1,\"Course 1\",IF(COUNTIF(Général!B200:K200,$G$1)=1,\"Course 2\",IF(COUNTIF(Général!B202:K202,$G$1)=1,\"Course 3\",\"Course 4\")))","v":"Course 1"},{"$f":"IF(COUNTIF(Général!B208:K208,$G$1)=1,\"Course 1\",IF(COUNTIF(Général!B210:K210,$G$1)=1,\"Course 2\",IF(COUNTIF(Général!B212:K212,$G$1)=1,\"Course 3\",\"Course 4\")))","v":"Course 2"},null,{"$f":"Général!B7","v":"Paris Cité"},3]
["Bateau",null,{"$f":"IF(COUNTIF(Général!B38:B44,$G$1)=1,\"Boat 1\",IF(COUNTIF(Général!C38:C44,$G$1)=1,\"Boat 2\",IF(COUNTIF(Général!D38:D44,$G$1)=1,\"Boat 3\", IF(COUNTIF(Général!E38:E44,$G$1)=1,\"Boat 4\", IF(COUNTIF(Général!F38:F44,$G$1)=1,\"Boat 5\", IF(COUNTIF(Général!G38:G44,$G$1)=1,\"Boat 6\", IF(COUNTIF(Général!H38:H44,$G$1)=1,\"Boat 7\",IF(COUNTIF(Général!I38:I44,$G$1)=1,\"Boat 8\",\"Boat 9\"))))))))","v":"Boat 3"},{"$f":"IF(COUNTIF(Général!B48:B54,$G$1)=1,\"Boat 1\",IF(COUNTIF(Général!C48:C54,$G$1)=1,\"Boat 2\",IF(COUNTIF(Général!D48:D54,$G$1)=1,\"Boat 3\", IF(COUNTIF(Général!E48:E54,$G$1)=1,\"Boat 4\", IF(COUNTIF(Général!F48:F54,$G$1)=1,\"Boat 5\", IF(COUNTIF(Général!G48:G54,$G$1)=1,\"Boat 6\", IF(COUNTIF(Général!H48:H54,$G$1)=1,\"Boat 7\",IF(COUNTIF(Général!I38:I44,$G$1)=1,\"Boat 8\",\"Boat 9\"))))))))","v":"Boat 9"},{"$f":"IF(COUNTIF(Général!B58:B64,$G$1)=1,\"Boat 1\",IF(COUNTIF(Général!C58:C64,$G$1)=1,\"Boat 2\",IF(COUNTIF(Général!D58:D64,$G$1)=1,\"Boat 3\", IF(COUNTIF(Général!E58:E64,$G$1)=1,\"Boat 4\", IF(COUNTIF(Général!F58:F64,$G$1)=1,\"Boat 5\", IF(COUNTIF(Général!G58:G64,$G$1)=1,\"Boat 6\", IF(COUNTIF(Général!H58:H64,$G$1)=1,\"Boat 7\",IF(COUNTIF(Général!I38:I44,$G$1)=1,\"Boat 8\",\"Boat 9\"))))))))","v":"Boat 9"},{"$f":"IF(COUNTIF(Général!B68:B74,$G$1)=1,\"Boat 1\",IF(COUNTIF(Général!C68:C74,$G$1)=1,\"Boat 2\",IF(COUNTIF(Général!D68:D74,$G$1)=1,\"Boat 3\", IF(COUNTIF(Général!E68:E74,$G$1)=1,\"Boat 4\", IF(COUNTIF(Général!F68:F74,$G$1)=1,\"Boat 5\", IF(COUNTIF(Général!G68:G74,$G$1)=1,\"Boat 6\", IF(COUNTIF(Général!H68:H74,$G$1)=1,\"Boat 7\",IF(COUNTIF(Général!I38:I44,$G$1)=1,\"Boat 8\",\"Boat 9\"))))))))","v":"Boat 4"},{"$f":"IF(COUNTIF(Général!B78:B84,$G$1)=1,\"Boat 1\",IF(COUNTIF(Général!C78:C84,$G$1)=1,\"Boat 2\",IF(COUNTIF(Général!D78:D84,$G$1)=1,\"Boat 3\", IF(COUNTIF(Général!E78:E84,$G$1)=1,\"Boat 4\", IF(COUNTIF(Général!F78:F84,$G$1)=1,\"Boat 5\", IF(COUNTIF(Général!G78:G84,$G$1)=1,\"Boat 6\", IF(COUNTIF(Général!H78:H84,$G$1)=1,\"Boat 7\",IF(COUNTIF(Général!I38:I44,$G$1)=1,\"Boat 8\",\"Boat 9\"))))))))","v":"Boat 4"},{"$f":"IF(COUNTIF(Général!B88:B94,$G$1)=1,\"Boat 1\",IF(COUNTIF(Général!C88:C94,$G$1)=1,\"Boat 2\",IF(COUNTIF(Général!D88:D94,$G$1)=1,\"Boat 3\", IF(COUNTIF(Général!E88:E94,$G$1)=1,\"Boat 4\", IF(COUNTIF(Général!F88:F94,$G$1)=1,\"Boat 5\", IF(COUNTIF(Général!G88:G94,$G$1)=1,\"Boat 6\", IF(COUNTIF(Général!H88:H94,$G$1)=1,\"Boat 7\",IF(COUNTIF(Général!I38:I44,$G$1)=1,\"Boat 8\",\"Boat 9\"))))))))","v":"Boat 3"},{"$f":"IF(COUNTIF(Général!B98:B104,$G$1)=1,\"Boat 1\",IF(COUNTIF(Général!C98:C104,$G$1)=1,\"Boat 2\",IF(COUNTIF(Général!D98:D104,$G$1)=1,\"Boat 3\", IF(COUNTIF(Général!E98:E104,$G$1)=1,\"Boat 4\", IF(COUNTIF(Général!F98:F104,$G$1)=1,\"Boat 5\", IF(COUNTIF(Général!G98:G104,$G$1)=1,\"Boat 6\", IF(COUNTIF(Général!H98:H104,$G$1)=1,\"Boat 7\",IF(COUNTIF(Général!I38:I44,$G$1)=1,\"Boat 8\",\"Boat 9\"))))))))","v":"Boat 4"},{"$f":"IF(COUNTIF(Général!B108:B114,$G$1)=1,\"Boat 1\",IF(COUNTIF(Général!C108:C114,$G$1)=1,\"Boat 2\",IF(COUNTIF(Général!D108:D114,$G$1)=1,\"Boat 3\", IF(COUNTIF(Général!E108:E114,$G$1)=1,\"Boat 4\", IF(COUNTIF(Général!F108:F114,$G$1)=1,\"Boat 5\", IF(COUNTIF(Général!G108:G114,$G$1)=1,\"Boat 6\", IF(COUNTIF(Général!H108:H114,$G$1)=1,\"Boat 7\",IF(COUNTIF(Général!I38:I44,$G$1)=1,\"Boat 8\",\"Boat 9\"))))))))","v":"Boat 1"},{"$f":"IF(COUNTIF(Général!B118:B124,$G$1)=1,\"Boat 1\",IF(COUNTIF(Général!C118:C124,$G$1)=1,\"Boat 2\",IF(COUNTIF(Général!D118:D124,$G$1)=1,\"Boat 3\", IF(COUNTIF(Général!E118:E124,$G$1)=1,\"Boat 4\", IF(COUNTIF(Général!F118:F124,$G$1)=1,\"Boat 5\", IF(COUNTIF(Général!G118:G124,$G$1)=1,\"Boat 6\", IF(COUNTIF(Général!H118:H124,$G$1)=1,\"Boat 7\",IF(COUNTIF(Général!I38:I44,$G$1)=1,\"Boat 8\",\"Boat 9\"))))))))","v":"Boat 1"},{"$f":"IF(COUNTIF(Général!B128:B134,$G$1)=1,\"Boat 1\",IF(COUNTIF(Général!C128:C134,$G$1)=1,\"Boat 2\",IF(COUNTIF(Général!D128:D134,$G$1)=1,\"Boat 3\", IF(COUNTIF(Général!E128:E134,$G$1)=1,\"Boat 4\", IF(COUNTIF(Général!F128:F134,$G$1)=1,\"Boat 5\", IF(COUNTIF(Général!G128:G134,$G$1)=1,\"Boat 6\", IF(COUNTIF(Général!H128:H134,$G$1)=1,\"Boat 7\",IF(COUNTIF(Général!I38:I44,$G$1)=1,\"Boat 8\",\"Boat 9\"))))))))","v":"Boat 2"},{"$f":"IF(COUNTIF(Général!B138:B144,$G$1)=1,\"Boat 1\",IF(COUNTIF(Général!C138:C144,$G$1)=1,\"Boat 2\",IF(COUNTIF(Général!C138:D144,$G$1)=1,\"Boat 3\", IF(COUNTIF(Général!C138:E144,$G$1)=1,\"Boat 4\", IF(COUNTIF(Général!F138:F144,$G$1)=1,\"Boat 5\", IF(COUNTIF(Général!G138:G144,$G$1)=1,\"Boat 6\", IF(COUNTIF(Général!H138:H144,$G$1)=1,\"Boat 7\",IF(COUNTIF(Général!I38:I44,$G$1)=1,\"Boat 8\",\"Boat 9\"))))))))","v":"Boat 2"},{"$f":"IF(COUNTIF(Général!B148:B154,$G$1)=1,\"Boat 1\",IF(COUNTIF(Général!C148:C154,$G$1)=1,\"Boat 2\",IF(COUNTIF(Général!D148:D154,$G$1)=1,\"Boat 3\", IF(COUNTIF(Général!E148:E154,$G$1)=1,\"Boat 4\", IF(COUNTIF(Général!F148:F154,$G$1)=1,\"Boat 5\", IF(COUNTIF(Général!G148:G154,$G$1)=1,\"Boat 6\", IF(COUNTIF(Général!H148:H154,$G$1)=1,\"Boat 7\",IF(COUNTIF(Général!I38:I44,$G$1)=1,\"Boat 8\",\"Boat 9\"))))))))","v":"Boat 9"},{"$f":"IF(COUNTIF(Général!B158:B164,$G$1)=1,\"Boat 1\",IF(COUNTIF(Général!C158:C164,$G$1)=1,\"Boat 2\",IF(COUNTIF(Général!D160:D164,$G$1)=1,\"Boat 3\", IF(COUNTIF(Général!E158:E164,$G$1)=1,\"Boat 4\", IF(COUNTIF(Général!F158:F164,$G$1)=1,\"Boat 5\", IF(COUNTIF(Général!G158:G164,$G$1)=1,\"Boat 6\", IF(COUNTIF(Général!H158:H164,$G$1)=1,\"Boat 7\",IF(COUNTIF(Général!I38:I44,$G$1)=1,\"Boat 8\",\"Boat 9\"))))))))","v":"Boat 5"},{"$f":"IF(COUNTIF(Général!B168:B174,$G$1)=1,\"Boat 1\",IF(COUNTIF(Général!C168:C174,$G$1)=1,\"Boat 2\",IF(COUNTIF(Général!D168:D174,$G$1)=1,\"Boat 3\", IF(COUNTIF(Général!E168:E174,$G$1)=1,\"Boat 4\", IF(COUNTIF(Général!F178:F184,$G$1)=1,\"Boat 5\", IF(COUNTIF(Général!G178:G184,$G$1)=1,\"Boat 6\", IF(COUNTIF(Général!H178:H184,$G$1)=1,\"Boat 7\",IF(COUNTIF(Général!I38:I44,$G$1)=1,\"Boat 8\",\"Boat 9\"))))))))","v":"Boat 9"},{"$f":"IF(COUNTIF(Général!B178:B184,$G$1)=1,\"Boat 1\",IF(COUNTIF(Général!C178:C184,$G$1)=1,\"Boat 2\",IF(COUNTIF(Général!D178:D184,$G$1)=1,\"Boat 3\", IF(COUNTIF(Général!E178:E184,$G$1)=1,\"Boat 4\", IF(COUNTIF(Général!F178:F184,$G$1)=1,\"Boat 5\", IF(COUNTIF(Général!G178:G184,$G$1)=1,\"Boat 6\", IF(COUNTIF(Général!H178:H184,$G$1)=1,\"Boat 7\",IF(COUNTIF(Général!I38:I44,$G$1)=1,\"Boat 8\",\"Boat 9\"))))))))","v":"Boat 2"},{"$f":"IF(COUNTIF(Général!B188:B194,$G$1)=1,\"Boat 1\",IF(COUNTIF(Général!C188:C194,$G$1)=1,\"Boat 2\",IF(COUNTIF(Général!D188:D194,$G$1)=1,\"Boat 3\", IF(COUNTIF(Général!E188:E194,$G$1)=1,\"Boat 4\", IF(COUNTIF(Général!F188:F194,$G$1)=1,\"Boat 5\", IF(COUNTIF(Général!G188:G194,$G$1)=1,\"Boat 6\", IF(COUNTIF(Général!H188:H194,$G$1)=1,\"Boat 7\",IF(COUNTIF(Général!I38:I44,$G$1)=1,\"Boat 8\",\"Boat 9\"))))))))","v":"Boat 9"},{"$f":"IF(COUNTIF(Général!B198:B204,$G$1)=1,\"Boat 1\",IF(COUNTIF(Général!C198:C204,$G$1)=1,\"Boat 2\",IF(COUNTIF(Général!D198:D204,$G$1)=1,\"Boat 3\", IF(COUNTIF(Général!E198:E204,$G$1)=1,\"Boat 4\", IF(COUNTIF(Général!F198:F204,$G$1)=1,\"Boat 5\", IF(COUNTIF(Général!G198:G204,$G$1)=1,\"Boat 6\", IF(COUNTIF(Général!H198:H204,$G$1)=1,\"Boat 7\",IF(COUNTIF(Général!I38:I44,$G$1)=1,\"Boat 8\",\"Boat 9\"))))))))","v":"Boat 9"},{"$f":"IF(COUNTIF(Général!B208:B214,$G$1)=1,\"Boat 1\",IF(COUNTIF(Général!C208:C214,$G$1)=1,\"Boat 2\",IF(COUNTIF(Général!D208:D214,$G$1)=1,\"Boat 3\", IF(COUNTIF(Général!E208:E214,$G$1)=1,\"Boat 4\", IF(COUNTIF(Général!F208:F214,$G$1)=1,\"Boat 5\", IF(COUNTIF(Général!G208:G214,$G$1)=1,\"Boat 6\", IF(COUNTIF(Général!H208:H214,$G$1)=1,\"Boat 7\",IF(COUNTIF(Général!I38:I44,$G$1)=1,\"Boat 8\",\"Boat 9\"))))))))","v":"Boat 9"},null,{"$f":"Général!B8","v":"Plymouth"},5]
[null,null,null,null,null,null,null,null,null,null,null,null,null,null,null,null,null,null,null,null,null,{"$f":"Général!B9","v":"Unicaen 2"},3]
["1er Equipage",null,{"$f":"IF($C$5=\"Course 1\",Général!B38,IF($C$5=\"Course 2\",Général!B40,IF($C$5=\"Course 3\",Général!B42,Général!B44)))","v":"ST Brieuc 2"},{"$f":"IF($D$5=\"Course 1\",Général!B48,IF($D$5=\"Course 2\",Général!B50,IF($D$5=\"Course 3\",Général!B52,Général!B54)))","v":"St Brieuc 1"},{"$f":"IF($E$5=\"Course 1\",Général!B58,IF($E$5=\"Course 2\",Général!B60,IF($E$5=\"Course 3\",Général!B62,Général!B64)))","v":"Orléans"},{"$f":"IF($F$5=\"Course 1\",Général!B$68,IF($F$5=\"Course 2\",Général!B$70,IF($F$5=\"Course 3\",Général!B$72,Général!B$74)))","v":"ENSMAC"},{"$f":"IF($G$5=\"Course 1\",Général!B$78,IF($G$5=\"Course 2\",Général!B$80,IF($G$5=\"Course 3\",Général!B$82,Général!B$84)))","v":"ENSMAC"},{"$f":"IF($H$5=\"Course 1\",Général!B$88,IF($H$5=\"Course 2\",Général!B$90,IF($H$5=\"Course 3\",Général!B$92,Général!B$94)))","v":"Univ Nantes 2"},{"$f":"IF($I$5=\"Course 1\",Général!B$98,IF($I$5=\"Course 2\",Général!B$100,IF($I$5=\"Course 3\",Général!B$102,Général!B$104)))","v":"Centrale Nantes 2"},{"$f":"IF($J$5=\"Course 1\",Général!B$108,IF($J$5=\"Course 2\",Général!B$110,IF($J$5=\"Course 3\",Général!B$112,Général!B$114)))","v":"UNIV Nantes 1"},{"$f":"IF($K$5=\"Course 1\",Général!B$118,IF($K$5=\"Course 2\",Général!B$120,IF($K$5=\"Course 3\",Général!B$122,Général!B$124)))","v":"UNIV Nantes 1"},{"$f":"IF($L$5=\"Course 1\",Général!B$128,IF($L$5=\"Course 2\",Général!B$130,IF($L$5=\"Course 3\",Général!B$132,Général!B$134)))","v":"IMT Brest 2"},{"$f":"IF($M$5=\"Course 1\",Général!B$138,IF($M$5=\"Course 2\",Général!B$140,IF($M$5=\"Course 3\",Général!B$142,Général!B$144)))","v":"IMT Brest 2"},{"$f":"IF($N$5=\"Course 1\",Général!B$148,IF($N$5=\"Course 2\",Général!B$150,IF($N$5=\"Course 3\",Général!B$152,Général!B$154)))","v":"La Rochelle 1"},{"$f":"IF($O$5=\"Course 1\",Général!B$158,IF($O$5=\"Course 2\",Général!B$160,IF($O$5=\"Course 3\",Général!B$162,Général!B$164)))","v":"St Brieuc 1"},{"$f":"IF($P$5=\"Course 1\",Général!B$168,IF($P$5=\"Course 2\",Général!B$170,IF($P$5=\"Course 3\",Général!B$172,Général!B$174)))","v":"ENSMAC"},{"$f":"IF($Q$5=\"Course 1\",Général!B$178,IF($Q$5=\"Course 2\",Général!B$180,IF($Q$5=\"Course 3\",Général!B$182,Général!B$184)))","v":"Plymouth"},{"$f":"IF($R$5=\"Course 1\",Général!B$188,IF($R$5=\"Course 2\",Général!B$190,IF($R$5=\"Course 3\",Général!B$192,Général!B$194)))","v":"ENSTA 1"},{"$f":"IF($S$5=\"Course 1\",Général!B$198,IF($S$5=\"Course 2\",Général!B$200,IF($S$5=\"Course 3\",Général!B$202,Général!B$204)))","v":"ENSTA 1"},{"$f":"IF($T$5=\"Course 1\",Général!B$208,IF($T$5=\"Course 2\",Général!B$210,IF($T$5=\"Course 3\",Général!B$212,Général!B$214)))","v":"UBO 1"},null,{"$f":"Général!B10","v":"Univ Nantes 2"},8]
["2nd Equipage",null,{"$f":"IF($C$5=\"Course 1\",Général!C38,IF($C$5=\"Course 2\",Général!C40,IF($C$5=\"Course 3\",Général!C42,Général!C44)))","v":"UBS Lorient 2"},{"$f":"IF($D$5=\"Course 1\",Général!C48,IF($D$5=\"Course 2\",Général!C50,IF($D$5=\"Course 3\",Général!C52,Général!C54)))","v":"Univ Nantes 3"},{"$f":"IF($E$5=\"Course 1\",Général!C58,IF($E$5=\"Course 2\",Général!C60,IF($E$5=\"Course 3\",Général!C62,Général!C64)))","v":"UBS Lorient 2"},{"$f":"IF($F$5=\"Course 1\",Général!C$68,IF($F$5=\"Course 2\",Général!C$70,IF($F$5=\"Course 3\",Général!C$72,Général!C$74)))","v":"St Brieuc 1"},{"$f":"IF($G$5=\"Course 1\",Général!C$78,IF($G$5=\"Course 2\",Général!C$80,IF($G$5=\"Course 3\",Général!C$82,Général!C$84)))","v":"Hannover"},{"$f":"IF($H$5=\"Course 1\",Général!C$88,IF($H$5=\"Course 2\",Général!C$90,IF($H$5=\"Course 3\",Général!C$92,Général!C$94)))","v":"La Rochelle 2"},{"$f":"IF($I$5=\"Course 1\",Général!C$98,IF($I$5=\"Course 2\",Général!C$100,IF($I$5=\"Course 3\",Général!C$102,Général!C$104)))","v":"Intechmer"},{"$f":"IF($J$5=\"Course 1\",Général!C$108,IF($J$5=\"Course 2\",Général!C$110,IF($J$5=\"Course 3\",Général!C$112,Général!C$114)))","v":"UBS Lorient 1"},{"$f":"IF($K$5=\"Course 1\",Général!C$118,IF($K$5=\"Course 2\",Général!C$120,IF($K$5=\"Course 3\",Général!C$122,Général!C$124)))","v":"UBS Lorient 1"},{"$f":"IF($L$5=\"Course 1\",Général!C$128,IF($L$5=\"Course 2\",Général!C$130,IF($L$5=\"Course 3\",Général!C$132,Général!C$134)))","v":"UNIV Nantes 1"},{"$f":"IF($M$5=\"Course 1\",Général!C$138,IF($M$5=\"Course 2\",Général!C$140,IF($M$5=\"Course 3\",Général!C$142,Général!C$144)))","v":"UNIV Nantes 1"},{"$f":"IF($N$5=\"Course 1\",Général!C$148,IF($N$5=\"Course 2\",Général!C$150,IF($N$5=\"Course 3\",Général!C$152,Général!C$154)))","v":"Intechmer"},{"$f":"IF($O$5=\"Course 1\",Général!C$158,IF($O$5=\"Course 2\",Général!C$160,IF($O$5=\"Course 3\",Général!C$162,Général!C$164)))","v":"Karlsruhe"},{"$f":"IF($P$5=\"Course 1\",Général!C$168,IF($P$5=\"Course 2\",Général!C$170,IF($P$5=\"Course 3\",Général!C$172,Général!C$174)))","v":"Univ Nantes 3"},{"$f":"IF($Q$5=\"Course 1\",Général!C$178,IF($Q$5=\"Course 2\",Général!C$180,IF($Q$5=\"Course 3\",Général!C$182,Général!C$184)))","v":"UNIV Nantes 1"},{"$f":"IF($R$5=\"Course 1\",Général!C$188,IF($R$5=\"Course 2\",Général!C$190,IF($R$5=\"Course 3\",Général!C$192,Général!C$194)))","v":"INSA Lyon"},{"$f":"IF($S$5=\"Course 1\",Général!C$198,IF($S$5=\"Course 2\",Général!C$200,IF($S$5=\"Course 3\",Général!C$202,Général!C$204)))","v":"INSA Lyon"},{"$f":"IF($T$5=\"Course 1\",Général!C$208,IF($T$5=\"Course 2\",Général!C$210,IF($T$5=\"Course 3\",Général!C$212,Général!C$214)))","v":"Paris Sorbone"},null,{"$f":"Général!B11","v":"Karlsruhe"},5]
["3ème Equipage",null,{"$f":"IF($C$5=\"Course 1\",Général!D38,IF($C$5=\"Course 2\",Général!D40,IF($C$5=\"Course 3\",Général!D42,Général!D44)))","v":"UNIV Nantes 1"},{"$f":"IF($D$5=\"Course 1\",Général!D48,IF($D$5=\"Course 2\",Général!D50,IF($D$5=\"Course 3\",Général!D52,Général!D54)))","v":"UBS Lorient 2"},{"$f":"IF($E$5=\"Course 1\",Général!D58,IF($E$5=\"Course 2\",Général!D60,IF($E$5=\"Course 3\",Général!D62,Général!D64)))","v":"IMT Brest 2"},{"$f":"IF($F$5=\"Course 1\",Général!D$68,IF($F$5=\"Course 2\",Général!D$70,IF($F$5=\"Course 3\",Général!D$72,Général!D$74)))","v":"Karlsruhe"},{"$f":"IF($G$5=\"Course 1\",Général!D$78,IF($G$5=\"Course 2\",Général!D$80,IF($G$5=\"Course 3\",Général!D$82,Général!D$84)))","v":"Karlsruhe"},{"$f":"IF($H$5=\"Course 1\",Général!D$88,IF($H$5=\"Course 2\",Général!D$90,IF($H$5=\"Course 3\",Général!D$92,Général!D$94)))","v":"UNIV Nantes 1"},{"$f":"IF($I$5=\"Course 1\",Général!D$98,IF($I$5=\"Course 2\",Général!D$100,IF($I$5=\"Course 3\",Général!D$102,Général!D$104)))","v":"UBS Lorient 2"},{"$f":"IF($J$5=\"Course 1\",Général!D$108,IF($J$5=\"Course 2\",Général!D$110,IF($J$5=\"Course 3\",Général!D$112,Général!D$114)))","v":"IMT Brest 1"},{"$f":"IF($K$5=\"Course 1\",Général!D$118,IF($K$5=\"Course 2\",Général!D$120,IF($K$5=\"Course 3\",Général!D$122,Général!D$124)))","v":"ENSMAC"},{"$f":"IF($L$5=\"Course 1\",Général!D$128,IF($L$5=\"Course 2\",Général!D$130,IF($L$5=\"Course 3\",Général!D$132,Général!D$134)))","v":"UBS Lorient 1"},{"$f":"IF($M$5=\"Course 1\",Général!D$138,IF($M$5=\"Course 2\",Général!D$140,IF($M$5=\"Course 3\",Général!D$142,Général!D$144)))","v":"UBS Lorient 1"},{"$f":"IF($N$5=\"Course 1\",Général!D$148,IF($N$5=\"Course 2\",Général!D$150,IF($N$5=\"Course 3\",Général!D$152,Général!D$154)))","v":"IMT Brest 2"},{"$f":"IF($O$5=\"Course 1\",Général!D$158,IF($O$5=\"Course 2\",Général!D$160,IF($O$5=\"Course 3\",Général!D$162,Général!D$164)))","v":"ENSTA 1"},{"$f":"IF($P$5=\"Course 1\",Général!D$168,IF($P$5=\"Course 2\",Général!D$170,IF($P$5=\"Course 3\",Général!D$172,Général!D$174)))","v":"Intechmer"},{"$f":"IF($Q$5=\"Course 1\",Général!D$178,IF($Q$5=\"Course 2\",Général!D$180,IF($Q$5=\"Course 3\",Général!D$182,Général!D$184)))","v":"Univ Nantes 2"},{"$f":"IF($R$5=\"Course 1\",Général!D$188,IF($R$5=\"Course 2\",Général!D$190,IF($R$5=\"Course 3\",Général!D$192,Général!D$194)))","v":"Intechmer"},{"$f":"IF($S$5=\"Course 1\",Général!D$198,IF($S$5=\"Course 2\",Général!D$200,IF($S$5=\"Course 3\",Général!D$202,Général!D$204)))","v":"Intechmer"},{"$f":"IF($T$5=\"Course 1\",Général!D$208,IF($T$5=\"Course 2\",Général!D$210,IF($T$5=\"Course 3\",Général!D$212,Général!D$214)))","v":"ENSMAC"},null,{"$f":"Général!B12","v":"IMT Brest 2"},6]
["4ème Equipage",null,{"$f":"IF($C$5=\"Course 1\",Général!E38,IF($C$5=\"Course 2\",Général!E40,IF($C$5=\"Course 3\",Général!E42,Général!E44)))","v":"Orléans"},{"$f":"IF($D$5=\"Course 1\",Général!E48,IF($D$5=\"Course 2\",Général!E50,IF($D$5=\"Course 3\",Général!E52,Général!E54)))","v":"ENSTA 2"},{"$f":"IF($E$5=\"Course 1\",Général!E58,IF($E$5=\"Course 2\",Général!E60,IF($E$5=\"Course 3\",Général!E62,Général!E64)))","v":"Paris Sorbone"},{"$f":"IF($F$5=\"Course 1\",Général!E$68,IF($F$5=\"Course 2\",Général!E$70,IF($F$5=\"Course 3\",Général!E$72,Général!E$74)))","v":"UNIV Nantes 1"},{"$f":"IF($G$5=\"Course 1\",Général!E$78,IF($G$5=\"Course 2\",Général!E$80,IF($G$5=\"Course 3\",Général!E$82,Général!E$84)))","v":"UNIV Nantes 1"},{"$f":"IF($H$5=\"Course 1\",Général!E$88,IF($H$5=\"Course 2\",Général!E$90,IF($H$5=\"Course 3\",Général!E$92,Général!E$94)))","v":"Karlsruhe"},{"$f":"IF($I$5=\"Course 1\",Général!E$98,IF($I$5=\"Course 2\",Général!E$100,IF($I$5=\"Course 3\",Général!E$102,Général!E$104)))","v":"UNIV Nantes 1"},{"$f":"IF($J$5=\"Course 1\",Général!E$108,IF($J$5=\"Course 2\",Général!E$110,IF($J$5=\"Course 3\",Général!E$112,Général!E$114)))","v":"UBS Lorient 2"},{"$f":"IF($K$5=\"Course 1\",Général!E$118,IF($K$5=\"Course 2\",Général!E$120,IF($K$5=\"Course 3\",Général!E$122,Général!E$124)))","v":"UBS Lorient 2"},{"$f":"IF($L$5=\"Course 1\",Général!E$128,IF($L$5=\"Course 2\",Général!E$130,IF($L$5=\"Course 3\",Général!E$132,Général!E$134)))","v":"Karlsruhe"},{"$f":"IF($M$5=\"Course 1\",Général!E$138,IF($M$5=\"Course 2\",Général!E$140,IF($M$5=\"Course 3\",Général!E$142,Général!E$144)))","v":"Orléans"},{"$f":"IF($N$5=\"Course 1\",Général!E$148,IF($N$5=\"Course 2\",Général!E$150,IF($N$5=\"Course 3\",Général!E$152,Général!E$154)))","v":"UBO 2"},{"$f":"IF($O$5=\"Course 1\",Général!E$158,IF($O$5=\"Course 2\",Général!E$160,IF($O$5=\"Course 3\",Général!E$162,Général!E$164)))","v":"Univ Nantes 2"},{"$f":"IF($P$5=\"Course 1\",Général!E$168,IF($P$5=\"Course 2\",Général!E$170,IF($P$5=\"Course 3\",Général!E$172,Général!E$174)))","v":"INSA Lyon"},{"$f":"IF($Q$5=\"Course 1\",Général!E$178,IF($Q$5=\"Course 2\",Général!E$180,IF($Q$5=\"Course 3\",Général!E$182,Général!E$184)))","v":"UBO 1"},{"$f":"IF($R$5=\"Course 1\",Général!E$188,IF($R$5=\"Course 2\",Général!E$190,IF($R$5=\"Course 3\",Général!E$192,Général!E$194)))","v":"Univ Nantes 2"},{"$f":"IF($S$5=\"Course 1\",Général!E$198,IF($S$5=\"Course 2\",Général!E$200,IF($S$5=\"Course 3\",Général!E$202,Général!E$204)))","v":"St Brieuc 1"},{"$f":"IF($T$5=\"Course 1\",Général!E$208,IF($T$5=\"Course 2\",Général!E$210,IF($T$5=\"Course 3\",Général!E$212,Général!E$214)))","v":"Univ Nantes 3"},null,{"$f":"Général!B13","v":"Unicaen 1"},3]
["5ème Equipage",null,{"$f":"IF($C$5=\"Course 1\",Général!F38,IF($C$5=\"Course 2\",Général!F40,IF($C$5=\"Course 3\",Général!F42,Général!F44)))","v":"Unicaen 2"},{"$f":"IF($D$5=\"Course 1\",Général!F48,IF($D$5=\"Course 2\",Général!F50,IF($D$5=\"Course 3\",Général!F52,Général!F54)))","v":"ST Brieuc 2"},{"$f":"IF($E$5=\"Course 1\",Général!F58,IF($E$5=\"Course 2\",Général!F60,IF($E$5=\"Course 3\",Général!F62,Général!F64)))","v":"Univ Nantes 2"},{"$f":"IF($F$5=\"Course 1\",Général!F$68,IF($F$5=\"Course 2\",Général!F$70,IF($F$5=\"Course 3\",Général!F$72,Général!F$74)))","v":"Centrale Nantes 2"},{"$f":"IF($G$5=\"Course 1\",Général!F$78,IF($G$5=\"Course 2\",Général!F$80,IF($G$5=\"Course 3\",Général!F$82,Général!F$84)))","v":"ST Brieuc 2"},{"$f":"IF($H$5=\"Course 1\",Général!F$88,IF($H$5=\"Course 2\",Général!F$90,IF($H$5=\"Course 3\",Général!F$92,Général!F$94)))","v":"Plymouth"},{"$f":"IF($I$5=\"Course 1\",Général!F$98,IF($I$5=\"Course 2\",Général!F$100,IF($I$5=\"Course 3\",Général!F$102,Général!F$104)))","v":"IMT Brest 1"},{"$f":"IF($J$5=\"Course 1\",Général!F$108,IF($J$5=\"Course 2\",Général!F$110,IF($J$5=\"Course 3\",Général!F$112,Général!F$114)))","v":"Intechmer"},{"$f":"IF($K$5=\"Course 1\",Général!F$118,IF($K$5=\"Course 2\",Général!F$120,IF($K$5=\"Course 3\",Général!F$122,Général!F$124)))","v":"Centrale Nantes 1"},{"$f":"IF($L$5=\"Course 1\",Général!F$128,IF($L$5=\"Course 2\",Général!$F130,IF($L$5=\"Course 3\",Général!F$132,Général!F$134)))","v":"Paris Sorbone"},{"$f":"IF($M$5=\"Course 1\",Général!F$138,IF($M$5=\"Course 2\",Général!F$140,IF($M$5=\"Course 3\",Général!F$142,Général!F$144)))","v":"Paris Cité"},{"$f":"IF($N$5=\"Course 1\",Général!F$148,IF($N$5=\"Course 2\",Général!F$150,IF($N$5=\"Course 3\",Général!F$152,Général!F$154)))","v":"INSA Lyon"},{"$f":"IF($O$5=\"Course 1\",Général!F$158,IF($O$5=\"Course 2\",Général!F$160,IF($O$5=\"Course 3\",Général!F$162,Général!F$164)))","v":"UNIV Nantes 1"},{"$f":"IF($P$5=\"Course 1\",Général!F$168,IF($P$5=\"Course 2\",Général!F$170,IF($P$5=\"Course 3\",Général!F$172,Général!F$174)))","v":"ENSTA 2"},{"$f":"IF($Q$5=\"Course 1\",Général!F$178,IF($Q$5=\"Course 2\",Général!F$180,IF($Q$5=\"Course 3\",Général!F$182,Général!F$184)))","v":"INSA Lyon"},{"$f":"IF($R$5=\"Course 1\",Général!F$188,IF($R$5=\"Course 2\",Général!F$190,IF($R$5=\"Course 3\",Général!F$192,Général!F$194)))","v":"ENSTA 2"},{"$f":"IF($S$5=\"Course 1\",Général!F$198,IF($S$5=\"Course 2\",Général!F$200,IF($S$5=\"Course 3\",Général!F$202,Général!F$204)))","v":"IMT Nantes"},{"$f":"IF($T$5=\"Course 1\",Général!F$208,IF($T$5=\"Course 2\",Général!F$210,IF($T$5=\"Course 3\",Général!F$212,Général!F$214)))","v":"UBS Lorient 1"},null,{"$f":"Général!B14","v":"ENSTA 1"},5]
["6ème Equipage",null,{"$f":"IF($C$5=\"Course 1\",Général!G38,IF($C$5=\"Course 2\",Général!G40,IF($C$5=\"Course 3\",Général!G42,Général!G44)))","v":"Hannover"},{"$f":"IF($D$5=\"Course 1\",Général!G48,IF($D$5=\"Course 2\",Général!G50,IF($D$5=\"Course 3\",Général!G52,Général!G54)))","v":"La Rochelle 1"},{"$f":"IF($E$5=\"Course 1\",Général!G58,IF($E$5=\"Course 2\",Général!G60,IF($E$5=\"Course 3\",Général!G62,Général!G64)))","v":"La Rochelle 2"},{"$f":"IF($F$5=\"Course 1\",Général!G$68,IF($F$5=\"Course 2\",Général!G$70,IF($F$5=\"Course 3\",Général!G$72,Général!G$74)))","v":"Paris Sorbone"},{"$f":"IF($G$5=\"Course 1\",Général!G$78,IF($G$5=\"Course 2\",Général!G$80,IF($G$5=\"Course 3\",Général!G$82,Général!G$84)))","v":"UBO 1"},{"$f":"IF($H$5=\"Course 1\",Général!G$88,IF($H$5=\"Course 2\",Général!G$90,IF($H$5=\"Course 3\",Général!G$92,Général!G$94)))","v":"ENSMAC"},{"$f":"IF($I$5=\"Course 1\",Général!G$98,IF($I$5=\"Course 2\",Général!G$100,IF($I$5=\"Course 3\",Général!G$102,Général!G$104)))","v":"Univ Nantes 2"},{"$f":"IF($J$5=\"Course 1\",Général!G$108,IF($J$5=\"Course 2\",Général!G$110,IF($J$5=\"Course 3\",Général!G$112,Général!G$114)))","v":"ENSTA 1"},{"$f":"IF($K$5=\"Course 1\",Général!G$118,IF($K$5=\"Course 2\",Général!G$120,IF($K$5=\"Course 3\",Général!G$122,Général!G$124)))","v":"St Brieuc 1"},{"$f":"IF($L$5=\"Course 1\",Général!G$128,IF($L$5=\"Course 2\",Général!G$130,IF($L$5=\"Course 3\",Général!G$132,Général!G$134)))","v":"ENSTA 2"},{"$f":"IF($M$5=\"Course 1\",Général!G$138,IF($M$5=\"Course 2\",Général!G$140,IF($M$5=\"Course 3\",Général!G$142,Général!G$144)))","v":"Unicaen 1"},{"$f":"IF($N$5=\"Course 1\",Général!G$148,IF($N$5=\"Course 2\",Général!G$150,IF($N$5=\"Course 3\",Général!G$152,Général!G$154)))","v":"Hannover"},{"$f":"IF($O$5=\"Course 1\",Général!G$158,IF($O$5=\"Course 2\",Général!G$160,IF($O$5=\"Course 3\",Général!G$162,Général!G$164)))","v":"Unicaen 2"},{"$f":"IF($P$5=\"Course 1\",Général!G$168,IF($P$5=\"Course 2\",Général!G$170,IF($P$5=\"Course 3\",Général!G$172,Général!G$174)))","v":"ST Brieuc 2"},{"$f":"IF($Q$5=\"Course 1\",Général!G$178,IF($Q$5=\"Course 2\",Général!G$180,IF($Q$5=\"Course 3\",Général!G$182,Général!G$184)))","v":"UBS Lorient 2"},{"$f":"IF($R$5=\"Course 1\",Général!G$188,IF($R$5=\"Course 2\",Général!G$190,IF($R$5=\"Course 3\",Général!G$192,Général!G$194)))","v":"La Rochelle 2"},{"$f":"IF($S$5=\"Course 1\",Général!G$198,IF($S$5=\"Course 2\",Général!G$200,IF($S$5=\"Course 3\",Général!G$202,Général!G$204)))","v":"La Rochelle 2"},{"$f":"IF($T$5=\"Course 1\",Général!G$208,IF($T$5=\"Course 2\",Général!G$210,IF($T$5=\"Course 3\",Général!G$212,Général!G$214)))","v":"INSA Lyon"},null,{"$f":"Général!B15","v":"Orléans"},4]
["7ème Equipage",null,{"$f":"IF($C$5=\"Course 1\",Général!H38,IF($C$5=\"Course 2\",Général!H40,IF($C$5=\"Course 3\",Général!H42,Général!H44)))","v":"IMT Brest 2"},{"$f":"IF($D$5=\"Course 1\",Général!H48,IF($D$5=\"Course 2\",Général!H50,IF($D$5=\"Course 3\",Général!H52,Général!H54)))","v":"Unicaen 2"},{"$f":"IF($E$5=\"Course 1\",Général!H58,IF($E$5=\"Course 2\",Général!H60,IF($E$5=\"Course 3\",Général!H62,Général!H64)))","v":"Intechmer"},{"$f":"IF($F$5=\"Course 1\",Général!H$68,IF($F$5=\"Course 2\",Général!H$70,IF($F$5=\"Course 3\",Général!H$72,Général!H$74)))","v":"Intechmer"},{"$f":"IF($G$5=\"Course 1\",Général!H$78,IF($G$5=\"Course 2\",Général!H$80,IF($G$5=\"Course 3\",Général!H$82,Général!H$84)))","v":"IMT Brest 1"},{"$f":"IF($H$5=\"Course 1\",Général!H$88,IF($H$5=\"Course 2\",Général!H$90,IF($H$5=\"Course 3\",Général!H$92,Général!H$94)))","v":"Intechmer"},{"$f":"IF($I$5=\"Course 1\",Général!H$98,IF($I$5=\"Course 2\",Général!H$100,IF($I$5=\"Course 3\",Général!H$102,Général!H$104)))","v":"ST Brieuc 2"},{"$f":"IF($J$5=\"Course 1\",Général!H$108,IF($J$5=\"Course 2\",Général!H$110,IF($J$5=\"Course 3\",Général!H$112,Général!H$114)))","v":"Hannover"},{"$f":"IF($K$5=\"Course 1\",Général!H$118,IF($K$5=\"Course 2\",Général!H$120,IF($K$5=\"Course 3\",Général!H$122,Général!H$124)))","v":"Orléans"},{"$f":"IF($L$5=\"Course 1\",Général!H$128,IF($L$5=\"Course 2\",Général!H$130,IF($L$5=\"Course 3\",Général!H$132,Général!H$134)))","v":"Centrale Nantes 1"},{"$f":"IF($M$5=\"Course 1\",Général!H$138,IF($M$5=\"Course 2\",Général!H$140,IF($M$5=\"Course 3\",Général!H$142,Général!H$144)))","v":"Centrale Nantes 1"},{"$f":"IF($N$5=\"Course 1\",Général!H$148,IF($N$5=\"Course 2\",Général!H$150,IF($N$5=\"Course 3\",Général!H$152,Général!H$154)))","v":"La Rochelle 2"},{"$f":"IF($O$5=\"Course 1\",Général!H$158,IF($O$5=\"Course 2\",Général!H$160,IF($O$5=\"Course 3\",Général!H$162,Général!H$164)))","v":"Univ Nantes 3"},{"$f":"IF($P$5=\"Course 1\",Général!H$168,IF($P$5=\"Course 2\",Général!H$170,IF($P$5=\"Course 3\",Général!H$172,Général!H$174)))","v":"UNIV Nantes 1"},{"$f":"IF($Q$5=\"Course 1\",Général!H$178,IF($Q$5=\"Course 2\",Général!H$180,IF($Q$5=\"Course 3\",Général!H$182,Général!H$184)))","v":"UBO 2"},{"$f":"IF($R$5=\"Course 1\",Général!H$188,IF($R$5=\"Course 2\",Général!H$190,IF($R$5=\"Course 3\",Général!H$192,Général!H$194)))","v":"UBO 2"},{"$f":"IF($S$5=\"Course 1\",Général!H$198,IF($S$5=\"Course 2\",Général!H$200,IF($S$5=\"Course 3\",Général!H$202,Général!H$204)))","v":"Unicaen 1"},{"$f":"IF($T$5=\"Course 1\",Général!H$208,IF($T$5=\"Course 2\",Général!H$210,IF($T$5=\"Course 3\",Général!H$212,Général!H$214)))","v":"Univ Nantes 2"},null,{"$f":"Général!B16","v":"IMT Brest 1"},3]
["8ème Equipage",null,{"$f":"IF($C$5=\"Course 1\",Général!I38,IF($C$5=\"Course 2\",Général!I40,IF($C$5=\"Course 3\",Général!I42,Général!I44)))","v":"Paris Cité"},{"$f":"IF($D$5=\"Course 1\",Général!I48,IF($D$5=\"Course 2\",Général!I50,IF($D$5=\"Course 3\",Général!I52,Général!I54)))","v":"UNIV Nantes 1"},{"$f":"IF($E$5=\"Course 1\",Général!I58,IF($E$5=\"Course 2\",Général!I60,IF($E$5=\"Course 3\",Général!I62,Général!I64)))","v":"Centrale Nantes 1"},{"$f":"IF($F$5=\"Course 1\",Général!I$68,IF($F$5=\"Course 2\",Général!I$70,IF($F$5=\"Course 3\",Général!I$72,Général!I$74)))","v":"Southampton"},{"$f":"IF($G$5=\"Course 1\",Général!I$78,IF($G$5=\"Course 2\",Général!I$80,IF($G$5=\"Course 3\",Général!I$82,Général!I$84)))","v":"Southampton"},{"$f":"IF($H$5=\"Course 1\",Général!I$88,IF($H$5=\"Course 2\",Général!I$90,IF($H$5=\"Course 3\",Général!I$92,Général!I$94)))","v":"Unicaen 1"},{"$f":"IF($I$5=\"Course 1\",Général!I$98,IF($I$5=\"Course 2\",Général!I$100,IF($I$5=\"Course 3\",Général!I$102,Général!I$104)))","v":"UBO 2"},{"$f":"IF($J$5=\"Course 1\",Général!I$108,IF($J$5=\"Course 2\",Général!I$110,IF($J$5=\"Course 3\",Général!I$112,Général!I$114)))","v":"Southampton"},{"$f":"IF($K$5=\"Course 1\",Général!I$118,IF($K$5=\"Course 2\",Général!I$120,IF($K$5=\"Course 3\",Général!I$122,Général!I$124)))","v":"Univ Nantes 2"},{"$f":"IF($L$5=\"Course 1\",Général!I$128,IF($L$5=\"Course 2\",Général!I$130,IF($L$5=\"Course 3\",Général!I$132,Général!I$134)))","v":"Hannover"},{"$f":"IF($M$5=\"Course 1\",Général!I$138,IF($M$5=\"Course 2\",Général!I$140,IF($M$5=\"Course 3\",Général!I$142,Général!I$144)))","v":"Hannover"},{"$f":"IF($N$5=\"Course 1\",Général!I$148,IF($N$5=\"Course 2\",Général!I$150,IF($N$5=\"Course 3\",Général!I$152,Général!I$154)))","v":"UNIV Nantes 1"},{"$f":"IF($O$5=\"Course 1\",Général!I$158,IF($O$5=\"Course 2\",Général!I$160,IF($O$5=\"Course 3\",Général!I$162,Général!I$164)))","v":"UBS Lorient 2"},{"$f":"IF($P$5=\"Course 1\",Général!I$168,IF($P$5=\"Course 2\",Général!I$170,IF($P$5=\"Course 3\",Général!I$172,Général!I$174)))","v":"Centrale Nantes 2"},{"$f":"IF($Q$5=\"Course 1\",Général!I$178,IF($Q$5=\"Course 2\",Général!I$180,IF($Q$5=\"Course 3\",Général!I$182,Général!I$184)))","v":"Southampton"},{"$f":"IF($R$5=\"Course 1\",Général!I$188,IF($R$5=\"Course 2\",Général!I$190,IF($R$5=\"Course 3\",Général!I$192,Général!I$194)))","v":"Plymouth"},{"$f":"IF($S$5=\"Course 1\",Général!I$198,IF($S$5=\"Course 2\",Général!I$200,IF($S$5=\"Course 3\",Général!I$202,Général!I$204)))","v":"Plymouth"},{"$f":"IF($T$5=\"Course 1\",Général!I$208,IF($T$5=\"Course 2\",Général!I$210,IF($T$5=\"Course 3\",Général!I$212,Général!I$214)))","v":"UNIV Nantes 1"},null,{"$f":"Général!B17","v":"ENSMAC"},7]
["9ème Equipage",null,{"$f":"IF($C$5=\"Course 1\",Général!J38,IF($C$5=\"Course 2\",Général!J40,IF($C$5=\"Course 3\",Général!J42,Général!J44)))","v":"ENSMAC"},{"$f":"IF($D$5=\"Course 1\",Général!J48,IF($D$5=\"Course 2\",Général!J50,IF($D$5=\"Course 3\",Général!J52,Général!J54)))","v":"Southampton"},{"$f":"IF($E$5=\"Course 1\",Général!J58,IF($E$5=\"Course 2\",Général!J60,IF($E$5=\"Course 3\",Général!J62,Général!J64)))","v":"INSA Lyon"},{"$f":"IF($F$5=\"Course 1\",Général!J$68,IF($F$5=\"Course 2\",Général!J$70,IF($F$5=\"Course 3\",Général!J$72,Général!J$74)))","v":"IMT Nantes"},{"$f":"IF($G$5=\"Course 1\",Général!J$78,IF($G$5=\"Course 2\",Général!J$80,IF($G$5=\"Course 3\",Général!J$82,Général!J$84)))","v":"ENSTA 1"},{"$f":"IF($H$5=\"Course 1\",Général!J$88,IF($H$5=\"Course 2\",Général!J$90,IF($H$5=\"Course 3\",Général!$J92,Général!J$94)))","v":"Centrale Nantes 2"},{"$f":"IF($I$5=\"Course 1\",Général!J$98,IF($I$5=\"Course 2\",Général!J$100,IF($I$5=\"Course 3\",Général!J$102,Général!J$104)))","v":"Paris Cité"},{"$f":"IF($J$5=\"Course 1\",Général!J$108,IF($J$5=\"Course 2\",Général!J$110,IF($J$5=\"Course 3\",Général!J$112,Général!J$114)))","v":"La Rochelle 1"},{"$f":"IF($K$5=\"Course 1\",Général!J$118,IF($K$5=\"Course 2\",Général!J$120,IF($K$5=\"Course 3\",Général!J$122,Général!J$124)))","v":"La Rochelle 1"},{"$f":"IF($L$5=\"Course 1\",Général!J$128,IF($L$5=\"Course 2\",Général!J$130,IF($L$5=\"Course 3\",Général!J$132,Général!J$134)))","v":"St Brieuc 1"},{"$f":"IF($M$5=\"Course 1\",Général!J$138,IF($M$5=\"Course 2\",Général!J$140,IF($M$5=\"Course 3\",Général!J$142,Général!J$144)))","v":"St Brieuc 1"},{"$f":"IF($N$5=\"Course 1\",Général!J$148,IF($N$5=\"Course 2\",Général!J$150,IF($N$5=\"Course 3\",Général!J$152,Général!J$154)))","v":"Plymouth"},{"$f":"IF($O$5=\"Course 1\",Général!J$158,IF($O$5=\"Course 2\",Général!J$160,IF($O$5=\"Course 3\",Général!J$162,Général!J$164)))","v":"Southampton"},{"$f":"IF($P$5=\"Course 1\",Général!J$168,IF($P$5=\"Course 2\",Général!J$170,IF($P$5=\"Course 3\",Général!J$172,Général!J$174)))","v":"Southampton"},{"$f":"IF($Q$5=\"Course 1\",Général!J$178,IF($Q$5=\"Course 2\",Général!J$180,IF($Q$5=\"Course 3\",Général!J$182,Général!J$184)))","v":"IMT Brest 2"},{"$f":"IF($R$5=\"Course 1\",Général!J$188,IF($R$5=\"Course 2\",Général!J$190,IF($R$5=\"Course 3\",Général!J$192,Général!J$194)))","v":"UNIV Nantes 1"},{"$f":"IF($S$5=\"Course 1\",Général!J$198,IF($S$5=\"Course 2\",Général!J$200,IF($S$5=\"Course 3\",Général!J$202,Général!J$204)))","v":"UNIV Nantes 1"},{"$f":"IF($T$5=\"Course 1\",Général!J$208,IF($T$5=\"Course 2\",Général!J$210,IF($T$5=\"Course 3\",Général!J$212,Général!J$214)))","v":"Centrale Nantes 2"},null,{"$f":"Général!B18","v":"St Brieuc 1"},7]
["10ème Equipage",null,{"$f":"IF($C$5=\"Course 1\",Général!K38,IF($C$5=\"Course 2\",Général!K40,IF($C$5=\"Course 3\",Général!K42,Général!K44)))","v":"Paris Sorbone"},{"$f":"IF($D$5=\"Course 1\",Général!K48,IF($D$5=\"Course 2\",Général!K50,IF($D$5=\"Course 3\",Général!K52,Général!K54)))","v":"ENSMAC"},{"$f":"IF($E$5=\"Course 1\",Général!K58,IF($E$5=\"Course 2\",Général!K60,IF($E$5=\"Course 3\",Général!K62,Général!K64)))","v":"UNIV Nantes 1"},{"$f":"IF($F$5=\"Course 1\",Général!K$68,IF($F$5=\"Course 2\",Général!K$70,IF($F$5=\"Course 3\",Général!K$72,Général!K$74)))","v":"UBO 2"},{"$f":"IF($G$5=\"Course 1\",Général!K$78,IF($G$5=\"Course 2\",Général!K$80,IF($G$5=\"Course 3\",Général!K$82,Général!K$84)))","v":"UBO 2"},{"$f":"IF($H$5=\"Course 1\",Général!K$88,IF($H$5=\"Course 2\",Général!K$90,IF($H$5=\"Course 3\",Général!$K92,Général!K$94)))","v":"Univ Nantes 3"},{"$f":"IF($I$5=\"Course 1\",Général!K$98,IF($I$5=\"Course 2\",Général!K$100,IF($I$5=\"Course 3\",Général!K$102,Général!K$104)))","v":"St Brieuc 1"},{"$f":"IF($J$5=\"Course 1\",Général!K$108,IF($J$5=\"Course 2\",Général!K$110,IF($J$5=\"Course 3\",Général!K$112,Général!K$114)))","v":"IMT Brest 2"},{"$f":"IF($K$5=\"Course 1\",Général!K$118,IF($K$5=\"Course 2\",Général!K$120,IF($K$5=\"Course 3\",Général!K$122,Général!K$124)))","v":"Univ Nantes 3"},{"$f":"IF($L$5=\"Course 1\",Général!K$128,IF($L$5=\"Course 2\",Général!K$130,IF($L$5=\"Course 3\",Général!K$132,Général!K$134)))","v":"INSA Lyon"},{"$f":"IF($M$5=\"Course 1\",Général!K$138,IF($M$5=\"Course 2\",Général!K$140,IF($M$5=\"Course 3\",Général!K$142,Général!K$144)))","v":"IMT Brest 1"},{"$f":"IF($N$5=\"Course 1\",Général!K$148,IF($N$5=\"Course 2\",Général!K$150,IF($N$5=\"Course 3\",Général!K$152,Général!K$154)))","v":"Karlsruhe"},{"$f":"IF($O$5=\"Course 1\",Général!K$158,IF($O$5=\"Course 2\",Général!K$160,IF($O$5=\"Course 3\",Général!K$162,Général!K$164)))","v":"Centrale Nantes 1"},{"$f":"IF($P$5=\"Course 1\",Général!K$168,IF($P$5=\"Course 2\",Général!K$170,IF($P$5=\"Course 3\",Général!K$172,Général!K$174)))","v":"UBO 2"},{"$f":"IF($Q$5=\"Course 1\",Général!K$178,IF($Q$5=\"Course 2\",Général!K$180,IF($Q$5=\"Course 3\",Général!K$182,Général!K$184)))","v":"Unicaen 1"},{"$f":"IF($R$5=\"Course 1\",Général!K$188,IF($R$5=\"Course 2\",Général!K$190,IF($R$5=\"Course 3\",Général!K$192,Général!K$194)))","v":"Centrale Nantes 2"},{"$f":"IF($S$5=\"Course 1\",Général!K$198,IF($S$5=\"Course 2\",Général!K$200,IF($S$5=\"Course 3\",Général!K$202,Général!K$204)))","v":"ST Brieuc 2"},{"$f":"IF($T$5=\"Course 1\",Général!K$208,IF($T$5=\"Course 2\",Général!K$210,IF($T$5=\"Course 3\",Général!K$212,Général!K$214)))","v":"Paris Cité"},null,{"$f":"Général!B19","v":"Hannover"},6]
[null,null,null,null,null,null,null,null,null,null,null,null,null,null,null,null,null,null,null,null,null,{"$f":"Général!B20","v":"ENSTA 2"},4]
[null,null,null,null,null,null,null,null,null,null,null,null,null,null,null,null,null,null,null,null,null,{"$f":"Général!B21","v":"Southampton"},7]
[null,null,null,null,null,null,null,null,null,null,null,null,null,null,null,null,null,null,null,null,null,{"$f":"Général!B22","v":"La Rochelle 1"},4]
[null,null,null,null,null,null,null,null,null,null,null,null,null,null,null,null,null,null,null,null,null,{"$f":"Général!B23","v":"Centrale Nantes 1"},4]
[null,null,null,null,null,null,null,null,null,null,null,null,null,null,null,null,null,null,null,null,null,{"$f":"Général!B24","v":"ST Brieuc 2"},5]
[null,null,null,null,null,null,null,null,null,null,null,null,null,null,null,null,null,null,null,null,null,{"$f":"Général!B25","v":"UNIV Nantes 1"},17]
[null,null,null,null,null,null,null,null,null,null,null,null,null,null,null,null,null,null,null,null,null,{"$f":"Général!B26","v":"Intechmer"},9]
[null,null,null,null,null,null,null,null,null,null,null,null,null,null,null,null,null,null,null,null,null,{"$f":"Général!B27","v":"IMT Nantes"},2]
[null,null,null,null,null,null,null,null,null,null,null,null,null,null,null,null,null,null,null,null,null,{"$f":"Général!B28","v":"INSA Lyon"},7]
[null,null,null,null,null,null,null,null,null,null,null,null,null,null,null,null,null,null,null,null,null,{"$f":"Général!B29","v":"Centrale Nantes 2"},5]
[null,null,null,null,null,null,null,null,null,null,null,null,null,null,null,null,null,null,null,null,null,{"$f":"Général!B30","v":"UBS Lorient 2"},8]
[null,null,null,null,null,null,null,null,null,null,null,null,null,null,null,null,null,null,null,null,null,{"$f":"Général!B31","v":"La Rochelle 2"},5]
[null,null,null,null,null,null,null,null,null,null,null,null,null,null,null,null,null,null,null,null,null,{"$f":"Général!B32","v":"UBO 1"},3]
[null,null,null,null,null,null,null,null,null,null,null,null,null,null,null,null,null,null,null,null,null,{"$f":"Général!B33","v":"Eq.31"},0]
[null,null,null,null,null,null,null,null,null,null,null,null,null,null,null,null,null,null,null,null,null,{"$f":"Général!B34","v":"Eq.32"},0]

{"sheet":"Eq.24","index":29,"n_rows":32,"n_cols":23,"rows_kept":32,"cut":false,"hidden":false,"merged":[[7,0,7,1],[0,0,1,5],[0,6,1,10],[3,0,3,1],[4,0,4,1],[5,0,5,1],[14,0,14,1],[15,0,15,1],[16,0,16,1],[8,0,8,1],[9,0,9,1],[10,0,10,1],[11,0,11,1],[12,0,12,1],[13,0,13,1]]}
["Equipage ",null,null,null,null,null,{"$f":"Général!B26","v":"Intechmer"},null,null,null,null,null,null,null,null,null,null,null,null,null,null,{"$f":"Général!B3","v":"UBO 2"},{"$f":"COUNTIF(C$8:T$16,V1)","v":5}]
[null,null,null,null,null,null,null,null,null,null,null,null,null,null,null,null,null,null,null,null,null,{"$f":"Général!B4","v":"Paris Sorbone"},{"$f":"COUNTIF($C$8:$T$16,V2)","v":3}]
[null,null,null,null,null,null,null,null,null,null,null,null,null,null,null,null,null,null,null,null,null,{"$f":"Général!B5","v":"UBS Lorient 1"},{"$f":"COUNTIF($C$8:$T$16,V3)","v":2}]
[null,null,"FLIGHT 1","FLIGHT 2","FLIGHT 3","FLIGHT 4","FLIGHT 5","FLIGHT 6","FLIGHT 7","FLIGHT 8","FLIGHT 9","FLIGHT 10","FLIGHT 11","FLIGHT 12","FLIGHT 13","FLIGHT 14","FLIGHT 15","FLIGHT 16","FLIGHT 17","FLIGHT 18",null,{"$f":"Général!B6","v":"Univ Nantes 3"},3]
["N° de course",null,{"$f":"IF(COUNTIF(Général!B38:K38,$G$1)=1,\"Course 1\",IF(COUNTIF(Général!B40:K40,$G$1)=1,\"Course 2\",IF(COUNTIF(Général!B42:K42,$G$1)=1,\"Course 3\",\"Course 4\")))","v":"Course 1"},{"$f":"IF(COUNTIF(Général!B48:K48,$G$1)=1,\"Course 1\",IF(COUNTIF(Général!B50:K50,$G$1)=1,\"Course 2\",IF(COUNTIF(Général!B52:K52,$G$1)=1,\"Course 3\",\"Course 4\")))","v":"Course 1"},{"$f":"IF(COUNTIF(Général!B58:K58,$G$1)=1,\"Course 1\",IF(COUNTIF(Général!B60:K60,$G$1)=1,\"Course 2\",IF(COUNTIF(Général!B62:K62,$G$1)=1,\"Course 3\",\"Course 4\")))","v":"Course 1"},{"$f":"IF(COUNTIF(Général!B68:K68,$G$1)=1,\"Course 1\",IF(COUNTIF(Général!B70:K70,$G$1)=1,\"Course 2\",IF(COUNTIF(Général!B72:K72,$G$1)=1,\"Course 3\",\"Course 4\")))","v":"Course 3"},{"$f":"IF(COUNTIF(Général!B78:K78,$G$1)=1,\"Course 1\",IF(COUNTIF(Général!B80:K80,$G$1)=1,\"Course 2\",IF(COUNTIF(Général!B82:K82,$G$1)=1,\"Course 3\",\"Course 4\")))","v":"Course 3"},{"$f":"IF(COUNTIF(Général!B88:K88,$G$1)=1,\"Course 1\",IF(COUNTIF(Général!B90:K90,$G$1)=1,\"Course 2\",IF(COUNTIF(Général!B92:K92,$G$1)=1,\"Course 3\",\"Course 4\")))","v":"Course 2"},{"$f":"IF(COUNTIF(Général!B98:K98,$G$1)=1,\"Course 1\",IF(COUNTIF(Général!B100:K100,$G$1)=1,\"Course 2\",IF(COUNTIF(Général!B102:K102,$G$1)=1,\"Course 3\",\"Course 4\")))","v":"Course 1"},{"$f":"IF(COUNTIF(Général!B108:K108,$G$1)=1,\"Course 1\",IF(COUNTIF(Général!B110:K110,$G$1)=1,\"Course 2\",IF(COUNTIF(Général!B112:K112,$G$1)=1,\"Course 3\",\"Course 4\")))","v":"Course 3"},{"$f":"IF(COUNTIF(Général!B118:K118,$G$1)=1,\"Course 1\",IF(COUNTIF(Général!B120:K120,$G$1)=1,\"Course 2\",IF(COUNTIF(Général!B122:K122,$G$1)=1,\"Course 3\",\"Course 4\")))","v":"Course 3"},{"$f":"IF(COUNTIF(Général!B128:K128,$G$1)=1,\"Course 1\",IF(COUNTIF(Général!B130:K130,$G$1)=1,\"Course 2\",IF(COUNTIF(Général!B132:K132,$G$1)=1,\"Course 3\",\"Course 4\")))","v":"Course 2"},{"$f":"IF(COUNTIF(Général!B138:K138,$G$1)=1,\"Course 1\",IF(COUNTIF(Général!B140:K140,$G$1)=1,\"Course 2\",IF(COUNTIF(Général!B142:K142,$G$1)=1,\"Course 3\",\"Course 4\")))","v":"Course 3"},{"$f":"IF(COUNTIF(Général!B148:K148,$G$1)=1,\"Course 1\",IF(COUNTIF(Général!B150:K150,$G$1)=1,\"Course 2\",IF(COUNTIF(Général!B152:K152,$G$1)=1,\"Course 3\",\"Course 4\")))","v":"Course 3"},{"$f":"IF(COUNTIF(Général!B158:K158,$G$1)=1,\"Course 1\",IF(COUNTIF(Général!B160:K160,$G$1)=1,\"Course 2\",IF(COUNTIF(Général!B162:K162,$G$1)=1,\"Course 3\",\"Course 4\")))","v":"Course 2"},{"$f":"IF(COUNTIF(Général!B168:K168,$G$1)=1,\"Course 1\",IF(COUNTIF(Général!B170:K170,$G$1)=1,\"Course 2\",IF(COUNTIF(Général!B172:K172,$G$1)=1,\"Course 3\",\"Course 4\")))","v":"Course 2"},{"$f":"IF(COUNTIF(Général!B178:K178,$G$1)=1,\"Course 1\",IF(COUNTIF(Général!B180:K180,$G$1)=1,\"Course 2\",IF(COUNTIF(Général!B182:K182,$G$1)=1,\"Course 3\",\"Course 4\")))","v":"Course 3"},{"$f":"IF(COUNTIF(Général!B188:K188,$G$1)=1,\"Course 1\",IF(COUNTIF(Général!B190:K190,$G$1)=1,\"Course 2\",IF(COUNTIF(Général!B192:K192,$G$1)=1,\"Course 3\",\"Course 4\")))","v":"Course 3"},{"$f":"IF(COUNTIF(Général!B198:K198,$G$1)=1,\"Course 1\",IF(COUNTIF(Général!B200:K200,$G$1)=1,\"Course 2\",IF(COUNTIF(Général!B202:K202,$G$1)=1,\"Course 3\",\"Course 4\")))","v":"Course 1"},{"$f":"IF(COUNTIF(Général!B208:K208,$G$1)=1,\"Course 1\",IF(COUNTIF(Général!B210:K210,$G$1)=1,\"Course 2\",IF(COUNTIF(Général!B212:K212,$G$1)=1,\"Course 3\",\"Course 4\")))","v":"Course 3"},null,{"$f":"Général!B7","v":"Paris Cité"},5]
["Bateau",null,{"$f":"IF(COUNTIF(Général!B38:B44,$G$1)=1,\"Boat 1\",IF(COUNTIF(Général!C38:C44,$G$1)=1,\"Boat 2\",IF(COUNTIF(Général!D38:D44,$G$1)=1,\"Boat 3\", IF(COUNTIF(Général!E38:E44,$G$1)=1,\"Boat 4\", IF(COUNTIF(Général!F38:F44,$G$1)=1,\"Boat 5\", IF(COUNTIF(Général!G38:G44,$G$1)=1,\"Boat 6\", IF(COUNTIF(Général!H38:H44,$G$1)=1,\"Boat 7\",IF(COUNTIF(Général!I38:I44,$G$1)=1,\"Boat 8\",\"Boat 9\"))))))))","v":"Boat 9"},{"$f":"IF(COUNTIF(Général!B48:B54,$G$1)=1,\"Boat 1\",IF(COUNTIF(Général!C48:C54,$G$1)=1,\"Boat 2\",IF(COUNTIF(Général!D48:D54,$G$1)=1,\"Boat 3\", IF(COUNTIF(Général!E48:E54,$G$1)=1,\"Boat 4\", IF(COUNTIF(Général!F48:F54,$G$1)=1,\"Boat 5\", IF(COUNTIF(Général!G48:G54,$G$1)=1,\"Boat 6\", IF(COUNTIF(Général!H48:H54,$G$1)=1,\"Boat 7\",IF(COUNTIF(Général!I38:I44,$G$1)=1,\"Boat 8\",\"Boat 9\"))))))))","v":"Boat 9"},{"$f":"IF(COUNTIF(Général!B58:B64,$G$1)=1,\"Boat 1\",IF(COUNTIF(Général!C58:C64,$G$1)=1,\"Boat 2\",IF(COUNTIF(Général!D58:D64,$G$1)=1,\"Boat 3\", IF(COUNTIF(Général!E58:E64,$G$1)=1,\"Boat 4\", IF(COUNTIF(Général!F58:F64,$G$1)=1,\"Boat 5\", IF(COUNTIF(Général!G58:G64,$G$1)=1,\"Boat 6\", IF(COUNTIF(Général!H58:H64,$G$1)=1,\"Boat 7\",IF(COUNTIF(Général!I38:I44,$G$1)=1,\"Boat 8\",\"Boat 9\"))))))))","v":"Boat 7"},{"$f":"IF(COUNTIF(Général!B68:B74,$G$1)=1,\"Boat 1\",IF(COUNTIF(Général!C68:C74,$G$1)=1,\"Boat 2\",IF(COUNTIF(Général!D68:D74,$G$1)=1,\"Boat 3\", IF(COUNTIF(Général!E68:E74,$G$1)=1,\"Boat 4\", IF(COUNTIF(Général!F68:F74,$G$1)=1,\"Boat 5\", IF(COUNTIF(Général!G68:G74,$G$1)=1,\"Boat 6\", IF(COUNTIF(Général!H68:H74,$G$1)=1,\"Boat 7\",IF(COUNTIF(Général!I38:I44,$G$1)=1,\"Boat 8\",\"Boat 9\"))))))))","v":"Boat 7"},{"$f":"IF(COUNTIF(Général!B78:B84,$G$1)=1,\"Boat 1\",IF(COUNTIF(Général!C78:C84,$G$1)=1,\"Boat 2\",IF(COUNTIF(Général!D78:D84,$G$1)=1,\"Boat 3\", IF(COUNTIF(Général!E78:E84,$G$1)=1,\"Boat 4\", IF(COUNTIF(Général!F78:F84,$G$1)=1,\"Boat 5\", IF(COUNTIF(Général!G78:G84,$G$1)=1,\"Boat 6\", IF(COUNTIF(Général!H78:H84,$G$1)=1,\"Boat 7\",IF(COUNTIF(Général!I38:I44,$G$1)=1,\"Boat 8\",\"Boat 9\"))))))))","v":"Boat 9"},{"$f":"IF(COUNTIF(Général!B88:B94,$G$1)=1,\"Boat 1\",IF(COUNTIF(Général!C88:C94,$G$1)=1,\"Boat 2\",IF(COUNTIF(Général!D88:D94,$G$1)=1,\"Boat 3\", IF(COUNTIF(Général!E88:E94,$G$1)=1,\"Boat 4\", IF(COUNTIF(Général!F88:F94,$G$1)=1,\"Boat 5\", IF(COUNTIF(Général!G88:G94,$G$1)=1,\"Boat 6\", IF(COUNTIF(Général!H88:H94,$G$1)=1,\"Boat 7\",IF(COUNTIF(Général!I38:I44,$G$1)=1,\"Boat 8\",\"Boat 9\"))))))))","v":"Boat 7"},{"$f":"IF(COUNTIF(Général!B98:B104,$G$1)=1,\"Boat 1\",IF(COUNTIF(Général!C98:C104,$G$1)=1,\"Boat 2\",IF(COUNTIF(Général!D98:D104,$G$1)=1,\"Boat 3\", IF(COUNTIF(Général!E98:E104,$G$1)=1,\"Boat 4\", IF(COUNTIF(Général!F98:F104,$G$1)=1,\"Boat 5\", IF(COUNTIF(Général!G98:G104,$G$1)=1,\"Boat 6\", IF(COUNTIF(Général!H98:H104,$G$1)=1,\"Boat 7\",IF(COUNTIF(Général!I38:I44,$G$1)=1,\"Boat 8\",\"Boat 9\"))))))))","v":"Boat 2"},{"$f":"IF(COUNTIF(Général!B108:B114,$G$1)=1,\"Boat 1\",IF(COUNTIF(Général!C108:C114,$G$1)=1,\"Boat 2\",IF(COUNTIF(Général!D108:D114,$G$1)=1,\"Boat 3\", IF(COUNTIF(Général!E108:E114,$G$1)=1,\"Boat 4\", IF(COUNTIF(Général!F108:F114,$G$1)=1,\"Boat 5\", IF(COUNTIF(Général!G108:G114,$G$1)=1,\"Boat 6\", IF(COUNTIF(Général!H108:H114,$G$1)=1,\"Boat 7\",IF(COUNTIF(Général!I38:I44,$G$1)=1,\"Boat 8\",\"Boat 9\"))))))))","v":"Boat 5"},{"$f":"IF(COUNTIF(Général!B118:B124,$G$1)=1,\"Boat 1\",IF(COUNTIF(Général!C118:C124,$G$1)=1,\"Boat 2\",IF(COUNTIF(Général!D118:D124,$G$1)=1,\"Boat 3\", IF(COUNTIF(Général!E118:E124,$G$1)=1,\"Boat 4\", IF(COUNTIF(Général!F118:F124,$G$1)=1,\"Boat 5\", IF(COUNTIF(Général!G118:G124,$G$1)=1,\"Boat 6\", IF(COUNTIF(Général!H118:H124,$G$1)=1,\"Boat 7\",IF(COUNTIF(Général!I38:I44,$G$1)=1,\"Boat 8\",\"Boat 9\"))))))))","v":"Boat 7"},{"$f":"IF(COUNTIF(Général!B128:B134,$G$1)=1,\"Boat 1\",IF(COUNTIF(Général!C128:C134,$G$1)=1,\"Boat 2\",IF(COUNTIF(Général!D128:D134,$G$1)=1,\"Boat 3\", IF(COUNTIF(Général!E128:E134,$G$1)=1,\"Boat 4\", IF(COUNTIF(Général!F128:F134,$G$1)=1,\"Boat 5\", IF(COUNTIF(Général!G128:G134,$G$1)=1,\"Boat 6\", IF(COUNTIF(Général!H128:H134,$G$1)=1,\"Boat 7\",IF(COUNTIF(Général!I38:I44,$G$1)=1,\"Boat 8\",\"Boat 9\"))))))))","v":"Boat 6"},{"$f":"IF(COUNTIF(Général!B138:B144,$G$1)=1,\"Boat 1\",IF(COUNTIF(Général!C138:C144,$G$1)=1,\"Boat 2\",IF(COUNTIF(Général!C138:D144,$G$1)=1,\"Boat 3\", IF(COUNTIF(Général!C138:E144,$G$1)=1,\"Boat 4\", IF(COUNTIF(Général!F138:F144,$G$1)=1,\"Boat 5\", IF(COUNTIF(Général!G138:G144,$G$1)=1,\"Boat 6\", IF(COUNTIF(Général!H138:H144,$G$1)=1,\"Boat 7\",IF(COUNTIF(Général!I38:I44,$G$1)=1,\"Boat 8\",\"Boat 9\"))))))))","v":"Boat 2"},{"$f":"IF(COUNTIF(Général!B148:B154,$G$1)=1,\"Boat 1\",IF(COUNTIF(Général!C148:C154,$G$1)=1,\"Boat 2\",IF(COUNTIF(Général!D148:D154,$G$1)=1,\"Boat 3\", IF(COUNTIF(Général!E148:E154,$G$1)=1,\"Boat 4\", IF(COUNTIF(Général!F148:F154,$G$1)=1,\"Boat 5\", IF(COUNTIF(Général!G148:G154,$G$1)=1,\"Boat 6\", IF(COUNTIF(Général!H148:H154,$G$1)=1,\"Boat 7\",IF(COUNTIF(Général!I38:I44,$G$1)=1,\"Boat 8\",\"Boat 9\"))))))))","v":"Boat 2"},{"$f":"IF(COUNTIF(Général!B158:B164,$G$1)=1,\"Boat 1\",IF(COUNTIF(Général!C158:C164,$G$1)=1,\"Boat 2\",IF(COUNTIF(Général!D160:D164,$G$1)=1,\"Boat 3\", IF(COUNTIF(Général!E158:E164,$G$1)=1,\"Boat 4\", IF(COUNTIF(Général!F158:F164,$G$1)=1,\"Boat 5\", IF(COUNTIF(Général!G158:G164,$G$1)=1,\"Boat 6\", IF(COUNTIF(Général!H158:H164,$G$1)=1,\"Boat 7\",IF(COUNTIF(Général!I38:I44,$G$1)=1,\"Boat 8\",\"Boat 9\"))))))))","v":"Boat 9"},{"$f":"IF(COUNTIF(Général!B168:B174,$G$1)=1,\"Boat 1\",IF(COUNTIF(Général!C168:C174,$G$1)=1,\"Boat 2\",IF(COUNTIF(Général!D168:D174,$G$1)=1,\"Boat 3\", IF(COUNTIF(Général!E168:E174,$G$1)=1,\"Boat 4\", IF(COUNTIF(Général!F178:F184,$G$1)=1,\"Boat 5\", IF(COUNTIF(Général!G178:G184,$G$1)=1,\"Boat 6\", IF(COUNTIF(Général!H178:H184,$G$1)=1,\"Boat 7\",IF(COUNTIF(Général!I38:I44,$G$1)=1,\"Boat 8\",\"Boat 9\"))))))))","v":"Boat 3"},{"$f":"IF(COUNTIF(Général!B178:B184,$G$1)=1,\"Boat 1\",IF(COUNTIF(Général!C178:C184,$G$1)=1,\"Boat 2\",IF(COUNTIF(Général!D178:D184,$G$1)=1,\"Boat 3\", IF(COUNTIF(Général!E178:E184,$G$1)=1,\"Boat 4\", IF(COUNTIF(Général!F178:F184,$G$1)=1,\"Boat 5\", IF(COUNTIF(Général!G178:G184,$G$1)=1,\"Boat 6\", IF(COUNTIF(Général!H178:H184,$G$1)=1,\"Boat 7\",IF(COUNTIF(Général!I38:I44,$G$1)=1,\"Boat 8\",\"Boat 9\"))))))))","v":"Boat 9"},{"$f":"IF(COUNTIF(Général!B188:B194,$G$1)=1,\"Boat 1\",IF(COUNTIF(Général!C188:C194,$G$1)=1,\"Boat 2\",IF(COUNTIF(Général!D188:D194,$G$1)=1,\"Boat 3\", IF(COUNTIF(Général!E188:E194,$G$1)=1,\"Boat 4\", IF(COUNTIF(Général!F188:F194,$G$1)=1,\"Boat 5\", IF(COUNTIF(Général!G188:G194,$G$1)=1,\"Boat 6\", IF(COUNTIF(Général!H188:H194,$G$1)=1,\"Boat 7\",IF(COUNTIF(Général!I38:I44,$G$1)=1,\"Boat 8\",\"Boat 9\"))))))))","v":"Boat 3"},{"$f":"IF(COUNTIF(Général!B198:B204,$G$1)=1,\"Boat 1\",IF(COUNTIF(Général!C198:C204,$G$1)=1,\"Boat 2\",IF(COUNTIF(Général!D198:D204,$G$1)=1,\"Boat 3\", IF(COUNTIF(Général!E198:E204,$G$1)=1,\"Boat 4\", IF(COUNTIF(Général!F198:F204,$G$1)=1,\"Boat 5\", IF(COUNTIF(Général!G198:G204,$G$1)=1,\"Boat 6\", IF(COUNTIF(Général!H198:H204,$G$1)=1,\"Boat 7\",IF(COUNTIF(Général!I38:I44,$G$1)=1,\"Boat 8\",\"Boat 9\"))))))))","v":"Boat 3"},{"$f":"IF(COUNTIF(Général!B208:B214,$G$1)=1,\"Boat 1\",IF(COUNTIF(Général!C208:C214,$G$1)=1,\"Boat 2\",IF(COUNTIF(Général!D208:D214,$G$1)=1,\"Boat 3\", IF(COUNTIF(Général!E208:E214,$G$1)=1,\"Boat 4\", IF(COUNTIF(Général!F208:F214,$G$1)=1,\"Boat 5\", IF(COUNTIF(Général!G208:G214,$G$1)=1,\"Boat 6\", IF(COUNTIF(Général!H208:H214,$G$1)=1,\"Boat 7\",IF(COUNTIF(Général!I38:I44,$G$1)=1,\"Boat 8\",\"Boat 9\"))))))))","v":"Boat 9"},null,{"$f":"Général!B8","v":"Plymouth"},8]
[null,null,null,null,null,null,null,null,null,null,null,null,null,null,null,null,null,null,null,null,null,{"$f":"Général!B9","v":"Unicaen 2"},2]
["1er Equipage",null,{"$f":"IF($C$5=\"Course 1\",Général!B38,IF($C$5=\"Course 2\",Général!B40,IF($C$5=\"Course 3\",Général!B42,Général!B44)))","v":"IMT Nantes"},{"$f":"IF($D$5=\"Course 1\",Général!B48,IF($D$5=\"Course 2\",Général!B50,IF($D$5=\"Course 3\",Général!B52,Général!B54)))","v":"ENSTA 1"},{"$f":"IF($E$5=\"Course 1\",Général!B58,IF($E$5=\"Course 2\",Général!B60,IF($E$5=\"Course 3\",Général!B62,Général!B64)))","v":"Orléans"},{"$f":"IF($F$5=\"Course 1\",Général!B$68,IF($F$5=\"Course 2\",Général!B$70,IF($F$5=\"Course 3\",Général!B$72,Général!B$74)))","v":"ENSMAC"},{"$f":"IF($G$5=\"Course 1\",Général!B$78,IF($G$5=\"Course 2\",Général!B$80,IF($G$5=\"Course 3\",Général!B$82,Général!B$84)))","v":"ENSTA 2"},{"$f":"IF($H$5=\"Course 1\",Général!B$88,IF($H$5=\"Course 2\",Général!B$90,IF($H$5=\"Course 3\",Général!B$92,Général!B$94)))","v":"Univ Nantes 2"},{"$f":"IF($I$5=\"Course 1\",Général!B$98,IF($I$5=\"Course 2\",Général!B$100,IF($I$5=\"Course 3\",Général!B$102,Général!B$104)))","v":"Centrale Nantes 2"},{"$f":"IF($J$5=\"Course 1\",Général!B$108,IF($J$5=\"Course 2\",Général!B$110,IF($J$5=\"Course 3\",Général!B$112,Général!B$114)))","v":"UNIV Nantes 1"},{"$f":"IF($K$5=\"Course 1\",Général!B$118,IF($K$5=\"Course 2\",Général!B$120,IF($K$5=\"Course 3\",Général!B$122,Général!B$124)))","v":"INSA Lyon"},{"$f":"IF($L$5=\"Course 1\",Général!B$128,IF($L$5=\"Course 2\",Général!B$130,IF($L$5=\"Course 3\",Général!B$132,Général!B$134)))","v":"Plymouth"},{"$f":"IF($M$5=\"Course 1\",Général!B$138,IF($M$5=\"Course 2\",Général!B$140,IF($M$5=\"Course 3\",Général!B$142,Général!B$144)))","v":"ENSTA 1"},{"$f":"IF($N$5=\"Course 1\",Général!B$148,IF($N$5=\"Course 2\",Général!B$150,IF($N$5=\"Course 3\",Général!B$152,Général!B$154)))","v":"La Rochelle 1"},{"$f":"IF($O$5=\"Course 1\",Général!B$158,IF($O$5=\"Course 2\",Général!B$160,IF($O$5=\"Course 3\",Général!B$162,Général!B$164)))","v":"ENSMAC"},{"$f":"IF($P$5=\"Course 1\",Général!B$168,IF($P$5=\"Course 2\",Général!B$170,IF($P$5=\"Course 3\",Général!B$172,Général!B$174)))","v":"ENSMAC"},{"$f":"IF($Q$5=\"Course 1\",Général!B$178,IF($Q$5=\"Course 2\",Général!B$180,IF($Q$5=\"Course 3\",Général!B$182,Général!B$184)))","v":"Paris Cité"},{"$f":"IF($R$5=\"Course 1\",Général!B$188,IF($R$5=\"Course 2\",Général!B$190,IF($R$5=\"Course 3\",Général!B$192,Général!B$194)))","v":"ENSTA 1"},{"$f":"IF($S$5=\"Course 1\",Général!B$198,IF($S$5=\"Course 2\",Général!B$200,IF($S$5=\"Course 3\",Général!B$202,Général!B$204)))","v":"ENSTA 1"},{"$f":"IF($T$5=\"Course 1\",Général!B$208,IF($T$5=\"Course 2\",Général!B$210,IF($T$5=\"Course 3\",Général!B$212,Général!B$214)))","v":"IMT Brest 1"},null,{"$f":"Général!B10","v":"Univ Nantes 2"},6]
["2nd Equipage",null,{"$f":"IF($C$5=\"Course 1\",Général!C38,IF($C$5=\"Course 2\",Général!C40,IF($C$5=\"Course 3\",Général!C42,Général!C44)))","v":"Unicaen 1"},{"$f":"IF($D$5=\"Course 1\",Général!C48,IF($D$5=\"Course 2\",Général!C50,IF($D$5=\"Course 3\",Général!C52,Général!C54)))","v":"UBS Lorient 1"},{"$f":"IF($E$5=\"Course 1\",Général!C58,IF($E$5=\"Course 2\",Général!C60,IF($E$5=\"Course 3\",Général!C62,Général!C64)))","v":"UBS Lorient 2"},{"$f":"IF($F$5=\"Course 1\",Général!C$68,IF($F$5=\"Course 2\",Général!C$70,IF($F$5=\"Course 3\",Général!C$72,Général!C$74)))","v":"St Brieuc 1"},{"$f":"IF($G$5=\"Course 1\",Général!C$78,IF($G$5=\"Course 2\",Général!C$80,IF($G$5=\"Course 3\",Général!C$82,Général!C$84)))","v":"IMT Brest 2"},{"$f":"IF($H$5=\"Course 1\",Général!C$88,IF($H$5=\"Course 2\",Général!C$90,IF($H$5=\"Course 3\",Général!C$92,Général!C$94)))","v":"La Rochelle 2"},{"$f":"IF($I$5=\"Course 1\",Général!C$98,IF($I$5=\"Course 2\",Général!C$100,IF($I$5=\"Course 3\",Général!C$102,Général!C$104)))","v":"Intechmer"},{"$f":"IF($J$5=\"Course 1\",Général!C$108,IF($J$5=\"Course 2\",Général!C$110,IF($J$5=\"Course 3\",Général!C$112,Général!C$114)))","v":"UBS Lorient 1"},{"$f":"IF($K$5=\"Course 1\",Général!C$118,IF($K$5=\"Course 2\",Général!C$120,IF($K$5=\"Course 3\",Général!C$122,Général!C$124)))","v":"ENSTA 2"},{"$f":"IF($L$5=\"Course 1\",Général!C$128,IF($L$5=\"Course 2\",Général!C$130,IF($L$5=\"Course 3\",Général!C$132,Général!C$134)))","v":"ENSMAC"},{"$f":"IF($M$5=\"Course 1\",Général!C$138,IF($M$5=\"Course 2\",Général!C$140,IF($M$5=\"Course 3\",Général!C$142,Général!C$144)))","v":"Intechmer"},{"$f":"IF($N$5=\"Course 1\",Général!C$148,IF($N$5=\"Course 2\",Général!C$150,IF($N$5=\"Course 3\",Général!C$152,Général!C$154)))","v":"Intechmer"},{"$f":"IF($O$5=\"Course 1\",Général!C$158,IF($O$5=\"Course 2\",Général!C$160,IF($O$5=\"Course 3\",Général!C$162,Général!C$164)))","v":"UBO 2"},{"$f":"IF($P$5=\"Course 1\",Général!C$168,IF($P$5=\"Course 2\",Général!C$170,IF($P$5=\"Course 3\",Général!C$172,Général!C$174)))","v":"Univ Nantes 3"},{"$f":"IF($Q$5=\"Course 1\",Général!C$178,IF($Q$5=\"Course 2\",Général!C$180,IF($Q$5=\"Course 3\",Général!C$182,Général!C$184)))","v":"ENSTA 1"},{"$f":"IF($R$5=\"Course 1\",Général!C$188,IF($R$5=\"Course 2\",Général!C$190,IF($R$5=\"Course 3\",Général!C$192,Général!C$194)))","v":"INSA Lyon"},{"$f":"IF($S$5=\"Course 1\",Général!C$198,IF($S$5=\"Course 2\",Général!C$200,IF($S$5=\"Course 3\",Général!C$202,Général!C$204)))","v":"INSA Lyon"},{"$f":"IF($T$5=\"Course 1\",Général!C$208,IF($T$5=\"Course 2\",Général!C$210,IF($T$5=\"Course 3\",Général!C$212,Général!C$214)))","v":"Hannover"},null,{"$f":"Général!B11","v":"Karlsruhe"},4]
["3ème Equipage",null,{"$f":"IF($C$5=\"Course 1\",Général!D38,IF($C$5=\"Course 2\",Général!D40,IF($C$5=\"Course 3\",Général!D42,Général!D44)))","v":"St Brieuc 1"},{"$f":"IF($D$5=\"Course 1\",Général!D48,IF($D$5=\"Course 2\",Général!D50,IF($D$5=\"Course 3\",Général!D52,Général!D54)))","v":"Paris Sorbone"},{"$f":"IF($E$5=\"Course 1\",Général!D58,IF($E$5=\"Course 2\",Général!D60,IF($E$5=\"Course 3\",Général!D62,Général!D64)))","v":"IMT Brest 2"},{"$f":"IF($F$5=\"Course 1\",Général!D$68,IF($F$5=\"Course 2\",Général!D$70,IF($F$5=\"Course 3\",Général!D$72,Général!D$74)))","v":"Karlsruhe"},{"$f":"IF($G$5=\"Course 1\",Général!D$78,IF($G$5=\"Course 2\",Général!D$80,IF($G$5=\"Course 3\",Général!D$82,Général!D$84)))","v":"Unicaen 1"},{"$f":"IF($H$5=\"Course 1\",Général!D$88,IF($H$5=\"Course 2\",Général!D$90,IF($H$5=\"Course 3\",Général!D$92,Général!D$94)))","v":"UNIV Nantes 1"},{"$f":"IF($I$5=\"Course 1\",Général!D$98,IF($I$5=\"Course 2\",Général!D$100,IF($I$5=\"Course 3\",Général!D$102,Général!D$104)))","v":"UBS Lorient 2"},{"$f":"IF($J$5=\"Course 1\",Général!D$108,IF($J$5=\"Course 2\",Général!D$110,IF($J$5=\"Course 3\",Général!D$112,Général!D$114)))","v":"IMT Brest 1"},{"$f":"IF($K$5=\"Course 1\",Général!D$118,IF($K$5=\"Course 2\",Général!D$120,IF($K$5=\"Course 3\",Général!D$122,Général!D$124)))","v":"Southampton"},{"$f":"IF($L$5=\"Course 1\",Général!D$128,IF($L$5=\"Course 2\",Général!D$130,IF($L$5=\"Course 3\",Général!D$132,Général!D$134)))","v":"ENSTA 1"},{"$f":"IF($M$5=\"Course 1\",Général!D$138,IF($M$5=\"Course 2\",Général!D$140,IF($M$5=\"Course 3\",Général!D$142,Général!D$144)))","v":"La Rochelle 2"},{"$f":"IF($N$5=\"Course 1\",Général!D$148,IF($N$5=\"Course 2\",Général!D$150,IF($N$5=\"Course 3\",Général!D$152,Général!D$154)))","v":"IMT Brest 2"},{"$f":"IF($O$5=\"Course 1\",Général!D$158,IF($O$5=\"Course 2\",Général!D$160,IF($O$5=\"Course 3\",Général!D$162,Général!D$164)))","v":"ENSTA 2"},{"$f":"IF($P$5=\"Course 1\",Général!D$168,IF($P$5=\"Course 2\",Général!D$170,IF($P$5=\"Course 3\",Général!D$172,Général!D$174)))","v":"Intechmer"},{"$f":"IF($Q$5=\"Course 1\",Général!D$178,IF($Q$5=\"Course 2\",Général!D$180,IF($Q$5=\"Course 3\",Général!D$182,Général!D$184)))","v":"La Rochelle 1"},{"$f":"IF($R$5=\"Course 1\",Général!D$188,IF($R$5=\"Course 2\",Général!D$190,IF($R$5=\"Course 3\",Général!D$192,Général!D$194)))","v":"Intechmer"},{"$f":"IF($S$5=\"Course 1\",Général!D$198,IF($S$5=\"Course 2\",Général!D$200,IF($S$5=\"Course 3\",Général!D$202,Général!D$204)))","v":"Intechmer"},{"$f":"IF($T$5=\"Course 1\",Général!D$208,IF($T$5=\"Course 2\",Général!D$210,IF($T$5=\"Course 3\",Général!D$212,Général!D$214)))","v":"La Rochelle 2"},null,{"$f":"Général!B12","v":"IMT Brest 2"},4]
["4ème Equipage",null,{"$f":"IF($C$5=\"Course 1\",Général!E38,IF($C$5=\"Course 2\",Général!E40,IF($C$5=\"Course 3\",Général!E42,Général!E44)))","v":"La Rochelle 2"},{"$f":"IF($D$5=\"Course 1\",Général!E48,IF($D$5=\"Course 2\",Général!E50,IF($D$5=\"Course 3\",Général!E52,Général!E54)))","v":"IMT Nantes"},{"$f":"IF($E$5=\"Course 1\",Général!E58,IF($E$5=\"Course 2\",Général!E60,IF($E$5=\"Course 3\",Général!E62,Général!E64)))","v":"Paris Sorbone"},{"$f":"IF($F$5=\"Course 1\",Général!E$68,IF($F$5=\"Course 2\",Général!E$70,IF($F$5=\"Course 3\",Général!E$72,Général!E$74)))","v":"UNIV Nantes 1"},{"$f":"IF($G$5=\"Course 1\",Général!E$78,IF($G$5=\"Course 2\",Général!E$80,IF($G$5=\"Course 3\",Général!E$82,Général!E$84)))","v":"La Rochelle 1"},{"$f":"IF($H$5=\"Course 1\",Général!E$88,IF($H$5=\"Course 2\",Général!E$90,IF($H$5=\"Course 3\",Général!E$92,Général!E$94)))","v":"Karlsruhe"},{"$f":"IF($I$5=\"Course 1\",Général!E$98,IF($I$5=\"Course 2\",Général!E$100,IF($I$5=\"Course 3\",Général!E$102,Général!E$104)))","v":"UNIV Nantes 1"},{"$f":"IF($J$5=\"Course 1\",Général!E$108,IF($J$5=\"Course 2\",Général!E$110,IF($J$5=\"Course 3\",Général!E$112,Général!E$114)))","v":"UBS Lorient 2"},{"$f":"IF($K$5=\"Course 1\",Général!E$118,IF($K$5=\"Course 2\",Général!E$120,IF($K$5=\"Course 3\",Général!E$122,Général!E$124)))","v":"IMT Brest 1"},{"$f":"IF($L$5=\"Course 1\",Général!E$128,IF($L$5=\"Course 2\",Général!E$130,IF($L$5=\"Course 3\",Général!E$132,Général!E$134)))","v":"Paris Cité"},{"$f":"IF($M$5=\"Course 1\",Général!E$138,IF($M$5=\"Course 2\",Général!E$140,IF($M$5=\"Course 3\",Général!E$142,Général!E$144)))","v":"ENSMAC"},{"$f":"IF($N$5=\"Course 1\",Général!E$148,IF($N$5=\"Course 2\",Général!E$150,IF($N$5=\"Course 3\",Général!E$152,Général!E$154)))","v":"UBO 2"},{"$f":"IF($O$5=\"Course 1\",Général!E$158,IF($O$5=\"Course 2\",Général!E$160,IF($O$5=\"Course 3\",Général!E$162,Général!E$164)))","v":"UBO 1"},{"$f":"IF($P$5=\"Course 1\",Général!E$168,IF($P$5=\"Course 2\",Général!E$170,IF($P$5=\"Course 3\",Général!E$172,Général!E$174)))","v":"INSA Lyon"},{"$f":"IF($Q$5=\"Course 1\",Général!E$178,IF($Q$5=\"Course 2\",Général!E$180,IF($Q$5=\"Course 3\",Général!E$182,Général!E$184)))","v":"Centrale Nantes 1"},{"$f":"IF($R$5=\"Course 1\",Général!E$188,IF($R$5=\"Course 2\",Général!E$190,IF($R$5=\"Course 3\",Général!E$192,Général!E$194)))","v":"Univ Nantes 2"},{"$f":"IF($S$5=\"Course 1\",Général!E$198,IF($S$5=\"Course 2\",Général!E$200,IF($S$5=\"Course 3\",Général!E$202,Général!E$204)))","v":"St Brieuc 1"},{"$f":"IF($T$5=\"Course 1\",Général!E$208,IF($T$5=\"Course 2\",Général!E$210,IF($T$5=\"Course 3\",Général!E$212,Général!E$214)))","v":"Plymouth"},null,{"$f":"Général!B13","v":"Unicaen 1"},6]
["5ème Equipage",null,{"$f":"IF($C$5=\"Course 1\",Général!F38,IF($C$5=\"Course 2\",Général!F40,IF($C$5=\"Course 3\",Général!F42,Général!F44)))","v":"UBO 2"},{"$f":"IF($D$5=\"Course 1\",Général!F48,IF($D$5=\"Course 2\",Général!F50,IF($D$5=\"Course 3\",Général!F52,Général!F54)))","v":"Hannover"},{"$f":"IF($E$5=\"Course 1\",Général!F58,IF($E$5=\"Course 2\",Général!F60,IF($E$5=\"Course 3\",Général!F62,Général!F64)))","v":"Univ Nantes 2"},{"$f":"IF($F$5=\"Course 1\",Général!F$68,IF($F$5=\"Course 2\",Général!F$70,IF($F$5=\"Course 3\",Général!F$72,Général!F$74)))","v":"Centrale Nantes 2"},{"$f":"IF($G$5=\"Course 1\",Général!F$78,IF($G$5=\"Course 2\",Général!F$80,IF($G$5=\"Course 3\",Général!F$82,Général!F$84)))","v":"Orléans"},{"$f":"IF($H$5=\"Course 1\",Général!F$88,IF($H$5=\"Course 2\",Général!F$90,IF($H$5=\"Course 3\",Général!F$92,Général!F$94)))","v":"Plymouth"},{"$f":"IF($I$5=\"Course 1\",Général!F$98,IF($I$5=\"Course 2\",Général!F$100,IF($I$5=\"Course 3\",Général!F$102,Général!F$104)))","v":"IMT Brest 1"},{"$f":"IF($J$5=\"Course 1\",Général!F$108,IF($J$5=\"Course 2\",Général!F$110,IF($J$5=\"Course 3\",Général!F$112,Général!F$114)))","v":"Intechmer"},{"$f":"IF($K$5=\"Course 1\",Général!F$118,IF($K$5=\"Course 2\",Général!F$120,IF($K$5=\"Course 3\",Général!F$122,Général!F$124)))","v":"IMT Brest 2"},{"$f":"IF($L$5=\"Course 1\",Général!F$128,IF($L$5=\"Course 2\",Général!$F130,IF($L$5=\"Course 3\",Général!F$132,Général!F$134)))","v":"La Rochelle 2"},{"$f":"IF($M$5=\"Course 1\",Général!F$138,IF($M$5=\"Course 2\",Général!F$140,IF($M$5=\"Course 3\",Général!F$142,Général!F$144)))","v":"UBO 1"},{"$f":"IF($N$5=\"Course 1\",Général!F$148,IF($N$5=\"Course 2\",Général!F$150,IF($N$5=\"Course 3\",Général!F$152,Général!F$154)))","v":"INSA Lyon"},{"$f":"IF($O$5=\"Course 1\",Général!F$158,IF($O$5=\"Course 2\",Général!F$160,IF($O$5=\"Course 3\",Général!F$162,Général!F$164)))","v":"INSA Lyon"},{"$f":"IF($P$5=\"Course 1\",Général!F$168,IF($P$5=\"Course 2\",Général!F$170,IF($P$5=\"Course 3\",Général!F$172,Général!F$174)))","v":"ENSTA 2"},{"$f":"IF($Q$5=\"Course 1\",Général!F$178,IF($Q$5=\"Course 2\",Général!F$180,IF($Q$5=\"Course 3\",Général!F$182,Général!F$184)))","v":"Hannover"},{"$f":"IF($R$5=\"Course 1\",Général!F$188,IF($R$5=\"Course 2\",Général!F$190,IF($R$5=\"Course 3\",Général!F$192,Général!F$194)))","v":"ENSTA 2"},{"$f":"IF($S$5=\"Course 1\",Général!F$198,IF($S$5=\"Course 2\",Général!F$200,IF($S$5=\"Course 3\",Général!F$202,Général!F$204)))","v":"IMT Nantes"},{"$f":"IF($T$5=\"Course 1\",Général!F$208,IF($T$5=\"Course 2\",Général!F$210,IF($T$5=\"Course 3\",Général!F$212,Général!F$214)))","v":"La Rochelle 1"},null,{"$f":"Général!B14","v":"ENSTA 1"},8]
["6ème Equipage",null,{"$f":"IF($C$5=\"Course 1\",Général!G38,IF($C$5=\"Course 2\",Général!G40,IF($C$5=\"Course 3\",Général!G42,Général!G44)))","v":"ENSTA 1"},{"$f":"IF($D$5=\"Course 1\",Général!G48,IF($D$5=\"Course 2\",Général!G50,IF($D$5=\"Course 3\",Général!G52,Général!G54)))","v":"Plymouth"},{"$f":"IF($E$5=\"Course 1\",Général!G58,IF($E$5=\"Course 2\",Général!G60,IF($E$5=\"Course 3\",Général!G62,Général!G64)))","v":"La Rochelle 2"},{"$f":"IF($F$5=\"Course 1\",Général!G$68,IF($F$5=\"Course 2\",Général!G$70,IF($F$5=\"Course 3\",Général!G$72,Général!G$74)))","v":"Paris Sorbone"},{"$f":"IF($G$5=\"Course 1\",Général!G$78,IF($G$5=\"Course 2\",Général!G$80,IF($G$5=\"Course 3\",Général!G$82,Général!G$84)))","v":"Paris Cité"},{"$f":"IF($H$5=\"Course 1\",Général!G$88,IF($H$5=\"Course 2\",Général!G$90,IF($H$5=\"Course 3\",Général!G$92,Général!G$94)))","v":"ENSMAC"},{"$f":"IF($I$5=\"Course 1\",Général!G$98,IF($I$5=\"Course 2\",Général!G$100,IF($I$5=\"Course 3\",Général!G$102,Général!G$104)))","v":"Univ Nantes 2"},{"$f":"IF($J$5=\"Course 1\",Général!G$108,IF($J$5=\"Course 2\",Général!G$110,IF($J$5=\"Course 3\",Général!G$112,Général!G$114)))","v":"ENSTA 1"},{"$f":"IF($K$5=\"Course 1\",Général!G$118,IF($K$5=\"Course 2\",Général!G$120,IF($K$5=\"Course 3\",Général!G$122,Général!G$124)))","v":"Unicaen 1"},{"$f":"IF($L$5=\"Course 1\",Général!G$128,IF($L$5=\"Course 2\",Général!G$130,IF($L$5=\"Course 3\",Général!G$132,Général!G$134)))","v":"Intechmer"},{"$f":"IF($M$5=\"Course 1\",Général!G$138,IF($M$5=\"Course 2\",Général!G$140,IF($M$5=\"Course 3\",Général!G$142,Général!G$144)))","v":"Southampton"},{"$f":"IF($N$5=\"Course 1\",Général!G$148,IF($N$5=\"Course 2\",Général!G$150,IF($N$5=\"Course 3\",Général!G$152,Général!G$154)))","v":"Hannover"},{"$f":"IF($O$5=\"Course 1\",Général!G$158,IF($O$5=\"Course 2\",Général!G$160,IF($O$5=\"Course 3\",Général!G$162,Général!G$164)))","v":"Plymouth"},{"$f":"IF($P$5=\"Course 1\",Général!G$168,IF($P$5=\"Course 2\",Général!G$170,IF($P$5=\"Course 3\",Général!G$172,Général!G$174)))","v":"ST Brieuc 2"},{"$f":"IF($Q$5=\"Course 1\",Général!G$178,IF($Q$5=\"Course 2\",Général!G$180,IF($Q$5=\"Course 3\",Général!G$182,Général!G$184)))","v":"Centrale Nantes 2"},{"$f":"IF($R$5=\"Course 1\",Général!G$188,IF($R$5=\"Course 2\",Général!G$190,IF($R$5=\"Course 3\",Général!G$192,Général!G$194)))","v":"La Rochelle 2"},{"$f":"IF($S$5=\"Course 1\",Général!G$198,IF($S$5=\"Course 2\",Général!G$200,IF($S$5=\"Course 3\",Général!G$202,Général!G$204)))","v":"La Rochelle 2"},{"$f":"IF($T$5=\"Course 1\",Général!G$208,IF($T$5=\"Course 2\",Général!G$210,IF($T$5=\"Course 3\",Général!G$212,Général!G$214)))","v":"Southampton"},null,{"$f":"Général!B15","v":"Orléans"},3]
["7ème Equipage",null,{"$f":"IF($C$5=\"Course 1\",Général!H38,IF($C$5=\"Course 2\",Général!H40,IF($C$5=\"Course 3\",Général!H42,Général!H44)))","v":"IMT Brest 1"},{"$f":"IF($D$5=\"Course 1\",Général!H48,IF($D$5=\"Course 2\",Général!H50,IF($D$5=\"Course 3\",Général!H52,Général!H54)))","v":"Univ Nantes 2"},{"$f":"IF($E$5=\"Course 1\",Général!H58,IF($E$5=\"Course 2\",Général!H60,IF($E$5=\"Course 3\",Général!H62,Général!H64)))","v":"Intechmer"},{"$f":"IF($F$5=\"Course 1\",Général!H$68,IF($F$5=\"Course 2\",Général!H$70,IF($F$5=\"Course 3\",Général!H$72,Général!H$74)))","v":"Intechmer"},{"$f":"IF($G$5=\"Course 1\",Général!H$78,IF($G$5=\"Course 2\",Général!H$80,IF($G$5=\"Course 3\",Général!H$82,Général!H$84)))","v":"Univ Nantes 2"},{"$f":"IF($H$5=\"Course 1\",Général!H$88,IF($H$5=\"Course 2\",Général!H$90,IF($H$5=\"Course 3\",Général!H$92,Général!H$94)))","v":"Intechmer"},{"$f":"IF($I$5=\"Course 1\",Général!H$98,IF($I$5=\"Course 2\",Général!H$100,IF($I$5=\"Course 3\",Général!H$102,Général!H$104)))","v":"ST Brieuc 2"},{"$f":"IF($J$5=\"Course 1\",Général!H$108,IF($J$5=\"Course 2\",Général!H$110,IF($J$5=\"Course 3\",Général!H$112,Général!H$114)))","v":"Hannover"},{"$f":"IF($K$5=\"Course 1\",Général!H$118,IF($K$5=\"Course 2\",Général!H$120,IF($K$5=\"Course 3\",Général!H$122,Général!H$124)))","v":"Intechmer"},{"$f":"IF($L$5=\"Course 1\",Général!H$128,IF($L$5=\"Course 2\",Général!H$130,IF($L$5=\"Course 3\",Général!H$132,Général!H$134)))","v":"IMT Nantes"},{"$f":"IF($M$5=\"Course 1\",Général!H$138,IF($M$5=\"Course 2\",Général!H$140,IF($M$5=\"Course 3\",Général!H$142,Général!H$144)))","v":"Centrale Nantes 2"},{"$f":"IF($N$5=\"Course 1\",Général!H$148,IF($N$5=\"Course 2\",Général!H$150,IF($N$5=\"Course 3\",Général!H$152,Général!H$154)))","v":"La Rochelle 2"},{"$f":"IF($O$5=\"Course 1\",Général!H$158,IF($O$5=\"Course 2\",Général!H$160,IF($O$5=\"Course 3\",Général!H$162,Général!H$164)))","v":"Paris Cité"},{"$f":"IF($P$5=\"Course 1\",Général!H$168,IF($P$5=\"Course 2\",Général!H$170,IF($P$5=\"Course 3\",Général!H$172,Général!H$174)))","v":"UNIV Nantes 1"},{"$f":"IF($Q$5=\"Course 1\",Général!H$178,IF($Q$5=\"Course 2\",Général!H$180,IF($Q$5=\"Course 3\",Général!H$182,Général!H$184)))","v":"IMT Brest 1"},{"$f":"IF($R$5=\"Course 1\",Général!H$188,IF($R$5=\"Course 2\",Général!H$190,IF($R$5=\"Course 3\",Général!H$192,Général!H$194)))","v":"UBO 2"},{"$f":"IF($S$5=\"Course 1\",Général!H$198,IF($S$5=\"Course 2\",Général!H$200,IF($S$5=\"Course 3\",Général!H$202,Général!H$204)))","v":"Unicaen 1"},{"$f":"IF($T$5=\"Course 1\",Général!H$208,IF($T$5=\"Course 2\",Général!H$210,IF($T$5=\"Course 3\",Général!H$212,Général!H$214)))","v":"Unicaen 1"},null,{"$f":"Général!B16","v":"IMT Brest 1"},6]
["8ème Equipage",null,{"$f":"IF($C$5=\"Course 1\",Général!I38,IF($C$5=\"Course 2\",Général!I40,IF($C$5=\"Course 3\",Général!I42,Général!I44)))","v":"Univ Nantes 3"},{"$f":"IF($D$5=\"Course 1\",Général!I48,IF($D$5=\"Course 2\",Général!I50,IF($D$5=\"Course 3\",Général!I52,Général!I54)))","v":"Orléans"},{"$f":"IF($E$5=\"Course 1\",Général!I58,IF($E$5=\"Course 2\",Général!I60,IF($E$5=\"Course 3\",Général!I62,Général!I64)))","v":"Centrale Nantes 1"},{"$f":"IF($F$5=\"Course 1\",Général!I$68,IF($F$5=\"Course 2\",Général!I$70,IF($F$5=\"Course 3\",Général!I$72,Général!I$74)))","v":"Southampton"},{"$f":"IF($G$5=\"Course 1\",Général!I$78,IF($G$5=\"Course 2\",Général!I$80,IF($G$5=\"Course 3\",Général!I$82,Général!I$84)))","v":"IMT Nantes"},{"$f":"IF($H$5=\"Course 1\",Général!I$88,IF($H$5=\"Course 2\",Général!I$90,IF($H$5=\"Course 3\",Général!I$92,Général!I$94)))","v":"Unicaen 1"},{"$f":"IF($I$5=\"Course 1\",Général!I$98,IF($I$5=\"Course 2\",Général!I$100,IF($I$5=\"Course 3\",Général!I$102,Général!I$104)))","v":"UBO 2"},{"$f":"IF($J$5=\"Course 1\",Général!I$108,IF($J$5=\"Course 2\",Général!I$110,IF($J$5=\"Course 3\",Général!I$112,Général!I$114)))","v":"Southampton"},{"$f":"IF($K$5=\"Course 1\",Général!I$118,IF($K$5=\"Course 2\",Général!I$120,IF($K$5=\"Course 3\",Général!I$122,Général!I$124)))","v":"Karlsruhe"},{"$f":"IF($L$5=\"Course 1\",Général!I$128,IF($L$5=\"Course 2\",Général!I$130,IF($L$5=\"Course 3\",Général!I$132,Général!I$134)))","v":"UBS Lorient 2"},{"$f":"IF($M$5=\"Course 1\",Général!I$138,IF($M$5=\"Course 2\",Général!I$140,IF($M$5=\"Course 3\",Général!I$142,Général!I$144)))","v":"Unicaen 2"},{"$f":"IF($N$5=\"Course 1\",Général!I$148,IF($N$5=\"Course 2\",Général!I$150,IF($N$5=\"Course 3\",Général!I$152,Général!I$154)))","v":"UNIV Nantes 1"},{"$f":"IF($O$5=\"Course 1\",Général!I$158,IF($O$5=\"Course 2\",Général!I$160,IF($O$5=\"Course 3\",Général!I$162,Général!I$164)))","v":"Centrale Nantes 2"},{"$f":"IF($P$5=\"Course 1\",Général!I$168,IF($P$5=\"Course 2\",Général!I$170,IF($P$5=\"Course 3\",Général!I$172,Général!I$174)))","v":"Centrale Nantes 2"},{"$f":"IF($Q$5=\"Course 1\",Général!I$178,IF($Q$5=\"Course 2\",Général!I$180,IF($Q$5=\"Course 3\",Général!I$182,Général!I$184)))","v":"Univ Nantes 3"},{"$f":"IF($R$5=\"Course 1\",Général!I$188,IF($R$5=\"Course 2\",Général!I$190,IF($R$5=\"Course 3\",Général!I$192,Général!I$194)))","v":"Plymouth"},{"$f":"IF($S$5=\"Course 1\",Général!I$198,IF($S$5=\"Course 2\",Général!I$200,IF($S$5=\"Course 3\",Général!I$202,Général!I$204)))","v":"Plymouth"},{"$f":"IF($T$5=\"Course 1\",Général!I$208,IF($T$5=\"Course 2\",Général!I$210,IF($T$5=\"Course 3\",Général!I$212,Général!I$214)))","v":"Centrale Nantes 1"},null,{"$f":"Général!B17","v":"ENSMAC"},6]
["9ème Equipage",null,{"$f":"IF($C$5=\"Course 1\",Général!J38,IF($C$5=\"Course 2\",Général!J40,IF($C$5=\"Course 3\",Général!J42,Général!J44)))","v":"Karlsruhe"},{"$f":"IF($D$5=\"Course 1\",Général!J48,IF($D$5=\"Course 2\",Général!J50,IF($D$5=\"Course 3\",Général!J52,Général!J54)))","v":"Intechmer"},{"$f":"IF($E$5=\"Course 1\",Général!J58,IF($E$5=\"Course 2\",Général!J60,IF($E$5=\"Course 3\",Général!J62,Général!J64)))","v":"INSA Lyon"},{"$f":"IF($F$5=\"Course 1\",Général!J$68,IF($F$5=\"Course 2\",Général!J$70,IF($F$5=\"Course 3\",Général!J$72,Général!J$74)))","v":"IMT Nantes"},{"$f":"IF($G$5=\"Course 1\",Général!J$78,IF($G$5=\"Course 2\",Général!J$80,IF($G$5=\"Course 3\",Général!J$82,Général!J$84)))","v":"Unicaen 2"},{"$f":"IF($H$5=\"Course 1\",Général!J$88,IF($H$5=\"Course 2\",Général!J$90,IF($H$5=\"Course 3\",Général!$J92,Général!J$94)))","v":"Centrale Nantes 2"},{"$f":"IF($I$5=\"Course 1\",Général!J$98,IF($I$5=\"Course 2\",Général!J$100,IF($I$5=\"Course 3\",Général!J$102,Général!J$104)))","v":"Paris Cité"},{"$f":"IF($J$5=\"Course 1\",Général!J$108,IF($J$5=\"Course 2\",Général!J$110,IF($J$5=\"Course 3\",Général!J$112,Général!J$114)))","v":"La Rochelle 1"},{"$f":"IF($K$5=\"Course 1\",Général!J$118,IF($K$5=\"Course 2\",Général!J$120,IF($K$5=\"Course 3\",Général!J$122,Général!J$124)))","v":"Centrale Nantes 2"},{"$f":"IF($L$5=\"Course 1\",Général!J$128,IF($L$5=\"Course 2\",Général!J$130,IF($L$5=\"Course 3\",Général!J$132,Général!J$134)))","v":"ST Brieuc 2"},{"$f":"IF($M$5=\"Course 1\",Général!J$138,IF($M$5=\"Course 2\",Général!J$140,IF($M$5=\"Course 3\",Général!J$142,Général!J$144)))","v":"IMT Nantes"},{"$f":"IF($N$5=\"Course 1\",Général!J$148,IF($N$5=\"Course 2\",Général!J$150,IF($N$5=\"Course 3\",Général!J$152,Général!J$154)))","v":"Plymouth"},{"$f":"IF($O$5=\"Course 1\",Général!J$158,IF($O$5=\"Course 2\",Général!J$160,IF($O$5=\"Course 3\",Général!J$162,Général!J$164)))","v":"Intechmer"},{"$f":"IF($P$5=\"Course 1\",Général!J$168,IF($P$5=\"Course 2\",Général!J$170,IF($P$5=\"Course 3\",Général!J$172,Général!J$174)))","v":"Southampton"},{"$f":"IF($Q$5=\"Course 1\",Général!J$178,IF($Q$5=\"Course 2\",Général!J$180,IF($Q$5=\"Course 3\",Général!J$182,Général!J$184)))","v":"Intechmer"},{"$f":"IF($R$5=\"Course 1\",Général!J$188,IF($R$5=\"Course 2\",Général!J$190,IF($R$5=\"Course 3\",Général!J$192,Général!J$194)))","v":"UNIV Nantes 1"},{"$f":"IF($S$5=\"Course 1\",Général!J$198,IF($S$5=\"Course 2\",Général!J$200,IF($S$5=\"Course 3\",Général!J$202,Général!J$204)))","v":"UNIV Nantes 1"},{"$f":"IF($T$5=\"Course 1\",Général!J$208,IF($T$5=\"Course 2\",Général!J$210,IF($T$5=\"Course 3\",Général!J$212,Général!J$214)))","v":"Intechmer"},null,{"$f":"Général!B18","v":"St Brieuc 1"},3]
["10ème Equipage",null,{"$f":"IF($C$5=\"Course 1\",Général!K38,IF($C$5=\"Course 2\",Général!K40,IF($C$5=\"Course 3\",Général!K42,Général!K44)))","v":"Intechmer"},{"$f":"IF($D$5=\"Course 1\",Général!K48,IF($D$5=\"Course 2\",Général!K50,IF($D$5=\"Course 3\",Général!K52,Général!K54)))","v":"IMT Brest 1"},{"$f":"IF($E$5=\"Course 1\",Général!K58,IF($E$5=\"Course 2\",Général!K60,IF($E$5=\"Course 3\",Général!K62,Général!K64)))","v":"UNIV Nantes 1"},{"$f":"IF($F$5=\"Course 1\",Général!K$68,IF($F$5=\"Course 2\",Général!K$70,IF($F$5=\"Course 3\",Général!K$72,Général!K$74)))","v":"UBO 2"},{"$f":"IF($G$5=\"Course 1\",Général!K$78,IF($G$5=\"Course 2\",Général!K$80,IF($G$5=\"Course 3\",Général!K$82,Général!K$84)))","v":"Intechmer"},{"$f":"IF($H$5=\"Course 1\",Général!K$88,IF($H$5=\"Course 2\",Général!K$90,IF($H$5=\"Course 3\",Général!$K92,Général!K$94)))","v":"Univ Nantes 3"},{"$f":"IF($I$5=\"Course 1\",Général!K$98,IF($I$5=\"Course 2\",Général!K$100,IF($I$5=\"Course 3\",Général!K$102,Général!K$104)))","v":"St Brieuc 1"},{"$f":"IF($J$5=\"Course 1\",Général!K$108,IF($J$5=\"Course 2\",Général!K$110,IF($J$5=\"Course 3\",Général!K$112,Général!K$114)))","v":"IMT Brest 2"},{"$f":"IF($K$5=\"Course 1\",Général!K$118,IF($K$5=\"Course 2\",Général!K$120,IF($K$5=\"Course 3\",Général!K$122,Général!K$124)))","v":"ST Brieuc 2"},{"$f":"IF($L$5=\"Course 1\",Général!K$128,IF($L$5=\"Course 2\",Général!K$130,IF($L$5=\"Course 3\",Général!K$132,Général!K$134)))","v":"Southampton"},{"$f":"IF($M$5=\"Course 1\",Général!K$138,IF($M$5=\"Course 2\",Général!K$140,IF($M$5=\"Course 3\",Général!K$142,Général!K$144)))","v":"INSA Lyon"},{"$f":"IF($N$5=\"Course 1\",Général!K$148,IF($N$5=\"Course 2\",Général!K$150,IF($N$5=\"Course 3\",Général!K$152,Général!K$154)))","v":"Karlsruhe"},{"$f":"IF($O$5=\"Course 1\",Général!K$158,IF($O$5=\"Course 2\",Général!K$160,IF($O$5=\"Course 3\",Général!K$162,Général!K$164)))","v":"IMT Brest 2"},{"$f":"IF($P$5=\"Course 1\",Général!K$168,IF($P$5=\"Course 2\",Général!K$170,IF($P$5=\"Course 3\",Général!K$172,Général!K$174)))","v":"UBO 2"},{"$f":"IF($Q$5=\"Course 1\",Général!K$178,IF($Q$5=\"Course 2\",Général!K$180,IF($Q$5=\"Course 3\",Général!K$182,Général!K$184)))","v":"ST Brieuc 2"},{"$f":"IF($R$5=\"Course 1\",Général!K$188,IF($R$5=\"Course 2\",Général!K$190,IF($R$5=\"Course 3\",Général!K$192,Général!K$194)))","v":"Centrale Nantes 2"},{"$f":"IF($S$5=\"Course 1\",Général!K$198,IF($S$5=\"Course 2\",Général!K$200,IF($S$5=\"Course 3\",Général!K$202,Général!K$204)))","v":"ST Brieuc 2"},{"$f":"IF($T$5=\"Course 1\",Général!K$208,IF($T$5=\"Course 2\",Général!K$210,IF($T$5=\"Course 3\",Général!K$212,Général!K$214)))","v":"ENSTA 2"},null,{"$f":"Général!B19","v":"Hannover"},5]
[null,null,null,null,null,null,null,null,null,null,null,null,null,null,null,null,null,null,null,null,null,{"$f":"Général!B20","v":"ENSTA 2"},5]
[null,null,null,null,null,null,null,null,null,null,null,null,null,null,null,null,null,null,null,null,null,{"$f":"Général!B21","v":"Southampton"},6]
[null,null,null,null,null,null,null,null,null,null,null,null,null,null,null,null,null,null,null,null,null,{"$f":"Général!B22","v":"La Rochelle 1"},5]
[null,null,null,null,null,null,null,null,null,null,null,null,null,null,null,null,null,null,null,null,null,{"$f":"Général!B23","v":"Centrale Nantes 1"},3]
[null,null,null,null,null,null,null,null,null,null,null,null,null,null,null,null,null,null,null,null,null,{"$f":"Général!B24","v":"ST Brieuc 2"},3]
[null,null,null,null,null,null,null,null,null,null,null,null,null,null,null,null,null,null,null,null,null,{"$f":"Général!B25","v":"UNIV Nantes 1"},8]
[null,null,null,null,null,null,null,null,null,null,null,null,null,null,null,null,null,null,null,null,null,{"$f":"Général!B26","v":"Intechmer"},16]
[null,null,null,null,null,null,null,null,null,null,null,null,null,null,null,null,null,null,null,null,null,{"$f":"Général!B27","v":"IMT Nantes"},7]
[null,null,null,null,null,null,null,null,null,null,null,null,null,null,null,null,null,null,null,null,null,{"$f":"Général!B28","v":"INSA Lyon"},7]
[null,null,null,null,null,null,null,null,null,null,null,null,null,null,null,null,null,null,null,null,null,{"$f":"Général!B29","v":"Centrale Nantes 2"},8]
[null,null,null,null,null,null,null,null,null,null,null,null,null,null,null,null,null,null,null,null,null,{"$f":"Général!B30","v":"UBS Lorient 2"},4]
[null,null,null,null,null,null,null,null,null,null,null,null,null,null,null,null,null,null,null,null,null,{"$f":"Général!B31","v":"La Rochelle 2"},9]
[null,null,null,null,null,null,null,null,null,null,null,null,null,null,null,null,null,null,null,null,null,{"$f":"Général!B32","v":"UBO 1"},2]
[null,null,null,null,null,null,null,null,null,null,null,null,null,null,null,null,null,null,null,null,null,{"$f":"Général!B33","v":"Eq.31"},0]
[null,null,null,null,null,null,null,null,null,null,null,null,null,null,null,null,null,null,null,null,null,{"$f":"Général!B34","v":"Eq.32"},0]

{"sheet":"Eq.25","index":30,"n_rows":32,"n_cols":23,"rows_kept":32,"cut":false,"hidden":false,"merged":[[7,0,7,1],[0,0,1,5],[0,6,1,10],[3,0,3,1],[4,0,4,1],[5,0,5,1],[14,0,14,1],[15,0,15,1],[16,0,16,1],[8,0,8,1],[9,0,9,1],[10,0,10,1],[11,0,11,1],[12,0,12,1],[13,0,13,1]]}
["Equipage ",null,null,null,null,null,{"$f":"Général!B27","v":"IMT Nantes"},null,null,null,null,null,null,null,null,null,null,null,null,null,null,{"$f":"Général!B3","v":"UBO 2"},{"$f":"COUNTIF(C$8:T$16,V1)","v":3}]
[null,null,null,null,null,null,null,null,null,null,null,null,null,null,null,null,null,null,null,null,null,{"$f":"Général!B4","v":"Paris Sorbone"},{"$f":"COUNTIF($C$8:$T$16,V2)","v":4}]
[null,null,null,null,null,null,null,null,null,null,null,null,null,null,null,null,null,null,null,null,null,{"$f":"Général!B5","v":"UBS Lorient 1"},{"$f":"COUNTIF($C$8:$T$16,V3)","v":4}]
[null,null,"FLIGHT 1","FLIGHT 2","FLIGHT 3","FLIGHT 4","FLIGHT 5","FLIGHT 6","FLIGHT 7","FLIGHT 8","FLIGHT 9","FLIGHT 10","FLIGHT 11","FLIGHT 12","FLIGHT 13","FLIGHT 14","FLIGHT 15","FLIGHT 16","FLIGHT 17","FLIGHT 18",null,{"$f":"Général!B6","v":"Univ Nantes 3"},4]
["N° de course",null,{"$f":"IF(COUNTIF(Général!B38:K38,$G$1)=1,\"Course 1\",IF(COUNTIF(Général!B40:K40,$G$1)=1,\"Course 2\",IF(COUNTIF(Général!B42:K42,$G$1)=1,\"Course 3\",\"Course 4\")))","v":"Course 1"},{"$f":"IF(COUNTIF(Général!B48:K48,$G$1)=1,\"Course 1\",IF(COUNTIF(Général!B50:K50,$G$1)=1,\"Course 2\",IF(COUNTIF(Général!B52:K52,$G$1)=1,\"Course 3\",\"Course 4\")))","v":"Course 1"},{"$f":"IF(COUNTIF(Général!B58:K58,$G$1)=1,\"Course 1\",IF(COUNTIF(Général!B60:K60,$G$1)=1,\"Course 2\",IF(COUNTIF(Général!B62:K62,$G$1)=1,\"Course 3\",\"Course 4\")))","v":"Course 2"},{"$f":"IF(COUNTIF(Général!B68:K68,$G$1)=1,\"Course 1\",IF(COUNTIF(Général!B70:K70,$G$1)=1,\"Course 2\",IF(COUNTIF(Général!B72:K72,$G$1)=1,\"Course 3\",\"Course 4\")))","v":"Course 3"},{"$f":"IF(COUNTIF(Général!B78:K78,$G$1)=1,\"Course 1\",IF(COUNTIF(Général!B80:K80,$G$1)=1,\"Course 2\",IF(COUNTIF(Général!B82:K82,$G$1)=1,\"Course 3\",\"Course 4\")))","v":"Course 3"},{"$f":"IF(COUNTIF(Général!B88:K88,$G$1)=1,\"Course 1\",IF(COUNTIF(Général!B90:K90,$G$1)=1,\"Course 2\",IF(COUNTIF(Général!B92:K92,$G$1)=1,\"Course 3\",\"Course 4\")))","v":"Course 1"},{"$f":"IF(COUNTIF(Général!B98:K98,$G$1)=1,\"Course 1\",IF(COUNTIF(Général!B100:K100,$G$1)=1,\"Course 2\",IF(COUNTIF(Général!B102:K102,$G$1)=1,\"Course 3\",\"Course 4\")))","v":"Course 2"},{"$f":"IF(COUNTIF(Général!B108:K108,$G$1)=1,\"Course 1\",IF(COUNTIF(Général!B110:K110,$G$1)=1,\"Course 2\",IF(COUNTIF(Général!B112:K112,$G$1)=1,\"Course 3\",\"Course 4\")))","v":"Course 2"},{"$f":"IF(COUNTIF(Général!B118:K118,$G$1)=1,\"Course 1\",IF(COUNTIF(Général!B120:K120,$G$1)=1,\"Course 2\",IF(COUNTIF(Général!B122:K122,$G$1)=1,\"Course 3\",\"Course 4\")))","v":"Course 2"},{"$f":"IF(COUNTIF(Général!B128:K128,$G$1)=1,\"Course 1\",IF(COUNTIF(Général!B130:K130,$G$1)=1,\"Course 2\",IF(COUNTIF(Général!B132:K132,$G$1)=1,\"Course 3\",\"Course 4\")))","v":"Course 2"},{"$f":"IF(COUNTIF(Général!B138:K138,$G$1)=1,\"Course 1\",IF(COUNTIF(Général!B140:K140,$G$1)=1,\"Course 2\",IF(COUNTIF(Général!B142:K142,$G$1)=1,\"Course 3\",\"Course 4\")))","v":"Course 3"},{"$f":"IF(COUNTIF(Général!B148:K148,$G$1)=1,\"Course 1\",IF(COUNTIF(Général!B150:K150,$G$1)=1,\"Course 2\",IF(COUNTIF(Général!B152:K152,$G$1)=1,\"Course 3\",\"Course 4\")))","v":"Course 1"},{"$f":"IF(COUNTIF(Général!B158:K158,$G$1)=1,\"Course 1\",IF(COUNTIF(Général!B160:K160,$G$1)=1,\"Course 2\",IF(COUNTIF(Général!B162:K162,$G$1)=1,\"Course 3\",\"Course 4\")))","v":"Course 1"},{"$f":"IF(COUNTIF(Général!B168:K168,$G$1)=1,\"Course 1\",IF(COUNTIF(Général!B170:K170,$G$1)=1,\"Course 2\",IF(COUNTIF(Général!B172:K172,$G$1)=1,\"Course 3\",\"Course 4\")))","v":"Course 1"},{"$f":"IF(COUNTIF(Général!B178:K178,$G$1)=1,\"Course 1\",IF(COUNTIF(Général!B180:K180,$G$1)=1,\"Course 2\",IF(COUNTIF(Général!B182:K182,$G$1)=1,\"Course 3\",\"Course 4\")))","v":"Course 2"},{"$f":"IF(COUNTIF(Général!B188:K188,$G$1)=1,\"Course 1\",IF(COUNTIF(Général!B190:K190,$G$1)=1,\"Course 2\",IF(COUNTIF(Général!B192:K192,$G$1)=1,\"Course 3\",\"Course 4\")))","v":"Course 1"},{"$f":"IF(COUNTIF(Général!B198:K198,$G$1)=1,\"Course 1\",IF(COUNTIF(Général!B200:K200,$G$1)=1,\"Course 2\",IF(COUNTIF(Général!B202:K202,$G$1)=1,\"Course 3\",\"Course 4\")))","v":"Course 1"},{"$f":"IF(COUNTIF(Général!B208:K208,$G$1)=1,\"Course 1\",IF(COUNTIF(Général!B210:K210,$G$1)=1,\"Course 2\",IF(COUNTIF(Général!B212:K212,$G$1)=1,\"Course 3\",\"Course 4\")))","v":"Course 1"},null,{"$f":"Général!B7","v":"Paris Cité"},7]
["Bateau",null,{"$f":"IF(COUNTIF(Général!B38:B44,$G$1)=1,\"Boat 1\",IF(COUNTIF(Général!C38:C44,$G$1)=1,\"Boat 2\",IF(COUNTIF(Général!D38:D44,$G$1)=1,\"Boat 3\", IF(COUNTIF(Général!E38:E44,$G$1)=1,\"Boat 4\", IF(COUNTIF(Général!F38:F44,$G$1)=1,\"Boat 5\", IF(COUNTIF(Général!G38:G44,$G$1)=1,\"Boat 6\", IF(COUNTIF(Général!H38:H44,$G$1)=1,\"Boat 7\",IF(COUNTIF(Général!I38:I44,$G$1)=1,\"Boat 8\",\"Boat 9\"))))))))","v":"Boat 1"},{"$f":"IF(COUNTIF(Général!B48:B54,$G$1)=1,\"Boat 1\",IF(COUNTIF(Général!C48:C54,$G$1)=1,\"Boat 2\",IF(COUNTIF(Général!D48:D54,$G$1)=1,\"Boat 3\", IF(COUNTIF(Général!E48:E54,$G$1)=1,\"Boat 4\", IF(COUNTIF(Général!F48:F54,$G$1)=1,\"Boat 5\", IF(COUNTIF(Général!G48:G54,$G$1)=1,\"Boat 6\", IF(COUNTIF(Général!H48:H54,$G$1)=1,\"Boat 7\",IF(COUNTIF(Général!I38:I44,$G$1)=1,\"Boat 8\",\"Boat 9\"))))))))","v":"Boat 4"},{"$f":"IF(COUNTIF(Général!B58:B64,$G$1)=1,\"Boat 1\",IF(COUNTIF(Général!C58:C64,$G$1)=1,\"Boat 2\",IF(COUNTIF(Général!D58:D64,$G$1)=1,\"Boat 3\", IF(COUNTIF(Général!E58:E64,$G$1)=1,\"Boat 4\", IF(COUNTIF(Général!F58:F64,$G$1)=1,\"Boat 5\", IF(COUNTIF(Général!G58:G64,$G$1)=1,\"Boat 6\", IF(COUNTIF(Général!H58:H64,$G$1)=1,\"Boat 7\",IF(COUNTIF(Général!I38:I44,$G$1)=1,\"Boat 8\",\"Boat 9\"))))))))","v":"Boat 2"},{"$f":"IF(COUNTIF(Général!B68:B74,$G$1)=1,\"Boat 1\",IF(COUNTIF(Général!C68:C74,$G$1)=1,\"Boat 2\",IF(COUNTIF(Général!D68:D74,$G$1)=1,\"Boat 3\", IF(COUNTIF(Général!E68:E74,$G$1)=1,\"Boat 4\", IF(COUNTIF(Général!F68:F74,$G$1)=1,\"Boat 5\", IF(COUNTIF(Général!G68:G74,$G$1)=1,\"Boat 6\", IF(COUNTIF(Général!H68:H74,$G$1)=1,\"Boat 7\",IF(COUNTIF(Général!I38:I44,$G$1)=1,\"Boat 8\",\"Boat 9\"))))))))","v":"Boat 9"},{"$f":"IF(COUNTIF(Général!B78:B84,$G$1)=1,\"Boat 1\",IF(COUNTIF(Général!C78:C84,$G$1)=1,\"Boat 2\",IF(COUNTIF(Général!D78:D84,$G$1)=1,\"Boat 3\", IF(COUNTIF(Général!E78:E84,$G$1)=1,\"Boat 4\", IF(COUNTIF(Général!F78:F84,$G$1)=1,\"Boat 5\", IF(COUNTIF(Général!G78:G84,$G$1)=1,\"Boat 6\", IF(COUNTIF(Général!H78:H84,$G$1)=1,\"Boat 7\",IF(COUNTIF(Général!I38:I44,$G$1)=1,\"Boat 8\",\"Boat 9\"))))))))","v":"Boat 9"},{"$f":"IF(COUNTIF(Général!B88:B94,$G$1)=1,\"Boat 1\",IF(COUNTIF(Général!C88:C94,$G$1)=1,\"Boat 2\",IF(COUNTIF(Général!D88:D94,$G$1)=1,\"Boat 3\", IF(COUNTIF(Général!E88:E94,$G$1)=1,\"Boat 4\", IF(COUNTIF(Général!F88:F94,$G$1)=1,\"Boat 5\", IF(COUNTIF(Général!G88:G94,$G$1)=1,\"Boat 6\", IF(COUNTIF(Général!H88:H94,$G$1)=1,\"Boat 7\",IF(COUNTIF(Général!I38:I44,$G$1)=1,\"Boat 8\",\"Boat 9\"))))))))","v":"Boat 9"},{"$f":"IF(COUNTIF(Général!B98:B104,$G$1)=1,\"Boat 1\",IF(COUNTIF(Général!C98:C104,$G$1)=1,\"Boat 2\",IF(COUNTIF(Général!D98:D104,$G$1)=1,\"Boat 3\", IF(COUNTIF(Général!E98:E104,$G$1)=1,\"Boat 4\", IF(COUNTIF(Général!F98:F104,$G$1)=1,\"Boat 5\", IF(COUNTIF(Général!G98:G104,$G$1)=1,\"Boat 6\", IF(COUNTIF(Général!H98:H104,$G$1)=1,\"Boat 7\",IF(COUNTIF(Général!I38:I44,$G$1)=1,\"Boat 8\",\"Boat 9\"))))))))","v":"Boat 9"},{"$f":"IF(COUNTIF(Général!B108:B114,$G$1)=1,\"Boat 1\",IF(COUNTIF(Général!C108:C114,$G$1)=1,\"Boat 2\",IF(COUNTIF(Général!D108:D114,$G$1)=1,\"Boat 3\", IF(COUNTIF(Général!E108:E114,$G$1)=1,\"Boat 4\", IF(COUNTIF(Général!F108:F114,$G$1)=1,\"Boat 5\", IF(COUNTIF(Général!G108:G114,$G$1)=1,\"Boat 6\", IF(COUNTIF(Général!H108:H114,$G$1)=1,\"Boat 7\",IF(COUNTIF(Général!I38:I44,$G$1)=1,\"Boat 8\",\"Boat 9\"))))))))","v":"Boat 5"},{"$f":"IF(COUNTIF(Général!B118:B124,$G$1)=1,\"Boat 1\",IF(COUNTIF(Général!C118:C124,$G$1)=1,\"Boat 2\",IF(COUNTIF(Général!D118:D124,$G$1)=1,\"Boat 3\", IF(COUNTIF(Général!E118:E124,$G$1)=1,\"Boat 4\", IF(COUNTIF(Général!F118:F124,$G$1)=1,\"Boat 5\", IF(COUNTIF(Général!G118:G124,$G$1)=1,\"Boat 6\", IF(COUNTIF(Général!H118:H124,$G$1)=1,\"Boat 7\",IF(COUNTIF(Général!I38:I44,$G$1)=1,\"Boat 8\",\"Boat 9\"))))))))","v":"Boat 7"},{"$f":"IF(COUNTIF(Général!B128:B134,$G$1)=1,\"Boat 1\",IF(COUNTIF(Général!C128:C134,$G$1)=1,\"Boat 2\",IF(COUNTIF(Général!D128:D134,$G$1)=1,\"Boat 3\", IF(COUNTIF(Général!E128:E134,$G$1)=1,\"Boat 4\", IF(COUNTIF(Général!F128:F134,$G$1)=1,\"Boat 5\", IF(COUNTIF(Général!G128:G134,$G$1)=1,\"Boat 6\", IF(COUNTIF(Général!H128:H134,$G$1)=1,\"Boat 7\",IF(COUNTIF(Général!I38:I44,$G$1)=1,\"Boat 8\",\"Boat 9\"))))))))","v":"Boat 7"},{"$f":"IF(COUNTIF(Général!B138:B144,$G$1)=1,\"Boat 1\",IF(COUNTIF(Général!C138:C144,$G$1)=1,\"Boat 2\",IF(COUNTIF(Général!C138:D144,$G$1)=1,\"Boat 3\", IF(COUNTIF(Général!C138:E144,$G$1)=1,\"Boat 4\", IF(COUNTIF(Général!F138:F144,$G$1)=1,\"Boat 5\", IF(COUNTIF(Général!G138:G144,$G$1)=1,\"Boat 6\", IF(COUNTIF(Général!H138:H144,$G$1)=1,\"Boat 7\",IF(COUNTIF(Général!I38:I44,$G$1)=1,\"Boat 8\",\"Boat 9\"))))))))","v":"Boat 9"},{"$f":"IF(COUNTIF(Général!B148:B154,$G$1)=1,\"Boat 1\",IF(COUNTIF(Général!C148:C154,$G$1)=1,\"Boat 2\",IF(COUNTIF(Général!D148:D154,$G$1)=1,\"Boat 3\", IF(COUNTIF(Général!E148:E154,$G$1)=1,\"Boat 4\", IF(COUNTIF(Général!F148:F154,$G$1)=1,\"Boat 5\", IF(COUNTIF(Général!G148:G154,$G$1)=1,\"Boat 6\", IF(COUNTIF(Général!H148:H154,$G$1)=1,\"Boat 7\",IF(COUNTIF(Général!I38:I44,$G$1)=1,\"Boat 8\",\"Boat 9\"))))))))","v":"Boat 9"},{"$f":"IF(COUNTIF(Général!B158:B164,$G$1)=1,\"Boat 1\",IF(COUNTIF(Général!C158:C164,$G$1)=1,\"Boat 2\",IF(COUNTIF(Général!D160:D164,$G$1)=1,\"Boat 3\", IF(COUNTIF(Général!E158:E164,$G$1)=1,\"Boat 4\", IF(COUNTIF(Général!F158:F164,$G$1)=1,\"Boat 5\", IF(COUNTIF(Général!G158:G164,$G$1)=1,\"Boat 6\", IF(COUNTIF(Général!H158:H164,$G$1)=1,\"Boat 7\",IF(COUNTIF(Général!I38:I44,$G$1)=1,\"Boat 8\",\"Boat 9\"))))))))","v":"Boat 9"},{"$f":"IF(COUNTIF(Général!B168:B174,$G$1)=1,\"Boat 1\",IF(COUNTIF(Général!C168:C174,$G$1)=1,\"Boat 2\",IF(COUNTIF(Général!D168:D174,$G$1)=1,\"Boat 3\", IF(COUNTIF(Général!E168:E174,$G$1)=1,\"Boat 4\", IF(COUNTIF(Général!F178:F184,$G$1)=1,\"Boat 5\", IF(COUNTIF(Général!G178:G184,$G$1)=1,\"Boat 6\", IF(COUNTIF(Général!H178:H184,$G$1)=1,\"Boat 7\",IF(COUNTIF(Général!I38:I44,$G$1)=1,\"Boat 8\",\"Boat 9\"))))))))","v":"Boat 9"},{"$f":"IF(COUNTIF(Général!B178:B184,$G$1)=1,\"Boat 1\",IF(COUNTIF(Général!C178:C184,$G$1)=1,\"Boat 2\",IF(COUNTIF(Général!D178:D184,$G$1)=1,\"Boat 3\", IF(COUNTIF(Général!E178:E184,$G$1)=1,\"Boat 4\", IF(COUNTIF(Général!F178:F184,$G$1)=1,\"Boat 5\", IF(COUNTIF(Général!G178:G184,$G$1)=1,\"Boat 6\", IF(COUNTIF(Général!H178:H184,$G$1)=1,\"Boat 7\",IF(COUNTIF(Général!I38:I44,$G$1)=1,\"Boat 8\",\"Boat 9\"))))))))","v":"Boat 9"},{"$f":"IF(COUNTIF(Général!B188:B194,$G$1)=1,\"Boat 1\",IF(COUNTIF(Général!C188:C194,$G$1)=1,\"Boat 2\",IF(COUNTIF(Général!D188:D194,$G$1)=1,\"Boat 3\", IF(COUNTIF(Général!E188:E194,$G$1)=1,\"Boat 4\", IF(COUNTIF(Général!F188:F194,$G$1)=1,\"Boat 5\", IF(COUNTIF(Général!G188:G194,$G$1)=1,\"Boat 6\", IF(COUNTIF(Général!H188:H194,$G$1)=1,\"Boat 7\",IF(COUNTIF(Général!I38:I44,$G$1)=1,\"Boat 8\",\"Boat 9\"))))))))","v":"Boat 2"},{"$f":"IF(COUNTIF(Général!B198:B204,$G$1)=1,\"Boat 1\",IF(COUNTIF(Général!C198:C204,$G$1)=1,\"Boat 2\",IF(COUNTIF(Général!D198:D204,$G$1)=1,\"Boat 3\", IF(COUNTIF(Général!E198:E204,$G$1)=1,\"Boat 4\", IF(COUNTIF(Général!F198:F204,$G$1)=1,\"Boat 5\", IF(COUNTIF(Général!G198:G204,$G$1)=1,\"Boat 6\", IF(COUNTIF(Général!H198:H204,$G$1)=1,\"Boat 7\",IF(COUNTIF(Général!I38:I44,$G$1)=1,\"Boat 8\",\"Boat 9\"))))))))","v":"Boat 5"},{"$f":"IF(COUNTIF(Général!B208:B214,$G$1)=1,\"Boat 1\",IF(COUNTIF(Général!C208:C214,$G$1)=1,\"Boat 2\",IF(COUNTIF(Général!D208:D214,$G$1)=1,\"Boat 3\", IF(COUNTIF(Général!E208:E214,$G$1)=1,\"Boat 4\", IF(COUNTIF(Général!F208:F214,$G$1)=1,\"Boat 5\", IF(COUNTIF(Général!G208:G214,$G$1)=1,\"Boat 6\", IF(COUNTIF(Général!H208:H214,$G$1)=1,\"Boat 7\",IF(COUNTIF(Général!I38:I44,$G$1)=1,\"Boat 8\",\"Boat 9\"))))))))","v":"Boat 4"},null,{"$f":"Général!B8","v":"Plymouth"},5]
[null,null,null,null,null,null,null,null,null,null,null,null,null,null,null,null,null,null,null,null,null,{"$f":"Général!B9","v":"Unicaen 2"},8]
["1er Equipage",null,{"$f":"IF($C$5=\"Course 1\",Général!B38,IF($C$5=\"Course 2\",Général!B40,IF($C$5=\"Course 3\",Général!B42,Général!B44)))","v":"IMT Nantes"},{"$f":"IF($D$5=\"Course 1\",Général!B48,IF($D$5=\"Course 2\",Général!B50,IF($D$5=\"Course 3\",Général!B52,Général!B54)))","v":"ENSTA 1"},{"$f":"IF($E$5=\"Course 1\",Général!B58,IF($E$5=\"Course 2\",Général!B60,IF($E$5=\"Course 3\",Général!B62,Général!B64)))","v":"Univ Nantes 3"},{"$f":"IF($F$5=\"Course 1\",Général!B$68,IF($F$5=\"Course 2\",Général!B$70,IF($F$5=\"Course 3\",Général!B$72,Général!B$74)))","v":"ENSMAC"},{"$f":"IF($G$5=\"Course 1\",Général!B$78,IF($G$5=\"Course 2\",Général!B$80,IF($G$5=\"Course 3\",Général!B$82,Général!B$84)))","v":"ENSTA 2"},{"$f":"IF($H$5=\"Course 1\",Général!B$88,IF($H$5=\"Course 2\",Général!B$90,IF($H$5=\"Course 3\",Général!B$92,Général!B$94)))","v":"ENSTA 2"},{"$f":"IF($I$5=\"Course 1\",Général!B$98,IF($I$5=\"Course 2\",Général!B$100,IF($I$5=\"Course 3\",Général!B$102,Général!B$104)))","v":"Unicaen 1"},{"$f":"IF($J$5=\"Course 1\",Général!B$108,IF($J$5=\"Course 2\",Général!B$110,IF($J$5=\"Course 3\",Général!B$112,Général!B$114)))","v":"Centrale Nantes 1"},{"$f":"IF($K$5=\"Course 1\",Général!B$118,IF($K$5=\"Course 2\",Général!B$120,IF($K$5=\"Course 3\",Général!B$122,Général!B$124)))","v":"Hannover"},{"$f":"IF($L$5=\"Course 1\",Général!B$128,IF($L$5=\"Course 2\",Général!B$130,IF($L$5=\"Course 3\",Général!B$132,Général!B$134)))","v":"Plymouth"},{"$f":"IF($M$5=\"Course 1\",Général!B$138,IF($M$5=\"Course 2\",Général!B$140,IF($M$5=\"Course 3\",Général!B$142,Général!B$144)))","v":"ENSTA 1"},{"$f":"IF($N$5=\"Course 1\",Général!B$148,IF($N$5=\"Course 2\",Général!B$150,IF($N$5=\"Course 3\",Général!B$152,Général!B$154)))","v":"St Brieuc 1"},{"$f":"IF($O$5=\"Course 1\",Général!B$158,IF($O$5=\"Course 2\",Général!B$160,IF($O$5=\"Course 3\",Général!B$162,Général!B$164)))","v":"La Rochelle 1"},{"$f":"IF($P$5=\"Course 1\",Général!B$168,IF($P$5=\"Course 2\",Général!B$170,IF($P$5=\"Course 3\",Général!B$172,Général!B$174)))","v":"St Brieuc 1"},{"$f":"IF($Q$5=\"Course 1\",Général!B$178,IF($Q$5=\"Course 2\",Général!B$180,IF($Q$5=\"Course 3\",Général!B$182,Général!B$184)))","v":"La Rochelle 2"},{"$f":"IF($R$5=\"Course 1\",Général!B$188,IF($R$5=\"Course 2\",Général!B$190,IF($R$5=\"Course 3\",Général!B$192,Général!B$194)))","v":"IMT Brest 2"},{"$f":"IF($S$5=\"Course 1\",Général!B$198,IF($S$5=\"Course 2\",Général!B$200,IF($S$5=\"Course 3\",Général!B$202,Général!B$204)))","v":"ENSTA 1"},{"$f":"IF($T$5=\"Course 1\",Général!B$208,IF($T$5=\"Course 2\",Général!B$210,IF($T$5=\"Course 3\",Général!B$212,Général!B$214)))","v":"UBS Lorient 2"},null,{"$f":"Général!B10","v":"Univ Nantes 2"},4]
["2nd Equipage",null,{"$f":"IF($C$5=\"Course 1\",Général!C38,IF($C$5=\"Course 2\",Général!C40,IF($C$5=\"Course 3\",Général!C42,Général!C44)))","v":"Unicaen 1"},{"$f":"IF($D$5=\"Course 1\",Général!C48,IF($D$5=\"Course 2\",Général!C50,IF($D$5=\"Course 3\",Général!C52,Général!C54)))","v":"UBS Lorient 1"},{"$f":"IF($E$5=\"Course 1\",Général!C58,IF($E$5=\"Course 2\",Général!C60,IF($E$5=\"Course 3\",Général!C62,Général!C64)))","v":"IMT Nantes"},{"$f":"IF($F$5=\"Course 1\",Général!C$68,IF($F$5=\"Course 2\",Général!C$70,IF($F$5=\"Course 3\",Général!C$72,Général!C$74)))","v":"St Brieuc 1"},{"$f":"IF($G$5=\"Course 1\",Général!C$78,IF($G$5=\"Course 2\",Général!C$80,IF($G$5=\"Course 3\",Général!C$82,Général!C$84)))","v":"IMT Brest 2"},{"$f":"IF($H$5=\"Course 1\",Général!C$88,IF($H$5=\"Course 2\",Général!C$90,IF($H$5=\"Course 3\",Général!C$92,Général!C$94)))","v":"Southampton"},{"$f":"IF($I$5=\"Course 1\",Général!C$98,IF($I$5=\"Course 2\",Général!C$100,IF($I$5=\"Course 3\",Général!C$102,Général!C$104)))","v":"La Rochelle 1"},{"$f":"IF($J$5=\"Course 1\",Général!C$108,IF($J$5=\"Course 2\",Général!C$110,IF($J$5=\"Course 3\",Général!C$112,Général!C$114)))","v":"ENSMAC"},{"$f":"IF($K$5=\"Course 1\",Général!C$118,IF($K$5=\"Course 2\",Général!C$120,IF($K$5=\"Course 3\",Général!C$122,Général!C$124)))","v":"Paris Cité"},{"$f":"IF($L$5=\"Course 1\",Général!C$128,IF($L$5=\"Course 2\",Général!C$130,IF($L$5=\"Course 3\",Général!C$132,Général!C$134)))","v":"ENSMAC"},{"$f":"IF($M$5=\"Course 1\",Général!C$138,IF($M$5=\"Course 2\",Général!C$140,IF($M$5=\"Course 3\",Général!C$142,Général!C$144)))","v":"Intechmer"},{"$f":"IF($N$5=\"Course 1\",Général!C$148,IF($N$5=\"Course 2\",Général!C$150,IF($N$5=\"Course 3\",Général!C$152,Général!C$154)))","v":"Centrale Nantes 1"},{"$f":"IF($O$5=\"Course 1\",Général!C$158,IF($O$5=\"Course 2\",Général!C$160,IF($O$5=\"Course 3\",Général!C$162,Général!C$164)))","v":"IMT Brest 1"},{"$f":"IF($P$5=\"Course 1\",Général!C$168,IF($P$5=\"Course 2\",Général!C$170,IF($P$5=\"Course 3\",Général!C$172,Général!C$174)))","v":"Paris Sorbone"},{"$f":"IF($Q$5=\"Course 1\",Général!C$178,IF($Q$5=\"Course 2\",Général!C$180,IF($Q$5=\"Course 3\",Général!C$182,Général!C$184)))","v":"Unicaen 2"},{"$f":"IF($R$5=\"Course 1\",Général!C$188,IF($R$5=\"Course 2\",Général!C$190,IF($R$5=\"Course 3\",Général!C$192,Général!C$194)))","v":"IMT Nantes"},{"$f":"IF($S$5=\"Course 1\",Général!C$198,IF($S$5=\"Course 2\",Général!C$200,IF($S$5=\"Course 3\",Général!C$202,Général!C$204)))","v":"INSA Lyon"},{"$f":"IF($T$5=\"Course 1\",Général!C$208,IF($T$5=\"Course 2\",Général!C$210,IF($T$5=\"Course 3\",Général!C$212,Général!C$214)))","v":"Unicaen 2"},null,{"$f":"Général!B11","v":"Karlsruhe"},6]
["3ème Equipage",null,{"$f":"IF($C$5=\"Course 1\",Général!D38,IF($C$5=\"Course 2\",Général!D40,IF($C$5=\"Course 3\",Général!D42,Général!D44)))","v":"St Brieuc 1"},{"$f":"IF($D$5=\"Course 1\",Général!D48,IF($D$5=\"Course 2\",Général!D50,IF($D$5=\"Course 3\",Général!D52,Général!D54)))","v":"Paris Sorbone"},{"$f":"IF($E$5=\"Course 1\",Général!D58,IF($E$5=\"Course 2\",Général!D60,IF($E$5=\"Course 3\",Général!D62,Général!D64)))","v":"ENSTA 2"},{"$f":"IF($F$5=\"Course 1\",Général!D$68,IF($F$5=\"Course 2\",Général!D$70,IF($F$5=\"Course 3\",Général!D$72,Général!D$74)))","v":"Karlsruhe"},{"$f":"IF($G$5=\"Course 1\",Général!D$78,IF($G$5=\"Course 2\",Général!D$80,IF($G$5=\"Course 3\",Général!D$82,Général!D$84)))","v":"Unicaen 1"},{"$f":"IF($H$5=\"Course 1\",Général!D$88,IF($H$5=\"Course 2\",Général!D$90,IF($H$5=\"Course 3\",Général!D$92,Général!D$94)))","v":"UBO 1"},{"$f":"IF($I$5=\"Course 1\",Général!D$98,IF($I$5=\"Course 2\",Général!D$100,IF($I$5=\"Course 3\",Général!D$102,Général!D$104)))","v":"Southampton"},{"$f":"IF($J$5=\"Course 1\",Général!D$108,IF($J$5=\"Course 2\",Général!D$110,IF($J$5=\"Course 3\",Général!D$112,Général!D$114)))","v":"INSA Lyon"},{"$f":"IF($K$5=\"Course 1\",Général!D$118,IF($K$5=\"Course 2\",Général!D$120,IF($K$5=\"Course 3\",Général!D$122,Général!D$124)))","v":"Unicaen 2"},{"$f":"IF($L$5=\"Course 1\",Général!D$128,IF($L$5=\"Course 2\",Général!D$130,IF($L$5=\"Course 3\",Général!D$132,Général!D$134)))","v":"ENSTA 1"},{"$f":"IF($M$5=\"Course 1\",Général!D$138,IF($M$5=\"Course 2\",Général!D$140,IF($M$5=\"Course 3\",Général!D$142,Général!D$144)))","v":"La Rochelle 2"},{"$f":"IF($N$5=\"Course 1\",Général!D$148,IF($N$5=\"Course 2\",Général!D$150,IF($N$5=\"Course 3\",Général!D$152,Général!D$154)))","v":"Unicaen 1"},{"$f":"IF($O$5=\"Course 1\",Général!D$158,IF($O$5=\"Course 2\",Général!D$160,IF($O$5=\"Course 3\",Général!D$162,Général!D$164)))","v":"IMT Nantes"},{"$f":"IF($P$5=\"Course 1\",Général!D$168,IF($P$5=\"Course 2\",Général!D$170,IF($P$5=\"Course 3\",Général!D$172,Général!D$174)))","v":"ENSTA 1"},{"$f":"IF($Q$5=\"Course 1\",Général!D$178,IF($Q$5=\"Course 2\",Général!D$180,IF($Q$5=\"Course 3\",Général!D$182,Général!D$184)))","v":"UBS Lorient 1"},{"$f":"IF($R$5=\"Course 1\",Général!D$188,IF($R$5=\"Course 2\",Général!D$190,IF($R$5=\"Course 3\",Général!D$192,Général!D$194)))","v":"La Rochelle 1"},{"$f":"IF($S$5=\"Course 1\",Général!D$198,IF($S$5=\"Course 2\",Général!D$200,IF($S$5=\"Course 3\",Général!D$202,Général!D$204)))","v":"Intechmer"},{"$f":"IF($T$5=\"Course 1\",Général!D$208,IF($T$5=\"Course 2\",Général!D$210,IF($T$5=\"Course 3\",Général!D$212,Général!D$214)))","v":"IMT Brest 2"},null,{"$f":"Général!B12","v":"IMT Brest 2"},3]
["4ème Equipage",null,{"$f":"IF($C$5=\"Course 1\",Général!E38,IF($C$5=\"Course 2\",Général!E40,IF($C$5=\"Course 3\",Général!E42,Général!E44)))","v":"La Rochelle 2"},{"$f":"IF($D$5=\"Course 1\",Général!E48,IF($D$5=\"Course 2\",Général!E50,IF($D$5=\"Course 3\",Général!E52,Général!E54)))","v":"IMT Nantes"},{"$f":"IF($E$5=\"Course 1\",Général!E58,IF($E$5=\"Course 2\",Général!E60,IF($E$5=\"Course 3\",Général!E62,Général!E64)))","v":"Paris Cité"},{"$f":"IF($F$5=\"Course 1\",Général!E$68,IF($F$5=\"Course 2\",Général!E$70,IF($F$5=\"Course 3\",Général!E$72,Général!E$74)))","v":"UNIV Nantes 1"},{"$f":"IF($G$5=\"Course 1\",Général!E$78,IF($G$5=\"Course 2\",Général!E$80,IF($G$5=\"Course 3\",Général!E$82,Général!E$84)))","v":"La Rochelle 1"},{"$f":"IF($H$5=\"Course 1\",Général!E$88,IF($H$5=\"Course 2\",Général!E$90,IF($H$5=\"Course 3\",Général!E$92,Général!E$94)))","v":"La Rochelle 1"},{"$f":"IF($I$5=\"Course 1\",Général!E$98,IF($I$5=\"Course 2\",Général!E$100,IF($I$5=\"Course 3\",Général!E$102,Général!E$104)))","v":"Karlsruhe"},{"$f":"IF($J$5=\"Course 1\",Général!E$108,IF($J$5=\"Course 2\",Général!E$110,IF($J$5=\"Course 3\",Général!E$112,Général!E$114)))","v":"Univ Nantes 2"},{"$f":"IF($K$5=\"Course 1\",Général!E$118,IF($K$5=\"Course 2\",Général!E$120,IF($K$5=\"Course 3\",Général!E$122,Général!E$124)))","v":"UBO 1"},{"$f":"IF($L$5=\"Course 1\",Général!E$128,IF($L$5=\"Course 2\",Général!E$130,IF($L$5=\"Course 3\",Général!E$132,Général!E$134)))","v":"Paris Cité"},{"$f":"IF($M$5=\"Course 1\",Général!E$138,IF($M$5=\"Course 2\",Général!E$140,IF($M$5=\"Course 3\",Général!E$142,Général!E$144)))","v":"ENSMAC"},{"$f":"IF($N$5=\"Course 1\",Général!E$148,IF($N$5=\"Course 2\",Général!E$150,IF($N$5=\"Course 3\",Général!E$152,Général!E$154)))","v":"Orléans"},{"$f":"IF($O$5=\"Course 1\",Général!E$158,IF($O$5=\"Course 2\",Général!E$160,IF($O$5=\"Course 3\",Général!E$162,Général!E$164)))","v":"ST Brieuc 2"},{"$f":"IF($P$5=\"Course 1\",Général!E$168,IF($P$5=\"Course 2\",Général!E$170,IF($P$5=\"Course 3\",Général!E$172,Général!E$174)))","v":"Univ Nantes 2"},{"$f":"IF($Q$5=\"Course 1\",Général!E$178,IF($Q$5=\"Course 2\",Général!E$180,IF($Q$5=\"Course 3\",Général!E$182,Général!E$184)))","v":"St Brieuc 1"},{"$f":"IF($R$5=\"Course 1\",Général!E$188,IF($R$5=\"Course 2\",Général!E$190,IF($R$5=\"Course 3\",Général!E$192,Général!E$194)))","v":"St Brieuc 1"},{"$f":"IF($S$5=\"Course 1\",Général!E$198,IF($S$5=\"Course 2\",Général!E$200,IF($S$5=\"Course 3\",Général!E$202,Général!E$204)))","v":"St Brieuc 1"},{"$f":"IF($T$5=\"Course 1\",Général!E$208,IF($T$5=\"Course 2\",Général!E$210,IF($T$5=\"Course 3\",Général!E$212,Général!E$214)))","v":"IMT Nantes"},null,{"$f":"Général!B13","v":"Unicaen 1"},10]
["5ème Equipage",null,{"$f":"IF($C$5=\"Course 1\",Général!F38,IF($C$5=\"Course 2\",Général!F40,IF($C$5=\"Course 3\",Général!F42,Général!F44)))","v":"UBO 2"},{"$f":"IF($D$5=\"Course 1\",Général!F48,IF($D$5=\"Course 2\",Général!F50,IF($D$5=\"Course 3\",Général!F52,Général!F54)))","v":"Hannover"},{"$f":"IF($E$5=\"Course 1\",Général!F58,IF($E$5=\"Course 2\",Général!F60,IF($E$5=\"Course 3\",Général!F62,Général!F64)))","v":"UBO 2"},{"$f":"IF($F$5=\"Course 1\",Général!F$68,IF($F$5=\"Course 2\",Général!F$70,IF($F$5=\"Course 3\",Général!F$72,Général!F$74)))","v":"Centrale Nantes 2"},{"$f":"IF($G$5=\"Course 1\",Général!F$78,IF($G$5=\"Course 2\",Général!F$80,IF($G$5=\"Course 3\",Général!F$82,Général!F$84)))","v":"Orléans"},{"$f":"IF($H$5=\"Course 1\",Général!F$88,IF($H$5=\"Course 2\",Général!F$90,IF($H$5=\"Course 3\",Général!F$92,Général!F$94)))","v":"Orléans"},{"$f":"IF($I$5=\"Course 1\",Général!F$98,IF($I$5=\"Course 2\",Général!F$100,IF($I$5=\"Course 3\",Général!F$102,Général!F$104)))","v":"UBS Lorient 1"},{"$f":"IF($J$5=\"Course 1\",Général!F$108,IF($J$5=\"Course 2\",Général!F$110,IF($J$5=\"Course 3\",Général!F$112,Général!F$114)))","v":"IMT Nantes"},{"$f":"IF($K$5=\"Course 1\",Général!F$118,IF($K$5=\"Course 2\",Général!F$120,IF($K$5=\"Course 3\",Général!F$122,Général!F$124)))","v":"ENSTA 1"},{"$f":"IF($L$5=\"Course 1\",Général!F$128,IF($L$5=\"Course 2\",Général!$F130,IF($L$5=\"Course 3\",Général!F$132,Général!F$134)))","v":"La Rochelle 2"},{"$f":"IF($M$5=\"Course 1\",Général!F$138,IF($M$5=\"Course 2\",Général!F$140,IF($M$5=\"Course 3\",Général!F$142,Général!F$144)))","v":"UBO 1"},{"$f":"IF($N$5=\"Course 1\",Général!F$148,IF($N$5=\"Course 2\",Général!F$150,IF($N$5=\"Course 3\",Général!F$152,Général!F$154)))","v":"Paris Cité"},{"$f":"IF($O$5=\"Course 1\",Général!F$158,IF($O$5=\"Course 2\",Général!F$160,IF($O$5=\"Course 3\",Général!F$162,Général!F$164)))","v":"Unicaen 1"},{"$f":"IF($P$5=\"Course 1\",Général!F$168,IF($P$5=\"Course 2\",Général!F$170,IF($P$5=\"Course 3\",Général!F$172,Général!F$174)))","v":"Unicaen 1"},{"$f":"IF($Q$5=\"Course 1\",Général!F$178,IF($Q$5=\"Course 2\",Général!F$180,IF($Q$5=\"Course 3\",Général!F$182,Général!F$184)))","v":"ENSTA 2"},{"$f":"IF($R$5=\"Course 1\",Général!F$188,IF($R$5=\"Course 2\",Général!F$190,IF($R$5=\"Course 3\",Général!F$192,Général!F$194)))","v":"Hannover"},{"$f":"IF($S$5=\"Course 1\",Général!F$198,IF($S$5=\"Course 2\",Général!F$200,IF($S$5=\"Course 3\",Général!F$202,Général!F$204)))","v":"IMT Nantes"},{"$f":"IF($T$5=\"Course 1\",Général!F$208,IF($T$5=\"Course 2\",Général!F$210,IF($T$5=\"Course 3\",Général!F$212,Général!F$214)))","v":"ST Brieuc 2"},null,{"$f":"Général!B14","v":"ENSTA 1"},8]
["6ème Equipage",null,{"$f":"IF($C$5=\"Course 1\",Général!G38,IF($C$5=\"Course 2\",Général!G40,IF($C$5=\"Course 3\",Général!G42,Général!G44)))","v":"ENSTA 1"},{"$f":"IF($D$5=\"Course 1\",Général!G48,IF($D$5=\"Course 2\",Général!G50,IF($D$5=\"Course 3\",Général!G52,Général!G54)))","v":"Plymouth"},{"$f":"IF($E$5=\"Course 1\",Général!G58,IF($E$5=\"Course 2\",Général!G60,IF($E$5=\"Course 3\",Général!G62,Général!G64)))","v":"ENSMAC"},{"$f":"IF($F$5=\"Course 1\",Général!G$68,IF($F$5=\"Course 2\",Général!G$70,IF($F$5=\"Course 3\",Général!G$72,Général!G$74)))","v":"Paris Sorbone"},{"$f":"IF($G$5=\"Course 1\",Général!G$78,IF($G$5=\"Course 2\",Général!G$80,IF($G$5=\"Course 3\",Général!G$82,Général!G$84)))","v":"Paris Cité"},{"$f":"IF($H$5=\"Course 1\",Général!G$88,IF($H$5=\"Course 2\",Général!G$90,IF($H$5=\"Course 3\",Général!G$92,Général!G$94)))","v":"Paris Cité"},{"$f":"IF($I$5=\"Course 1\",Général!G$98,IF($I$5=\"Course 2\",Général!G$100,IF($I$5=\"Course 3\",Général!G$102,Général!G$104)))","v":"Univ Nantes 3"},{"$f":"IF($J$5=\"Course 1\",Général!G$108,IF($J$5=\"Course 2\",Général!G$110,IF($J$5=\"Course 3\",Général!G$112,Général!G$114)))","v":"Karlsruhe"},{"$f":"IF($K$5=\"Course 1\",Général!G$118,IF($K$5=\"Course 2\",Général!G$120,IF($K$5=\"Course 3\",Général!G$122,Général!G$124)))","v":"La Rochelle 2"},{"$f":"IF($L$5=\"Course 1\",Général!G$128,IF($L$5=\"Course 2\",Général!G$130,IF($L$5=\"Course 3\",Général!G$132,Général!G$134)))","v":"Intechmer"},{"$f":"IF($M$5=\"Course 1\",Général!G$138,IF($M$5=\"Course 2\",Général!G$140,IF($M$5=\"Course 3\",Général!G$142,Général!G$144)))","v":"Southampton"},{"$f":"IF($N$5=\"Course 1\",Général!G$148,IF($N$5=\"Course 2\",Général!G$150,IF($N$5=\"Course 3\",Général!G$152,Général!G$154)))","v":"Southampton"},{"$f":"IF($O$5=\"Course 1\",Général!G$158,IF($O$5=\"Course 2\",Général!G$160,IF($O$5=\"Course 3\",Général!G$162,Général!G$164)))","v":"Hannover"},{"$f":"IF($P$5=\"Course 1\",Général!G$168,IF($P$5=\"Course 2\",Général!G$170,IF($P$5=\"Course 3\",Général!G$172,Général!G$174)))","v":"Paris Cité"},{"$f":"IF($Q$5=\"Course 1\",Général!G$178,IF($Q$5=\"Course 2\",Général!G$180,IF($Q$5=\"Course 3\",Général!G$182,Général!G$184)))","v":"ENSMAC"},{"$f":"IF($R$5=\"Course 1\",Général!G$188,IF($R$5=\"Course 2\",Général!G$190,IF($R$5=\"Course 3\",Général!G$192,Général!G$194)))","v":"Unicaen 2"},{"$f":"IF($S$5=\"Course 1\",Général!G$198,IF($S$5=\"Course 2\",Général!G$200,IF($S$5=\"Course 3\",Général!G$202,Général!G$204)))","v":"La Rochelle 2"},{"$f":"IF($T$5=\"Course 1\",Général!G$208,IF($T$5=\"Course 2\",Général!G$210,IF($T$5=\"Course 3\",Général!G$212,Général!G$214)))","v":"Orléans"},null,{"$f":"Général!B15","v":"Orléans"},9]
["7ème Equipage",null,{"$f":"IF($C$5=\"Course 1\",Général!H38,IF($C$5=\"Course 2\",Général!H40,IF($C$5=\"Course 3\",Général!H42,Général!H44)))","v":"IMT Brest 1"},{"$f":"IF($D$5=\"Course 1\",Général!H48,IF($D$5=\"Course 2\",Général!H50,IF($D$5=\"Course 3\",Général!H52,Général!H54)))","v":"Univ Nantes 2"},{"$f":"IF($E$5=\"Course 1\",Général!H58,IF($E$5=\"Course 2\",Général!H60,IF($E$5=\"Course 3\",Général!H62,Général!H64)))","v":"Hannover"},{"$f":"IF($F$5=\"Course 1\",Général!H$68,IF($F$5=\"Course 2\",Général!H$70,IF($F$5=\"Course 3\",Général!H$72,Général!H$74)))","v":"Intechmer"},{"$f":"IF($G$5=\"Course 1\",Général!H$78,IF($G$5=\"Course 2\",Général!H$80,IF($G$5=\"Course 3\",Général!H$82,Général!H$84)))","v":"Univ Nantes 2"},{"$f":"IF($H$5=\"Course 1\",Général!H$88,IF($H$5=\"Course 2\",Général!H$90,IF($H$5=\"Course 3\",Général!H$92,Général!H$94)))","v":"Hannover"},{"$f":"IF($I$5=\"Course 1\",Général!H$98,IF($I$5=\"Course 2\",Général!H$100,IF($I$5=\"Course 3\",Général!H$102,Général!H$104)))","v":"Plymouth"},{"$f":"IF($J$5=\"Course 1\",Général!H$108,IF($J$5=\"Course 2\",Général!H$110,IF($J$5=\"Course 3\",Général!H$112,Général!H$114)))","v":"Unicaen 2"},{"$f":"IF($K$5=\"Course 1\",Général!H$118,IF($K$5=\"Course 2\",Général!H$120,IF($K$5=\"Course 3\",Général!H$122,Général!H$124)))","v":"IMT Nantes"},{"$f":"IF($L$5=\"Course 1\",Général!H$128,IF($L$5=\"Course 2\",Général!H$130,IF($L$5=\"Course 3\",Général!H$132,Général!H$134)))","v":"IMT Nantes"},{"$f":"IF($M$5=\"Course 1\",Général!H$138,IF($M$5=\"Course 2\",Général!H$140,IF($M$5=\"Course 3\",Général!H$142,Général!H$144)))","v":"Centrale Nantes 2"},{"$f":"IF($N$5=\"Course 1\",Général!H$148,IF($N$5=\"Course 2\",Général!H$150,IF($N$5=\"Course 3\",Général!H$152,Général!H$154)))","v":"IMT Brest 1"},{"$f":"IF($O$5=\"Course 1\",Général!H$158,IF($O$5=\"Course 2\",Général!H$160,IF($O$5=\"Course 3\",Général!H$162,Général!H$164)))","v":"La Rochelle 2"},{"$f":"IF($P$5=\"Course 1\",Général!H$168,IF($P$5=\"Course 2\",Général!H$170,IF($P$5=\"Course 3\",Général!H$172,Général!H$174)))","v":"Orléans"},{"$f":"IF($Q$5=\"Course 1\",Général!H$178,IF($Q$5=\"Course 2\",Général!H$180,IF($Q$5=\"Course 3\",Général!H$182,Général!H$184)))","v":"Karlsruhe"},{"$f":"IF($R$5=\"Course 1\",Général!H$188,IF($R$5=\"Course 2\",Général!H$190,IF($R$5=\"Course 3\",Général!H$192,Général!H$194)))","v":"Unicaen 1"},{"$f":"IF($S$5=\"Course 1\",Général!H$198,IF($S$5=\"Course 2\",Général!H$200,IF($S$5=\"Course 3\",Général!H$202,Général!H$204)))","v":"Unicaen 1"},{"$f":"IF($T$5=\"Course 1\",Général!H$208,IF($T$5=\"Course 2\",Général!H$210,IF($T$5=\"Course 3\",Général!H$212,Général!H$214)))","v":"St Brieuc 1"},null,{"$f":"Général!B16","v":"IMT Brest 1"},4]
["8ème Equipage",null,{"$f":"IF($C$5=\"Course 1\",Général!I38,IF($C$5=\"Course 2\",Général!I40,IF($C$5=\"Course 3\",Général!I42,Général!I44)))","v":"Univ Nantes 3"},{"$f":"IF($D$5=\"Course 1\",Général!I48,IF($D$5=\"Course 2\",Général!I50,IF($D$5=\"Course 3\",Général!I52,Général!I54)))","v":"Orléans"},{"$f":"IF($E$5=\"Course 1\",Général!I58,IF($E$5=\"Course 2\",Général!I60,IF($E$5=\"Course 3\",Général!I62,Général!I64)))","v":"Unicaen 1"},{"$f":"IF($F$5=\"Course 1\",Général!I$68,IF($F$5=\"Course 2\",Général!I$70,IF($F$5=\"Course 3\",Général!I$72,Général!I$74)))","v":"Southampton"},{"$f":"IF($G$5=\"Course 1\",Général!I$78,IF($G$5=\"Course 2\",Général!I$80,IF($G$5=\"Course 3\",Général!I$82,Général!I$84)))","v":"IMT Nantes"},{"$f":"IF($H$5=\"Course 1\",Général!I$88,IF($H$5=\"Course 2\",Général!I$90,IF($H$5=\"Course 3\",Général!I$92,Général!I$94)))","v":"IMT Nantes"},{"$f":"IF($I$5=\"Course 1\",Général!I$98,IF($I$5=\"Course 2\",Général!I$100,IF($I$5=\"Course 3\",Général!I$102,Général!I$104)))","v":"IMT Nantes"},{"$f":"IF($J$5=\"Course 1\",Général!I$108,IF($J$5=\"Course 2\",Général!I$110,IF($J$5=\"Course 3\",Général!I$112,Général!I$114)))","v":"Unicaen 1"},{"$f":"IF($K$5=\"Course 1\",Général!I$118,IF($K$5=\"Course 2\",Général!I$120,IF($K$5=\"Course 3\",Général!I$122,Général!I$124)))","v":"Plymouth"},{"$f":"IF($L$5=\"Course 1\",Général!I$128,IF($L$5=\"Course 2\",Général!I$130,IF($L$5=\"Course 3\",Général!I$132,Général!I$134)))","v":"UBS Lorient 2"},{"$f":"IF($M$5=\"Course 1\",Général!I$138,IF($M$5=\"Course 2\",Général!I$140,IF($M$5=\"Course 3\",Général!I$142,Général!I$144)))","v":"Unicaen 2"},{"$f":"IF($N$5=\"Course 1\",Général!I$148,IF($N$5=\"Course 2\",Général!I$150,IF($N$5=\"Course 3\",Général!I$152,Général!I$154)))","v":"Unicaen 2"},{"$f":"IF($O$5=\"Course 1\",Général!I$158,IF($O$5=\"Course 2\",Général!I$160,IF($O$5=\"Course 3\",Général!I$162,Général!I$164)))","v":"Orléans"},{"$f":"IF($P$5=\"Course 1\",Général!I$168,IF($P$5=\"Course 2\",Général!I$170,IF($P$5=\"Course 3\",Général!I$172,Général!I$174)))","v":"La Rochelle 1"},{"$f":"IF($Q$5=\"Course 1\",Général!I$178,IF($Q$5=\"Course 2\",Général!I$180,IF($Q$5=\"Course 3\",Général!I$182,Général!I$184)))","v":"Orléans"},{"$f":"IF($R$5=\"Course 1\",Général!I$188,IF($R$5=\"Course 2\",Général!I$190,IF($R$5=\"Course 3\",Général!I$192,Général!I$194)))","v":"Univ Nantes 3"},{"$f":"IF($S$5=\"Course 1\",Général!I$198,IF($S$5=\"Course 2\",Général!I$200,IF($S$5=\"Course 3\",Général!I$202,Général!I$204)))","v":"Plymouth"},{"$f":"IF($T$5=\"Course 1\",Général!I$208,IF($T$5=\"Course 2\",Général!I$210,IF($T$5=\"Course 3\",Général!I$212,Général!I$214)))","v":"UBO 2"},null,{"$f":"Général!B17","v":"ENSMAC"},6]
["9ème Equipage",null,{"$f":"IF($C$5=\"Course 1\",Général!J38,IF($C$5=\"Course 2\",Général!J40,IF($C$5=\"Course 3\",Général!J42,Général!J44)))","v":"Karlsruhe"},{"$f":"IF($D$5=\"Course 1\",Général!J48,IF($D$5=\"Course 2\",Général!J50,IF($D$5=\"Course 3\",Général!J52,Général!J54)))","v":"Intechmer"},{"$f":"IF($E$5=\"Course 1\",Général!J58,IF($E$5=\"Course 2\",Général!J60,IF($E$5=\"Course 3\",Général!J62,Général!J64)))","v":"Southampton"},{"$f":"IF($F$5=\"Course 1\",Général!J$68,IF($F$5=\"Course 2\",Général!J$70,IF($F$5=\"Course 3\",Général!J$72,Général!J$74)))","v":"IMT Nantes"},{"$f":"IF($G$5=\"Course 1\",Général!J$78,IF($G$5=\"Course 2\",Général!J$80,IF($G$5=\"Course 3\",Général!J$82,Général!J$84)))","v":"Unicaen 2"},{"$f":"IF($H$5=\"Course 1\",Général!J$88,IF($H$5=\"Course 2\",Général!J$90,IF($H$5=\"Course 3\",Général!$J92,Général!J$94)))","v":"Centrale Nantes 1"},{"$f":"IF($I$5=\"Course 1\",Général!J$98,IF($I$5=\"Course 2\",Général!J$100,IF($I$5=\"Course 3\",Général!J$102,Général!J$104)))","v":"ENSTA 1"},{"$f":"IF($J$5=\"Course 1\",Général!J$108,IF($J$5=\"Course 2\",Général!J$110,IF($J$5=\"Course 3\",Général!J$112,Général!J$114)))","v":"Orléans"},{"$f":"IF($K$5=\"Course 1\",Général!J$118,IF($K$5=\"Course 2\",Général!J$120,IF($K$5=\"Course 3\",Général!J$122,Général!J$124)))","v":"Paris Sorbone"},{"$f":"IF($L$5=\"Course 1\",Général!J$128,IF($L$5=\"Course 2\",Général!J$130,IF($L$5=\"Course 3\",Général!J$132,Général!J$134)))","v":"ST Brieuc 2"},{"$f":"IF($M$5=\"Course 1\",Général!J$138,IF($M$5=\"Course 2\",Général!J$140,IF($M$5=\"Course 3\",Général!J$142,Général!J$144)))","v":"IMT Nantes"},{"$f":"IF($N$5=\"Course 1\",Général!J$148,IF($N$5=\"Course 2\",Général!J$150,IF($N$5=\"Course 3\",Général!J$152,Général!J$154)))","v":"IMT Nantes"},{"$f":"IF($O$5=\"Course 1\",Général!J$158,IF($O$5=\"Course 2\",Général!J$160,IF($O$5=\"Course 3\",Général!J$162,Général!J$164)))","v":"UBS Lorient 1"},{"$f":"IF($P$5=\"Course 1\",Général!J$168,IF($P$5=\"Course 2\",Général!J$170,IF($P$5=\"Course 3\",Général!J$172,Général!J$174)))","v":"IMT Brest 1"},{"$f":"IF($Q$5=\"Course 1\",Général!J$178,IF($Q$5=\"Course 2\",Général!J$180,IF($Q$5=\"Course 3\",Général!J$182,Général!J$184)))","v":"IMT Nantes"},{"$f":"IF($R$5=\"Course 1\",Général!J$188,IF($R$5=\"Course 2\",Général!J$190,IF($R$5=\"Course 3\",Général!J$192,Général!J$194)))","v":"Southampton"},{"$f":"IF($S$5=\"Course 1\",Général!J$198,IF($S$5=\"Course 2\",Général!J$200,IF($S$5=\"Course 3\",Général!J$202,Général!J$204)))","v":"UNIV Nantes 1"},{"$f":"IF($T$5=\"Course 1\",Général!J$208,IF($T$5=\"Course 2\",Général!J$210,IF($T$5=\"Course 3\",Général!J$212,Général!J$214)))","v":"Karlsruhe"},null,{"$f":"Général!B18","v":"St Brieuc 1"},8]
["10ème Equipage",null,{"$f":"IF($C$5=\"Course 1\",Général!K38,IF($C$5=\"Course 2\",Général!K40,IF($C$5=\"Course 3\",Général!K42,Général!K44)))","v":"Intechmer"},{"$f":"IF($D$5=\"Course 1\",Général!K48,IF($D$5=\"Course 2\",Général!K50,IF($D$5=\"Course 3\",Général!K52,Général!K54)))","v":"IMT Brest 1"},{"$f":"IF($E$5=\"Course 1\",Général!K58,IF($E$5=\"Course 2\",Général!K60,IF($E$5=\"Course 3\",Général!K62,Général!K64)))","v":"UBO 1"},{"$f":"IF($F$5=\"Course 1\",Général!K$68,IF($F$5=\"Course 2\",Général!K$70,IF($F$5=\"Course 3\",Général!K$72,Général!K$74)))","v":"UBO 2"},{"$f":"IF($G$5=\"Course 1\",Général!K$78,IF($G$5=\"Course 2\",Général!K$80,IF($G$5=\"Course 3\",Général!K$82,Général!K$84)))","v":"Intechmer"},{"$f":"IF($H$5=\"Course 1\",Général!K$88,IF($H$5=\"Course 2\",Général!K$90,IF($H$5=\"Course 3\",Général!$K92,Général!K$94)))","v":"ENSTA 1"},{"$f":"IF($I$5=\"Course 1\",Général!K$98,IF($I$5=\"Course 2\",Général!K$100,IF($I$5=\"Course 3\",Général!K$102,Général!K$104)))","v":"Orléans"},{"$f":"IF($J$5=\"Course 1\",Général!K$108,IF($J$5=\"Course 2\",Général!K$110,IF($J$5=\"Course 3\",Général!K$112,Général!K$114)))","v":"Plymouth"},{"$f":"IF($K$5=\"Course 1\",Général!K$118,IF($K$5=\"Course 2\",Général!K$120,IF($K$5=\"Course 3\",Général!K$122,Général!K$124)))","v":"UBO 2"},{"$f":"IF($L$5=\"Course 1\",Général!K$128,IF($L$5=\"Course 2\",Général!K$130,IF($L$5=\"Course 3\",Général!K$132,Général!K$134)))","v":"Southampton"},{"$f":"IF($M$5=\"Course 1\",Général!K$138,IF($M$5=\"Course 2\",Général!K$140,IF($M$5=\"Course 3\",Général!K$142,Général!K$144)))","v":"INSA Lyon"},{"$f":"IF($N$5=\"Course 1\",Général!K$148,IF($N$5=\"Course 2\",Général!K$150,IF($N$5=\"Course 3\",Général!K$152,Général!K$154)))","v":"Paris Sorbone"},{"$f":"IF($O$5=\"Course 1\",Général!K$158,IF($O$5=\"Course 2\",Général!K$160,IF($O$5=\"Course 3\",Général!K$162,Général!K$164)))","v":"Paris Sorbone"},{"$f":"IF($P$5=\"Course 1\",Général!K$168,IF($P$5=\"Course 2\",Général!K$170,IF($P$5=\"Course 3\",Général!K$172,Général!K$174)))","v":"IMT Nantes"},{"$f":"IF($Q$5=\"Course 1\",Général!K$178,IF($Q$5=\"Course 2\",Général!K$180,IF($Q$5=\"Course 3\",Général!K$182,Général!K$184)))","v":"Paris Sorbone"},{"$f":"IF($R$5=\"Course 1\",Général!K$188,IF($R$5=\"Course 2\",Général!K$190,IF($R$5=\"Course 3\",Général!K$192,Général!K$194)))","v":"Paris Sorbone"},{"$f":"IF($S$5=\"Course 1\",Général!K$198,IF($S$5=\"Course 2\",Général!K$200,IF($S$5=\"Course 3\",Général!K$202,Général!K$204)))","v":"ST Brieuc 2"},{"$f":"IF($T$5=\"Course 1\",Général!K$208,IF($T$5=\"Course 2\",Général!K$210,IF($T$5=\"Course 3\",Général!K$212,Général!K$214)))","v":"ENSTA 1"},null,{"$f":"Général!B19","v":"Hannover"},6]
[null,null,null,null,null,null,null,null,null,null,null,null,null,null,null,null,null,null,null,null,null,{"$f":"Général!B20","v":"ENSTA 2"},4]
[null,null,null,null,null,null,null,null,null,null,null,null,null,null,null,null,null,null,null,null,null,{"$f":"Général!B21","v":"Southampton"},7]
[null,null,null,null,null,null,null,null,null,null,null,null,null,null,null,null,null,null,null,null,null,{"$f":"Général!B22","v":"La Rochelle 1"},6]
[null,null,null,null,null,null,null,null,null,null,null,null,null,null,null,null,null,null,null,null,null,{"$f":"Général!B23","v":"Centrale Nantes 1"},3]
[null,null,null,null,null,null,null,null,null,null,null,null,null,null,null,null,null,null,null,null,null,{"$f":"Général!B24","v":"ST Brieuc 2"},3]
[null,null,null,null,null,null,null,null,null,null,null,null,null,null,null,null,null,null,null,null,null,{"$f":"Général!B25","v":"UNIV Nantes 1"},2]
[null,null,null,null,null,null,null,null,null,null,null,null,null,null,null,null,null,null,null,null,null,{"$f":"Général!B26","v":"Intechmer"},5]
[null,null,null,null,null,null,null,null,null,null,null,null,null,null,null,null,null,null,null,null,null,{"$f":"Général!B27","v":"IMT Nantes"},17]
[null,null,null,null,null,null,null,null,null,null,null,null,null,null,null,null,null,null,null,null,null,{"$f":"Général!B28","v":"INSA Lyon"},2]
[null,null,null,null,null,null,null,null,null,null,null,null,null,null,null,null,null,null,null,null,null,{"$f":"Général!B29","v":"Centrale Nantes 2"},2]
[null,null,null,null,null,null,null,null,null,null,null,null,null,null,null,null,null,null,null,null,null,{"$f":"Général!B30","v":"UBS Lorient 2"},2]
[null,null,null,null,null,null,null,null,null,null,null,null,null,null,null,null,null,null,null,null,null,{"$f":"Général!B31","v":"La Rochelle 2"},7]
[null,null,null,null,null,null,null,null,null,null,null,null,null,null,null,null,null,null,null,null,null,{"$f":"Général!B32","v":"UBO 1"},3]
[null,null,null,null,null,null,null,null,null,null,null,null,null,null,null,null,null,null,null,null,null,{"$f":"Général!B33","v":"Eq.31"},0]
[null,null,null,null,null,null,null,null,null,null,null,null,null,null,null,null,null,null,null,null,null,{"$f":"Général!B34","v":"Eq.32"},0]

{"sheet":"Eq.26","index":31,"n_rows":32,"n_cols":23,"rows_kept":32,"cut":false,"hidden":false,"merged":[[7,0,7,1],[0,0,1,5],[0,6,1,10],[3,0,3,1],[4,0,4,1],[5,0,5,1],[14,0,14,1],[15,0,15,1],[16,0,16,1],[8,0,8,1],[9,0,9,1],[10,0,10,1],[11,0,11,1],[12,0,12,1],[13,0,13,1]]}
["Equipage ",null,null,null,null,null,{"$f":"Général!B28","v":"INSA Lyon"},null,null,null,null,null,null,null,null,null,null,null,null,null,null,{"$f":"Général!B3","v":"UBO 2"},{"$f":"COUNTIF(C$8:T$16,V1)","v":6}]
[null,null,null,null,null,null,null,null,null,null,null,null,null,null,null,null,null,null,null,null,null,{"$f":"Général!B4","v":"Paris Sorbone"},{"$f":"COUNTIF($C$8:$T$16,V2)","v":6}]
[null,null,null,null,null,null,null,null,null,null,null,null,null,null,null,null,null,null,null,null,null,{"$f":"Général!B5","v":"UBS Lorient 1"},{"$f":"COUNTIF($C$8:$T$16,V3)","v":4}]
[null,null,"FLIGHT 1","FLIGHT 2","FLIGHT 3","FLIGHT 4","FLIGHT 5","FLIGHT 6","FLIGHT 7","FLIGHT 8","FLIGHT 9","FLIGHT 10","FLIGHT 11","FLIGHT 12","FLIGHT 13","FLIGHT 14","FLIGHT 15","FLIGHT 16","FLIGHT 17","FLIGHT 18",null,{"$f":"Général!B6","v":"Univ Nantes 3"},4]
["N° de course",null,{"$f":"IF(COUNTIF(Général!B38:K38,$G$1)=1,\"Course 1\",IF(COUNTIF(Général!B40:K40,$G$1)=1,\"Course 2\",IF(COUNTIF(Général!B42:K42,$G$1)=1,\"Course 3\",\"Course 4\")))","v":"Course 3"},{"$f":"IF(COUNTIF(Général!B48:K48,$G$1)=1,\"Course 1\",IF(COUNTIF(Général!B50:K50,$G$1)=1,\"Course 2\",IF(COUNTIF(Général!B52:K52,$G$1)=1,\"Course 3\",\"Course 4\")))","v":"Course 3"},{"$f":"IF(COUNTIF(Général!B58:K58,$G$1)=1,\"Course 1\",IF(COUNTIF(Général!B60:K60,$G$1)=1,\"Course 2\",IF(COUNTIF(Général!B62:K62,$G$1)=1,\"Course 3\",\"Course 4\")))","v":"Course 1"},{"$f":"IF(COUNTIF(Général!B68:K68,$G$1)=1,\"Course 1\",IF(COUNTIF(Général!B70:K70,$G$1)=1,\"Course 2\",IF(COUNTIF(Général!B72:K72,$G$1)=1,\"Course 3\",\"Course 4\")))","v":"Course 2"},{"$f":"IF(COUNTIF(Général!B78:K78,$G$1)=1,\"Course 1\",IF(COUNTIF(Général!B80:K80,$G$1)=1,\"Course 2\",IF(COUNTIF(Général!B82:K82,$G$1)=1,\"Course 3\",\"Course 4\")))","v":"Course 2"},{"$f":"IF(COUNTIF(Général!B88:K88,$G$1)=1,\"Course 1\",IF(COUNTIF(Général!B90:K90,$G$1)=1,\"Course 2\",IF(COUNTIF(Général!B92:K92,$G$1)=1,\"Course 3\",\"Course 4\")))","v":"Course 3"},{"$f":"IF(COUNTIF(Général!B98:K98,$G$1)=1,\"Course 1\",IF(COUNTIF(Général!B100:K100,$G$1)=1,\"Course 2\",IF(COUNTIF(Général!B102:K102,$G$1)=1,\"Course 3\",\"Course 4\")))","v":"Course 3"},{"$f":"IF(COUNTIF(Général!B108:K108,$G$1)=1,\"Course 1\",IF(COUNTIF(Général!B110:K110,$G$1)=1,\"Course 2\",IF(COUNTIF(Général!B112:K112,$G$1)=1,\"Course 3\",\"Course 4\")))","v":"Course 2"},{"$f":"IF(COUNTIF(Général!B118:K118,$G$1)=1,\"Course 1\",IF(COUNTIF(Général!B120:K120,$G$1)=1,\"Course 2\",IF(COUNTIF(Général!B122:K122,$G$1)=1,\"Course 3\",\"Course 4\")))","v":"Course 3"},{"$f":"IF(COUNTIF(Général!B128:K128,$G$1)=1,\"Course 1\",IF(COUNTIF(Général!B130:K130,$G$1)=1,\"Course 2\",IF(COUNTIF(Général!B132:K132,$G$1)=1,\"Course 3\",\"Course 4\")))","v":"Course 3"},{"$f":"IF(COUNTIF(Général!B138:K138,$G$1)=1,\"Course 1\",IF(COUNTIF(Général!B140:K140,$G$1)=1,\"Course 2\",IF(COUNTIF(Général!B142:K142,$G$1)=1,\"Course 3\",\"Course 4\")))","v":"Course 3"},{"$f":"IF(COUNTIF(Général!B148:K148,$G$1)=1,\"Course 1\",IF(COUNTIF(Général!B150:K150,$G$1)=1,\"Course 2\",IF(COUNTIF(Général!B152:K152,$G$1)=1,\"Course 3\",\"Course 4\")))","v":"Course 3"},{"$f":"IF(COUNTIF(Général!B158:K158,$G$1)=1,\"Course 1\",IF(COUNTIF(Général!B160:K160,$G$1)=1,\"Course 2\",IF(COUNTIF(Général!B162:K162,$G$1)=1,\"Course 3\",\"Course 4\")))","v":"Course 2"},{"$f":"IF(COUNTIF(Général!B168:K168,$G$1)=1,\"Course 1\",IF(COUNTIF(Général!B170:K170,$G$1)=1,\"Course 2\",IF(COUNTIF(Général!B172:K172,$G$1)=1,\"Course 3\",\"Course 4\")))","v":"Course 2"},{"$f":"IF(COUNTIF(Général!B178:K178,$G$1)=1,\"Course 1\",IF(COUNTIF(Général!B180:K180,$G$1)=1,\"Course 2\",IF(COUNTIF(Général!B182:K182,$G$1)=1,\"Course 3\",\"Course 4\")))","v":"Course 1"},{"$f":"IF(COUNTIF(Général!B188:K188,$G$1)=1,\"Course 1\",IF(COUNTIF(Général!B190:K190,$G$1)=1,\"Course 2\",IF(COUNTIF(Général!B192:K192,$G$1)=1,\"Course 3\",\"Course 4\")))","v":"Course 3"},{"$f":"IF(COUNTIF(Général!B198:K198,$G$1)=1,\"Course 1\",IF(COUNTIF(Général!B200:K200,$G$1)=1,\"Course 2\",IF(COUNTIF(Général!B202:K202,$G$1)=1,\"Course 3\",\"Course 4\")))","v":"Course 1"},{"$f":"IF(COUNTIF(Général!B208:K208,$G$1)=1,\"Course 1\",IF(COUNTIF(Général!B210:K210,$G$1)=1,\"Course 2\",IF(COUNTIF(Général!B212:K212,$G$1)=1,\"Course 3\",\"Course 4\")))","v":"Course 2"},null,{"$f":"Général!B7","v":"Paris Cité"},3]
["Bateau",null,{"$f":"IF(COUNTIF(Général!B38:B44,$G$1)=1,\"Boat 1\",IF(COUNTIF(Général!C38:C44,$G$1)=1,\"Boat 2\",IF(COUNTIF(Général!D38:D44,$G$1)=1,\"Boat 3\", IF(COUNTIF(Général!E38:E44,$G$1)=1,\"Boat 4\", IF(COUNTIF(Général!F38:F44,$G$1)=1,\"Boat 5\", IF(COUNTIF(Général!G38:G44,$G$1)=1,\"Boat 6\", IF(COUNTIF(Général!H38:H44,$G$1)=1,\"Boat 7\",IF(COUNTIF(Général!I38:I44,$G$1)=1,\"Boat 8\",\"Boat 9\"))))))))","v":"Boat 8"},{"$f":"IF(COUNTIF(Général!B48:B54,$G$1)=1,\"Boat 1\",IF(COUNTIF(Général!C48:C54,$G$1)=1,\"Boat 2\",IF(COUNTIF(Général!D48:D54,$G$1)=1,\"Boat 3\", IF(COUNTIF(Général!E48:E54,$G$1)=1,\"Boat 4\", IF(COUNTIF(Général!F48:F54,$G$1)=1,\"Boat 5\", IF(COUNTIF(Général!G48:G54,$G$1)=1,\"Boat 6\", IF(COUNTIF(Général!H48:H54,$G$1)=1,\"Boat 7\",IF(COUNTIF(Général!I38:I44,$G$1)=1,\"Boat 8\",\"Boat 9\"))))))))","v":"Boat 8"},{"$f":"IF(COUNTIF(Général!B58:B64,$G$1)=1,\"Boat 1\",IF(COUNTIF(Général!C58:C64,$G$1)=1,\"Boat 2\",IF(COUNTIF(Général!D58:D64,$G$1)=1,\"Boat 3\", IF(COUNTIF(Général!E58:E64,$G$1)=1,\"Boat 4\", IF(COUNTIF(Général!F58:F64,$G$1)=1,\"Boat 5\", IF(COUNTIF(Général!G58:G64,$G$1)=1,\"Boat 6\", IF(COUNTIF(Général!H58:H64,$G$1)=1,\"Boat 7\",IF(COUNTIF(Général!I38:I44,$G$1)=1,\"Boat 8\",\"Boat 9\"))))))))","v":"Boat 8"},{"$f":"IF(COUNTIF(Général!B68:B74,$G$1)=1,\"Boat 1\",IF(COUNTIF(Général!C68:C74,$G$1)=1,\"Boat 2\",IF(COUNTIF(Général!D68:D74,$G$1)=1,\"Boat 3\", IF(COUNTIF(Général!E68:E74,$G$1)=1,\"Boat 4\", IF(COUNTIF(Général!F68:F74,$G$1)=1,\"Boat 5\", IF(COUNTIF(Général!G68:G74,$G$1)=1,\"Boat 6\", IF(COUNTIF(Général!H68:H74,$G$1)=1,\"Boat 7\",IF(COUNTIF(Général!I38:I44,$G$1)=1,\"Boat 8\",\"Boat 9\"))))))))","v":"Boat 8"},{"$f":"IF(COUNTIF(Général!B78:B84,$G$1)=1,\"Boat 1\",IF(COUNTIF(Général!C78:C84,$G$1)=1,\"Boat 2\",IF(COUNTIF(Général!D78:D84,$G$1)=1,\"Boat 3\", IF(COUNTIF(Général!E78:E84,$G$1)=1,\"Boat 4\", IF(COUNTIF(Général!F78:F84,$G$1)=1,\"Boat 5\", IF(COUNTIF(Général!G78:G84,$G$1)=1,\"Boat 6\", IF(COUNTIF(Général!H78:H84,$G$1)=1,\"Boat 7\",IF(COUNTIF(Général!I38:I44,$G$1)=1,\"Boat 8\",\"Boat 9\"))))))))","v":"Boat 5"},{"$f":"IF(COUNTIF(Général!B88:B94,$G$1)=1,\"Boat 1\",IF(COUNTIF(Général!C88:C94,$G$1)=1,\"Boat 2\",IF(COUNTIF(Général!D88:D94,$G$1)=1,\"Boat 3\", IF(COUNTIF(Général!E88:E94,$G$1)=1,\"Boat 4\", IF(COUNTIF(Général!F88:F94,$G$1)=1,\"Boat 5\", IF(COUNTIF(Général!G88:G94,$G$1)=1,\"Boat 6\", IF(COUNTIF(Général!H88:H94,$G$1)=1,\"Boat 7\",IF(COUNTIF(Général!I38:I44,$G$1)=1,\"Boat 8\",\"Boat 9\"))))))))","v":"Boat 8"},{"$f":"IF(COUNTIF(Général!B98:B104,$G$1)=1,\"Boat 1\",IF(COUNTIF(Général!C98:C104,$G$1)=1,\"Boat 2\",IF(COUNTIF(Général!D98:D104,$G$1)=1,\"Boat 3\", IF(COUNTIF(Général!E98:E104,$G$1)=1,\"Boat 4\", IF(COUNTIF(Général!F98:F104,$G$1)=1,\"Boat 5\", IF(COUNTIF(Général!G98:G104,$G$1)=1,\"Boat 6\", IF(COUNTIF(Général!H98:H104,$G$1)=1,\"Boat 7\",IF(COUNTIF(Général!I38:I44,$G$1)=1,\"Boat 8\",\"Boat 9\"))))))))","v":"Boat 8"},{"$f":"IF(COUNTIF(Général!B108:B114,$G$1)=1,\"Boat 1\",IF(COUNTIF(Général!C108:C114,$G$1)=1,\"Boat 2\",IF(COUNTIF(Général!D108:D114,$G$1)=1,\"Boat 3\", IF(COUNTIF(Général!E108:E114,$G$1)=1,\"Boat 4\", IF(COUNTIF(Général!F108:F114,$G$1)=1,\"Boat 5\", IF(COUNTIF(Général!G108:G114,$G$1)=1,\"Boat 6\", IF(COUNTIF(Général!H108:H114,$G$1)=1,\"Boat 7\",IF(COUNTIF(Général!I38:I44,$G$1)=1,\"Boat 8\",\"Boat 9\"))))))))","v":"Boat 3"},{"$f":"IF(COUNTIF(Général!B118:B124,$G$1)=1,\"Boat 1\",IF(COUNTIF(Général!C118:C124,$G$1)=1,\"Boat 2\",IF(COUNTIF(Général!D118:D124,$G$1)=1,\"Boat 3\", IF(COUNTIF(Général!E118:E124,$G$1)=1,\"Boat 4\", IF(COUNTIF(Général!F118:F124,$G$1)=1,\"Boat 5\", IF(COUNTIF(Général!G118:G124,$G$1)=1,\"Boat 6\", IF(COUNTIF(Général!H118:H124,$G$1)=1,\"Boat 7\",IF(COUNTIF(Général!I38:I44,$G$1)=1,\"Boat 8\",\"Boat 9\"))))))))","v":"Boat 1"},{"$f":"IF(COUNTIF(Général!B128:B134,$G$1)=1,\"Boat 1\",IF(COUNTIF(Général!C128:C134,$G$1)=1,\"Boat 2\",IF(COUNTIF(Général!D128:D134,$G$1)=1,\"Boat 3\", IF(COUNTIF(Général!E128:E134,$G$1)=1,\"Boat 4\", IF(COUNTIF(Général!F128:F134,$G$1)=1,\"Boat 5\", IF(COUNTIF(Général!G128:G134,$G$1)=1,\"Boat 6\", IF(COUNTIF(Général!H128:H134,$G$1)=1,\"Boat 7\",IF(COUNTIF(Général!I38:I44,$G$1)=1,\"Boat 8\",\"Boat 9\"))))))))","v":"Boat 8"},{"$f":"IF(COUNTIF(Général!B138:B144,$G$1)=1,\"Boat 1\",IF(COUNTIF(Général!C138:C144,$G$1)=1,\"Boat 2\",IF(COUNTIF(Général!C138:D144,$G$1)=1,\"Boat 3\", IF(COUNTIF(Général!C138:E144,$G$1)=1,\"Boat 4\", IF(COUNTIF(Général!F138:F144,$G$1)=1,\"Boat 5\", IF(COUNTIF(Général!G138:G144,$G$1)=1,\"Boat 6\", IF(COUNTIF(Général!H138:H144,$G$1)=1,\"Boat 7\",IF(COUNTIF(Général!I38:I44,$G$1)=1,\"Boat 8\",\"Boat 9\"))))))))","v":"Boat 8"},{"$f":"IF(COUNTIF(Général!B148:B154,$G$1)=1,\"Boat 1\",IF(COUNTIF(Général!C148:C154,$G$1)=1,\"Boat 2\",IF(COUNTIF(Général!D148:D154,$G$1)=1,\"Boat 3\", IF(COUNTIF(Général!E148:E154,$G$1)=1,\"Boat 4\", IF(COUNTIF(Général!F148:F154,$G$1)=1,\"Boat 5\", IF(COUNTIF(Général!G148:G154,$G$1)=1,\"Boat 6\", IF(COUNTIF(Général!H148:H154,$G$1)=1,\"Boat 7\",IF(COUNTIF(Général!I38:I44,$G$1)=1,\"Boat 8\",\"Boat 9\"))))))))","v":"Boat 5"},{"$f":"IF(COUNTIF(Général!B158:B164,$G$1)=1,\"Boat 1\",IF(COUNTIF(Général!C158:C164,$G$1)=1,\"Boat 2\",IF(COUNTIF(Général!D160:D164,$G$1)=1,\"Boat 3\", IF(COUNTIF(Général!E158:E164,$G$1)=1,\"Boat 4\", IF(COUNTIF(Général!F158:F164,$G$1)=1,\"Boat 5\", IF(COUNTIF(Général!G158:G164,$G$1)=1,\"Boat 6\", IF(COUNTIF(Général!H158:H164,$G$1)=1,\"Boat 7\",IF(COUNTIF(Général!I38:I44,$G$1)=1,\"Boat 8\",\"Boat 9\"))))))))","v":"Boat 5"},{"$f":"IF(COUNTIF(Général!B168:B174,$G$1)=1,\"Boat 1\",IF(COUNTIF(Général!C168:C174,$G$1)=1,\"Boat 2\",IF(COUNTIF(Général!D168:D174,$G$1)=1,\"Boat 3\", IF(COUNTIF(Général!E168:E174,$G$1)=1,\"Boat 4\", IF(COUNTIF(Général!F178:F184,$G$1)=1,\"Boat 5\", IF(COUNTIF(Général!G178:G184,$G$1)=1,\"Boat 6\", IF(COUNTIF(Général!H178:H184,$G$1)=1,\"Boat 7\",IF(COUNTIF(Général!I38:I44,$G$1)=1,\"Boat 8\",\"Boat 9\"))))))))","v":"Boat 4"},{"$f":"IF(COUNTIF(Général!B178:B184,$G$1)=1,\"Boat 1\",IF(COUNTIF(Général!C178:C184,$G$1)=1,\"Boat 2\",IF(COUNTIF(Général!D178:D184,$G$1)=1,\"Boat 3\", IF(COUNTIF(Général!E178:E184,$G$1)=1,\"Boat 4\", IF(COUNTIF(Général!F178:F184,$G$1)=1,\"Boat 5\", IF(COUNTIF(Général!G178:G184,$G$1)=1,\"Boat 6\", IF(COUNTIF(Général!H178:H184,$G$1)=1,\"Boat 7\",IF(COUNTIF(Général!I38:I44,$G$1)=1,\"Boat 8\",\"Boat 9\"))))))))","v":"Boat 5"},{"$f":"IF(COUNTIF(Général!B188:B194,$G$1)=1,\"Boat 1\",IF(COUNTIF(Général!C188:C194,$G$1)=1,\"Boat 2\",IF(COUNTIF(Général!D188:D194,$G$1)=1,\"Boat 3\", IF(COUNTIF(Général!E188:E194,$G$1)=1,\"Boat 4\", IF(COUNTIF(Général!F188:F194,$G$1)=1,\"Boat 5\", IF(COUNTIF(Général!G188:G194,$G$1)=1,\"Boat 6\", IF(COUNTIF(Général!H188:H194,$G$1)=1,\"Boat 7\",IF(COUNTIF(Général!I38:I44,$G$1)=1,\"Boat 8\",\"Boat 9\"))))))))","v":"Boat 2"},{"$f":"IF(COUNTIF(Général!B198:B204,$G$1)=1,\"Boat 1\",IF(COUNTIF(Général!C198:C204,$G$1)=1,\"Boat 2\",IF(COUNTIF(Général!D198:D204,$G$1)=1,\"Boat 3\", IF(COUNTIF(Général!E198:E204,$G$1)=1,\"Boat 4\", IF(COUNTIF(Général!F198:F204,$G$1)=1,\"Boat 5\", IF(COUNTIF(Général!G198:G204,$G$1)=1,\"Boat 6\", IF(COUNTIF(Général!H198:H204,$G$1)=1,\"Boat 7\",IF(COUNTIF(Général!I38:I44,$G$1)=1,\"Boat 8\",\"Boat 9\"))))))))","v":"Boat 2"},{"$f":"IF(COUNTIF(Général!B208:B214,$G$1)=1,\"Boat 1\",IF(COUNTIF(Général!C208:C214,$G$1)=1,\"Boat 2\",IF(COUNTIF(Général!D208:D214,$G$1)=1,\"Boat 3\", IF(COUNTIF(Général!E208:E214,$G$1)=1,\"Boat 4\", IF(COUNTIF(Général!F208:F214,$G$1)=1,\"Boat 5\", IF(COUNTIF(Général!G208:G214,$G$1)=1,\"Boat 6\", IF(COUNTIF(Général!H208:H214,$G$1)=1,\"Boat 7\",IF(COUNTIF(Général!I38:I44,$G$1)=1,\"Boat 8\",\"Boat 9\"))))))))","v":"Boat 6"},null,{"$f":"Général!B8","v":"Plymouth"},7]
[null,null,null,null,null,null,null,null,null,null,null,null,null,null,null,null,null,null,null,null,null,{"$f":"Général!B9","v":"Unicaen 2"},5]
["1er Equipage",null,{"$f":"IF($C$5=\"Course 1\",Général!B38,IF($C$5=\"Course 2\",Général!B40,IF($C$5=\"Course 3\",Général!B42,Général!B44)))","v":"La Rochelle 1"},{"$f":"IF($D$5=\"Course 1\",Général!B48,IF($D$5=\"Course 2\",Général!B50,IF($D$5=\"Course 3\",Général!B52,Général!B54)))","v":"UBO 1"},{"$f":"IF($E$5=\"Course 1\",Général!B58,IF($E$5=\"Course 2\",Général!B60,IF($E$5=\"Course 3\",Général!B62,Général!B64)))","v":"Orléans"},{"$f":"IF($F$5=\"Course 1\",Général!B$68,IF($F$5=\"Course 2\",Général!B$70,IF($F$5=\"Course 3\",Général!B$72,Général!B$74)))","v":"Univ Nantes 3"},{"$f":"IF($G$5=\"Course 1\",Général!B$78,IF($G$5=\"Course 2\",Général!B$80,IF($G$5=\"Course 3\",Général!B$82,Général!B$84)))","v":"Plymouth"},{"$f":"IF($H$5=\"Course 1\",Général!B$88,IF($H$5=\"Course 2\",Général!B$90,IF($H$5=\"Course 3\",Général!B$92,Général!B$94)))","v":"Unicaen 2"},{"$f":"IF($I$5=\"Course 1\",Général!B$98,IF($I$5=\"Course 2\",Général!B$100,IF($I$5=\"Course 3\",Général!B$102,Général!B$104)))","v":"La Rochelle 2"},{"$f":"IF($J$5=\"Course 1\",Général!B$108,IF($J$5=\"Course 2\",Général!B$110,IF($J$5=\"Course 3\",Général!B$112,Général!B$114)))","v":"Centrale Nantes 1"},{"$f":"IF($K$5=\"Course 1\",Général!B$118,IF($K$5=\"Course 2\",Général!B$120,IF($K$5=\"Course 3\",Général!B$122,Général!B$124)))","v":"INSA Lyon"},{"$f":"IF($L$5=\"Course 1\",Général!B$128,IF($L$5=\"Course 2\",Général!B$130,IF($L$5=\"Course 3\",Général!B$132,Général!B$134)))","v":"IMT Brest 2"},{"$f":"IF($M$5=\"Course 1\",Général!B$138,IF($M$5=\"Course 2\",Général!B$140,IF($M$5=\"Course 3\",Général!B$142,Général!B$144)))","v":"ENSTA 1"},{"$f":"IF($N$5=\"Course 1\",Général!B$148,IF($N$5=\"Course 2\",Général!B$150,IF($N$5=\"Course 3\",Général!B$152,Général!B$154)))","v":"La Rochelle 1"},{"$f":"IF($O$5=\"Course 1\",Général!B$158,IF($O$5=\"Course 2\",Général!B$160,IF($O$5=\"Course 3\",Général!B$162,Général!B$164)))","v":"ENSMAC"},{"$f":"IF($P$5=\"Course 1\",Général!B$168,IF($P$5=\"Course 2\",Général!B$170,IF($P$5=\"Course 3\",Général!B$172,Général!B$174)))","v":"ENSMAC"},{"$f":"IF($Q$5=\"Course 1\",Général!B$178,IF($Q$5=\"Course 2\",Général!B$180,IF($Q$5=\"Course 3\",Général!B$182,Général!B$184)))","v":"Plymouth"},{"$f":"IF($R$5=\"Course 1\",Général!B$188,IF($R$5=\"Course 2\",Général!B$190,IF($R$5=\"Course 3\",Général!B$192,Général!B$194)))","v":"ENSTA 1"},{"$f":"IF($S$5=\"Course 1\",Général!B$198,IF($S$5=\"Course 2\",Général!B$200,IF($S$5=\"Course 3\",Général!B$202,Général!B$204)))","v":"ENSTA 1"},{"$f":"IF($T$5=\"Course 1\",Général!B$208,IF($T$5=\"Course 2\",Général!B$210,IF($T$5=\"Course 3\",Général!B$212,Général!B$214)))","v":"UBO 1"},null,{"$f":"Général!B10","v":"Univ Nantes 2"},7]
["2nd Equipage",null,{"$f":"IF($C$5=\"Course 1\",Général!C38,IF($C$5=\"Course 2\",Général!C40,IF($C$5=\"Course 3\",Général!C42,Général!C44)))","v":"UBS Lorient 1"},{"$f":"IF($D$5=\"Course 1\",Général!C48,IF($D$5=\"Course 2\",Général!C50,IF($D$5=\"Course 3\",Général!C52,Général!C54)))","v":"Centrale Nantes 2"},{"$f":"IF($E$5=\"Course 1\",Général!C58,IF($E$5=\"Course 2\",Général!C60,IF($E$5=\"Course 3\",Général!C62,Général!C64)))","v":"UBS Lorient 2"},{"$f":"IF($F$5=\"Course 1\",Général!C$68,IF($F$5=\"Course 2\",Général!C$70,IF($F$5=\"Course 3\",Général!C$72,Général!C$74)))","v":"Paris Cité"},{"$f":"IF($G$5=\"Course 1\",Général!C$78,IF($G$5=\"Course 2\",Général!C$80,IF($G$5=\"Course 3\",Général!C$82,Général!C$84)))","v":"Univ Nantes 3"},{"$f":"IF($H$5=\"Course 1\",Général!C$88,IF($H$5=\"Course 2\",Général!C$90,IF($H$5=\"Course 3\",Général!C$92,Général!C$94)))","v":"Paris Sorbone"},{"$f":"IF($I$5=\"Course 1\",Général!C$98,IF($I$5=\"Course 2\",Général!C$100,IF($I$5=\"Course 3\",Général!C$102,Général!C$104)))","v":"ENSTA 2"},{"$f":"IF($J$5=\"Course 1\",Général!C$108,IF($J$5=\"Course 2\",Général!C$110,IF($J$5=\"Course 3\",Général!C$112,Général!C$114)))","v":"ENSMAC"},{"$f":"IF($K$5=\"Course 1\",Général!C$118,IF($K$5=\"Course 2\",Général!C$120,IF($K$5=\"Course 3\",Général!C$122,Général!C$124)))","v":"ENSTA 2"},{"$f":"IF($L$5=\"Course 1\",Général!C$128,IF($L$5=\"Course 2\",Général!C$130,IF($L$5=\"Course 3\",Général!C$132,Général!C$134)))","v":"UNIV Nantes 1"},{"$f":"IF($M$5=\"Course 1\",Général!C$138,IF($M$5=\"Course 2\",Général!C$140,IF($M$5=\"Course 3\",Général!C$142,Général!C$144)))","v":"Intechmer"},{"$f":"IF($N$5=\"Course 1\",Général!C$148,IF($N$5=\"Course 2\",Général!C$150,IF($N$5=\"Course 3\",Général!C$152,Général!C$154)))","v":"Intechmer"},{"$f":"IF($O$5=\"Course 1\",Général!C$158,IF($O$5=\"Course 2\",Général!C$160,IF($O$5=\"Course 3\",Général!C$162,Général!C$164)))","v":"UBO 2"},{"$f":"IF($P$5=\"Course 1\",Général!C$168,IF($P$5=\"Course 2\",Général!C$170,IF($P$5=\"Course 3\",Général!C$172,Général!C$174)))","v":"Univ Nantes 3"},{"$f":"IF($Q$5=\"Course 1\",Général!C$178,IF($Q$5=\"Course 2\",Général!C$180,IF($Q$5=\"Course 3\",Général!C$182,Général!C$184)))","v":"UNIV Nantes 1"},{"$f":"IF($R$5=\"Course 1\",Général!C$188,IF($R$5=\"Course 2\",Général!C$190,IF($R$5=\"Course 3\",Général!C$192,Général!C$194)))","v":"INSA Lyon"},{"$f":"IF($S$5=\"Course 1\",Général!C$198,IF($S$5=\"Course 2\",Général!C$200,IF($S$5=\"Course 3\",Général!C$202,Général!C$204)))","v":"INSA Lyon"},{"$f":"IF($T$5=\"Course 1\",Général!C$208,IF($T$5=\"Course 2\",Général!C$210,IF($T$5=\"Course 3\",Général!C$212,Général!C$214)))","v":"Paris Sorbone"},null,{"$f":"Général!B11","v":"Karlsruhe"},4]
["3ème Equipage",null,{"$f":"IF($C$5=\"Course 1\",Général!D38,IF($C$5=\"Course 2\",Général!D40,IF($C$5=\"Course 3\",Général!D42,Général!D44)))","v":"UBO 1"},{"$f":"IF($D$5=\"Course 1\",Général!D48,IF($D$5=\"Course 2\",Général!D50,IF($D$5=\"Course 3\",Général!D52,Général!D54)))","v":"IMT Brest 2"},{"$f":"IF($E$5=\"Course 1\",Général!D58,IF($E$5=\"Course 2\",Général!D60,IF($E$5=\"Course 3\",Général!D62,Général!D64)))","v":"IMT Brest 2"},{"$f":"IF($F$5=\"Course 1\",Général!D$68,IF($F$5=\"Course 2\",Général!D$70,IF($F$5=\"Course 3\",Général!D$72,Général!D$74)))","v":"Unicaen 2"},{"$f":"IF($G$5=\"Course 1\",Général!D$78,IF($G$5=\"Course 2\",Général!D$80,IF($G$5=\"Course 3\",Général!D$82,Général!D$84)))","v":"Paris Sorbone"},{"$f":"IF($H$5=\"Course 1\",Général!D$88,IF($H$5=\"Course 2\",Général!D$90,IF($H$5=\"Course 3\",Général!D$92,Général!D$94)))","v":"UBS Lorient 2"},{"$f":"IF($I$5=\"Course 1\",Général!D$98,IF($I$5=\"Course 2\",Général!D$100,IF($I$5=\"Course 3\",Général!D$102,Général!D$104)))","v":"Hannover"},{"$f":"IF($J$5=\"Course 1\",Général!D$108,IF($J$5=\"Course 2\",Général!D$110,IF($J$5=\"Course 3\",Général!D$112,Général!D$114)))","v":"INSA Lyon"},{"$f":"IF($K$5=\"Course 1\",Général!D$118,IF($K$5=\"Course 2\",Général!D$120,IF($K$5=\"Course 3\",Général!D$122,Général!D$124)))","v":"Southampton"},{"$f":"IF($L$5=\"Course 1\",Général!D$128,IF($L$5=\"Course 2\",Général!D$130,IF($L$5=\"Course 3\",Général!D$132,Général!D$134)))","v":"UBS Lorient 1"},{"$f":"IF($M$5=\"Course 1\",Général!D$138,IF($M$5=\"Course 2\",Général!D$140,IF($M$5=\"Course 3\",Général!D$142,Général!D$144)))","v":"La Rochelle 2"},{"$f":"IF($N$5=\"Course 1\",Général!D$148,IF($N$5=\"Course 2\",Général!D$150,IF($N$5=\"Course 3\",Général!D$152,Général!D$154)))","v":"IMT Brest 2"},{"$f":"IF($O$5=\"Course 1\",Général!D$158,IF($O$5=\"Course 2\",Général!D$160,IF($O$5=\"Course 3\",Général!D$162,Général!D$164)))","v":"ENSTA 2"},{"$f":"IF($P$5=\"Course 1\",Général!D$168,IF($P$5=\"Course 2\",Général!D$170,IF($P$5=\"Course 3\",Général!D$172,Général!D$174)))","v":"Intechmer"},{"$f":"IF($Q$5=\"Course 1\",Général!D$178,IF($Q$5=\"Course 2\",Général!D$180,IF($Q$5=\"Course 3\",Général!D$182,Général!D$184)))","v":"Univ Nantes 2"},{"$f":"IF($R$5=\"Course 1\",Général!D$188,IF($R$5=\"Course 2\",Général!D$190,IF($R$5=\"Course 3\",Général!D$192,Général!D$194)))","v":"Intechmer"},{"$f":"IF($S$5=\"Course 1\",Général!D$198,IF($S$5=\"Course 2\",Général!D$200,IF($S$5=\"Course 3\",Général!D$202,Général!D$204)))","v":"Intechmer"},{"$f":"IF($T$5=\"Course 1\",Général!D$208,IF($T$5=\"Course 2\",Général!D$210,IF($T$5=\"Course 3\",Général!D$212,Général!D$214)))","v":"ENSMAC"},null,{"$f":"Général!B12","v":"IMT Brest 2"},8]
["4ème Equipage",null,{"$f":"IF($C$5=\"Course 1\",Général!E38,IF($C$5=\"Course 2\",Général!E40,IF($C$5=\"Course 3\",Général!E42,Général!E44)))","v":"Southampton"},{"$f":"IF($D$5=\"Course 1\",Général!E48,IF($D$5=\"Course 2\",Général!E50,IF($D$5=\"Course 3\",Général!E52,Général!E54)))","v":"Paris Cité"},{"$f":"IF($E$5=\"Course 1\",Général!E58,IF($E$5=\"Course 2\",Général!E60,IF($E$5=\"Course 3\",Général!E62,Général!E64)))","v":"Paris Sorbone"},{"$f":"IF($F$5=\"Course 1\",Général!E$68,IF($F$5=\"Course 2\",Général!E$70,IF($F$5=\"Course 3\",Général!E$72,Général!E$74)))","v":"Univ Nantes 2"},{"$f":"IF($G$5=\"Course 1\",Général!E$78,IF($G$5=\"Course 2\",Général!E$80,IF($G$5=\"Course 3\",Général!E$82,Général!E$84)))","v":"St Brieuc 1"},{"$f":"IF($H$5=\"Course 1\",Général!E$88,IF($H$5=\"Course 2\",Général!E$90,IF($H$5=\"Course 3\",Général!E$92,Général!E$94)))","v":"UBS Lorient 1"},{"$f":"IF($I$5=\"Course 1\",Général!E$98,IF($I$5=\"Course 2\",Général!E$100,IF($I$5=\"Course 3\",Général!E$102,Général!E$104)))","v":"Paris Sorbone"},{"$f":"IF($J$5=\"Course 1\",Général!E$108,IF($J$5=\"Course 2\",Général!E$110,IF($J$5=\"Course 3\",Général!E$112,Général!E$114)))","v":"Univ Nantes 2"},{"$f":"IF($K$5=\"Course 1\",Général!E$118,IF($K$5=\"Course 2\",Général!E$120,IF($K$5=\"Course 3\",Général!E$122,Général!E$124)))","v":"IMT Brest 1"},{"$f":"IF($L$5=\"Course 1\",Général!E$128,IF($L$5=\"Course 2\",Général!E$130,IF($L$5=\"Course 3\",Général!E$132,Général!E$134)))","v":"Karlsruhe"},{"$f":"IF($M$5=\"Course 1\",Général!E$138,IF($M$5=\"Course 2\",Général!E$140,IF($M$5=\"Course 3\",Général!E$142,Général!E$144)))","v":"ENSMAC"},{"$f":"IF($N$5=\"Course 1\",Général!E$148,IF($N$5=\"Course 2\",Général!E$150,IF($N$5=\"Course 3\",Général!E$152,Général!E$154)))","v":"UBO 2"},{"$f":"IF($O$5=\"Course 1\",Général!E$158,IF($O$5=\"Course 2\",Général!E$160,IF($O$5=\"Course 3\",Général!E$162,Général!E$164)))","v":"UBO 1"},{"$f":"IF($P$5=\"Course 1\",Général!E$168,IF($P$5=\"Course 2\",Général!E$170,IF($P$5=\"Course 3\",Général!E$172,Général!E$174)))","v":"INSA Lyon"},{"$f":"IF($Q$5=\"Course 1\",Général!E$178,IF($Q$5=\"Course 2\",Général!E$180,IF($Q$5=\"Course 3\",Général!E$182,Général!E$184)))","v":"UBO 1"},{"$f":"IF($R$5=\"Course 1\",Général!E$188,IF($R$5=\"Course 2\",Général!E$190,IF($R$5=\"Course 3\",Général!E$192,Général!E$194)))","v":"Univ Nantes 2"},{"$f":"IF($S$5=\"Course 1\",Général!E$198,IF($S$5=\"Course 2\",Général!E$200,IF($S$5=\"Course 3\",Général!E$202,Général!E$204)))","v":"St Brieuc 1"},{"$f":"IF($T$5=\"Course 1\",Général!E$208,IF($T$5=\"Course 2\",Général!E$210,IF($T$5=\"Course 3\",Général!E$212,Général!E$214)))","v":"Univ Nantes 3"},null,{"$f":"Général!B13","v":"Unicaen 1"},4]
["5ème Equipage",null,{"$f":"IF($C$5=\"Course 1\",Général!F38,IF($C$5=\"Course 2\",Général!F40,IF($C$5=\"Course 3\",Général!F42,Général!F44)))","v":"ENSTA 2"},{"$f":"IF($D$5=\"Course 1\",Général!F48,IF($D$5=\"Course 2\",Général!F50,IF($D$5=\"Course 3\",Général!F52,Général!F54)))","v":"UBO 2"},{"$f":"IF($E$5=\"Course 1\",Général!F58,IF($E$5=\"Course 2\",Général!F60,IF($E$5=\"Course 3\",Général!F62,Général!F64)))","v":"Univ Nantes 2"},{"$f":"IF($F$5=\"Course 1\",Général!F$68,IF($F$5=\"Course 2\",Général!F$70,IF($F$5=\"Course 3\",Général!F$72,Général!F$74)))","v":"La Rochelle 2"},{"$f":"IF($G$5=\"Course 1\",Général!F$78,IF($G$5=\"Course 2\",Général!F$80,IF($G$5=\"Course 3\",Général!F$82,Général!F$84)))","v":"INSA Lyon"},{"$f":"IF($H$5=\"Course 1\",Général!F$88,IF($H$5=\"Course 2\",Général!F$90,IF($H$5=\"Course 3\",Général!F$92,Général!F$94)))","v":"IMT Brest 1"},{"$f":"IF($I$5=\"Course 1\",Général!F$98,IF($I$5=\"Course 2\",Général!F$100,IF($I$5=\"Course 3\",Général!F$102,Général!F$104)))","v":"Centrale Nantes 1"},{"$f":"IF($J$5=\"Course 1\",Général!F$108,IF($J$5=\"Course 2\",Général!F$110,IF($J$5=\"Course 3\",Général!F$112,Général!F$114)))","v":"IMT Nantes"},{"$f":"IF($K$5=\"Course 1\",Général!F$118,IF($K$5=\"Course 2\",Général!F$120,IF($K$5=\"Course 3\",Général!F$122,Général!F$124)))","v":"IMT Brest 2"},{"$f":"IF($L$5=\"Course 1\",Général!F$128,IF($L$5=\"Course 2\",Général!$F130,IF($L$5=\"Course 3\",Général!F$132,Général!F$134)))","v":"Paris Sorbone"},{"$f":"IF($M$5=\"Course 1\",Général!F$138,IF($M$5=\"Course 2\",Général!F$140,IF($M$5=\"Course 3\",Général!F$142,Général!F$144)))","v":"UBO 1"},{"$f":"IF($N$5=\"Course 1\",Général!F$148,IF($N$5=\"Course 2\",Général!F$150,IF($N$5=\"Course 3\",Général!F$152,Général!F$154)))","v":"INSA Lyon"},{"$f":"IF($O$5=\"Course 1\",Général!F$158,IF($O$5=\"Course 2\",Général!F$160,IF($O$5=\"Course 3\",Général!F$162,Général!F$164)))","v":"INSA Lyon"},{"$f":"IF($P$5=\"Course 1\",Général!F$168,IF($P$5=\"Course 2\",Général!F$170,IF($P$5=\"Course 3\",Général!F$172,Général!F$174)))","v":"ENSTA 2"},{"$f":"IF($Q$5=\"Course 1\",Général!F$178,IF($Q$5=\"Course 2\",Général!F$180,IF($Q$5=\"Course 3\",Général!F$182,Général!F$184)))","v":"INSA Lyon"},{"$f":"IF($R$5=\"Course 1\",Général!F$188,IF($R$5=\"Course 2\",Général!F$190,IF($R$5=\"Course 3\",Général!F$192,Général!F$194)))","v":"ENSTA 2"},{"$f":"IF($S$5=\"Course 1\",Général!F$198,IF($S$5=\"Course 2\",Général!F$200,IF($S$5=\"Course 3\",Général!F$202,Général!F$204)))","v":"IMT Nantes"},{"$f":"IF($T$5=\"Course 1\",Général!F$208,IF($T$5=\"Course 2\",Général!F$210,IF($T$5=\"Course 3\",Général!F$212,Général!F$214)))","v":"UBS Lorient 1"},null,{"$f":"Général!B14","v":"ENSTA 1"},3]
["6ème Equipage",null,{"$f":"IF($C$5=\"Course 1\",Général!G38,IF($C$5=\"Course 2\",Général!G40,IF($C$5=\"Course 3\",Général!G42,Général!G44)))","v":"Plymouth"},{"$f":"IF($D$5=\"Course 1\",Général!G48,IF($D$5=\"Course 2\",Général!G50,IF($D$5=\"Course 3\",Général!G52,Général!G54)))","v":"La Rochelle 2"},{"$f":"IF($E$5=\"Course 1\",Général!G58,IF($E$5=\"Course 2\",Général!G60,IF($E$5=\"Course 3\",Général!G62,Général!G64)))","v":"La Rochelle 2"},{"$f":"IF($F$5=\"Course 1\",Général!G$68,IF($F$5=\"Course 2\",Général!G$70,IF($F$5=\"Course 3\",Général!G$72,Général!G$74)))","v":"ENSTA 2"},{"$f":"IF($G$5=\"Course 1\",Général!G$78,IF($G$5=\"Course 2\",Général!G$80,IF($G$5=\"Course 3\",Général!G$82,Général!G$84)))","v":"Centrale Nantes 1"},{"$f":"IF($H$5=\"Course 1\",Général!G$88,IF($H$5=\"Course 2\",Général!G$90,IF($H$5=\"Course 3\",Général!G$92,Général!G$94)))","v":"IMT Brest 2"},{"$f":"IF($I$5=\"Course 1\",Général!G$98,IF($I$5=\"Course 2\",Général!G$100,IF($I$5=\"Course 3\",Général!G$102,Général!G$104)))","v":"Unicaen 2"},{"$f":"IF($J$5=\"Course 1\",Général!G$108,IF($J$5=\"Course 2\",Général!G$110,IF($J$5=\"Course 3\",Général!G$112,Général!G$114)))","v":"Karlsruhe"},{"$f":"IF($K$5=\"Course 1\",Général!G$118,IF($K$5=\"Course 2\",Général!G$120,IF($K$5=\"Course 3\",Général!G$122,Général!G$124)))","v":"Unicaen 1"},{"$f":"IF($L$5=\"Course 1\",Général!G$128,IF($L$5=\"Course 2\",Général!G$130,IF($L$5=\"Course 3\",Général!G$132,Général!G$134)))","v":"ENSTA 2"},{"$f":"IF($M$5=\"Course 1\",Général!G$138,IF($M$5=\"Course 2\",Général!G$140,IF($M$5=\"Course 3\",Général!G$142,Général!G$144)))","v":"Southampton"},{"$f":"IF($N$5=\"Course 1\",Général!G$148,IF($N$5=\"Course 2\",Général!G$150,IF($N$5=\"Course 3\",Général!G$152,Général!G$154)))","v":"Hannover"},{"$f":"IF($O$5=\"Course 1\",Général!G$158,IF($O$5=\"Course 2\",Général!G$160,IF($O$5=\"Course 3\",Général!G$162,Général!G$164)))","v":"Plymouth"},{"$f":"IF($P$5=\"Course 1\",Général!G$168,IF($P$5=\"Course 2\",Général!G$170,IF($P$5=\"Course 3\",Général!G$172,Général!G$174)))","v":"ST Brieuc 2"},{"$f":"IF($Q$5=\"Course 1\",Général!G$178,IF($Q$5=\"Course 2\",Général!G$180,IF($Q$5=\"Course 3\",Général!G$182,Général!G$184)))","v":"UBS Lorient 2"},{"$f":"IF($R$5=\"Course 1\",Général!G$188,IF($R$5=\"Course 2\",Général!G$190,IF($R$5=\"Course 3\",Général!G$192,Général!G$194)))","v":"La Rochelle 2"},{"$f":"IF($S$5=\"Course 1\",Général!G$198,IF($S$5=\"Course 2\",Général!G$200,IF($S$5=\"Course 3\",Général!G$202,Général!G$204)))","v":"La Rochelle 2"},{"$f":"IF($T$5=\"Course 1\",Général!G$208,IF($T$5=\"Course 2\",Général!G$210,IF($T$5=\"Course 3\",Général!G$212,Général!G$214)))","v":"INSA Lyon"},null,{"$f":"Général!B15","v":"Orléans"},2]
["7ème Equipage",null,{"$f":"IF($C$5=\"Course 1\",Général!H38,IF($C$5=\"Course 2\",Général!H40,IF($C$5=\"Course 3\",Général!H42,Général!H44)))","v":"Univ Nantes 2"},{"$f":"IF($D$5=\"Course 1\",Général!H48,IF($D$5=\"Course 2\",Général!H50,IF($D$5=\"Course 3\",Général!H52,Général!H54)))","v":"Karlsruhe"},{"$f":"IF($E$5=\"Course 1\",Général!H58,IF($E$5=\"Course 2\",Général!H60,IF($E$5=\"Course 3\",Général!H62,Général!H64)))","v":"Intechmer"},{"$f":"IF($F$5=\"Course 1\",Général!H$68,IF($F$5=\"Course 2\",Général!H$70,IF($F$5=\"Course 3\",Général!H$72,Général!H$74)))","v":"UBS Lorient 2"},{"$f":"IF($G$5=\"Course 1\",Général!H$78,IF($G$5=\"Course 2\",Général!H$80,IF($G$5=\"Course 3\",Général!H$82,Général!H$84)))","v":"La Rochelle 2"},{"$f":"IF($H$5=\"Course 1\",Général!H$88,IF($H$5=\"Course 2\",Général!H$90,IF($H$5=\"Course 3\",Général!H$92,Général!H$94)))","v":"ST Brieuc 2"},{"$f":"IF($I$5=\"Course 1\",Général!H$98,IF($I$5=\"Course 2\",Général!H$100,IF($I$5=\"Course 3\",Général!H$102,Général!H$104)))","v":"IMT Brest 2"},{"$f":"IF($J$5=\"Course 1\",Général!H$108,IF($J$5=\"Course 2\",Général!H$110,IF($J$5=\"Course 3\",Général!H$112,Général!H$114)))","v":"Unicaen 2"},{"$f":"IF($K$5=\"Course 1\",Général!H$118,IF($K$5=\"Course 2\",Général!H$120,IF($K$5=\"Course 3\",Général!H$122,Général!H$124)))","v":"Intechmer"},{"$f":"IF($L$5=\"Course 1\",Général!H$128,IF($L$5=\"Course 2\",Général!H$130,IF($L$5=\"Course 3\",Général!H$132,Général!H$134)))","v":"Centrale Nantes 1"},{"$f":"IF($M$5=\"Course 1\",Général!H$138,IF($M$5=\"Course 2\",Général!H$140,IF($M$5=\"Course 3\",Général!H$142,Général!H$144)))","v":"Centrale Nantes 2"},{"$f":"IF($N$5=\"Course 1\",Général!H$148,IF($N$5=\"Course 2\",Général!H$150,IF($N$5=\"Course 3\",Général!H$152,Général!H$154)))","v":"La Rochelle 2"},{"$f":"IF($O$5=\"Course 1\",Général!H$158,IF($O$5=\"Course 2\",Général!H$160,IF($O$5=\"Course 3\",Général!H$162,Général!H$164)))","v":"Paris Cité"},{"$f":"IF($P$5=\"Course 1\",Général!H$168,IF($P$5=\"Course 2\",Général!H$170,IF($P$5=\"Course 3\",Général!H$172,Général!H$174)))","v":"UNIV Nantes 1"},{"$f":"IF($Q$5=\"Course 1\",Général!H$178,IF($Q$5=\"Course 2\",Général!H$180,IF($Q$5=\"Course 3\",Général!H$182,Général!H$184)))","v":"UBO 2"},{"$f":"IF($R$5=\"Course 1\",Général!H$188,IF($R$5=\"Course 2\",Général!H$190,IF($R$5=\"Course 3\",Général!H$192,Général!H$194)))","v":"UBO 2"},{"$f":"IF($S$5=\"Course 1\",Général!H$198,IF($S$5=\"Course 2\",Général!H$200,IF($S$5=\"Course 3\",Général!H$202,Général!H$204)))","v":"Unicaen 1"},{"$f":"IF($T$5=\"Course 1\",Général!H$208,IF($T$5=\"Course 2\",Général!H$210,IF($T$5=\"Course 3\",Général!H$212,Général!H$214)))","v":"Univ Nantes 2"},null,{"$f":"Général!B16","v":"IMT Brest 1"},2]
["8ème Equipage",null,{"$f":"IF($C$5=\"Course 1\",Général!I38,IF($C$5=\"Course 2\",Général!I40,IF($C$5=\"Course 3\",Général!I42,Général!I44)))","v":"INSA Lyon"},{"$f":"IF($D$5=\"Course 1\",Général!I48,IF($D$5=\"Course 2\",Général!I50,IF($D$5=\"Course 3\",Général!I52,Général!I54)))","v":"Centrale Nantes 1"},{"$f":"IF($E$5=\"Course 1\",Général!I58,IF($E$5=\"Course 2\",Général!I60,IF($E$5=\"Course 3\",Général!I62,Général!I64)))","v":"Centrale Nantes 1"},{"$f":"IF($F$5=\"Course 1\",Général!I$68,IF($F$5=\"Course 2\",Général!I$70,IF($F$5=\"Course 3\",Général!I$72,Général!I$74)))","v":"INSA Lyon"},{"$f":"IF($G$5=\"Course 1\",Général!I$78,IF($G$5=\"Course 2\",Général!I$80,IF($G$5=\"Course 3\",Général!I$82,Général!I$84)))","v":"Centrale Nantes 2"},{"$f":"IF($H$5=\"Course 1\",Général!I$88,IF($H$5=\"Course 2\",Général!I$90,IF($H$5=\"Course 3\",Général!I$92,Général!I$94)))","v":"UBO 2"},{"$f":"IF($I$5=\"Course 1\",Général!I$98,IF($I$5=\"Course 2\",Général!I$100,IF($I$5=\"Course 3\",Général!I$102,Général!I$104)))","v":"INSA Lyon"},{"$f":"IF($J$5=\"Course 1\",Général!I$108,IF($J$5=\"Course 2\",Général!I$110,IF($J$5=\"Course 3\",Général!I$112,Général!I$114)))","v":"Unicaen 1"},{"$f":"IF($K$5=\"Course 1\",Général!I$118,IF($K$5=\"Course 2\",Général!I$120,IF($K$5=\"Course 3\",Général!I$122,Général!I$124)))","v":"Karlsruhe"},{"$f":"IF($L$5=\"Course 1\",Général!I$128,IF($L$5=\"Course 2\",Général!I$130,IF($L$5=\"Course 3\",Général!I$132,Général!I$134)))","v":"Hannover"},{"$f":"IF($M$5=\"Course 1\",Général!I$138,IF($M$5=\"Course 2\",Général!I$140,IF($M$5=\"Course 3\",Général!I$142,Général!I$144)))","v":"Unicaen 2"},{"$f":"IF($N$5=\"Course 1\",Général!I$148,IF($N$5=\"Course 2\",Général!I$150,IF($N$5=\"Course 3\",Général!I$152,Général!I$154)))","v":"UNIV Nantes 1"},{"$f":"IF($O$5=\"Course 1\",Général!I$158,IF($O$5=\"Course 2\",Général!I$160,IF($O$5=\"Course 3\",Général!I$162,Général!I$164)))","v":"Centrale Nantes 2"},{"$f":"IF($P$5=\"Course 1\",Général!I$168,IF($P$5=\"Course 2\",Général!I$170,IF($P$5=\"Course 3\",Général!I$172,Général!I$174)))","v":"Centrale Nantes 2"},{"$f":"IF($Q$5=\"Course 1\",Général!I$178,IF($Q$5=\"Course 2\",Général!I$180,IF($Q$5=\"Course 3\",Général!I$182,Général!I$184)))","v":"Southampton"},{"$f":"IF($R$5=\"Course 1\",Général!I$188,IF($R$5=\"Course 2\",Général!I$190,IF($R$5=\"Course 3\",Général!I$192,Général!I$194)))","v":"Plymouth"},{"$f":"IF($S$5=\"Course 1\",Général!I$198,IF($S$5=\"Course 2\",Général!I$200,IF($S$5=\"Course 3\",Général!I$202,Général!I$204)))","v":"Plymouth"},{"$f":"IF($T$5=\"Course 1\",Général!I$208,IF($T$5=\"Course 2\",Général!I$210,IF($T$5=\"Course 3\",Général!I$212,Général!I$214)))","v":"UNIV Nantes 1"},null,{"$f":"Général!B17","v":"ENSMAC"},5]
["9ème Equipage",null,{"$f":"IF($C$5=\"Course 1\",Général!J38,IF($C$5=\"Course 2\",Général!J40,IF($C$5=\"Course 3\",Général!J42,Général!J44)))","v":"Centrale Nantes 1"},{"$f":"IF($D$5=\"Course 1\",Général!J48,IF($D$5=\"Course 2\",Général!J50,IF($D$5=\"Course 3\",Général!J52,Général!J54)))","v":"INSA Lyon"},{"$f":"IF($E$5=\"Course 1\",Général!J58,IF($E$5=\"Course 2\",Général!J60,IF($E$5=\"Course 3\",Général!J62,Général!J64)))","v":"INSA Lyon"},{"$f":"IF($F$5=\"Course 1\",Général!J$68,IF($F$5=\"Course 2\",Général!J$70,IF($F$5=\"Course 3\",Général!J$72,Général!J$74)))","v":"Unicaen 1"},{"$f":"IF($G$5=\"Course 1\",Général!J$78,IF($G$5=\"Course 2\",Général!J$80,IF($G$5=\"Course 3\",Général!J$82,Général!J$84)))","v":"UBS Lorient 2"},{"$f":"IF($H$5=\"Course 1\",Général!J$88,IF($H$5=\"Course 2\",Général!J$90,IF($H$5=\"Course 3\",Général!$J92,Général!J$94)))","v":"INSA Lyon"},{"$f":"IF($I$5=\"Course 1\",Général!J$98,IF($I$5=\"Course 2\",Général!J$100,IF($I$5=\"Course 3\",Général!J$102,Général!J$104)))","v":"UBO 1"},{"$f":"IF($J$5=\"Course 1\",Général!J$108,IF($J$5=\"Course 2\",Général!J$110,IF($J$5=\"Course 3\",Général!J$112,Général!J$114)))","v":"Orléans"},{"$f":"IF($K$5=\"Course 1\",Général!J$118,IF($K$5=\"Course 2\",Général!J$120,IF($K$5=\"Course 3\",Général!J$122,Général!J$124)))","v":"Centrale Nantes 2"},{"$f":"IF($L$5=\"Course 1\",Général!J$128,IF($L$5=\"Course 2\",Général!J$130,IF($L$5=\"Course 3\",Général!J$132,Général!J$134)))","v":"St Brieuc 1"},{"$f":"IF($M$5=\"Course 1\",Général!J$138,IF($M$5=\"Course 2\",Général!J$140,IF($M$5=\"Course 3\",Général!J$142,Général!J$144)))","v":"IMT Nantes"},{"$f":"IF($N$5=\"Course 1\",Général!J$148,IF($N$5=\"Course 2\",Général!J$150,IF($N$5=\"Course 3\",Général!J$152,Général!J$154)))","v":"Plymouth"},{"$f":"IF($O$5=\"Course 1\",Général!J$158,IF($O$5=\"Course 2\",Général!J$160,IF($O$5=\"Course 3\",Général!J$162,Général!J$164)))","v":"Intechmer"},{"$f":"IF($P$5=\"Course 1\",Général!J$168,IF($P$5=\"Course 2\",Général!J$170,IF($P$5=\"Course 3\",Général!J$172,Général!J$174)))","v":"Southampton"},{"$f":"IF($Q$5=\"Course 1\",Général!J$178,IF($Q$5=\"Course 2\",Général!J$180,IF($Q$5=\"Course 3\",Général!J$182,Général!J$184)))","v":"IMT Brest 2"},{"$f":"IF($R$5=\"Course 1\",Général!J$188,IF($R$5=\"Course 2\",Général!J$190,IF($R$5=\"Course 3\",Général!J$192,Général!J$194)))","v":"UNIV Nantes 1"},{"$f":"IF($S$5=\"Course 1\",Général!J$198,IF($S$5=\"Course 2\",Général!J$200,IF($S$5=\"Course 3\",Général!J$202,Général!J$204)))","v":"UNIV Nantes 1"},{"$f":"IF($T$5=\"Course 1\",Général!J$208,IF($T$5=\"Course 2\",Général!J$210,IF($T$5=\"Course 3\",Général!J$212,Général!J$214)))","v":"Centrale Nantes 2"},null,{"$f":"Général!B18","v":"St Brieuc 1"},3]
["10ème Equipage",null,{"$f":"IF($C$5=\"Course 1\",Général!K38,IF($C$5=\"Course 2\",Général!K40,IF($C$5=\"Course 3\",Général!K42,Général!K44)))","v":"Centrale Nantes 2"},{"$f":"IF($D$5=\"Course 1\",Général!K48,IF($D$5=\"Course 2\",Général!K50,IF($D$5=\"Course 3\",Général!K52,Général!K54)))","v":"Unicaen 1"},{"$f":"IF($E$5=\"Course 1\",Général!K58,IF($E$5=\"Course 2\",Général!K60,IF($E$5=\"Course 3\",Général!K62,Général!K64)))","v":"UNIV Nantes 1"},{"$f":"IF($F$5=\"Course 1\",Général!K$68,IF($F$5=\"Course 2\",Général!K$70,IF($F$5=\"Course 3\",Général!K$72,Général!K$74)))","v":"Hannover"},{"$f":"IF($G$5=\"Course 1\",Général!K$78,IF($G$5=\"Course 2\",Général!K$80,IF($G$5=\"Course 3\",Général!K$82,Général!K$84)))","v":"UBS Lorient 1"},{"$f":"IF($H$5=\"Course 1\",Général!K$88,IF($H$5=\"Course 2\",Général!K$90,IF($H$5=\"Course 3\",Général!$K92,Général!K$94)))","v":"St Brieuc 1"},{"$f":"IF($I$5=\"Course 1\",Général!K$98,IF($I$5=\"Course 2\",Général!K$100,IF($I$5=\"Course 3\",Général!K$102,Général!K$104)))","v":"ENSMAC"},{"$f":"IF($J$5=\"Course 1\",Général!K$108,IF($J$5=\"Course 2\",Général!K$110,IF($J$5=\"Course 3\",Général!K$112,Général!K$114)))","v":"Plymouth"},{"$f":"IF($K$5=\"Course 1\",Général!K$118,IF($K$5=\"Course 2\",Général!K$120,IF($K$5=\"Course 3\",Général!K$122,Général!K$124)))","v":"ST Brieuc 2"},{"$f":"IF($L$5=\"Course 1\",Général!K$128,IF($L$5=\"Course 2\",Général!K$130,IF($L$5=\"Course 3\",Général!K$132,Général!K$134)))","v":"INSA Lyon"},{"$f":"IF($M$5=\"Course 1\",Général!K$138,IF($M$5=\"Course 2\",Général!K$140,IF($M$5=\"Course 3\",Général!K$142,Général!K$144)))","v":"INSA Lyon"},{"$f":"IF($N$5=\"Course 1\",Général!K$148,IF($N$5=\"Course 2\",Général!K$150,IF($N$5=\"Course 3\",Général!K$152,Général!K$154)))","v":"Karlsruhe"},{"$f":"IF($O$5=\"Course 1\",Général!K$158,IF($O$5=\"Course 2\",Général!K$160,IF($O$5=\"Course 3\",Général!K$162,Général!K$164)))","v":"IMT Brest 2"},{"$f":"IF($P$5=\"Course 1\",Général!K$168,IF($P$5=\"Course 2\",Général!K$170,IF($P$5=\"Course 3\",Général!K$172,Général!K$174)))","v":"UBO 2"},{"$f":"IF($Q$5=\"Course 1\",Général!K$178,IF($Q$5=\"Course 2\",Général!K$180,IF($Q$5=\"Course 3\",Général!K$182,Général!K$184)))","v":"Unicaen 1"},{"$f":"IF($R$5=\"Course 1\",Général!K$188,IF($R$5=\"Course 2\",Général!K$190,IF($R$5=\"Course 3\",Général!K$192,Général!K$194)))","v":"Centrale Nantes 2"},{"$f":"IF($S$5=\"Course 1\",Général!K$198,IF($S$5=\"Course 2\",Général!K$200,IF($S$5=\"Course 3\",Général!K$202,Général!K$204)))","v":"ST Brieuc 2"},{"$f":"IF($T$5=\"Course 1\",Général!K$208,IF($T$5=\"Course 2\",Général!K$210,IF($T$5=\"Course 3\",Général!K$212,Général!K$214)))","v":"Paris Cité"},null,{"$f":"Général!B19","v":"Hannover"},3]
[null,null,null,null,null,null,null,null,null,null,null,null,null,null,null,null,null,null,null,null,null,{"$f":"Général!B20","v":"ENSTA 2"},8]
[null,null,null,null,null,null,null,null,null,null,null,null,null,null,null,null,null,null,null,null,null,{"$f":"Général!B21","v":"Southampton"},5]
[null,null,null,null,null,null,null,null,null,null,null,null,null,null,null,null,null,null,null,null,null,{"$f":"Général!B22","v":"La Rochelle 1"},2]
[null,null,null,null,null,null,null,null,null,null,null,null,null,null,null,null,null,null,null,null,null,{"$f":"Général!B23","v":"Centrale Nantes 1"},7]
[null,null,null,null,null,null,null,null,null,null,null,null,null,null,null,null,null,null,null,null,null,{"$f":"Général!B24","v":"ST Brieuc 2"},2]
[null,null,null,null,null,null,null,null,null,null,null,null,null,null,null,null,null,null,null,null,null,{"$f":"Général!B25","v":"UNIV Nantes 1"},7]
[null,null,null,null,null,null,null,null,null,null,null,null,null,null,null,null,null,null,null,null,null,{"$f":"Général!B26","v":"Intechmer"},8]
[null,null,null,null,null,null,null,null,null,null,null,null,null,null,null,null,null,null,null,null,null,{"$f":"Général!B27","v":"IMT Nantes"},3]
[null,null,null,null,null,null,null,null,null,null,null,null,null,null,null,null,null,null,null,null,null,{"$f":"Général!B28","v":"INSA Lyon"},16]
[null,null,null,null,null,null,null,null,null,null,null,null,null,null,null,null,null,null,null,null,null,{"$f":"Général!B29","v":"Centrale Nantes 2"},7]
[null,null,null,null,null,null,null,null,null,null,null,null,null,null,null,null,null,null,null,null,null,{"$f":"Général!B30","v":"UBS Lorient 2"},5]
[null,null,null,null,null,null,null,null,null,null,null,null,null,null,null,null,null,null,null,null,null,{"$f":"Général!B31","v":"La Rochelle 2"},9]
[null,null,null,null,null,null,null,null,null,null,null,null,null,null,null,null,null,null,null,null,null,{"$f":"Général!B32","v":"UBO 1"},7]
[null,null,null,null,null,null,null,null,null,null,null,null,null,null,null,null,null,null,null,null,null,{"$f":"Général!B33","v":"Eq.31"},0]
[null,null,null,null,null,null,null,null,null,null,null,null,null,null,null,null,null,null,null,null,null,{"$f":"Général!B34","v":"Eq.32"},0]

{"sheet":"Eq.27","index":32,"n_rows":32,"n_cols":23,"rows_kept":32,"cut":false,"hidden":false,"merged":[[7,0,7,1],[0,0,1,5],[0,6,1,10],[3,0,3,1],[4,0,4,1],[5,0,5,1],[14,0,14,1],[15,0,15,1],[16,0,16,1],[8,0,8,1],[9,0,9,1],[10,0,10,1],[11,0,11,1],[12,0,12,1],[13,0,13,1]]}
["Equipage ",null,null,null,null,null,{"$f":"Général!B29","v":"Centrale Nantes 2"},null,null,null,null,null,null,null,null,null,null,null,null,null,null,{"$f":"Général!B3","v":"UBO 2"},{"$f":"COUNTIF(C$8:T$16,V1)","v":7}]
[null,null,null,null,null,null,null,null,null,null,null,null,null,null,null,null,null,null,null,null,null,{"$f":"Général!B4","v":"Paris Sorbone"},{"$f":"COUNTIF($C$8:$T$16,V2)","v":5}]
[null,null,null,null,null,null,null,null,null,null,null,null,null,null,null,null,null,null,null,null,null,{"$f":"Général!B5","v":"UBS Lorient 1"},{"$f":"COUNTIF($C$8:$T$16,V3)","v":4}]
[null,null,"FLIGHT 1","FLIGHT 2","FLIGHT 3","FLIGHT 4","FLIGHT 5","FLIGHT 6","FLIGHT 7","FLIGHT 8","FLIGHT 9","FLIGHT 10","FLIGHT 11","FLIGHT 12","FLIGHT 13","FLIGHT 14","FLIGHT 15","FLIGHT 16","FLIGHT 17","FLIGHT 18",null,{"$f":"Général!B6","v":"Univ Nantes 3"},6]
["N° de course",null,{"$f":"IF(COUNTIF(Général!B38:K38,$G$1)=1,\"Course 1\",IF(COUNTIF(Général!B40:K40,$G$1)=1,\"Course 2\",IF(COUNTIF(Général!B42:K42,$G$1)=1,\"Course 3\",\"Course 4\")))","v":"Course 3"},{"$f":"IF(COUNTIF(Général!B48:K48,$G$1)=1,\"Course 1\",IF(COUNTIF(Général!B50:K50,$G$1)=1,\"Course 2\",IF(COUNTIF(Général!B52:K52,$G$1)=1,\"Course 3\",\"Course 4\")))","v":"Course 3"},{"$f":"IF(COUNTIF(Général!B58:K58,$G$1)=1,\"Course 1\",IF(COUNTIF(Général!B60:K60,$G$1)=1,\"Course 2\",IF(COUNTIF(Général!B62:K62,$G$1)=1,\"Course 3\",\"Course 4\")))","v":"Course 3"},{"$f":"IF(COUNTIF(Général!B68:K68,$G$1)=1,\"Course 1\",IF(COUNTIF(Général!B70:K70,$G$1)=1,\"Course 2\",IF(COUNTIF(Général!B72:K72,$G$1)=1,\"Course 3\",\"Course 4\")))","v":"Course 3"},{"$f":"IF(COUNTIF(Général!B78:K78,$G$1)=1,\"Course 1\",IF(COUNTIF(Général!B80:K80,$G$1)=1,\"Course 2\",IF(COUNTIF(Général!B82:K82,$G$1)=1,\"Course 3\",\"Course 4\")))","v":"Course 2"},{"$f":"IF(COUNTIF(Général!B88:K88,$G$1)=1,\"Course 1\",IF(COUNTIF(Général!B90:K90,$G$1)=1,\"Course 2\",IF(COUNTIF(Général!B92:K92,$G$1)=1,\"Course 3\",\"Course 4\")))","v":"Course 2"},{"$f":"IF(COUNTIF(Général!B98:K98,$G$1)=1,\"Course 1\",IF(COUNTIF(Général!B100:K100,$G$1)=1,\"Course 2\",IF(COUNTIF(Général!B102:K102,$G$1)=1,\"Course 3\",\"Course 4\")))","v":"Course 1"},{"$f":"IF(COUNTIF(Général!B108:K108,$G$1)=1,\"Course 1\",IF(COUNTIF(Général!B110:K110,$G$1)=1,\"Course 2\",IF(COUNTIF(Général!B112:K112,$G$1)=1,\"Course 3\",\"Course 4\")))","v":"Course 1"},{"$f":"IF(COUNTIF(Général!B118:K118,$G$1)=1,\"Course 1\",IF(COUNTIF(Général!B120:K120,$G$1)=1,\"Course 2\",IF(COUNTIF(Général!B122:K122,$G$1)=1,\"Course 3\",\"Course 4\")))","v":"Course 3"},{"$f":"IF(COUNTIF(Général!B128:K128,$G$1)=1,\"Course 1\",IF(COUNTIF(Général!B130:K130,$G$1)=1,\"Course 2\",IF(COUNTIF(Général!B132:K132,$G$1)=1,\"Course 3\",\"Course 4\")))","v":"Course 1"},{"$f":"IF(COUNTIF(Général!B138:K138,$G$1)=1,\"Course 1\",IF(COUNTIF(Général!B140:K140,$G$1)=1,\"Course 2\",IF(COUNTIF(Général!B142:K142,$G$1)=1,\"Course 3\",\"Course 4\")))","v":"Course 3"},{"$f":"IF(COUNTIF(Général!B148:K148,$G$1)=1,\"Course 1\",IF(COUNTIF(Général!B150:K150,$G$1)=1,\"Course 2\",IF(COUNTIF(Général!B152:K152,$G$1)=1,\"Course 3\",\"Course 4\")))","v":"Course 2"},{"$f":"IF(COUNTIF(Général!B158:K158,$G$1)=1,\"Course 1\",IF(COUNTIF(Général!B160:K160,$G$1)=1,\"Course 2\",IF(COUNTIF(Général!B162:K162,$G$1)=1,\"Course 3\",\"Course 4\")))","v":"Course 2"},{"$f":"IF(COUNTIF(Général!B168:K168,$G$1)=1,\"Course 1\",IF(COUNTIF(Général!B170:K170,$G$1)=1,\"Course 2\",IF(COUNTIF(Général!B172:K172,$G$1)=1,\"Course 3\",\"Course 4\")))","v":"Course 2"},{"$f":"IF(COUNTIF(Général!B178:K178,$G$1)=1,\"Course 1\",IF(COUNTIF(Général!B180:K180,$G$1)=1,\"Course 2\",IF(COUNTIF(Général!B182:K182,$G$1)=1,\"Course 3\",\"Course 4\")))","v":"Course 3"},{"$f":"IF(COUNTIF(Général!B188:K188,$G$1)=1,\"Course 1\",IF(COUNTIF(Général!B190:K190,$G$1)=1,\"Course 2\",IF(COUNTIF(Général!B192:K192,$G$1)=1,\"Course 3\",\"Course 4\")))","v":"Course 3"},{"$f":"IF(COUNTIF(Général!B198:K198,$G$1)=1,\"Course 1\",IF(COUNTIF(Général!B200:K200,$G$1)=1,\"Course 2\",IF(COUNTIF(Général!B202:K202,$G$1)=1,\"Course 3\",\"Course 4\")))","v":"Course 3"},{"$f":"IF(COUNTIF(Général!B208:K208,$G$1)=1,\"Course 1\",IF(COUNTIF(Général!B210:K210,$G$1)=1,\"Course 2\",IF(COUNTIF(Général!B212:K212,$G$1)=1,\"Course 3\",\"Course 4\")))","v":"Course 2"},null,{"$f":"Général!B7","v":"Paris Cité"},5]
["Bateau",null,{"$f":"IF(COUNTIF(Général!B38:B44,$G$1)=1,\"Boat 1\",IF(COUNTIF(Général!C38:C44,$G$1)=1,\"Boat 2\",IF(COUNTIF(Général!D38:D44,$G$1)=1,\"Boat 3\", IF(COUNTIF(Général!E38:E44,$G$1)=1,\"Boat 4\", IF(COUNTIF(Général!F38:F44,$G$1)=1,\"Boat 5\", IF(COUNTIF(Général!G38:G44,$G$1)=1,\"Boat 6\", IF(COUNTIF(Général!H38:H44,$G$1)=1,\"Boat 7\",IF(COUNTIF(Général!I38:I44,$G$1)=1,\"Boat 8\",\"Boat 9\"))))))))","v":"Boat 9"},{"$f":"IF(COUNTIF(Général!B48:B54,$G$1)=1,\"Boat 1\",IF(COUNTIF(Général!C48:C54,$G$1)=1,\"Boat 2\",IF(COUNTIF(Général!D48:D54,$G$1)=1,\"Boat 3\", IF(COUNTIF(Général!E48:E54,$G$1)=1,\"Boat 4\", IF(COUNTIF(Général!F48:F54,$G$1)=1,\"Boat 5\", IF(COUNTIF(Général!G48:G54,$G$1)=1,\"Boat 6\", IF(COUNTIF(Général!H48:H54,$G$1)=1,\"Boat 7\",IF(COUNTIF(Général!I38:I44,$G$1)=1,\"Boat 8\",\"Boat 9\"))))))))","v":"Boat 2"},{"$f":"IF(COUNTIF(Général!B58:B64,$G$1)=1,\"Boat 1\",IF(COUNTIF(Général!C58:C64,$G$1)=1,\"Boat 2\",IF(COUNTIF(Général!D58:D64,$G$1)=1,\"Boat 3\", IF(COUNTIF(Général!E58:E64,$G$1)=1,\"Boat 4\", IF(COUNTIF(Général!F58:F64,$G$1)=1,\"Boat 5\", IF(COUNTIF(Général!G58:G64,$G$1)=1,\"Boat 6\", IF(COUNTIF(Général!H58:H64,$G$1)=1,\"Boat 7\",IF(COUNTIF(Général!I38:I44,$G$1)=1,\"Boat 8\",\"Boat 9\"))))))))","v":"Boat 7"},{"$f":"IF(COUNTIF(Général!B68:B74,$G$1)=1,\"Boat 1\",IF(COUNTIF(Général!C68:C74,$G$1)=1,\"Boat 2\",IF(COUNTIF(Général!D68:D74,$G$1)=1,\"Boat 3\", IF(COUNTIF(Général!E68:E74,$G$1)=1,\"Boat 4\", IF(COUNTIF(Général!F68:F74,$G$1)=1,\"Boat 5\", IF(COUNTIF(Général!G68:G74,$G$1)=1,\"Boat 6\", IF(COUNTIF(Général!H68:H74,$G$1)=1,\"Boat 7\",IF(COUNTIF(Général!I38:I44,$G$1)=1,\"Boat 8\",\"Boat 9\"))))))))","v":"Boat 5"},{"$f":"IF(COUNTIF(Général!B78:B84,$G$1)=1,\"Boat 1\",IF(COUNTIF(Général!C78:C84,$G$1)=1,\"Boat 2\",IF(COUNTIF(Général!D78:D84,$G$1)=1,\"Boat 3\", IF(COUNTIF(Général!E78:E84,$G$1)=1,\"Boat 4\", IF(COUNTIF(Général!F78:F84,$G$1)=1,\"Boat 5\", IF(COUNTIF(Général!G78:G84,$G$1)=1,\"Boat 6\", IF(COUNTIF(Général!H78:H84,$G$1)=1,\"Boat 7\",IF(COUNTIF(Général!I38:I44,$G$1)=1,\"Boat 8\",\"Boat 9\"))))))))","v":"Boat 9"},{"$f":"IF(COUNTIF(Général!B88:B94,$G$1)=1,\"Boat 1\",IF(COUNTIF(Général!C88:C94,$G$1)=1,\"Boat 2\",IF(COUNTIF(Général!D88:D94,$G$1)=1,\"Boat 3\", IF(COUNTIF(Général!E88:E94,$G$1)=1,\"Boat 4\", IF(COUNTIF(Général!F88:F94,$G$1)=1,\"Boat 5\", IF(COUNTIF(Général!G88:G94,$G$1)=1,\"Boat 6\", IF(COUNTIF(Général!H88:H94,$G$1)=1,\"Boat 7\",IF(COUNTIF(Général!I38:I44,$G$1)=1,\"Boat 8\",\"Boat 9\"))))))))","v":"Boat 9"},{"$f":"IF(COUNTIF(Général!B98:B104,$G$1)=1,\"Boat 1\",IF(COUNTIF(Général!C98:C104,$G$1)=1,\"Boat 2\",IF(COUNTIF(Général!D98:D104,$G$1)=1,\"Boat 3\", IF(COUNTIF(Général!E98:E104,$G$1)=1,\"Boat 4\", IF(COUNTIF(Général!F98:F104,$G$1)=1,\"Boat 5\", IF(COUNTIF(Général!G98:G104,$G$1)=1,\"Boat 6\", IF(COUNTIF(Général!H98:H104,$G$1)=1,\"Boat 7\",IF(COUNTIF(Général!I38:I44,$G$1)=1,\"Boat 8\",\"Boat 9\"))))))))","v":"Boat 1"},{"$f":"IF(COUNTIF(Général!B108:B114,$G$1)=1,\"Boat 1\",IF(COUNTIF(Général!C108:C114,$G$1)=1,\"Boat 2\",IF(COUNTIF(Général!D108:D114,$G$1)=1,\"Boat 3\", IF(COUNTIF(Général!E108:E114,$G$1)=1,\"Boat 4\", IF(COUNTIF(Général!F108:F114,$G$1)=1,\"Boat 5\", IF(COUNTIF(Général!G108:G114,$G$1)=1,\"Boat 6\", IF(COUNTIF(Général!H108:H114,$G$1)=1,\"Boat 7\",IF(COUNTIF(Général!I38:I44,$G$1)=1,\"Boat 8\",\"Boat 9\"))))))))","v":"Boat 6"},{"$f":"IF(COUNTIF(Général!B118:B124,$G$1)=1,\"Boat 1\",IF(COUNTIF(Général!C118:C124,$G$1)=1,\"Boat 2\",IF(COUNTIF(Général!D118:D124,$G$1)=1,\"Boat 3\", IF(COUNTIF(Général!E118:E124,$G$1)=1,\"Boat 4\", IF(COUNTIF(Général!F118:F124,$G$1)=1,\"Boat 5\", IF(COUNTIF(Général!G118:G124,$G$1)=1,\"Boat 6\", IF(COUNTIF(Général!H118:H124,$G$1)=1,\"Boat 7\",IF(COUNTIF(Général!I38:I44,$G$1)=1,\"Boat 8\",\"Boat 9\"))))))))","v":"Boat 9"},{"$f":"IF(COUNTIF(Général!B128:B134,$G$1)=1,\"Boat 1\",IF(COUNTIF(Général!C128:C134,$G$1)=1,\"Boat 2\",IF(COUNTIF(Général!D128:D134,$G$1)=1,\"Boat 3\", IF(COUNTIF(Général!E128:E134,$G$1)=1,\"Boat 4\", IF(COUNTIF(Général!F128:F134,$G$1)=1,\"Boat 5\", IF(COUNTIF(Général!G128:G134,$G$1)=1,\"Boat 6\", IF(COUNTIF(Général!H128:H134,$G$1)=1,\"Boat 7\",IF(COUNTIF(Général!I38:I44,$G$1)=1,\"Boat 8\",\"Boat 9\"))))))))","v":"Boat 9"},{"$f":"IF(COUNTIF(Général!B138:B144,$G$1)=1,\"Boat 1\",IF(COUNTIF(Général!C138:C144,$G$1)=1,\"Boat 2\",IF(COUNTIF(Général!C138:D144,$G$1)=1,\"Boat 3\", IF(COUNTIF(Général!C138:E144,$G$1)=1,\"Boat 4\", IF(COUNTIF(Général!F138:F144,$G$1)=1,\"Boat 5\", IF(COUNTIF(Général!G138:G144,$G$1)=1,\"Boat 6\", IF(COUNTIF(Général!H138:H144,$G$1)=1,\"Boat 7\",IF(COUNTIF(Général!I38:I44,$G$1)=1,\"Boat 8\",\"Boat 9\"))))))))","v":"Boat 7"},{"$f":"IF(COUNTIF(Général!B148:B154,$G$1)=1,\"Boat 1\",IF(COUNTIF(Général!C148:C154,$G$1)=1,\"Boat 2\",IF(COUNTIF(Général!D148:D154,$G$1)=1,\"Boat 3\", IF(COUNTIF(Général!E148:E154,$G$1)=1,\"Boat 4\", IF(COUNTIF(Général!F148:F154,$G$1)=1,\"Boat 5\", IF(COUNTIF(Général!G148:G154,$G$1)=1,\"Boat 6\", IF(COUNTIF(Général!H148:H154,$G$1)=1,\"Boat 7\",IF(COUNTIF(Général!I38:I44,$G$1)=1,\"Boat 8\",\"Boat 9\"))))))))","v":"Boat 3"},{"$f":"IF(COUNTIF(Général!B158:B164,$G$1)=1,\"Boat 1\",IF(COUNTIF(Général!C158:C164,$G$1)=1,\"Boat 2\",IF(COUNTIF(Général!D160:D164,$G$1)=1,\"Boat 3\", IF(COUNTIF(Général!E158:E164,$G$1)=1,\"Boat 4\", IF(COUNTIF(Général!F158:F164,$G$1)=1,\"Boat 5\", IF(COUNTIF(Général!G158:G164,$G$1)=1,\"Boat 6\", IF(COUNTIF(Général!H158:H164,$G$1)=1,\"Boat 7\",IF(COUNTIF(Général!I38:I44,$G$1)=1,\"Boat 8\",\"Boat 9\"))))))))","v":"Boat 9"},{"$f":"IF(COUNTIF(Général!B168:B174,$G$1)=1,\"Boat 1\",IF(COUNTIF(Général!C168:C174,$G$1)=1,\"Boat 2\",IF(COUNTIF(Général!D168:D174,$G$1)=1,\"Boat 3\", IF(COUNTIF(Général!E168:E174,$G$1)=1,\"Boat 4\", IF(COUNTIF(Général!F178:F184,$G$1)=1,\"Boat 5\", IF(COUNTIF(Général!G178:G184,$G$1)=1,\"Boat 6\", IF(COUNTIF(Général!H178:H184,$G$1)=1,\"Boat 7\",IF(COUNTIF(Général!I38:I44,$G$1)=1,\"Boat 8\",\"Boat 9\"))))))))","v":"Boat 6"},{"$f":"IF(COUNTIF(Général!B178:B184,$G$1)=1,\"Boat 1\",IF(COUNTIF(Général!C178:C184,$G$1)=1,\"Boat 2\",IF(COUNTIF(Général!D178:D184,$G$1)=1,\"Boat 3\", IF(COUNTIF(Général!E178:E184,$G$1)=1,\"Boat 4\", IF(COUNTIF(Général!F178:F184,$G$1)=1,\"Boat 5\", IF(COUNTIF(Général!G178:G184,$G$1)=1,\"Boat 6\", IF(COUNTIF(Général!H178:H184,$G$1)=1,\"Boat 7\",IF(COUNTIF(Général!I38:I44,$G$1)=1,\"Boat 8\",\"Boat 9\"))))))))","v":"Boat 6"},{"$f":"IF(COUNTIF(Général!B188:B194,$G$1)=1,\"Boat 1\",IF(COUNTIF(Général!C188:C194,$G$1)=1,\"Boat 2\",IF(COUNTIF(Général!D188:D194,$G$1)=1,\"Boat 3\", IF(COUNTIF(Général!E188:E194,$G$1)=1,\"Boat 4\", IF(COUNTIF(Général!F188:F194,$G$1)=1,\"Boat 5\", IF(COUNTIF(Général!G188:G194,$G$1)=1,\"Boat 6\", IF(COUNTIF(Général!H188:H194,$G$1)=1,\"Boat 7\",IF(COUNTIF(Général!I38:I44,$G$1)=1,\"Boat 8\",\"Boat 9\"))))))))","v":"Boat 9"},{"$f":"IF(COUNTIF(Général!B198:B204,$G$1)=1,\"Boat 1\",IF(COUNTIF(Général!C198:C204,$G$1)=1,\"Boat 2\",IF(COUNTIF(Général!D198:D204,$G$1)=1,\"Boat 3\", IF(COUNTIF(Général!E198:E204,$G$1)=1,\"Boat 4\", IF(COUNTIF(Général!F198:F204,$G$1)=1,\"Boat 5\", IF(COUNTIF(Général!G198:G204,$G$1)=1,\"Boat 6\", IF(COUNTIF(Général!H198:H204,$G$1)=1,\"Boat 7\",IF(COUNTIF(Général!I38:I44,$G$1)=1,\"Boat 8\",\"Boat 9\"))))))))","v":"Boat 4"},{"$f":"IF(COUNTIF(Général!B208:B214,$G$1)=1,\"Boat 1\",IF(COUNTIF(Général!C208:C214,$G$1)=1,\"Boat 2\",IF(COUNTIF(Général!D208:D214,$G$1)=1,\"Boat 3\", IF(COUNTIF(Général!E208:E214,$G$1)=1,\"Boat 4\", IF(COUNTIF(Général!F208:F214,$G$1)=1,\"Boat 5\", IF(COUNTIF(Général!G208:G214,$G$1)=1,\"Boat 6\", IF(COUNTIF(Général!H208:H214,$G$1)=1,\"Boat 7\",IF(COUNTIF(Général!I38:I44,$G$1)=1,\"Boat 8\",\"Boat 9\"))))))))","v":"Boat 9"},null,{"$f":"Général!B8","v":"Plymouth"},6]
[null,null,null,null,null,null,null,null,null,null,null,null,null,null,null,null,null,null,null,null,null,{"$f":"Général!B9","v":"Unicaen 2"},3]
["1er Equipage",null,{"$f":"IF($C$5=\"Course 1\",Général!B38,IF($C$5=\"Course 2\",Général!B40,IF($C$5=\"Course 3\",Général!B42,Général!B44)))","v":"La Rochelle 1"},{"$f":"IF($D$5=\"Course 1\",Général!B48,IF($D$5=\"Course 2\",Général!B50,IF($D$5=\"Course 3\",Général!B52,Général!B54)))","v":"UBO 1"},{"$f":"IF($E$5=\"Course 1\",Général!B58,IF($E$5=\"Course 2\",Général!B60,IF($E$5=\"Course 3\",Général!B62,Général!B64)))","v":"ST Brieuc 2"},{"$f":"IF($F$5=\"Course 1\",Général!B$68,IF($F$5=\"Course 2\",Général!B$70,IF($F$5=\"Course 3\",Général!B$72,Général!B$74)))","v":"ENSMAC"},{"$f":"IF($G$5=\"Course 1\",Général!B$78,IF($G$5=\"Course 2\",Général!B$80,IF($G$5=\"Course 3\",Général!B$82,Général!B$84)))","v":"Plymouth"},{"$f":"IF($H$5=\"Course 1\",Général!B$88,IF($H$5=\"Course 2\",Général!B$90,IF($H$5=\"Course 3\",Général!B$92,Général!B$94)))","v":"Univ Nantes 2"},{"$f":"IF($I$5=\"Course 1\",Général!B$98,IF($I$5=\"Course 2\",Général!B$100,IF($I$5=\"Course 3\",Général!B$102,Général!B$104)))","v":"Centrale Nantes 2"},{"$f":"IF($J$5=\"Course 1\",Général!B$108,IF($J$5=\"Course 2\",Général!B$110,IF($J$5=\"Course 3\",Général!B$112,Général!B$114)))","v":"La Rochelle 2"},{"$f":"IF($K$5=\"Course 1\",Général!B$118,IF($K$5=\"Course 2\",Général!B$120,IF($K$5=\"Course 3\",Général!B$122,Général!B$124)))","v":"INSA Lyon"},{"$f":"IF($L$5=\"Course 1\",Général!B$128,IF($L$5=\"Course 2\",Général!B$130,IF($L$5=\"Course 3\",Général!B$132,Général!B$134)))","v":"UBO 2"},{"$f":"IF($M$5=\"Course 1\",Général!B$138,IF($M$5=\"Course 2\",Général!B$140,IF($M$5=\"Course 3\",Général!B$142,Général!B$144)))","v":"ENSTA 1"},{"$f":"IF($N$5=\"Course 1\",Général!B$148,IF($N$5=\"Course 2\",Général!B$150,IF($N$5=\"Course 3\",Général!B$152,Général!B$154)))","v":"UBS Lorient 2"},{"$f":"IF($O$5=\"Course 1\",Général!B$158,IF($O$5=\"Course 2\",Général!B$160,IF($O$5=\"Course 3\",Général!B$162,Général!B$164)))","v":"ENSMAC"},{"$f":"IF($P$5=\"Course 1\",Général!B$168,IF($P$5=\"Course 2\",Général!B$170,IF($P$5=\"Course 3\",Général!B$172,Général!B$174)))","v":"ENSMAC"},{"$f":"IF($Q$5=\"Course 1\",Général!B$178,IF($Q$5=\"Course 2\",Général!B$180,IF($Q$5=\"Course 3\",Général!B$182,Général!B$184)))","v":"Paris Cité"},{"$f":"IF($R$5=\"Course 1\",Général!B$188,IF($R$5=\"Course 2\",Général!B$190,IF($R$5=\"Course 3\",Général!B$192,Général!B$194)))","v":"ENSTA 1"},{"$f":"IF($S$5=\"Course 1\",Général!B$198,IF($S$5=\"Course 2\",Général!B$200,IF($S$5=\"Course 3\",Général!B$202,Général!B$204)))","v":"UBS Lorient 2"},{"$f":"IF($T$5=\"Course 1\",Général!B$208,IF($T$5=\"Course 2\",Général!B$210,IF($T$5=\"Course 3\",Général!B$212,Général!B$214)))","v":"UBO 1"},null,{"$f":"Général!B10","v":"Univ Nantes 2"},7]
["2nd Equipage",null,{"$f":"IF($C$5=\"Course 1\",Général!C38,IF($C$5=\"Course 2\",Général!C40,IF($C$5=\"Course 3\",Général!C42,Général!C44)))","v":"UBS Lorient 1"},{"$f":"IF($D$5=\"Course 1\",Général!C48,IF($D$5=\"Course 2\",Général!C50,IF($D$5=\"Course 3\",Général!C52,Général!C54)))","v":"Centrale Nantes 2"},{"$f":"IF($E$5=\"Course 1\",Général!C58,IF($E$5=\"Course 2\",Général!C60,IF($E$5=\"Course 3\",Général!C62,Général!C64)))","v":"La Rochelle 1"},{"$f":"IF($F$5=\"Course 1\",Général!C$68,IF($F$5=\"Course 2\",Général!C$70,IF($F$5=\"Course 3\",Général!C$72,Général!C$74)))","v":"St Brieuc 1"},{"$f":"IF($G$5=\"Course 1\",Général!C$78,IF($G$5=\"Course 2\",Général!C$80,IF($G$5=\"Course 3\",Général!C$82,Général!C$84)))","v":"Univ Nantes 3"},{"$f":"IF($H$5=\"Course 1\",Général!C$88,IF($H$5=\"Course 2\",Général!C$90,IF($H$5=\"Course 3\",Général!C$92,Général!C$94)))","v":"La Rochelle 2"},{"$f":"IF($I$5=\"Course 1\",Général!C$98,IF($I$5=\"Course 2\",Général!C$100,IF($I$5=\"Course 3\",Général!C$102,Général!C$104)))","v":"Intechmer"},{"$f":"IF($J$5=\"Course 1\",Général!C$108,IF($J$5=\"Course 2\",Général!C$110,IF($J$5=\"Course 3\",Général!C$112,Général!C$114)))","v":"ENSTA 2"},{"$f":"IF($K$5=\"Course 1\",Général!C$118,IF($K$5=\"Course 2\",Général!C$120,IF($K$5=\"Course 3\",Général!C$122,Général!C$124)))","v":"ENSTA 2"},{"$f":"IF($L$5=\"Course 1\",Général!C$128,IF($L$5=\"Course 2\",Général!C$130,IF($L$5=\"Course 3\",Général!C$132,Général!C$134)))","v":"Univ Nantes 3"},{"$f":"IF($M$5=\"Course 1\",Général!C$138,IF($M$5=\"Course 2\",Général!C$140,IF($M$5=\"Course 3\",Général!C$142,Général!C$144)))","v":"Intechmer"},{"$f":"IF($N$5=\"Course 1\",Général!C$148,IF($N$5=\"Course 2\",Général!C$150,IF($N$5=\"Course 3\",Général!C$152,Général!C$154)))","v":"UBO 1"},{"$f":"IF($O$5=\"Course 1\",Général!C$158,IF($O$5=\"Course 2\",Général!C$160,IF($O$5=\"Course 3\",Général!C$162,Général!C$164)))","v":"UBO 2"},{"$f":"IF($P$5=\"Course 1\",Général!C$168,IF($P$5=\"Course 2\",Général!C$170,IF($P$5=\"Course 3\",Général!C$172,Général!C$174)))","v":"Univ Nantes 3"},{"$f":"IF($Q$5=\"Course 1\",Général!C$178,IF($Q$5=\"Course 2\",Général!C$180,IF($Q$5=\"Course 3\",Général!C$182,Général!C$184)))","v":"ENSTA 1"},{"$f":"IF($R$5=\"Course 1\",Général!C$188,IF($R$5=\"Course 2\",Général!C$190,IF($R$5=\"Course 3\",Général!C$192,Général!C$194)))","v":"INSA Lyon"},{"$f":"IF($S$5=\"Course 1\",Général!C$198,IF($S$5=\"Course 2\",Général!C$200,IF($S$5=\"Course 3\",Général!C$202,Général!C$204)))","v":"Paris Sorbone"},{"$f":"IF($T$5=\"Course 1\",Général!C$208,IF($T$5=\"Course 2\",Général!C$210,IF($T$5=\"Course 3\",Général!C$212,Général!C$214)))","v":"Paris Sorbone"},null,{"$f":"Général!B11","v":"Karlsruhe"},5]
["3ème Equipage",null,{"$f":"IF($C$5=\"Course 1\",Général!D38,IF($C$5=\"Course 2\",Général!D40,IF($C$5=\"Course 3\",Général!D42,Général!D44)))","v":"UBO 1"},{"$f":"IF($D$5=\"Course 1\",Général!D48,IF($D$5=\"Course 2\",Général!D50,IF($D$5=\"Course 3\",Général!D52,Général!D54)))","v":"IMT Brest 2"},{"$f":"IF($E$5=\"Course 1\",Général!D58,IF($E$5=\"Course 2\",Général!D60,IF($E$5=\"Course 3\",Général!D62,Général!D64)))","v":"St Brieuc 1"},{"$f":"IF($F$5=\"Course 1\",Général!D$68,IF($F$5=\"Course 2\",Général!D$70,IF($F$5=\"Course 3\",Général!D$72,Général!D$74)))","v":"Karlsruhe"},{"$f":"IF($G$5=\"Course 1\",Général!D$78,IF($G$5=\"Course 2\",Général!D$80,IF($G$5=\"Course 3\",Général!D$82,Général!D$84)))","v":"Paris Sorbone"},{"$f":"IF($H$5=\"Course 1\",Général!D$88,IF($H$5=\"Course 2\",Général!D$90,IF($H$5=\"Course 3\",Général!D$92,Général!D$94)))","v":"UNIV Nantes 1"},{"$f":"IF($I$5=\"Course 1\",Général!D$98,IF($I$5=\"Course 2\",Général!D$100,IF($I$5=\"Course 3\",Général!D$102,Général!D$104)))","v":"UBS Lorient 2"},{"$f":"IF($J$5=\"Course 1\",Général!D$108,IF($J$5=\"Course 2\",Général!D$110,IF($J$5=\"Course 3\",Général!D$112,Général!D$114)))","v":"UBO 2"},{"$f":"IF($K$5=\"Course 1\",Général!D$118,IF($K$5=\"Course 2\",Général!D$120,IF($K$5=\"Course 3\",Général!D$122,Général!D$124)))","v":"Southampton"},{"$f":"IF($L$5=\"Course 1\",Général!D$128,IF($L$5=\"Course 2\",Général!D$130,IF($L$5=\"Course 3\",Général!D$132,Général!D$134)))","v":"Orléans"},{"$f":"IF($M$5=\"Course 1\",Général!D$138,IF($M$5=\"Course 2\",Général!D$140,IF($M$5=\"Course 3\",Général!D$142,Général!D$144)))","v":"La Rochelle 2"},{"$f":"IF($N$5=\"Course 1\",Général!D$148,IF($N$5=\"Course 2\",Général!D$150,IF($N$5=\"Course 3\",Général!D$152,Général!D$154)))","v":"Centrale Nantes 2"},{"$f":"IF($O$5=\"Course 1\",Général!D$158,IF($O$5=\"Course 2\",Général!D$160,IF($O$5=\"Course 3\",Général!D$162,Général!D$164)))","v":"ENSTA 2"},{"$f":"IF($P$5=\"Course 1\",Général!D$168,IF($P$5=\"Course 2\",Général!D$170,IF($P$5=\"Course 3\",Général!D$172,Général!D$174)))","v":"Intechmer"},{"$f":"IF($Q$5=\"Course 1\",Général!D$178,IF($Q$5=\"Course 2\",Général!D$180,IF($Q$5=\"Course 3\",Général!D$182,Général!D$184)))","v":"La Rochelle 1"},{"$f":"IF($R$5=\"Course 1\",Général!D$188,IF($R$5=\"Course 2\",Général!D$190,IF($R$5=\"Course 3\",Général!D$192,Général!D$194)))","v":"Intechmer"},{"$f":"IF($S$5=\"Course 1\",Général!D$198,IF($S$5=\"Course 2\",Général!D$200,IF($S$5=\"Course 3\",Général!D$202,Général!D$204)))","v":"IMT Brest 2"},{"$f":"IF($T$5=\"Course 1\",Général!D$208,IF($T$5=\"Course 2\",Général!D$210,IF($T$5=\"Course 3\",Général!D$212,Général!D$214)))","v":"ENSMAC"},null,{"$f":"Général!B12","v":"IMT Brest 2"},3]
["4ème Equipage",null,{"$f":"IF($C$5=\"Course 1\",Général!E38,IF($C$5=\"Course 2\",Général!E40,IF($C$5=\"Course 3\",Général!E42,Général!E44)))","v":"Southampton"},{"$f":"IF($D$5=\"Course 1\",Général!E48,IF($D$5=\"Course 2\",Général!E50,IF($D$5=\"Course 3\",Général!E52,Général!E54)))","v":"Paris Cité"},{"$f":"IF($E$5=\"Course 1\",Général!E58,IF($E$5=\"Course 2\",Général!E60,IF($E$5=\"Course 3\",Général!E62,Général!E64)))","v":"Plymouth"},{"$f":"IF($F$5=\"Course 1\",Général!E$68,IF($F$5=\"Course 2\",Général!E$70,IF($F$5=\"Course 3\",Général!E$72,Général!E$74)))","v":"UNIV Nantes 1"},{"$f":"IF($G$5=\"Course 1\",Général!E$78,IF($G$5=\"Course 2\",Général!E$80,IF($G$5=\"Course 3\",Général!E$82,Général!E$84)))","v":"St Brieuc 1"},{"$f":"IF($H$5=\"Course 1\",Général!E$88,IF($H$5=\"Course 2\",Général!E$90,IF($H$5=\"Course 3\",Général!E$92,Général!E$94)))","v":"Karlsruhe"},{"$f":"IF($I$5=\"Course 1\",Général!E$98,IF($I$5=\"Course 2\",Général!E$100,IF($I$5=\"Course 3\",Général!E$102,Général!E$104)))","v":"UNIV Nantes 1"},{"$f":"IF($J$5=\"Course 1\",Général!E$108,IF($J$5=\"Course 2\",Général!E$110,IF($J$5=\"Course 3\",Général!E$112,Général!E$114)))","v":"Paris Sorbone"},{"$f":"IF($K$5=\"Course 1\",Général!E$118,IF($K$5=\"Course 2\",Général!E$120,IF($K$5=\"Course 3\",Général!E$122,Général!E$124)))","v":"IMT Brest 1"},{"$f":"IF($L$5=\"Course 1\",Général!E$128,IF($L$5=\"Course 2\",Général!E$130,IF($L$5=\"Course 3\",Général!E$132,Général!E$134)))","v":"IMT Brest 1"},{"$f":"IF($M$5=\"Course 1\",Général!E$138,IF($M$5=\"Course 2\",Général!E$140,IF($M$5=\"Course 3\",Général!E$142,Général!E$144)))","v":"ENSMAC"},{"$f":"IF($N$5=\"Course 1\",Général!E$148,IF($N$5=\"Course 2\",Général!E$150,IF($N$5=\"Course 3\",Général!E$152,Général!E$154)))","v":"UBS Lorient 1"},{"$f":"IF($O$5=\"Course 1\",Général!E$158,IF($O$5=\"Course 2\",Général!E$160,IF($O$5=\"Course 3\",Général!E$162,Général!E$164)))","v":"UBO 1"},{"$f":"IF($P$5=\"Course 1\",Général!E$168,IF($P$5=\"Course 2\",Général!E$170,IF($P$5=\"Course 3\",Général!E$172,Général!E$174)))","v":"INSA Lyon"},{"$f":"IF($Q$5=\"Course 1\",Général!E$178,IF($Q$5=\"Course 2\",Général!E$180,IF($Q$5=\"Course 3\",Général!E$182,Général!E$184)))","v":"Centrale Nantes 1"},{"$f":"IF($R$5=\"Course 1\",Général!E$188,IF($R$5=\"Course 2\",Général!E$190,IF($R$5=\"Course 3\",Général!E$192,Général!E$194)))","v":"Univ Nantes 2"},{"$f":"IF($S$5=\"Course 1\",Général!E$198,IF($S$5=\"Course 2\",Général!E$200,IF($S$5=\"Course 3\",Général!E$202,Général!E$204)))","v":"Centrale Nantes 2"},{"$f":"IF($T$5=\"Course 1\",Général!E$208,IF($T$5=\"Course 2\",Général!E$210,IF($T$5=\"Course 3\",Général!E$212,Général!E$214)))","v":"Univ Nantes 3"},null,{"$f":"Général!B13","v":"Unicaen 1"},3]
["5ème Equipage",null,{"$f":"IF($C$5=\"Course 1\",Général!F38,IF($C$5=\"Course 2\",Général!F40,IF($C$5=\"Course 3\",Général!F42,Général!F44)))","v":"ENSTA 2"},{"$f":"IF($D$5=\"Course 1\",Général!F48,IF($D$5=\"Course 2\",Général!F50,IF($D$5=\"Course 3\",Général!F52,Général!F54)))","v":"UBO 2"},{"$f":"IF($E$5=\"Course 1\",Général!F58,IF($E$5=\"Course 2\",Général!F60,IF($E$5=\"Course 3\",Général!F62,Général!F64)))","v":"UBS Lorient 1"},{"$f":"IF($F$5=\"Course 1\",Général!F$68,IF($F$5=\"Course 2\",Général!F$70,IF($F$5=\"Course 3\",Général!F$72,Général!F$74)))","v":"Centrale Nantes 2"},{"$f":"IF($G$5=\"Course 1\",Général!F$78,IF($G$5=\"Course 2\",Général!F$80,IF($G$5=\"Course 3\",Général!F$82,Général!F$84)))","v":"INSA Lyon"},{"$f":"IF($H$5=\"Course 1\",Général!F$88,IF($H$5=\"Course 2\",Général!F$90,IF($H$5=\"Course 3\",Général!F$92,Général!F$94)))","v":"Plymouth"},{"$f":"IF($I$5=\"Course 1\",Général!F$98,IF($I$5=\"Course 2\",Général!F$100,IF($I$5=\"Course 3\",Général!F$102,Général!F$104)))","v":"IMT Brest 1"},{"$f":"IF($J$5=\"Course 1\",Général!F$108,IF($J$5=\"Course 2\",Général!F$110,IF($J$5=\"Course 3\",Général!F$112,Général!F$114)))","v":"ST Brieuc 2"},{"$f":"IF($K$5=\"Course 1\",Général!F$118,IF($K$5=\"Course 2\",Général!F$120,IF($K$5=\"Course 3\",Général!F$122,Général!F$124)))","v":"IMT Brest 2"},{"$f":"IF($L$5=\"Course 1\",Général!F$128,IF($L$5=\"Course 2\",Général!$F130,IF($L$5=\"Course 3\",Général!F$132,Général!F$134)))","v":"Univ Nantes 2"},{"$f":"IF($M$5=\"Course 1\",Général!F$138,IF($M$5=\"Course 2\",Général!F$140,IF($M$5=\"Course 3\",Général!F$142,Général!F$144)))","v":"UBO 1"},{"$f":"IF($N$5=\"Course 1\",Général!F$148,IF($N$5=\"Course 2\",Général!F$150,IF($N$5=\"Course 3\",Général!F$152,Général!F$154)))","v":"ST Brieuc 2"},{"$f":"IF($O$5=\"Course 1\",Général!F$158,IF($O$5=\"Course 2\",Général!F$160,IF($O$5=\"Course 3\",Général!F$162,Général!F$164)))","v":"INSA Lyon"},{"$f":"IF($P$5=\"Course 1\",Général!F$168,IF($P$5=\"Course 2\",Général!F$170,IF($P$5=\"Course 3\",Général!F$172,Général!F$174)))","v":"ENSTA 2"},{"$f":"IF($Q$5=\"Course 1\",Général!F$178,IF($Q$5=\"Course 2\",Général!F$180,IF($Q$5=\"Course 3\",Général!F$182,Général!F$184)))","v":"Hannover"},{"$f":"IF($R$5=\"Course 1\",Général!F$188,IF($R$5=\"Course 2\",Général!F$190,IF($R$5=\"Course 3\",Général!F$192,Général!F$194)))","v":"ENSTA 2"},{"$f":"IF($S$5=\"Course 1\",Général!F$198,IF($S$5=\"Course 2\",Général!F$200,IF($S$5=\"Course 3\",Général!F$202,Général!F$204)))","v":"Centrale Nantes 1"},{"$f":"IF($T$5=\"Course 1\",Général!F$208,IF($T$5=\"Course 2\",Général!F$210,IF($T$5=\"Course 3\",Général!F$212,Général!F$214)))","v":"UBS Lorient 1"},null,{"$f":"Général!B14","v":"ENSTA 1"},4]
["6ème Equipage",null,{"$f":"IF($C$5=\"Course 1\",Général!G38,IF($C$5=\"Course 2\",Général!G40,IF($C$5=\"Course 3\",Général!G42,Général!G44)))","v":"Plymouth"},{"$f":"IF($D$5=\"Course 1\",Général!G48,IF($D$5=\"Course 2\",Général!G50,IF($D$5=\"Course 3\",Général!G52,Général!G54)))","v":"La Rochelle 2"},{"$f":"IF($E$5=\"Course 1\",Général!G58,IF($E$5=\"Course 2\",Général!G60,IF($E$5=\"Course 3\",Général!G62,Général!G64)))","v":"IMT Brest 1"},{"$f":"IF($F$5=\"Course 1\",Général!G$68,IF($F$5=\"Course 2\",Général!G$70,IF($F$5=\"Course 3\",Général!G$72,Général!G$74)))","v":"Paris Sorbone"},{"$f":"IF($G$5=\"Course 1\",Général!G$78,IF($G$5=\"Course 2\",Général!G$80,IF($G$5=\"Course 3\",Général!G$82,Général!G$84)))","v":"Centrale Nantes 1"},{"$f":"IF($H$5=\"Course 1\",Général!G$88,IF($H$5=\"Course 2\",Général!G$90,IF($H$5=\"Course 3\",Général!G$92,Général!G$94)))","v":"ENSMAC"},{"$f":"IF($I$5=\"Course 1\",Général!G$98,IF($I$5=\"Course 2\",Général!G$100,IF($I$5=\"Course 3\",Général!G$102,Général!G$104)))","v":"Univ Nantes 2"},{"$f":"IF($J$5=\"Course 1\",Général!G$108,IF($J$5=\"Course 2\",Général!G$110,IF($J$5=\"Course 3\",Général!G$112,Général!G$114)))","v":"Centrale Nantes 2"},{"$f":"IF($K$5=\"Course 1\",Général!G$118,IF($K$5=\"Course 2\",Général!G$120,IF($K$5=\"Course 3\",Général!G$122,Général!G$124)))","v":"Unicaen 1"},{"$f":"IF($L$5=\"Course 1\",Général!G$128,IF($L$5=\"Course 2\",Général!G$130,IF($L$5=\"Course 3\",Général!G$132,Général!G$134)))","v":"Unicaen 1"},{"$f":"IF($M$5=\"Course 1\",Général!G$138,IF($M$5=\"Course 2\",Général!G$140,IF($M$5=\"Course 3\",Général!G$142,Général!G$144)))","v":"Southampton"},{"$f":"IF($N$5=\"Course 1\",Général!G$148,IF($N$5=\"Course 2\",Général!G$150,IF($N$5=\"Course 3\",Général!G$152,Général!G$154)))","v":"Univ Nantes 2"},{"$f":"IF($O$5=\"Course 1\",Général!G$158,IF($O$5=\"Course 2\",Général!G$160,IF($O$5=\"Course 3\",Général!G$162,Général!G$164)))","v":"Plymouth"},{"$f":"IF($P$5=\"Course 1\",Général!G$168,IF($P$5=\"Course 2\",Général!G$170,IF($P$5=\"Course 3\",Général!G$172,Général!G$174)))","v":"ST Brieuc 2"},{"$f":"IF($Q$5=\"Course 1\",Général!G$178,IF($Q$5=\"Course 2\",Général!G$180,IF($Q$5=\"Course 3\",Général!G$182,Général!G$184)))","v":"Centrale Nantes 2"},{"$f":"IF($R$5=\"Course 1\",Général!G$188,IF($R$5=\"Course 2\",Général!G$190,IF($R$5=\"Course 3\",Général!G$192,Général!G$194)))","v":"La Rochelle 2"},{"$f":"IF($S$5=\"Course 1\",Général!G$198,IF($S$5=\"Course 2\",Général!G$200,IF($S$5=\"Course 3\",Général!G$202,Général!G$204)))","v":"Orléans"},{"$f":"IF($T$5=\"Course 1\",Général!G$208,IF($T$5=\"Course 2\",Général!G$210,IF($T$5=\"Course 3\",Général!G$212,Général!G$214)))","v":"INSA Lyon"},null,{"$f":"Général!B15","v":"Orléans"},2]
["7ème Equipage",null,{"$f":"IF($C$5=\"Course 1\",Général!H38,IF($C$5=\"Course 2\",Général!H40,IF($C$5=\"Course 3\",Général!H42,Général!H44)))","v":"Univ Nantes 2"},{"$f":"IF($D$5=\"Course 1\",Général!H48,IF($D$5=\"Course 2\",Général!H50,IF($D$5=\"Course 3\",Général!H52,Général!H54)))","v":"Karlsruhe"},{"$f":"IF($E$5=\"Course 1\",Général!H58,IF($E$5=\"Course 2\",Général!H60,IF($E$5=\"Course 3\",Général!H62,Général!H64)))","v":"Centrale Nantes 2"},{"$f":"IF($F$5=\"Course 1\",Général!H$68,IF($F$5=\"Course 2\",Général!H$70,IF($F$5=\"Course 3\",Général!H$72,Général!H$74)))","v":"Intechmer"},{"$f":"IF($G$5=\"Course 1\",Général!H$78,IF($G$5=\"Course 2\",Général!H$80,IF($G$5=\"Course 3\",Général!H$82,Général!H$84)))","v":"La Rochelle 2"},{"$f":"IF($H$5=\"Course 1\",Général!H$88,IF($H$5=\"Course 2\",Général!H$90,IF($H$5=\"Course 3\",Général!H$92,Général!H$94)))","v":"Intechmer"},{"$f":"IF($I$5=\"Course 1\",Général!H$98,IF($I$5=\"Course 2\",Général!H$100,IF($I$5=\"Course 3\",Général!H$102,Général!H$104)))","v":"ST Brieuc 2"},{"$f":"IF($J$5=\"Course 1\",Général!H$108,IF($J$5=\"Course 2\",Général!H$110,IF($J$5=\"Course 3\",Général!H$112,Général!H$114)))","v":"St Brieuc 1"},{"$f":"IF($K$5=\"Course 1\",Général!H$118,IF($K$5=\"Course 2\",Général!H$120,IF($K$5=\"Course 3\",Général!H$122,Général!H$124)))","v":"Intechmer"},{"$f":"IF($L$5=\"Course 1\",Général!H$128,IF($L$5=\"Course 2\",Général!H$130,IF($L$5=\"Course 3\",Général!H$132,Général!H$134)))","v":"UBO 1"},{"$f":"IF($M$5=\"Course 1\",Général!H$138,IF($M$5=\"Course 2\",Général!H$140,IF($M$5=\"Course 3\",Général!H$142,Général!H$144)))","v":"Centrale Nantes 2"},{"$f":"IF($N$5=\"Course 1\",Général!H$148,IF($N$5=\"Course 2\",Général!H$150,IF($N$5=\"Course 3\",Général!H$152,Général!H$154)))","v":"ENSMAC"},{"$f":"IF($O$5=\"Course 1\",Général!H$158,IF($O$5=\"Course 2\",Général!H$160,IF($O$5=\"Course 3\",Général!H$162,Général!H$164)))","v":"Paris Cité"},{"$f":"IF($P$5=\"Course 1\",Général!H$168,IF($P$5=\"Course 2\",Général!H$170,IF($P$5=\"Course 3\",Général!H$172,Général!H$174)))","v":"UNIV Nantes 1"},{"$f":"IF($Q$5=\"Course 1\",Général!H$178,IF($Q$5=\"Course 2\",Général!H$180,IF($Q$5=\"Course 3\",Général!H$182,Général!H$184)))","v":"IMT Brest 1"},{"$f":"IF($R$5=\"Course 1\",Général!H$188,IF($R$5=\"Course 2\",Général!H$190,IF($R$5=\"Course 3\",Général!H$192,Général!H$194)))","v":"UBO 2"},{"$f":"IF($S$5=\"Course 1\",Général!H$198,IF($S$5=\"Course 2\",Général!H$200,IF($S$5=\"Course 3\",Général!H$202,Général!H$204)))","v":"La Rochelle 1"},{"$f":"IF($T$5=\"Course 1\",Général!H$208,IF($T$5=\"Course 2\",Général!H$210,IF($T$5=\"Course 3\",Général!H$212,Général!H$214)))","v":"Univ Nantes 2"},null,{"$f":"Général!B16","v":"IMT Brest 1"},5]
["8ème Equipage",null,{"$f":"IF($C$5=\"Course 1\",Général!I38,IF($C$5=\"Course 2\",Général!I40,IF($C$5=\"Course 3\",Général!I42,Général!I44)))","v":"INSA Lyon"},{"$f":"IF($D$5=\"Course 1\",Général!I48,IF($D$5=\"Course 2\",Général!I50,IF($D$5=\"Course 3\",Général!I52,Général!I54)))","v":"Centrale Nantes 1"},{"$f":"IF($E$5=\"Course 1\",Général!I58,IF($E$5=\"Course 2\",Général!I60,IF($E$5=\"Course 3\",Général!I62,Général!I64)))","v":"Unicaen 2"},{"$f":"IF($F$5=\"Course 1\",Général!I$68,IF($F$5=\"Course 2\",Général!I$70,IF($F$5=\"Course 3\",Général!I$72,Général!I$74)))","v":"Southampton"},{"$f":"IF($G$5=\"Course 1\",Général!I$78,IF($G$5=\"Course 2\",Général!I$80,IF($G$5=\"Course 3\",Général!I$82,Général!I$84)))","v":"Centrale Nantes 2"},{"$f":"IF($H$5=\"Course 1\",Général!I$88,IF($H$5=\"Course 2\",Général!I$90,IF($H$5=\"Course 3\",Général!I$92,Général!I$94)))","v":"Unicaen 1"},{"$f":"IF($I$5=\"Course 1\",Général!I$98,IF($I$5=\"Course 2\",Général!I$100,IF($I$5=\"Course 3\",Général!I$102,Général!I$104)))","v":"UBO 2"},{"$f":"IF($J$5=\"Course 1\",Général!I$108,IF($J$5=\"Course 2\",Général!I$110,IF($J$5=\"Course 3\",Général!I$112,Général!I$114)))","v":"Paris Cité"},{"$f":"IF($K$5=\"Course 1\",Général!I$118,IF($K$5=\"Course 2\",Général!I$120,IF($K$5=\"Course 3\",Général!I$122,Général!I$124)))","v":"Karlsruhe"},{"$f":"IF($L$5=\"Course 1\",Général!I$128,IF($L$5=\"Course 2\",Général!I$130,IF($L$5=\"Course 3\",Général!I$132,Général!I$134)))","v":"Unicaen 2"},{"$f":"IF($M$5=\"Course 1\",Général!I$138,IF($M$5=\"Course 2\",Général!I$140,IF($M$5=\"Course 3\",Général!I$142,Général!I$144)))","v":"Unicaen 2"},{"$f":"IF($N$5=\"Course 1\",Général!I$148,IF($N$5=\"Course 2\",Général!I$150,IF($N$5=\"Course 3\",Général!I$152,Général!I$154)))","v":"Univ Nantes 3"},{"$f":"IF($O$5=\"Course 1\",Général!I$158,IF($O$5=\"Course 2\",Général!I$160,IF($O$5=\"Course 3\",Général!I$162,Général!I$164)))","v":"Centrale Nantes 2"},{"$f":"IF($P$5=\"Course 1\",Général!I$168,IF($P$5=\"Course 2\",Général!I$170,IF($P$5=\"Course 3\",Général!I$172,Général!I$174)))","v":"Centrale Nantes 2"},{"$f":"IF($Q$5=\"Course 1\",Général!I$178,IF($Q$5=\"Course 2\",Général!I$180,IF($Q$5=\"Course 3\",Général!I$182,Général!I$184)))","v":"Univ Nantes 3"},{"$f":"IF($R$5=\"Course 1\",Général!I$188,IF($R$5=\"Course 2\",Général!I$190,IF($R$5=\"Course 3\",Général!I$192,Général!I$194)))","v":"Plymouth"},{"$f":"IF($S$5=\"Course 1\",Général!I$198,IF($S$5=\"Course 2\",Général!I$200,IF($S$5=\"Course 3\",Général!I$202,Général!I$204)))","v":"UBO 2"},{"$f":"IF($T$5=\"Course 1\",Général!I$208,IF($T$5=\"Course 2\",Général!I$210,IF($T$5=\"Course 3\",Général!I$212,Général!I$214)))","v":"UNIV Nantes 1"},null,{"$f":"Général!B17","v":"ENSMAC"},7]
["9ème Equipage",null,{"$f":"IF($C$5=\"Course 1\",Général!J38,IF($C$5=\"Course 2\",Général!J40,IF($C$5=\"Course 3\",Général!J42,Général!J44)))","v":"Centrale Nantes 1"},{"$f":"IF($D$5=\"Course 1\",Général!J48,IF($D$5=\"Course 2\",Général!J50,IF($D$5=\"Course 3\",Général!J52,Général!J54)))","v":"INSA Lyon"},{"$f":"IF($E$5=\"Course 1\",Général!J58,IF($E$5=\"Course 2\",Général!J60,IF($E$5=\"Course 3\",Général!J62,Général!J64)))","v":"ENSTA 1"},{"$f":"IF($F$5=\"Course 1\",Général!J$68,IF($F$5=\"Course 2\",Général!J$70,IF($F$5=\"Course 3\",Général!J$72,Général!J$74)))","v":"IMT Nantes"},{"$f":"IF($G$5=\"Course 1\",Général!J$78,IF($G$5=\"Course 2\",Général!J$80,IF($G$5=\"Course 3\",Général!J$82,Général!J$84)))","v":"UBS Lorient 2"},{"$f":"IF($H$5=\"Course 1\",Général!J$88,IF($H$5=\"Course 2\",Général!J$90,IF($H$5=\"Course 3\",Général!$J92,Général!J$94)))","v":"Centrale Nantes 2"},{"$f":"IF($I$5=\"Course 1\",Général!J$98,IF($I$5=\"Course 2\",Général!J$100,IF($I$5=\"Course 3\",Général!J$102,Général!J$104)))","v":"Paris Cité"},{"$f":"IF($J$5=\"Course 1\",Général!J$108,IF($J$5=\"Course 2\",Général!J$110,IF($J$5=\"Course 3\",Général!J$112,Général!J$114)))","v":"UBO 1"},{"$f":"IF($K$5=\"Course 1\",Général!J$118,IF($K$5=\"Course 2\",Général!J$120,IF($K$5=\"Course 3\",Général!J$122,Général!J$124)))","v":"Centrale Nantes 2"},{"$f":"IF($L$5=\"Course 1\",Général!J$128,IF($L$5=\"Course 2\",Général!J$130,IF($L$5=\"Course 3\",Général!J$132,Général!J$134)))","v":"Centrale Nantes 2"},{"$f":"IF($M$5=\"Course 1\",Général!J$138,IF($M$5=\"Course 2\",Général!J$140,IF($M$5=\"Course 3\",Général!J$142,Général!J$144)))","v":"IMT Nantes"},{"$f":"IF($N$5=\"Course 1\",Général!J$148,IF($N$5=\"Course 2\",Général!J$150,IF($N$5=\"Course 3\",Général!J$152,Général!J$154)))","v":"ENSTA 2"},{"$f":"IF($O$5=\"Course 1\",Général!J$158,IF($O$5=\"Course 2\",Général!J$160,IF($O$5=\"Course 3\",Général!J$162,Général!J$164)))","v":"Intechmer"},{"$f":"IF($P$5=\"Course 1\",Général!J$168,IF($P$5=\"Course 2\",Général!J$170,IF($P$5=\"Course 3\",Général!J$172,Général!J$174)))","v":"Southampton"},{"$f":"IF($Q$5=\"Course 1\",Général!J$178,IF($Q$5=\"Course 2\",Général!J$180,IF($Q$5=\"Course 3\",Général!J$182,Général!J$184)))","v":"Intechmer"},{"$f":"IF($R$5=\"Course 1\",Général!J$188,IF($R$5=\"Course 2\",Général!J$190,IF($R$5=\"Course 3\",Général!J$192,Général!J$194)))","v":"UNIV Nantes 1"},{"$f":"IF($S$5=\"Course 1\",Général!J$198,IF($S$5=\"Course 2\",Général!J$200,IF($S$5=\"Course 3\",Général!J$202,Général!J$204)))","v":"Karlsruhe"},{"$f":"IF($T$5=\"Course 1\",Général!J$208,IF($T$5=\"Course 2\",Général!J$210,IF($T$5=\"Course 3\",Général!J$212,Général!J$214)))","v":"Centrale Nantes 2"},null,{"$f":"Général!B18","v":"St Brieuc 1"},4]
["10ème Equipage",null,{"$f":"IF($C$5=\"Course 1\",Général!K38,IF($C$5=\"Course 2\",Général!K40,IF($C$5=\"Course 3\",Général!K42,Général!K44)))","v":"Centrale Nantes 2"},{"$f":"IF($D$5=\"Course 1\",Général!K48,IF($D$5=\"Course 2\",Général!K50,IF($D$5=\"Course 3\",Général!K52,Général!K54)))","v":"Unicaen 1"},{"$f":"IF($E$5=\"Course 1\",Général!K58,IF($E$5=\"Course 2\",Général!K60,IF($E$5=\"Course 3\",Général!K62,Général!K64)))","v":"Karlsruhe"},{"$f":"IF($F$5=\"Course 1\",Général!K$68,IF($F$5=\"Course 2\",Général!K$70,IF($F$5=\"Course 3\",Général!K$72,Général!K$74)))","v":"UBO 2"},{"$f":"IF($G$5=\"Course 1\",Général!K$78,IF($G$5=\"Course 2\",Général!K$80,IF($G$5=\"Course 3\",Général!K$82,Général!K$84)))","v":"UBS Lorient 1"},{"$f":"IF($H$5=\"Course 1\",Général!K$88,IF($H$5=\"Course 2\",Général!K$90,IF($H$5=\"Course 3\",Général!$K92,Général!K$94)))","v":"Univ Nantes 3"},{"$f":"IF($I$5=\"Course 1\",Général!K$98,IF($I$5=\"Course 2\",Général!K$100,IF($I$5=\"Course 3\",Général!K$102,Général!K$104)))","v":"St Brieuc 1"},{"$f":"IF($J$5=\"Course 1\",Général!K$108,IF($J$5=\"Course 2\",Général!K$110,IF($J$5=\"Course 3\",Général!K$112,Général!K$114)))","v":"Univ Nantes 3"},{"$f":"IF($K$5=\"Course 1\",Général!K$118,IF($K$5=\"Course 2\",Général!K$120,IF($K$5=\"Course 3\",Général!K$122,Général!K$124)))","v":"ST Brieuc 2"},{"$f":"IF($L$5=\"Course 1\",Général!K$128,IF($L$5=\"Course 2\",Général!K$130,IF($L$5=\"Course 3\",Général!K$132,Général!K$134)))","v":"La Rochelle 1"},{"$f":"IF($M$5=\"Course 1\",Général!K$138,IF($M$5=\"Course 2\",Général!K$140,IF($M$5=\"Course 3\",Général!K$142,Général!K$144)))","v":"INSA Lyon"},{"$f":"IF($N$5=\"Course 1\",Général!K$148,IF($N$5=\"Course 2\",Général!K$150,IF($N$5=\"Course 3\",Général!K$152,Général!K$154)))","v":"ENSTA 1"},{"$f":"IF($O$5=\"Course 1\",Général!K$158,IF($O$5=\"Course 2\",Général!K$160,IF($O$5=\"Course 3\",Général!K$162,Général!K$164)))","v":"IMT Brest 2"},{"$f":"IF($P$5=\"Course 1\",Général!K$168,IF($P$5=\"Course 2\",Général!K$170,IF($P$5=\"Course 3\",Général!K$172,Général!K$174)))","v":"UBO 2"},{"$f":"IF($Q$5=\"Course 1\",Général!K$178,IF($Q$5=\"Course 2\",Général!K$180,IF($Q$5=\"Course 3\",Général!K$182,Général!K$184)))","v":"ST Brieuc 2"},{"$f":"IF($R$5=\"Course 1\",Général!K$188,IF($R$5=\"Course 2\",Général!K$190,IF($R$5=\"Course 3\",Général!K$192,Général!K$194)))","v":"Centrale Nantes 2"},{"$f":"IF($S$5=\"Course 1\",Général!K$198,IF($S$5=\"Course 2\",Général!K$200,IF($S$5=\"Course 3\",Général!K$202,Général!K$204)))","v":"Univ Nantes 2"},{"$f":"IF($T$5=\"Course 1\",Général!K$208,IF($T$5=\"Course 2\",Général!K$210,IF($T$5=\"Course 3\",Général!K$212,Général!K$214)))","v":"Paris Cité"},null,{"$f":"Général!B19","v":"Hannover"},1]
[null,null,null,null,null,null,null,null,null,null,null,null,null,null,null,null,null,null,null,null,null,{"$f":"Général!B20","v":"ENSTA 2"},7]
[null,null,null,null,null,null,null,null,null,null,null,null,null,null,null,null,null,null,null,null,null,{"$f":"Général!B21","v":"Southampton"},5]
[null,null,null,null,null,null,null,null,null,null,null,null,null,null,null,null,null,null,null,null,null,{"$f":"Général!B22","v":"La Rochelle 1"},4]
[null,null,null,null,null,null,null,null,null,null,null,null,null,null,null,null,null,null,null,null,null,{"$f":"Général!B23","v":"Centrale Nantes 1"},5]
[null,null,null,null,null,null,null,null,null,null,null,null,null,null,null,null,null,null,null,null,null,{"$f":"Général!B24","v":"ST Brieuc 2"},5]
[null,null,null,null,null,null,null,null,null,null,null,null,null,null,null,null,null,null,null,null,null,{"$f":"Général!B25","v":"UNIV Nantes 1"},6]
[null,null,null,null,null,null,null,null,null,null,null,null,null,null,null,null,null,null,null,null,null,{"$f":"Général!B26","v":"Intechmer"},9]
[null,null,null,null,null,null,null,null,null,null,null,null,null,null,null,null,null,null,null,null,null,{"$f":"Général!B27","v":"IMT Nantes"},2]
[null,null,null,null,null,null,null,null,null,null,null,null,null,null,null,null,null,null,null,null,null,{"$f":"Général!B28","v":"INSA Lyon"},8]
[null,null,null,null,null,null,null,null,null,null,null,null,null,null,null,null,null,null,null,null,null,{"$f":"Général!B29","v":"Centrale Nantes 2"},16]
[null,null,null,null,null,null,null,null,null,null,null,null,null,null,null,null,null,null,null,null,null,{"$f":"Général!B30","v":"UBS Lorient 2"},4]
[null,null,null,null,null,null,null,null,null,null,null,null,null,null,null,null,null,null,null,null,null,{"$f":"Général!B31","v":"La Rochelle 2"},6]
[null,null,null,null,null,null,null,null,null,null,null,null,null,null,null,null,null,null,null,null,null,{"$f":"Général!B32","v":"UBO 1"},8]
[null,null,null,null,null,null,null,null,null,null,null,null,null,null,null,null,null,null,null,null,null,{"$f":"Général!B33","v":"Eq.31"},0]
[null,null,null,null,null,null,null,null,null,null,null,null,null,null,null,null,null,null,null,null,null,{"$f":"Général!B34","v":"Eq.32"},0]

{"sheet":"Eq.28","index":33,"n_rows":32,"n_cols":23,"rows_kept":32,"cut":false,"hidden":false,"merged":[[7,0,7,1],[0,0,1,5],[0,6,1,10],[3,0,3,1],[4,0,4,1],[5,0,5,1],[14,0,14,1],[15,0,15,1],[16,0,16,1],[8,0,8,1],[9,0,9,1],[10,0,10,1],[11,0,11,1],[12,0,12,1],[13,0,13,1]]}
["Equipage ",null,null,null,null,null,{"$f":"Général!B30","v":"UBS Lorient 2"},null,null,null,null,null,null,null,null,null,null,null,null,null,null,{"$f":"Général!B3","v":"UBO 2"},{"$f":"COUNTIF(C$8:T$16,V1)","v":6}]
[null,null,null,null,null,null,null,null,null,null,null,null,null,null,null,null,null,null,null,null,null,{"$f":"Général!B4","v":"Paris Sorbone"},{"$f":"COUNTIF($C$8:$T$16,V2)","v":5}]
[null,null,null,null,null,null,null,null,null,null,null,null,null,null,null,null,null,null,null,null,null,{"$f":"Général!B5","v":"UBS Lorient 1"},{"$f":"COUNTIF($C$8:$T$16,V3)","v":6}]
[null,null,"FLIGHT 1","FLIGHT 2","FLIGHT 3","FLIGHT 4","FLIGHT 5","FLIGHT 6","FLIGHT 7","FLIGHT 8","FLIGHT 9","FLIGHT 10","FLIGHT 11","FLIGHT 12","FLIGHT 13","FLIGHT 14","FLIGHT 15","FLIGHT 16","FLIGHT 17","FLIGHT 18",null,{"$f":"Général!B6","v":"Univ Nantes 3"},6]
["N° de course",null,{"$f":"IF(COUNTIF(Général!B38:K38,$G$1)=1,\"Course 1\",IF(COUNTIF(Général!B40:K40,$G$1)=1,\"Course 2\",IF(COUNTIF(Général!B42:K42,$G$1)=1,\"Course 3\",\"Course 4\")))","v":"Course 2"},{"$f":"IF(COUNTIF(Général!B48:K48,$G$1)=1,\"Course 1\",IF(COUNTIF(Général!B50:K50,$G$1)=1,\"Course 2\",IF(COUNTIF(Général!B52:K52,$G$1)=1,\"Course 3\",\"Course 4\")))","v":"Course 2"},{"$f":"IF(COUNTIF(Général!B58:K58,$G$1)=1,\"Course 1\",IF(COUNTIF(Général!B60:K60,$G$1)=1,\"Course 2\",IF(COUNTIF(Général!B62:K62,$G$1)=1,\"Course 3\",\"Course 4\")))","v":"Course 1"},{"$f":"IF(COUNTIF(Général!B68:K68,$G$1)=1,\"Course 1\",IF(COUNTIF(Général!B70:K70,$G$1)=1,\"Course 2\",IF(COUNTIF(Général!B72:K72,$G$1)=1,\"Course 3\",\"Course 4\")))","v":"Course 2"},{"$f":"IF(COUNTIF(Général!B78:K78,$G$1)=1,\"Course 1\",IF(COUNTIF(Général!B80:K80,$G$1)=1,\"Course 2\",IF(COUNTIF(Général!B82:K82,$G$1)=1,\"Course 3\",\"Course 4\")))","v":"Course 2"},{"$f":"IF(COUNTIF(Général!B88:K88,$G$1)=1,\"Course 1\",IF(COUNTIF(Général!B90:K90,$G$1)=1,\"Course 2\",IF(COUNTIF(Général!B92:K92,$G$1)=1,\"Course 3\",\"Course 4\")))","v":"Course 3"},{"$f":"IF(COUNTIF(Général!B98:K98,$G$1)=1,\"Course 1\",IF(COUNTIF(Général!B100:K100,$G$1)=1,\"Course 2\",IF(COUNTIF(Général!B102:K102,$G$1)=1,\"Course 3\",\"Course 4\")))","v":"Course 1"},{"$f":"IF(COUNTIF(Général!B108:K108,$G$1)=1,\"Course 1\",IF(COUNTIF(Général!B110:K110,$G$1)=1,\"Course 2\",IF(COUNTIF(Général!B112:K112,$G$1)=1,\"Course 3\",\"Course 4\")))","v":"Course 3"},{"$f":"IF(COUNTIF(Général!B118:K118,$G$1)=1,\"Course 1\",IF(COUNTIF(Général!B120:K120,$G$1)=1,\"Course 2\",IF(COUNTIF(Général!B122:K122,$G$1)=1,\"Course 3\",\"Course 4\")))","v":"Course 1"},{"$f":"IF(COUNTIF(Général!B128:K128,$G$1)=1,\"Course 1\",IF(COUNTIF(Général!B130:K130,$G$1)=1,\"Course 2\",IF(COUNTIF(Général!B132:K132,$G$1)=1,\"Course 3\",\"Course 4\")))","v":"Course 2"},{"$f":"IF(COUNTIF(Général!B138:K138,$G$1)=1,\"Course 1\",IF(COUNTIF(Général!B140:K140,$G$1)=1,\"Course 2\",IF(COUNTIF(Général!B142:K142,$G$1)=1,\"Course 3\",\"Course 4\")))","v":"Course 2"},{"$f":"IF(COUNTIF(Général!B148:K148,$G$1)=1,\"Course 1\",IF(COUNTIF(Général!B150:K150,$G$1)=1,\"Course 2\",IF(COUNTIF(Général!B152:K152,$G$1)=1,\"Course 3\",\"Course 4\")))","v":"Course 2"},{"$f":"IF(COUNTIF(Général!B158:K158,$G$1)=1,\"Course 1\",IF(COUNTIF(Général!B160:K160,$G$1)=1,\"Course 2\",IF(COUNTIF(Général!B162:K162,$G$1)=1,\"Course 3\",\"Course 4\")))","v":"Course 3"},{"$f":"IF(COUNTIF(Général!B168:K168,$G$1)=1,\"Course 1\",IF(COUNTIF(Général!B170:K170,$G$1)=1,\"Course 2\",IF(COUNTIF(Général!B172:K172,$G$1)=1,\"Course 3\",\"Course 4\")))","v":"Course 3"},{"$f":"IF(COUNTIF(Général!B178:K178,$G$1)=1,\"Course 1\",IF(COUNTIF(Général!B180:K180,$G$1)=1,\"Course 2\",IF(COUNTIF(Général!B182:K182,$G$1)=1,\"Course 3\",\"Course 4\")))","v":"Course 1"},{"$f":"IF(COUNTIF(Général!B188:K188,$G$1)=1,\"Course 1\",IF(COUNTIF(Général!B190:K190,$G$1)=1,\"Course 2\",IF(COUNTIF(Général!B192:K192,$G$1)=1,\"Course 3\",\"Course 4\")))","v":"Course 2"},{"$f":"IF(COUNTIF(Général!B198:K198,$G$1)=1,\"Course 1\",IF(COUNTIF(Général!B200:K200,$G$1)=1,\"Course 2\",IF(COUNTIF(Général!B202:K202,$G$1)=1,\"Course 3\",\"Course 4\")))","v":"Course 3"},{"$f":"IF(COUNTIF(Général!B208:K208,$G$1)=1,\"Course 1\",IF(COUNTIF(Général!B210:K210,$G$1)=1,\"Course 2\",IF(COUNTIF(Général!B212:K212,$G$1)=1,\"Course 3\",\"Course 4\")))","v":"Course 1"},null,{"$f":"Général!B7","v":"Paris Cité"},5]
["Bateau",null,{"$f":"IF(COUNTIF(Général!B38:B44,$G$1)=1,\"Boat 1\",IF(COUNTIF(Général!C38:C44,$G$1)=1,\"Boat 2\",IF(COUNTIF(Général!D38:D44,$G$1)=1,\"Boat 3\", IF(COUNTIF(Général!E38:E44,$G$1)=1,\"Boat 4\", IF(COUNTIF(Général!F38:F44,$G$1)=1,\"Boat 5\", IF(COUNTIF(Général!G38:G44,$G$1)=1,\"Boat 6\", IF(COUNTIF(Général!H38:H44,$G$1)=1,\"Boat 7\",IF(COUNTIF(Général!I38:I44,$G$1)=1,\"Boat 8\",\"Boat 9\"))))))))","v":"Boat 2"},{"$f":"IF(COUNTIF(Général!B48:B54,$G$1)=1,\"Boat 1\",IF(COUNTIF(Général!C48:C54,$G$1)=1,\"Boat 2\",IF(COUNTIF(Général!D48:D54,$G$1)=1,\"Boat 3\", IF(COUNTIF(Général!E48:E54,$G$1)=1,\"Boat 4\", IF(COUNTIF(Général!F48:F54,$G$1)=1,\"Boat 5\", IF(COUNTIF(Général!G48:G54,$G$1)=1,\"Boat 6\", IF(COUNTIF(Général!H48:H54,$G$1)=1,\"Boat 7\",IF(COUNTIF(Général!I38:I44,$G$1)=1,\"Boat 8\",\"Boat 9\"))))))))","v":"Boat 3"},{"$f":"IF(COUNTIF(Général!B58:B64,$G$1)=1,\"Boat 1\",IF(COUNTIF(Général!C58:C64,$G$1)=1,\"Boat 2\",IF(COUNTIF(Général!D58:D64,$G$1)=1,\"Boat 3\", IF(COUNTIF(Général!E58:E64,$G$1)=1,\"Boat 4\", IF(COUNTIF(Général!F58:F64,$G$1)=1,\"Boat 5\", IF(COUNTIF(Général!G58:G64,$G$1)=1,\"Boat 6\", IF(COUNTIF(Général!H58:H64,$G$1)=1,\"Boat 7\",IF(COUNTIF(Général!I38:I44,$G$1)=1,\"Boat 8\",\"Boat 9\"))))))))","v":"Boat 2"},{"$f":"IF(COUNTIF(Général!B68:B74,$G$1)=1,\"Boat 1\",IF(COUNTIF(Général!C68:C74,$G$1)=1,\"Boat 2\",IF(COUNTIF(Général!D68:D74,$G$1)=1,\"Boat 3\", IF(COUNTIF(Général!E68:E74,$G$1)=1,\"Boat 4\", IF(COUNTIF(Général!F68:F74,$G$1)=1,\"Boat 5\", IF(COUNTIF(Général!G68:G74,$G$1)=1,\"Boat 6\", IF(COUNTIF(Général!H68:H74,$G$1)=1,\"Boat 7\",IF(COUNTIF(Général!I38:I44,$G$1)=1,\"Boat 8\",\"Boat 9\"))))))))","v":"Boat 7"},{"$f":"IF(COUNTIF(Général!B78:B84,$G$1)=1,\"Boat 1\",IF(COUNTIF(Général!C78:C84,$G$1)=1,\"Boat 2\",IF(COUNTIF(Général!D78:D84,$G$1)=1,\"Boat 3\", IF(COUNTIF(Général!E78:E84,$G$1)=1,\"Boat 4\", IF(COUNTIF(Général!F78:F84,$G$1)=1,\"Boat 5\", IF(COUNTIF(Général!G78:G84,$G$1)=1,\"Boat 6\", IF(COUNTIF(Général!H78:H84,$G$1)=1,\"Boat 7\",IF(COUNTIF(Général!I38:I44,$G$1)=1,\"Boat 8\",\"Boat 9\"))))))))","v":"Boat 9"},{"$f":"IF(COUNTIF(Général!B88:B94,$G$1)=1,\"Boat 1\",IF(COUNTIF(Général!C88:C94,$G$1)=1,\"Boat 2\",IF(COUNTIF(Général!D88:D94,$G$1)=1,\"Boat 3\", IF(COUNTIF(Général!E88:E94,$G$1)=1,\"Boat 4\", IF(COUNTIF(Général!F88:F94,$G$1)=1,\"Boat 5\", IF(COUNTIF(Général!G88:G94,$G$1)=1,\"Boat 6\", IF(COUNTIF(Général!H88:H94,$G$1)=1,\"Boat 7\",IF(COUNTIF(Général!I38:I44,$G$1)=1,\"Boat 8\",\"Boat 9\"))))))))","v":"Boat 3"},{"$f":"IF(COUNTIF(Général!B98:B104,$G$1)=1,\"Boat 1\",IF(COUNTIF(Général!C98:C104,$G$1)=1,\"Boat 2\",IF(COUNTIF(Général!D98:D104,$G$1)=1,\"Boat 3\", IF(COUNTIF(Général!E98:E104,$G$1)=1,\"Boat 4\", IF(COUNTIF(Général!F98:F104,$G$1)=1,\"Boat 5\", IF(COUNTIF(Général!G98:G104,$G$1)=1,\"Boat 6\", IF(COUNTIF(Général!H98:H104,$G$1)=1,\"Boat 7\",IF(COUNTIF(Général!I38:I44,$G$1)=1,\"Boat 8\",\"Boat 9\"))))))))","v":"Boat 3"},{"$f":"IF(COUNTIF(Général!B108:B114,$G$1)=1,\"Boat 1\",IF(COUNTIF(Général!C108:C114,$G$1)=1,\"Boat 2\",IF(COUNTIF(Général!D108:D114,$G$1)=1,\"Boat 3\", IF(COUNTIF(Général!E108:E114,$G$1)=1,\"Boat 4\", IF(COUNTIF(Général!F108:F114,$G$1)=1,\"Boat 5\", IF(COUNTIF(Général!G108:G114,$G$1)=1,\"Boat 6\", IF(COUNTIF(Général!H108:H114,$G$1)=1,\"Boat 7\",IF(COUNTIF(Général!I38:I44,$G$1)=1,\"Boat 8\",\"Boat 9\"))))))))","v":"Boat 4"},{"$f":"IF(COUNTIF(Général!B118:B124,$G$1)=1,\"Boat 1\",IF(COUNTIF(Général!C118:C124,$G$1)=1,\"Boat 2\",IF(COUNTIF(Général!D118:D124,$G$1)=1,\"Boat 3\", IF(COUNTIF(Général!E118:E124,$G$1)=1,\"Boat 4\", IF(COUNTIF(Général!F118:F124,$G$1)=1,\"Boat 5\", IF(COUNTIF(Général!G118:G124,$G$1)=1,\"Boat 6\", IF(COUNTIF(Général!H118:H124,$G$1)=1,\"Boat 7\",IF(COUNTIF(Général!I38:I44,$G$1)=1,\"Boat 8\",\"Boat 9\"))))))))","v":"Boat 4"},{"$f":"IF(COUNTIF(Général!B128:B134,$G$1)=1,\"Boat 1\",IF(COUNTIF(Général!C128:C134,$G$1)=1,\"Boat 2\",IF(COUNTIF(Général!D128:D134,$G$1)=1,\"Boat 3\", IF(COUNTIF(Général!E128:E134,$G$1)=1,\"Boat 4\", IF(COUNTIF(Général!F128:F134,$G$1)=1,\"Boat 5\", IF(COUNTIF(Général!G128:G134,$G$1)=1,\"Boat 6\", IF(COUNTIF(Général!H128:H134,$G$1)=1,\"Boat 7\",IF(COUNTIF(Général!I38:I44,$G$1)=1,\"Boat 8\",\"Boat 9\"))))))))","v":"Boat 9"},{"$f":"IF(COUNTIF(Général!B138:B144,$G$1)=1,\"Boat 1\",IF(COUNTIF(Général!C138:C144,$G$1)=1,\"Boat 2\",IF(COUNTIF(Général!C138:D144,$G$1)=1,\"Boat 3\", IF(COUNTIF(Général!C138:E144,$G$1)=1,\"Boat 4\", IF(COUNTIF(Général!F138:F144,$G$1)=1,\"Boat 5\", IF(COUNTIF(Général!G138:G144,$G$1)=1,\"Boat 6\", IF(COUNTIF(Général!H138:H144,$G$1)=1,\"Boat 7\",IF(COUNTIF(Général!I38:I44,$G$1)=1,\"Boat 8\",\"Boat 9\"))))))))","v":"Boat 9"},{"$f":"IF(COUNTIF(Général!B148:B154,$G$1)=1,\"Boat 1\",IF(COUNTIF(Général!C148:C154,$G$1)=1,\"Boat 2\",IF(COUNTIF(Général!D148:D154,$G$1)=1,\"Boat 3\", IF(COUNTIF(Général!E148:E154,$G$1)=1,\"Boat 4\", IF(COUNTIF(Général!F148:F154,$G$1)=1,\"Boat 5\", IF(COUNTIF(Général!G148:G154,$G$1)=1,\"Boat 6\", IF(COUNTIF(Général!H148:H154,$G$1)=1,\"Boat 7\",IF(COUNTIF(Général!I38:I44,$G$1)=1,\"Boat 8\",\"Boat 9\"))))))))","v":"Boat 1"},{"$f":"IF(COUNTIF(Général!B158:B164,$G$1)=1,\"Boat 1\",IF(COUNTIF(Général!C158:C164,$G$1)=1,\"Boat 2\",IF(COUNTIF(Général!D160:D164,$G$1)=1,\"Boat 3\", IF(COUNTIF(Général!E158:E164,$G$1)=1,\"Boat 4\", IF(COUNTIF(Général!F158:F164,$G$1)=1,\"Boat 5\", IF(COUNTIF(Général!G158:G164,$G$1)=1,\"Boat 6\", IF(COUNTIF(Général!H158:H164,$G$1)=1,\"Boat 7\",IF(COUNTIF(Général!I38:I44,$G$1)=1,\"Boat 8\",\"Boat 9\"))))))))","v":"Boat 9"},{"$f":"IF(COUNTIF(Général!B168:B174,$G$1)=1,\"Boat 1\",IF(COUNTIF(Général!C168:C174,$G$1)=1,\"Boat 2\",IF(COUNTIF(Général!D168:D174,$G$1)=1,\"Boat 3\", IF(COUNTIF(Général!E168:E174,$G$1)=1,\"Boat 4\", IF(COUNTIF(Général!F178:F184,$G$1)=1,\"Boat 5\", IF(COUNTIF(Général!G178:G184,$G$1)=1,\"Boat 6\", IF(COUNTIF(Général!H178:H184,$G$1)=1,\"Boat 7\",IF(COUNTIF(Général!I38:I44,$G$1)=1,\"Boat 8\",\"Boat 9\"))))))))","v":"Boat 6"},{"$f":"IF(COUNTIF(Général!B178:B184,$G$1)=1,\"Boat 1\",IF(COUNTIF(Général!C178:C184,$G$1)=1,\"Boat 2\",IF(COUNTIF(Général!D178:D184,$G$1)=1,\"Boat 3\", IF(COUNTIF(Général!E178:E184,$G$1)=1,\"Boat 4\", IF(COUNTIF(Général!F178:F184,$G$1)=1,\"Boat 5\", IF(COUNTIF(Général!G178:G184,$G$1)=1,\"Boat 6\", IF(COUNTIF(Général!H178:H184,$G$1)=1,\"Boat 7\",IF(COUNTIF(Général!I38:I44,$G$1)=1,\"Boat 8\",\"Boat 9\"))))))))","v":"Boat 6"},{"$f":"IF(COUNTIF(Général!B188:B194,$G$1)=1,\"Boat 1\",IF(COUNTIF(Général!C188:C194,$G$1)=1,\"Boat 2\",IF(COUNTIF(Général!D188:D194,$G$1)=1,\"Boat 3\", IF(COUNTIF(Général!E188:E194,$G$1)=1,\"Boat 4\", IF(COUNTIF(Général!F188:F194,$G$1)=1,\"Boat 5\", IF(COUNTIF(Général!G188:G194,$G$1)=1,\"Boat 6\", IF(COUNTIF(Général!H188:H194,$G$1)=1,\"Boat 7\",IF(COUNTIF(Général!I38:I44,$G$1)=1,\"Boat 8\",\"Boat 9\"))))))))","v":"Boat 9"},{"$f":"IF(COUNTIF(Général!B198:B204,$G$1)=1,\"Boat 1\",IF(COUNTIF(Général!C198:C204,$G$1)=1,\"Boat 2\",IF(COUNTIF(Général!D198:D204,$G$1)=1,\"Boat 3\", IF(COUNTIF(Général!E198:E204,$G$1)=1,\"Boat 4\", IF(COUNTIF(Général!F198:F204,$G$1)=1,\"Boat 5\", IF(COUNTIF(Général!G198:G204,$G$1)=1,\"Boat 6\", IF(COUNTIF(Général!H198:H204,$G$1)=1,\"Boat 7\",IF(COUNTIF(Général!I38:I44,$G$1)=1,\"Boat 8\",\"Boat 9\"))))))))","v":"Boat 1"},{"$f":"IF(COUNTIF(Général!B208:B214,$G$1)=1,\"Boat 1\",IF(COUNTIF(Général!C208:C214,$G$1)=1,\"Boat 2\",IF(COUNTIF(Général!D208:D214,$G$1)=1,\"Boat 3\", IF(COUNTIF(Général!E208:E214,$G$1)=1,\"Boat 4\", IF(COUNTIF(Général!F208:F214,$G$1)=1,\"Boat 5\", IF(COUNTIF(Général!G208:G214,$G$1)=1,\"Boat 6\", IF(COUNTIF(Général!H208:H214,$G$1)=1,\"Boat 7\",IF(COUNTIF(Général!I38:I44,$G$1)=1,\"Boat 8\",\"Boat 9\"))))))))","v":"Boat 1"},null,{"$f":"Général!B8","v":"Plymouth"},5]
[null,null,null,null,null,null,null,null,null,null,null,null,null,null,null,null,null,null,null,null,null,{"$f":"Général!B9","v":"Unicaen 2"},7]
["1er Equipage",null,{"$f":"IF($C$5=\"Course 1\",Général!B38,IF($C$5=\"Course 2\",Général!B40,IF($C$5=\"Course 3\",Général!B42,Général!B44)))","v":"ST Brieuc 2"},{"$f":"IF($D$5=\"Course 1\",Général!B48,IF($D$5=\"Course 2\",Général!B50,IF($D$5=\"Course 3\",Général!B52,Général!B54)))","v":"St Brieuc 1"},{"$f":"IF($E$5=\"Course 1\",Général!B58,IF($E$5=\"Course 2\",Général!B60,IF($E$5=\"Course 3\",Général!B62,Général!B64)))","v":"Orléans"},{"$f":"IF($F$5=\"Course 1\",Général!B$68,IF($F$5=\"Course 2\",Général!B$70,IF($F$5=\"Course 3\",Général!B$72,Général!B$74)))","v":"Univ Nantes 3"},{"$f":"IF($G$5=\"Course 1\",Général!B$78,IF($G$5=\"Course 2\",Général!B$80,IF($G$5=\"Course 3\",Général!B$82,Général!B$84)))","v":"Plymouth"},{"$f":"IF($H$5=\"Course 1\",Général!B$88,IF($H$5=\"Course 2\",Général!B$90,IF($H$5=\"Course 3\",Général!B$92,Général!B$94)))","v":"Unicaen 2"},{"$f":"IF($I$5=\"Course 1\",Général!B$98,IF($I$5=\"Course 2\",Général!B$100,IF($I$5=\"Course 3\",Général!B$102,Général!B$104)))","v":"Centrale Nantes 2"},{"$f":"IF($J$5=\"Course 1\",Général!B$108,IF($J$5=\"Course 2\",Général!B$110,IF($J$5=\"Course 3\",Général!B$112,Général!B$114)))","v":"UNIV Nantes 1"},{"$f":"IF($K$5=\"Course 1\",Général!B$118,IF($K$5=\"Course 2\",Général!B$120,IF($K$5=\"Course 3\",Général!B$122,Général!B$124)))","v":"UNIV Nantes 1"},{"$f":"IF($L$5=\"Course 1\",Général!B$128,IF($L$5=\"Course 2\",Général!B$130,IF($L$5=\"Course 3\",Général!B$132,Général!B$134)))","v":"Plymouth"},{"$f":"IF($M$5=\"Course 1\",Général!B$138,IF($M$5=\"Course 2\",Général!B$140,IF($M$5=\"Course 3\",Général!B$142,Général!B$144)))","v":"Plymouth"},{"$f":"IF($N$5=\"Course 1\",Général!B$148,IF($N$5=\"Course 2\",Général!B$150,IF($N$5=\"Course 3\",Général!B$152,Général!B$154)))","v":"UBS Lorient 2"},{"$f":"IF($O$5=\"Course 1\",Général!B$158,IF($O$5=\"Course 2\",Général!B$160,IF($O$5=\"Course 3\",Général!B$162,Général!B$164)))","v":"St Brieuc 1"},{"$f":"IF($P$5=\"Course 1\",Général!B$168,IF($P$5=\"Course 2\",Général!B$170,IF($P$5=\"Course 3\",Général!B$172,Général!B$174)))","v":"Plymouth"},{"$f":"IF($Q$5=\"Course 1\",Général!B$178,IF($Q$5=\"Course 2\",Général!B$180,IF($Q$5=\"Course 3\",Général!B$182,Général!B$184)))","v":"Plymouth"},{"$f":"IF($R$5=\"Course 1\",Général!B$188,IF($R$5=\"Course 2\",Général!B$190,IF($R$5=\"Course 3\",Général!B$192,Général!B$194)))","v":"Karlsruhe"},{"$f":"IF($S$5=\"Course 1\",Général!B$198,IF($S$5=\"Course 2\",Général!B$200,IF($S$5=\"Course 3\",Général!B$202,Général!B$204)))","v":"UBS Lorient 2"},{"$f":"IF($T$5=\"Course 1\",Général!B$208,IF($T$5=\"Course 2\",Général!B$210,IF($T$5=\"Course 3\",Général!B$212,Général!B$214)))","v":"UBS Lorient 2"},null,{"$f":"Général!B10","v":"Univ Nantes 2"},8]
["2nd Equipage",null,{"$f":"IF($C$5=\"Course 1\",Général!C38,IF($C$5=\"Course 2\",Général!C40,IF($C$5=\"Course 3\",Général!C42,Général!C44)))","v":"UBS Lorient 2"},{"$f":"IF($D$5=\"Course 1\",Général!C48,IF($D$5=\"Course 2\",Général!C50,IF($D$5=\"Course 3\",Général!C52,Général!C54)))","v":"Univ Nantes 3"},{"$f":"IF($E$5=\"Course 1\",Général!C58,IF($E$5=\"Course 2\",Général!C60,IF($E$5=\"Course 3\",Général!C62,Général!C64)))","v":"UBS Lorient 2"},{"$f":"IF($F$5=\"Course 1\",Général!C$68,IF($F$5=\"Course 2\",Général!C$70,IF($F$5=\"Course 3\",Général!C$72,Général!C$74)))","v":"Paris Cité"},{"$f":"IF($G$5=\"Course 1\",Général!C$78,IF($G$5=\"Course 2\",Général!C$80,IF($G$5=\"Course 3\",Général!C$82,Général!C$84)))","v":"Univ Nantes 3"},{"$f":"IF($H$5=\"Course 1\",Général!C$88,IF($H$5=\"Course 2\",Général!C$90,IF($H$5=\"Course 3\",Général!C$92,Général!C$94)))","v":"Paris Sorbone"},{"$f":"IF($I$5=\"Course 1\",Général!C$98,IF($I$5=\"Course 2\",Général!C$100,IF($I$5=\"Course 3\",Général!C$102,Général!C$104)))","v":"Intechmer"},{"$f":"IF($J$5=\"Course 1\",Général!C$108,IF($J$5=\"Course 2\",Général!C$110,IF($J$5=\"Course 3\",Général!C$112,Général!C$114)))","v":"UBS Lorient 1"},{"$f":"IF($K$5=\"Course 1\",Général!C$118,IF($K$5=\"Course 2\",Général!C$120,IF($K$5=\"Course 3\",Général!C$122,Général!C$124)))","v":"UBS Lorient 1"},{"$f":"IF($L$5=\"Course 1\",Général!C$128,IF($L$5=\"Course 2\",Général!C$130,IF($L$5=\"Course 3\",Général!C$132,Général!C$134)))","v":"ENSMAC"},{"$f":"IF($M$5=\"Course 1\",Général!C$138,IF($M$5=\"Course 2\",Général!C$140,IF($M$5=\"Course 3\",Général!C$142,Général!C$144)))","v":"Karlsruhe"},{"$f":"IF($N$5=\"Course 1\",Général!C$148,IF($N$5=\"Course 2\",Général!C$150,IF($N$5=\"Course 3\",Général!C$152,Général!C$154)))","v":"UBO 1"},{"$f":"IF($O$5=\"Course 1\",Général!C$158,IF($O$5=\"Course 2\",Général!C$160,IF($O$5=\"Course 3\",Général!C$162,Général!C$164)))","v":"Karlsruhe"},{"$f":"IF($P$5=\"Course 1\",Général!C$168,IF($P$5=\"Course 2\",Général!C$170,IF($P$5=\"Course 3\",Général!C$172,Général!C$174)))","v":"La Rochelle 2"},{"$f":"IF($Q$5=\"Course 1\",Général!C$178,IF($Q$5=\"Course 2\",Général!C$180,IF($Q$5=\"Course 3\",Général!C$182,Général!C$184)))","v":"UNIV Nantes 1"},{"$f":"IF($R$5=\"Course 1\",Général!C$188,IF($R$5=\"Course 2\",Général!C$190,IF($R$5=\"Course 3\",Général!C$192,Général!C$194)))","v":"ST Brieuc 2"},{"$f":"IF($S$5=\"Course 1\",Général!C$198,IF($S$5=\"Course 2\",Général!C$200,IF($S$5=\"Course 3\",Général!C$202,Général!C$204)))","v":"Paris Sorbone"},{"$f":"IF($T$5=\"Course 1\",Général!C$208,IF($T$5=\"Course 2\",Général!C$210,IF($T$5=\"Course 3\",Général!C$212,Général!C$214)))","v":"Unicaen 2"},null,{"$f":"Général!B11","v":"Karlsruhe"},6]
["3ème Equipage",null,{"$f":"IF($C$5=\"Course 1\",Général!D38,IF($C$5=\"Course 2\",Général!D40,IF($C$5=\"Course 3\",Général!D42,Général!D44)))","v":"UNIV Nantes 1"},{"$f":"IF($D$5=\"Course 1\",Général!D48,IF($D$5=\"Course 2\",Général!D50,IF($D$5=\"Course 3\",Général!D52,Général!D54)))","v":"UBS Lorient 2"},{"$f":"IF($E$5=\"Course 1\",Général!D58,IF($E$5=\"Course 2\",Général!D60,IF($E$5=\"Course 3\",Général!D62,Général!D64)))","v":"IMT Brest 2"},{"$f":"IF($F$5=\"Course 1\",Général!D$68,IF($F$5=\"Course 2\",Général!D$70,IF($F$5=\"Course 3\",Général!D$72,Général!D$74)))","v":"Unicaen 2"},{"$f":"IF($G$5=\"Course 1\",Général!D$78,IF($G$5=\"Course 2\",Général!D$80,IF($G$5=\"Course 3\",Général!D$82,Général!D$84)))","v":"Paris Sorbone"},{"$f":"IF($H$5=\"Course 1\",Général!D$88,IF($H$5=\"Course 2\",Général!D$90,IF($H$5=\"Course 3\",Général!D$92,Général!D$94)))","v":"UBS Lorient 2"},{"$f":"IF($I$5=\"Course 1\",Général!D$98,IF($I$5=\"Course 2\",Général!D$100,IF($I$5=\"Course 3\",Général!D$102,Général!D$104)))","v":"UBS Lorient 2"},{"$f":"IF($J$5=\"Course 1\",Général!D$108,IF($J$5=\"Course 2\",Général!D$110,IF($J$5=\"Course 3\",Général!D$112,Général!D$114)))","v":"IMT Brest 1"},{"$f":"IF($K$5=\"Course 1\",Général!D$118,IF($K$5=\"Course 2\",Général!D$120,IF($K$5=\"Course 3\",Général!D$122,Général!D$124)))","v":"ENSMAC"},{"$f":"IF($L$5=\"Course 1\",Général!D$128,IF($L$5=\"Course 2\",Général!D$130,IF($L$5=\"Course 3\",Général!D$132,Général!D$134)))","v":"ENSTA 1"},{"$f":"IF($M$5=\"Course 1\",Général!D$138,IF($M$5=\"Course 2\",Général!D$140,IF($M$5=\"Course 3\",Général!D$142,Général!D$144)))","v":"Paris Sorbone"},{"$f":"IF($N$5=\"Course 1\",Général!D$148,IF($N$5=\"Course 2\",Général!D$150,IF($N$5=\"Course 3\",Général!D$152,Général!D$154)))","v":"Centrale Nantes 2"},{"$f":"IF($O$5=\"Course 1\",Général!D$158,IF($O$5=\"Course 2\",Général!D$160,IF($O$5=\"Course 3\",Général!D$162,Général!D$164)))","v":"ENSTA 1"},{"$f":"IF($P$5=\"Course 1\",Général!D$168,IF($P$5=\"Course 2\",Général!D$170,IF($P$5=\"Course 3\",Général!D$172,Général!D$174)))","v":"Karlsruhe"},{"$f":"IF($Q$5=\"Course 1\",Général!D$178,IF($Q$5=\"Course 2\",Général!D$180,IF($Q$5=\"Course 3\",Général!D$182,Général!D$184)))","v":"Univ Nantes 2"},{"$f":"IF($R$5=\"Course 1\",Général!D$188,IF($R$5=\"Course 2\",Général!D$190,IF($R$5=\"Course 3\",Général!D$192,Général!D$194)))","v":"Orléans"},{"$f":"IF($S$5=\"Course 1\",Général!D$198,IF($S$5=\"Course 2\",Général!D$200,IF($S$5=\"Course 3\",Général!D$202,Général!D$204)))","v":"IMT Brest 2"},{"$f":"IF($T$5=\"Course 1\",Général!D$208,IF($T$5=\"Course 2\",Général!D$210,IF($T$5=\"Course 3\",Général!D$212,Général!D$214)))","v":"IMT Brest 2"},null,{"$f":"Général!B12","v":"IMT Brest 2"},7]
["4ème Equipage",null,{"$f":"IF($C$5=\"Course 1\",Général!E38,IF($C$5=\"Course 2\",Général!E40,IF($C$5=\"Course 3\",Général!E42,Général!E44)))","v":"Orléans"},{"$f":"IF($D$5=\"Course 1\",Général!E48,IF($D$5=\"Course 2\",Général!E50,IF($D$5=\"Course 3\",Général!E52,Général!E54)))","v":"ENSTA 2"},{"$f":"IF($E$5=\"Course 1\",Général!E58,IF($E$5=\"Course 2\",Général!E60,IF($E$5=\"Course 3\",Général!E62,Général!E64)))","v":"Paris Sorbone"},{"$f":"IF($F$5=\"Course 1\",Général!E$68,IF($F$5=\"Course 2\",Général!E$70,IF($F$5=\"Course 3\",Général!E$72,Général!E$74)))","v":"Univ Nantes 2"},{"$f":"IF($G$5=\"Course 1\",Général!E$78,IF($G$5=\"Course 2\",Général!E$80,IF($G$5=\"Course 3\",Général!E$82,Général!E$84)))","v":"St Brieuc 1"},{"$f":"IF($H$5=\"Course 1\",Général!E$88,IF($H$5=\"Course 2\",Général!E$90,IF($H$5=\"Course 3\",Général!E$92,Général!E$94)))","v":"UBS Lorient 1"},{"$f":"IF($I$5=\"Course 1\",Général!E$98,IF($I$5=\"Course 2\",Général!E$100,IF($I$5=\"Course 3\",Général!E$102,Général!E$104)))","v":"UNIV Nantes 1"},{"$f":"IF($J$5=\"Course 1\",Général!E$108,IF($J$5=\"Course 2\",Général!E$110,IF($J$5=\"Course 3\",Général!E$112,Général!E$114)))","v":"UBS Lorient 2"},{"$f":"IF($K$5=\"Course 1\",Général!E$118,IF($K$5=\"Course 2\",Général!E$120,IF($K$5=\"Course 3\",Général!E$122,Général!E$124)))","v":"UBS Lorient 2"},{"$f":"IF($L$5=\"Course 1\",Général!E$128,IF($L$5=\"Course 2\",Général!E$130,IF($L$5=\"Course 3\",Général!E$132,Général!E$134)))","v":"Paris Cité"},{"$f":"IF($M$5=\"Course 1\",Général!E$138,IF($M$5=\"Course 2\",Général!E$140,IF($M$5=\"Course 3\",Général!E$142,Général!E$144)))","v":"UBO 2"},{"$f":"IF($N$5=\"Course 1\",Général!E$148,IF($N$5=\"Course 2\",Général!E$150,IF($N$5=\"Course 3\",Général!E$152,Général!E$154)))","v":"UBS Lorient 1"},{"$f":"IF($O$5=\"Course 1\",Général!E$158,IF($O$5=\"Course 2\",Général!E$160,IF($O$5=\"Course 3\",Général!E$162,Général!E$164)))","v":"Univ Nantes 2"},{"$f":"IF($P$5=\"Course 1\",Général!E$168,IF($P$5=\"Course 2\",Général!E$170,IF($P$5=\"Course 3\",Général!E$172,Général!E$174)))","v":"UBO 1"},{"$f":"IF($Q$5=\"Course 1\",Général!E$178,IF($Q$5=\"Course 2\",Général!E$180,IF($Q$5=\"Course 3\",Général!E$182,Général!E$184)))","v":"UBO 1"},{"$f":"IF($R$5=\"Course 1\",Général!E$188,IF($R$5=\"Course 2\",Général!E$190,IF($R$5=\"Course 3\",Général!E$192,Général!E$194)))","v":"Paris Cité"},{"$f":"IF($S$5=\"Course 1\",Général!E$198,IF($S$5=\"Course 2\",Général!E$200,IF($S$5=\"Course 3\",Général!E$202,Général!E$204)))","v":"Centrale Nantes 2"},{"$f":"IF($T$5=\"Course 1\",Général!E$208,IF($T$5=\"Course 2\",Général!E$210,IF($T$5=\"Course 3\",Général!E$212,Général!E$214)))","v":"IMT Nantes"},null,{"$f":"Général!B13","v":"Unicaen 1"},1]
["5ème Equipage",null,{"$f":"IF($C$5=\"Course 1\",Général!F38,IF($C$5=\"Course 2\",Général!F40,IF($C$5=\"Course 3\",Général!F42,Général!F44)))","v":"Unicaen 2"},{"$f":"IF($D$5=\"Course 1\",Général!F48,IF($D$5=\"Course 2\",Général!F50,IF($D$5=\"Course 3\",Général!F52,Général!F54)))","v":"ST Brieuc 2"},{"$f":"IF($E$5=\"Course 1\",Général!F58,IF($E$5=\"Course 2\",Général!F60,IF($E$5=\"Course 3\",Général!F62,Général!F64)))","v":"Univ Nantes 2"},{"$f":"IF($F$5=\"Course 1\",Général!F$68,IF($F$5=\"Course 2\",Général!F$70,IF($F$5=\"Course 3\",Général!F$72,Général!F$74)))","v":"La Rochelle 2"},{"$f":"IF($G$5=\"Course 1\",Général!F$78,IF($G$5=\"Course 2\",Général!F$80,IF($G$5=\"Course 3\",Général!F$82,Général!F$84)))","v":"INSA Lyon"},{"$f":"IF($H$5=\"Course 1\",Général!F$88,IF($H$5=\"Course 2\",Général!F$90,IF($H$5=\"Course 3\",Général!F$92,Général!F$94)))","v":"IMT Brest 1"},{"$f":"IF($I$5=\"Course 1\",Général!F$98,IF($I$5=\"Course 2\",Général!F$100,IF($I$5=\"Course 3\",Général!F$102,Général!F$104)))","v":"IMT Brest 1"},{"$f":"IF($J$5=\"Course 1\",Général!F$108,IF($J$5=\"Course 2\",Général!F$110,IF($J$5=\"Course 3\",Général!F$112,Général!F$114)))","v":"Intechmer"},{"$f":"IF($K$5=\"Course 1\",Général!F$118,IF($K$5=\"Course 2\",Général!F$120,IF($K$5=\"Course 3\",Général!F$122,Général!F$124)))","v":"Centrale Nantes 1"},{"$f":"IF($L$5=\"Course 1\",Général!F$128,IF($L$5=\"Course 2\",Général!$F130,IF($L$5=\"Course 3\",Général!F$132,Général!F$134)))","v":"La Rochelle 2"},{"$f":"IF($M$5=\"Course 1\",Général!F$138,IF($M$5=\"Course 2\",Général!F$140,IF($M$5=\"Course 3\",Général!F$142,Général!F$144)))","v":"ENSTA 2"},{"$f":"IF($N$5=\"Course 1\",Général!F$148,IF($N$5=\"Course 2\",Général!F$150,IF($N$5=\"Course 3\",Général!F$152,Général!F$154)))","v":"ST Brieuc 2"},{"$f":"IF($O$5=\"Course 1\",Général!F$158,IF($O$5=\"Course 2\",Général!F$160,IF($O$5=\"Course 3\",Général!F$162,Général!F$164)))","v":"UNIV Nantes 1"},{"$f":"IF($P$5=\"Course 1\",Général!F$168,IF($P$5=\"Course 2\",Général!F$170,IF($P$5=\"Course 3\",Général!F$172,Général!F$174)))","v":"Hannover"},{"$f":"IF($Q$5=\"Course 1\",Général!F$178,IF($Q$5=\"Course 2\",Général!F$180,IF($Q$5=\"Course 3\",Général!F$182,Général!F$184)))","v":"INSA Lyon"},{"$f":"IF($R$5=\"Course 1\",Général!F$188,IF($R$5=\"Course 2\",Général!F$190,IF($R$5=\"Course 3\",Général!F$192,Général!F$194)))","v":"ENSMAC"},{"$f":"IF($S$5=\"Course 1\",Général!F$198,IF($S$5=\"Course 2\",Général!F$200,IF($S$5=\"Course 3\",Général!F$202,Général!F$204)))","v":"Centrale Nantes 1"},{"$f":"IF($T$5=\"Course 1\",Général!F$208,IF($T$5=\"Course 2\",Général!F$210,IF($T$5=\"Course 3\",Général!F$212,Général!F$214)))","v":"ST Brieuc 2"},null,{"$f":"Général!B14","v":"ENSTA 1"},3]
["6ème Equipage",null,{"$f":"IF($C$5=\"Course 1\",Général!G38,IF($C$5=\"Course 2\",Général!G40,IF($C$5=\"Course 3\",Général!G42,Général!G44)))","v":"Hannover"},{"$f":"IF($D$5=\"Course 1\",Général!G48,IF($D$5=\"Course 2\",Général!G50,IF($D$5=\"Course 3\",Général!G52,Général!G54)))","v":"La Rochelle 1"},{"$f":"IF($E$5=\"Course 1\",Général!G58,IF($E$5=\"Course 2\",Général!G60,IF($E$5=\"Course 3\",Général!G62,Général!G64)))","v":"La Rochelle 2"},{"$f":"IF($F$5=\"Course 1\",Général!G$68,IF($F$5=\"Course 2\",Général!G$70,IF($F$5=\"Course 3\",Général!G$72,Général!G$74)))","v":"ENSTA 2"},{"$f":"IF($G$5=\"Course 1\",Général!G$78,IF($G$5=\"Course 2\",Général!G$80,IF($G$5=\"Course 3\",Général!G$82,Général!G$84)))","v":"Centrale Nantes 1"},{"$f":"IF($H$5=\"Course 1\",Général!G$88,IF($H$5=\"Course 2\",Général!G$90,IF($H$5=\"Course 3\",Général!G$92,Général!G$94)))","v":"IMT Brest 2"},{"$f":"IF($I$5=\"Course 1\",Général!G$98,IF($I$5=\"Course 2\",Général!G$100,IF($I$5=\"Course 3\",Général!G$102,Général!G$104)))","v":"Univ Nantes 2"},{"$f":"IF($J$5=\"Course 1\",Général!G$108,IF($J$5=\"Course 2\",Général!G$110,IF($J$5=\"Course 3\",Général!G$112,Général!G$114)))","v":"ENSTA 1"},{"$f":"IF($K$5=\"Course 1\",Général!G$118,IF($K$5=\"Course 2\",Général!G$120,IF($K$5=\"Course 3\",Général!G$122,Général!G$124)))","v":"St Brieuc 1"},{"$f":"IF($L$5=\"Course 1\",Général!G$128,IF($L$5=\"Course 2\",Général!G$130,IF($L$5=\"Course 3\",Général!G$132,Général!G$134)))","v":"Intechmer"},{"$f":"IF($M$5=\"Course 1\",Général!G$138,IF($M$5=\"Course 2\",Général!G$140,IF($M$5=\"Course 3\",Général!G$142,Général!G$144)))","v":"Univ Nantes 3"},{"$f":"IF($N$5=\"Course 1\",Général!G$148,IF($N$5=\"Course 2\",Général!G$150,IF($N$5=\"Course 3\",Général!G$152,Général!G$154)))","v":"Univ Nantes 2"},{"$f":"IF($O$5=\"Course 1\",Général!G$158,IF($O$5=\"Course 2\",Général!G$160,IF($O$5=\"Course 3\",Général!G$162,Général!G$164)))","v":"Unicaen 2"},{"$f":"IF($P$5=\"Course 1\",Général!G$168,IF($P$5=\"Course 2\",Général!G$170,IF($P$5=\"Course 3\",Général!G$172,Général!G$174)))","v":"UBS Lorient 2"},{"$f":"IF($Q$5=\"Course 1\",Général!G$178,IF($Q$5=\"Course 2\",Général!G$180,IF($Q$5=\"Course 3\",Général!G$182,Général!G$184)))","v":"UBS Lorient 2"},{"$f":"IF($R$5=\"Course 1\",Général!G$188,IF($R$5=\"Course 2\",Général!G$190,IF($R$5=\"Course 3\",Général!G$192,Général!G$194)))","v":"IMT Brest 1"},{"$f":"IF($S$5=\"Course 1\",Général!G$198,IF($S$5=\"Course 2\",Général!G$200,IF($S$5=\"Course 3\",Général!G$202,Général!G$204)))","v":"Orléans"},{"$f":"IF($T$5=\"Course 1\",Général!G$208,IF($T$5=\"Course 2\",Général!G$210,IF($T$5=\"Course 3\",Général!G$212,Général!G$214)))","v":"Orléans"},null,{"$f":"Général!B15","v":"Orléans"},6]
["7ème Equipage",null,{"$f":"IF($C$5=\"Course 1\",Général!H38,IF($C$5=\"Course 2\",Général!H40,IF($C$5=\"Course 3\",Général!H42,Général!H44)))","v":"IMT Brest 2"},{"$f":"IF($D$5=\"Course 1\",Général!H48,IF($D$5=\"Course 2\",Général!H50,IF($D$5=\"Course 3\",Général!H52,Général!H54)))","v":"Unicaen 2"},{"$f":"IF($E$5=\"Course 1\",Général!H58,IF($E$5=\"Course 2\",Général!H60,IF($E$5=\"Course 3\",Général!H62,Général!H64)))","v":"Intechmer"},{"$f":"IF($F$5=\"Course 1\",Général!H$68,IF($F$5=\"Course 2\",Général!H$70,IF($F$5=\"Course 3\",Général!H$72,Général!H$74)))","v":"UBS Lorient 2"},{"$f":"IF($G$5=\"Course 1\",Général!H$78,IF($G$5=\"Course 2\",Général!H$80,IF($G$5=\"Course 3\",Général!H$82,Général!H$84)))","v":"La Rochelle 2"},{"$f":"IF($H$5=\"Course 1\",Général!H$88,IF($H$5=\"Course 2\",Général!H$90,IF($H$5=\"Course 3\",Général!H$92,Général!H$94)))","v":"ST Brieuc 2"},{"$f":"IF($I$5=\"Course 1\",Général!H$98,IF($I$5=\"Course 2\",Général!H$100,IF($I$5=\"Course 3\",Général!H$102,Général!H$104)))","v":"ST Brieuc 2"},{"$f":"IF($J$5=\"Course 1\",Général!H$108,IF($J$5=\"Course 2\",Général!H$110,IF($J$5=\"Course 3\",Général!H$112,Général!H$114)))","v":"Hannover"},{"$f":"IF($K$5=\"Course 1\",Général!H$118,IF($K$5=\"Course 2\",Général!H$120,IF($K$5=\"Course 3\",Général!H$122,Général!H$124)))","v":"Orléans"},{"$f":"IF($L$5=\"Course 1\",Général!H$128,IF($L$5=\"Course 2\",Général!H$130,IF($L$5=\"Course 3\",Général!H$132,Général!H$134)))","v":"IMT Nantes"},{"$f":"IF($M$5=\"Course 1\",Général!H$138,IF($M$5=\"Course 2\",Général!H$140,IF($M$5=\"Course 3\",Général!H$142,Général!H$144)))","v":"Univ Nantes 2"},{"$f":"IF($N$5=\"Course 1\",Général!H$148,IF($N$5=\"Course 2\",Général!H$150,IF($N$5=\"Course 3\",Général!H$152,Général!H$154)))","v":"ENSMAC"},{"$f":"IF($O$5=\"Course 1\",Général!H$158,IF($O$5=\"Course 2\",Général!H$160,IF($O$5=\"Course 3\",Général!H$162,Général!H$164)))","v":"Univ Nantes 3"},{"$f":"IF($P$5=\"Course 1\",Général!H$168,IF($P$5=\"Course 2\",Général!H$170,IF($P$5=\"Course 3\",Général!H$172,Général!H$174)))","v":"UBS Lorient 1"},{"$f":"IF($Q$5=\"Course 1\",Général!H$178,IF($Q$5=\"Course 2\",Général!H$180,IF($Q$5=\"Course 3\",Général!H$182,Général!H$184)))","v":"UBO 2"},{"$f":"IF($R$5=\"Course 1\",Général!H$188,IF($R$5=\"Course 2\",Général!H$190,IF($R$5=\"Course 3\",Général!H$192,Général!H$194)))","v":"Centrale Nantes 1"},{"$f":"IF($S$5=\"Course 1\",Général!H$198,IF($S$5=\"Course 2\",Général!H$200,IF($S$5=\"Course 3\",Général!H$202,Général!H$204)))","v":"La Rochelle 1"},{"$f":"IF($T$5=\"Course 1\",Général!H$208,IF($T$5=\"Course 2\",Général!H$210,IF($T$5=\"Course 3\",Général!H$212,Général!H$214)))","v":"St Brieuc 1"},null,{"$f":"Général!B16","v":"IMT Brest 1"},4]
["8ème Equipage",null,{"$f":"IF($C$5=\"Course 1\",Général!I38,IF($C$5=\"Course 2\",Général!I40,IF($C$5=\"Course 3\",Général!I42,Général!I44)))","v":"Paris Cité"},{"$f":"IF($D$5=\"Course 1\",Général!I48,IF($D$5=\"Course 2\",Général!I50,IF($D$5=\"Course 3\",Général!I52,Général!I54)))","v":"UNIV Nantes 1"},{"$f":"IF($E$5=\"Course 1\",Général!I58,IF($E$5=\"Course 2\",Général!I60,IF($E$5=\"Course 3\",Général!I62,Général!I64)))","v":"Centrale Nantes 1"},{"$f":"IF($F$5=\"Course 1\",Général!I$68,IF($F$5=\"Course 2\",Général!I$70,IF($F$5=\"Course 3\",Général!I$72,Général!I$74)))","v":"INSA Lyon"},{"$f":"IF($G$5=\"Course 1\",Général!I$78,IF($G$5=\"Course 2\",Général!I$80,IF($G$5=\"Course 3\",Général!I$82,Général!I$84)))","v":"Centrale Nantes 2"},{"$f":"IF($H$5=\"Course 1\",Général!I$88,IF($H$5=\"Course 2\",Général!I$90,IF($H$5=\"Course 3\",Général!I$92,Général!I$94)))","v":"UBO 2"},{"$f":"IF($I$5=\"Course 1\",Général!I$98,IF($I$5=\"Course 2\",Général!I$100,IF($I$5=\"Course 3\",Général!I$102,Général!I$104)))","v":"UBO 2"},{"$f":"IF($J$5=\"Course 1\",Général!I$108,IF($J$5=\"Course 2\",Général!I$110,IF($J$5=\"Course 3\",Général!I$112,Général!I$114)))","v":"Southampton"},{"$f":"IF($K$5=\"Course 1\",Général!I$118,IF($K$5=\"Course 2\",Général!I$120,IF($K$5=\"Course 3\",Général!I$122,Général!I$124)))","v":"Univ Nantes 2"},{"$f":"IF($L$5=\"Course 1\",Général!I$128,IF($L$5=\"Course 2\",Général!I$130,IF($L$5=\"Course 3\",Général!I$132,Général!I$134)))","v":"UBS Lorient 2"},{"$f":"IF($M$5=\"Course 1\",Général!I$138,IF($M$5=\"Course 2\",Général!I$140,IF($M$5=\"Course 3\",Général!I$142,Général!I$144)))","v":"ST Brieuc 2"},{"$f":"IF($N$5=\"Course 1\",Général!I$148,IF($N$5=\"Course 2\",Général!I$150,IF($N$5=\"Course 3\",Général!I$152,Général!I$154)))","v":"Univ Nantes 3"},{"$f":"IF($O$5=\"Course 1\",Général!I$158,IF($O$5=\"Course 2\",Général!I$160,IF($O$5=\"Course 3\",Général!I$162,Général!I$164)))","v":"UBS Lorient 2"},{"$f":"IF($P$5=\"Course 1\",Général!I$168,IF($P$5=\"Course 2\",Général!I$170,IF($P$5=\"Course 3\",Général!I$172,Général!I$174)))","v":"Unicaen 2"},{"$f":"IF($Q$5=\"Course 1\",Général!I$178,IF($Q$5=\"Course 2\",Général!I$180,IF($Q$5=\"Course 3\",Général!I$182,Général!I$184)))","v":"Southampton"},{"$f":"IF($R$5=\"Course 1\",Général!I$188,IF($R$5=\"Course 2\",Général!I$190,IF($R$5=\"Course 3\",Général!I$192,Général!I$194)))","v":"UBS Lorient 2"},{"$f":"IF($S$5=\"Course 1\",Général!I$198,IF($S$5=\"Course 2\",Général!I$200,IF($S$5=\"Course 3\",Général!I$202,Général!I$204)))","v":"UBO 2"},{"$f":"IF($T$5=\"Course 1\",Général!I$208,IF($T$5=\"Course 2\",Général!I$210,IF($T$5=\"Course 3\",Général!I$212,Général!I$214)))","v":"UBO 2"},null,{"$f":"Général!B17","v":"ENSMAC"},5]
["9ème Equipage",null,{"$f":"IF($C$5=\"Course 1\",Général!J38,IF($C$5=\"Course 2\",Général!J40,IF($C$5=\"Course 3\",Général!J42,Général!J44)))","v":"ENSMAC"},{"$f":"IF($D$5=\"Course 1\",Général!J48,IF($D$5=\"Course 2\",Général!J50,IF($D$5=\"Course 3\",Général!J52,Général!J54)))","v":"Southampton"},{"$f":"IF($E$5=\"Course 1\",Général!J58,IF($E$5=\"Course 2\",Général!J60,IF($E$5=\"Course 3\",Général!J62,Général!J64)))","v":"INSA Lyon"},{"$f":"IF($F$5=\"Course 1\",Général!J$68,IF($F$5=\"Course 2\",Général!J$70,IF($F$5=\"Course 3\",Général!J$72,Général!J$74)))","v":"Unicaen 1"},{"$f":"IF($G$5=\"Course 1\",Général!J$78,IF($G$5=\"Course 2\",Général!J$80,IF($G$5=\"Course 3\",Général!J$82,Général!J$84)))","v":"UBS Lorient 2"},{"$f":"IF($H$5=\"Course 1\",Général!J$88,IF($H$5=\"Course 2\",Général!J$90,IF($H$5=\"Course 3\",Général!$J92,Général!J$94)))","v":"INSA Lyon"},{"$f":"IF($I$5=\"Course 1\",Général!J$98,IF($I$5=\"Course 2\",Général!J$100,IF($I$5=\"Course 3\",Général!J$102,Général!J$104)))","v":"Paris Cité"},{"$f":"IF($J$5=\"Course 1\",Général!J$108,IF($J$5=\"Course 2\",Général!J$110,IF($J$5=\"Course 3\",Général!J$112,Général!J$114)))","v":"La Rochelle 1"},{"$f":"IF($K$5=\"Course 1\",Général!J$118,IF($K$5=\"Course 2\",Général!J$120,IF($K$5=\"Course 3\",Général!J$122,Général!J$124)))","v":"La Rochelle 1"},{"$f":"IF($L$5=\"Course 1\",Général!J$128,IF($L$5=\"Course 2\",Général!J$130,IF($L$5=\"Course 3\",Général!J$132,Général!J$134)))","v":"ST Brieuc 2"},{"$f":"IF($M$5=\"Course 1\",Général!J$138,IF($M$5=\"Course 2\",Général!J$140,IF($M$5=\"Course 3\",Général!J$142,Général!J$144)))","v":"La Rochelle 1"},{"$f":"IF($N$5=\"Course 1\",Général!J$148,IF($N$5=\"Course 2\",Général!J$150,IF($N$5=\"Course 3\",Général!J$152,Général!J$154)))","v":"ENSTA 2"},{"$f":"IF($O$5=\"Course 1\",Général!J$158,IF($O$5=\"Course 2\",Général!J$160,IF($O$5=\"Course 3\",Général!J$162,Général!J$164)))","v":"Southampton"},{"$f":"IF($P$5=\"Course 1\",Général!J$168,IF($P$5=\"Course 2\",Général!J$170,IF($P$5=\"Course 3\",Général!J$172,Général!J$174)))","v":"IMT Brest 2"},{"$f":"IF($Q$5=\"Course 1\",Général!J$178,IF($Q$5=\"Course 2\",Général!J$180,IF($Q$5=\"Course 3\",Général!J$182,Général!J$184)))","v":"IMT Brest 2"},{"$f":"IF($R$5=\"Course 1\",Général!J$188,IF($R$5=\"Course 2\",Général!J$190,IF($R$5=\"Course 3\",Général!J$192,Général!J$194)))","v":"UBS Lorient 1"},{"$f":"IF($S$5=\"Course 1\",Général!J$198,IF($S$5=\"Course 2\",Général!J$200,IF($S$5=\"Course 3\",Général!J$202,Général!J$204)))","v":"Karlsruhe"},{"$f":"IF($T$5=\"Course 1\",Général!J$208,IF($T$5=\"Course 2\",Général!J$210,IF($T$5=\"Course 3\",Général!J$212,Général!J$214)))","v":"Karlsruhe"},null,{"$f":"Général!B18","v":"St Brieuc 1"},5]
["10ème Equipage",null,{"$f":"IF($C$5=\"Course 1\",Général!K38,IF($C$5=\"Course 2\",Général!K40,IF($C$5=\"Course 3\",Général!K42,Général!K44)))","v":"Paris Sorbone"},{"$f":"IF($D$5=\"Course 1\",Général!K48,IF($D$5=\"Course 2\",Général!K50,IF($D$5=\"Course 3\",Général!K52,Général!K54)))","v":"ENSMAC"},{"$f":"IF($E$5=\"Course 1\",Général!K58,IF($E$5=\"Course 2\",Général!K60,IF($E$5=\"Course 3\",Général!K62,Général!K64)))","v":"UNIV Nantes 1"},{"$f":"IF($F$5=\"Course 1\",Général!K$68,IF($F$5=\"Course 2\",Général!K$70,IF($F$5=\"Course 3\",Général!K$72,Général!K$74)))","v":"Hannover"},{"$f":"IF($G$5=\"Course 1\",Général!K$78,IF($G$5=\"Course 2\",Général!K$80,IF($G$5=\"Course 3\",Général!K$82,Général!K$84)))","v":"UBS Lorient 1"},{"$f":"IF($H$5=\"Course 1\",Général!K$88,IF($H$5=\"Course 2\",Général!K$90,IF($H$5=\"Course 3\",Général!$K92,Général!K$94)))","v":"St Brieuc 1"},{"$f":"IF($I$5=\"Course 1\",Général!K$98,IF($I$5=\"Course 2\",Général!K$100,IF($I$5=\"Course 3\",Général!K$102,Général!K$104)))","v":"St Brieuc 1"},{"$f":"IF($J$5=\"Course 1\",Général!K$108,IF($J$5=\"Course 2\",Général!K$110,IF($J$5=\"Course 3\",Général!K$112,Général!K$114)))","v":"IMT Brest 2"},{"$f":"IF($K$5=\"Course 1\",Général!K$118,IF($K$5=\"Course 2\",Général!K$120,IF($K$5=\"Course 3\",Général!K$122,Général!K$124)))","v":"Univ Nantes 3"},{"$f":"IF($L$5=\"Course 1\",Général!K$128,IF($L$5=\"Course 2\",Général!K$130,IF($L$5=\"Course 3\",Général!K$132,Général!K$134)))","v":"Southampton"},{"$f":"IF($M$5=\"Course 1\",Général!K$138,IF($M$5=\"Course 2\",Général!K$140,IF($M$5=\"Course 3\",Général!K$142,Général!K$144)))","v":"UBS Lorient 2"},{"$f":"IF($N$5=\"Course 1\",Général!K$148,IF($N$5=\"Course 2\",Général!K$150,IF($N$5=\"Course 3\",Général!K$152,Général!K$154)))","v":"ENSTA 1"},{"$f":"IF($O$5=\"Course 1\",Général!K$158,IF($O$5=\"Course 2\",Général!K$160,IF($O$5=\"Course 3\",Général!K$162,Général!K$164)))","v":"Centrale Nantes 1"},{"$f":"IF($P$5=\"Course 1\",Général!K$168,IF($P$5=\"Course 2\",Général!K$170,IF($P$5=\"Course 3\",Général!K$172,Général!K$174)))","v":"Centrale Nantes 1"},{"$f":"IF($Q$5=\"Course 1\",Général!K$178,IF($Q$5=\"Course 2\",Général!K$180,IF($Q$5=\"Course 3\",Général!K$182,Général!K$184)))","v":"Unicaen 1"},{"$f":"IF($R$5=\"Course 1\",Général!K$188,IF($R$5=\"Course 2\",Général!K$190,IF($R$5=\"Course 3\",Général!K$192,Général!K$194)))","v":"UBO 1"},{"$f":"IF($S$5=\"Course 1\",Général!K$198,IF($S$5=\"Course 2\",Général!K$200,IF($S$5=\"Course 3\",Général!K$202,Général!K$204)))","v":"Univ Nantes 2"},{"$f":"IF($T$5=\"Course 1\",Général!K$208,IF($T$5=\"Course 2\",Général!K$210,IF($T$5=\"Course 3\",Général!K$212,Général!K$214)))","v":"ENSTA 1"},null,{"$f":"Général!B19","v":"Hannover"},3]
[null,null,null,null,null,null,null,null,null,null,null,null,null,null,null,null,null,null,null,null,null,{"$f":"Général!B20","v":"ENSTA 2"},4]
[null,null,null,null,null,null,null,null,null,null,null,null,null,null,null,null,null,null,null,null,null,{"$f":"Général!B21","v":"Southampton"},4]
[null,null,null,null,null,null,null,null,null,null,null,null,null,null,null,null,null,null,null,null,null,{"$f":"Général!B22","v":"La Rochelle 1"},5]
[null,null,null,null,null,null,null,null,null,null,null,null,null,null,null,null,null,null,null,null,null,{"$f":"Général!B23","v":"Centrale Nantes 1"},5]
[null,null,null,null,null,null,null,null,null,null,null,null,null,null,null,null,null,null,null,null,null,{"$f":"Général!B24","v":"ST Brieuc 2"},9]
[null,null,null,null,null,null,null,null,null,null,null,null,null,null,null,null,null,null,null,null,null,{"$f":"Général!B25","v":"UNIV Nantes 1"},7]
[null,null,null,null,null,null,null,null,null,null,null,null,null,null,null,null,null,null,null,null,null,{"$f":"Général!B26","v":"Intechmer"},4]
[null,null,null,null,null,null,null,null,null,null,null,null,null,null,null,null,null,null,null,null,null,{"$f":"Général!B27","v":"IMT Nantes"},2]
[null,null,null,null,null,null,null,null,null,null,null,null,null,null,null,null,null,null,null,null,null,{"$f":"Général!B28","v":"INSA Lyon"},5]
[null,null,null,null,null,null,null,null,null,null,null,null,null,null,null,null,null,null,null,null,null,{"$f":"Général!B29","v":"Centrale Nantes 2"},4]
[null,null,null,null,null,null,null,null,null,null,null,null,null,null,null,null,null,null,null,null,null,{"$f":"Général!B30","v":"UBS Lorient 2"},17]
[null,null,null,null,null,null,null,null,null,null,null,null,null,null,null,null,null,null,null,null,null,{"$f":"Général!B31","v":"La Rochelle 2"},5]
[null,null,null,null,null,null,null,null,null,null,null,null,null,null,null,null,null,null,null,null,null,{"$f":"Général!B32","v":"UBO 1"},3]
[null,null,null,null,null,null,null,null,null,null,null,null,null,null,null,null,null,null,null,null,null,{"$f":"Général!B33","v":"Eq.31"},0]
[null,null,null,null,null,null,null,null,null,null,null,null,null,null,null,null,null,null,null,null,null,{"$f":"Général!B34","v":"Eq.32"},0]

{"sheet":"Eq.29","index":34,"n_rows":32,"n_cols":23,"rows_kept":32,"cut":false,"hidden":false,"merged":[[7,0,7,1],[0,0,1,5],[0,6,1,10],[3,0,3,1],[4,0,4,1],[5,0,5,1],[14,0,14,1],[15,0,15,1],[16,0,16,1],[8,0,8,1],[9,0,9,1],[10,0,10,1],[11,0,11,1],[12,0,12,1],[13,0,13,1]]}
["Equipage ",null,null,null,null,null,{"$f":"Général!B31","v":"La Rochelle 2"},null,null,null,null,null,null,null,null,null,null,null,null,null,null,{"$f":"Général!B3","v":"UBO 2"},{"$f":"COUNTIF(C$8:T$16,V1)","v":5}]
[null,null,null,null,null,null,null,null,null,null,null,null,null,null,null,null,null,null,null,null,null,{"$f":"Général!B4","v":"Paris Sorbone"},{"$f":"COUNTIF($C$8:$T$16,V2)","v":5}]
[null,null,null,null,null,null,null,null,null,null,null,null,null,null,null,null,null,null,null,null,null,{"$f":"Général!B5","v":"UBS Lorient 1"},{"$f":"COUNTIF($C$8:$T$16,V3)","v":3}]
[null,null,"FLIGHT 1","FLIGHT 2","FLIGHT 3","FLIGHT 4","FLIGHT 5","FLIGHT 6","FLIGHT 7","FLIGHT 8","FLIGHT 9","FLIGHT 10","FLIGHT 11","FLIGHT 12","FLIGHT 13","FLIGHT 14","FLIGHT 15","FLIGHT 16","FLIGHT 17","FLIGHT 18",null,{"$f":"Général!B6","v":"Univ Nantes 3"},3]
["N° de course",null,{"$f":"IF(COUNTIF(Général!B38:K38,$G$1)=1,\"Course 1\",IF(COUNTIF(Général!B40:K40,$G$1)=1,\"Course 2\",IF(COUNTIF(Général!B42:K42,$G$1)=1,\"Course 3\",\"Course 4\")))","v":"Course 1"},{"$f":"IF(COUNTIF(Général!B48:K48,$G$1)=1,\"Course 1\",IF(COUNTIF(Général!B50:K50,$G$1)=1,\"Course 2\",IF(COUNTIF(Général!B52:K52,$G$1)=1,\"Course 3\",\"Course 4\")))","v":"Course 3"},{"$f":"IF(COUNTIF(Général!B58:K58,$G$1)=1,\"Course 1\",IF(COUNTIF(Général!B60:K60,$G$1)=1,\"Course 2\",IF(COUNTIF(Général!B62:K62,$G$1)=1,\"Course 3\",\"Course 4\")))","v":"Course 1"},{"$f":"IF(COUNTIF(Général!B68:K68,$G$1)=1,\"Course 1\",IF(COUNTIF(Général!B70:K70,$G$1)=1,\"Course 2\",IF(COUNTIF(Général!B72:K72,$G$1)=1,\"Course 3\",\"Course 4\")))","v":"Course 2"},{"$f":"IF(COUNTIF(Général!B78:K78,$G$1)=1,\"Course 1\",IF(COUNTIF(Général!B80:K80,$G$1)=1,\"Course 2\",IF(COUNTIF(Général!B82:K82,$G$1)=1,\"Course 3\",\"Course 4\")))","v":"Course 2"},{"$f":"IF(COUNTIF(Général!B88:K88,$G$1)=1,\"Course 1\",IF(COUNTIF(Général!B90:K90,$G$1)=1,\"Course 2\",IF(COUNTIF(Général!B92:K92,$G$1)=1,\"Course 3\",\"Course 4\")))","v":"Course 2"},{"$f":"IF(COUNTIF(Général!B98:K98,$G$1)=1,\"Course 1\",IF(COUNTIF(Général!B100:K100,$G$1)=1,\"Course 2\",IF(COUNTIF(Général!B102:K102,$G$1)=1,\"Course 3\",\"Course 4\")))","v":"Course 3"},{"$f":"IF(COUNTIF(Général!B108:K108,$G$1)=1,\"Course 1\",IF(COUNTIF(Général!B110:K110,$G$1)=1,\"Course 2\",IF(COUNTIF(Général!B112:K112,$G$1)=1,\"Course 3\",\"Course 4\")))","v":"Course 1"},{"$f":"IF(COUNTIF(Général!B118:K118,$G$1)=1,\"Course 1\",IF(COUNTIF(Général!B120:K120,$G$1)=1,\"Course 2\",IF(COUNTIF(Général!B122:K122,$G$1)=1,\"Course 3\",\"Course 4\")))","v":"Course 2"},{"$f":"IF(COUNTIF(Général!B128:K128,$G$1)=1,\"Course 1\",IF(COUNTIF(Général!B130:K130,$G$1)=1,\"Course 2\",IF(COUNTIF(Général!B132:K132,$G$1)=1,\"Course 3\",\"Course 4\")))","v":"Course 2"},{"$f":"IF(COUNTIF(Général!B138:K138,$G$1)=1,\"Course 1\",IF(COUNTIF(Général!B140:K140,$G$1)=1,\"Course 2\",IF(COUNTIF(Général!B142:K142,$G$1)=1,\"Course 3\",\"Course 4\")))","v":"Course 3"},{"$f":"IF(COUNTIF(Général!B148:K148,$G$1)=1,\"Course 1\",IF(COUNTIF(Général!B150:K150,$G$1)=1,\"Course 2\",IF(COUNTIF(Général!B152:K152,$G$1)=1,\"Course 3\",\"Course 4\")))","v":"Course 3"},{"$f":"IF(COUNTIF(Général!B158:K158,$G$1)=1,\"Course 1\",IF(COUNTIF(Général!B160:K160,$G$1)=1,\"Course 2\",IF(COUNTIF(Général!B162:K162,$G$1)=1,\"Course 3\",\"Course 4\")))","v":"Course 1"},{"$f":"IF(COUNTIF(Général!B168:K168,$G$1)=1,\"Course 1\",IF(COUNTIF(Général!B170:K170,$G$1)=1,\"Course 2\",IF(COUNTIF(Général!B172:K172,$G$1)=1,\"Course 3\",\"Course 4\")))","v":"Course 3"},{"$f":"IF(COUNTIF(Général!B178:K178,$G$1)=1,\"Course 1\",IF(COUNTIF(Général!B180:K180,$G$1)=1,\"Course 2\",IF(COUNTIF(Général!B182:K182,$G$1)=1,\"Course 3\",\"Course 4\")))","v":"Course 2"},{"$f":"IF(COUNTIF(Général!B188:K188,$G$1)=1,\"Course 1\",IF(COUNTIF(Général!B190:K190,$G$1)=1,\"Course 2\",IF(COUNTIF(Général!B192:K192,$G$1)=1,\"Course 3\",\"Course 4\")))","v":"Course 3"},{"$f":"IF(COUNTIF(Général!B198:K198,$G$1)=1,\"Course 1\",IF(COUNTIF(Général!B200:K200,$G$1)=1,\"Course 2\",IF(COUNTIF(Général!B202:K202,$G$1)=1,\"Course 3\",\"Course 4\")))","v":"Course 1"},{"$f":"IF(COUNTIF(Général!B208:K208,$G$1)=1,\"Course 1\",IF(COUNTIF(Général!B210:K210,$G$1)=1,\"Course 2\",IF(COUNTIF(Général!B212:K212,$G$1)=1,\"Course 3\",\"Course 4\")))","v":"Course 3"},null,{"$f":"Général!B7","v":"Paris Cité"},5]
["Bateau",null,{"$f":"IF(COUNTIF(Général!B38:B44,$G$1)=1,\"Boat 1\",IF(COUNTIF(Général!C38:C44,$G$1)=1,\"Boat 2\",IF(COUNTIF(Général!D38:D44,$G$1)=1,\"Boat 3\", IF(COUNTIF(Général!E38:E44,$G$1)=1,\"Boat 4\", IF(COUNTIF(Général!F38:F44,$G$1)=1,\"Boat 5\", IF(COUNTIF(Général!G38:G44,$G$1)=1,\"Boat 6\", IF(COUNTIF(Général!H38:H44,$G$1)=1,\"Boat 7\",IF(COUNTIF(Général!I38:I44,$G$1)=1,\"Boat 8\",\"Boat 9\"))))))))","v":"Boat 4"},{"$f":"IF(COUNTIF(Général!B48:B54,$G$1)=1,\"Boat 1\",IF(COUNTIF(Général!C48:C54,$G$1)=1,\"Boat 2\",IF(COUNTIF(Général!D48:D54,$G$1)=1,\"Boat 3\", IF(COUNTIF(Général!E48:E54,$G$1)=1,\"Boat 4\", IF(COUNTIF(Général!F48:F54,$G$1)=1,\"Boat 5\", IF(COUNTIF(Général!G48:G54,$G$1)=1,\"Boat 6\", IF(COUNTIF(Général!H48:H54,$G$1)=1,\"Boat 7\",IF(COUNTIF(Général!I38:I44,$G$1)=1,\"Boat 8\",\"Boat 9\"))))))))","v":"Boat 6"},{"$f":"IF(COUNTIF(Général!B58:B64,$G$1)=1,\"Boat 1\",IF(COUNTIF(Général!C58:C64,$G$1)=1,\"Boat 2\",IF(COUNTIF(Général!D58:D64,$G$1)=1,\"Boat 3\", IF(COUNTIF(Général!E58:E64,$G$1)=1,\"Boat 4\", IF(COUNTIF(Général!F58:F64,$G$1)=1,\"Boat 5\", IF(COUNTIF(Général!G58:G64,$G$1)=1,\"Boat 6\", IF(COUNTIF(Général!H58:H64,$G$1)=1,\"Boat 7\",IF(COUNTIF(Général!I38:I44,$G$1)=1,\"Boat 8\",\"Boat 9\"))))))))","v":"Boat 6"},{"$f":"IF(COUNTIF(Général!B68:B74,$G$1)=1,\"Boat 1\",IF(COUNTIF(Général!C68:C74,$G$1)=1,\"Boat 2\",IF(COUNTIF(Général!D68:D74,$G$1)=1,\"Boat 3\", IF(COUNTIF(Général!E68:E74,$G$1)=1,\"Boat 4\", IF(COUNTIF(Général!F68:F74,$G$1)=1,\"Boat 5\", IF(COUNTIF(Général!G68:G74,$G$1)=1,\"Boat 6\", IF(COUNTIF(Général!H68:H74,$G$1)=1,\"Boat 7\",IF(COUNTIF(Général!I38:I44,$G$1)=1,\"Boat 8\",\"Boat 9\"))))))))","v":"Boat 5"},{"$f":"IF(COUNTIF(Général!B78:B84,$G$1)=1,\"Boat 1\",IF(COUNTIF(Général!C78:C84,$G$1)=1,\"Boat 2\",IF(COUNTIF(Général!D78:D84,$G$1)=1,\"Boat 3\", IF(COUNTIF(Général!E78:E84,$G$1)=1,\"Boat 4\", IF(COUNTIF(Général!F78:F84,$G$1)=1,\"Boat 5\", IF(COUNTIF(Général!G78:G84,$G$1)=1,\"Boat 6\", IF(COUNTIF(Général!H78:H84,$G$1)=1,\"Boat 7\",IF(COUNTIF(Général!I38:I44,$G$1)=1,\"Boat 8\",\"Boat 9\"))))))))","v":"Boat 7"},{"$f":"IF(COUNTIF(Général!B88:B94,$G$1)=1,\"Boat 1\",IF(COUNTIF(Général!C88:C94,$G$1)=1,\"Boat 2\",IF(COUNTIF(Général!D88:D94,$G$1)=1,\"Boat 3\", IF(COUNTIF(Général!E88:E94,$G$1)=1,\"Boat 4\", IF(COUNTIF(Général!F88:F94,$G$1)=1,\"Boat 5\", IF(COUNTIF(Général!G88:G94,$G$1)=1,\"Boat 6\", IF(COUNTIF(Général!H88:H94,$G$1)=1,\"Boat 7\",IF(COUNTIF(Général!I38:I44,$G$1)=1,\"Boat 8\",\"Boat 9\"))))))))","v":"Boat 2"},{"$f":"IF(COUNTIF(Général!B98:B104,$G$1)=1,\"Boat 1\",IF(COUNTIF(Général!C98:C104,$G$1)=1,\"Boat 2\",IF(COUNTIF(Général!D98:D104,$G$1)=1,\"Boat 3\", IF(COUNTIF(Général!E98:E104,$G$1)=1,\"Boat 4\", IF(COUNTIF(Général!F98:F104,$G$1)=1,\"Boat 5\", IF(COUNTIF(Général!G98:G104,$G$1)=1,\"Boat 6\", IF(COUNTIF(Général!H98:H104,$G$1)=1,\"Boat 7\",IF(COUNTIF(Général!I38:I44,$G$1)=1,\"Boat 8\",\"Boat 9\"))))))))","v":"Boat 1"},{"$f":"IF(COUNTIF(Général!B108:B114,$G$1)=1,\"Boat 1\",IF(COUNTIF(Général!C108:C114,$G$1)=1,\"Boat 2\",IF(COUNTIF(Général!D108:D114,$G$1)=1,\"Boat 3\", IF(COUNTIF(Général!E108:E114,$G$1)=1,\"Boat 4\", IF(COUNTIF(Général!F108:F114,$G$1)=1,\"Boat 5\", IF(COUNTIF(Général!G108:G114,$G$1)=1,\"Boat 6\", IF(COUNTIF(Général!H108:H114,$G$1)=1,\"Boat 7\",IF(COUNTIF(Général!I38:I44,$G$1)=1,\"Boat 8\",\"Boat 9\"))))))))","v":"Boat 1"},{"$f":"IF(COUNTIF(Général!B118:B124,$G$1)=1,\"Boat 1\",IF(COUNTIF(Général!C118:C124,$G$1)=1,\"Boat 2\",IF(COUNTIF(Général!D118:D124,$G$1)=1,\"Boat 3\", IF(COUNTIF(Général!E118:E124,$G$1)=1,\"Boat 4\", IF(COUNTIF(Général!F118:F124,$G$1)=1,\"Boat 5\", IF(COUNTIF(Général!G118:G124,$G$1)=1,\"Boat 6\", IF(COUNTIF(Général!H118:H124,$G$1)=1,\"Boat 7\",IF(COUNTIF(Général!I38:I44,$G$1)=1,\"Boat 8\",\"Boat 9\"))))))))","v":"Boat 6"},{"$f":"IF(COUNTIF(Général!B128:B134,$G$1)=1,\"Boat 1\",IF(COUNTIF(Général!C128:C134,$G$1)=1,\"Boat 2\",IF(COUNTIF(Général!D128:D134,$G$1)=1,\"Boat 3\", IF(COUNTIF(Général!E128:E134,$G$1)=1,\"Boat 4\", IF(COUNTIF(Général!F128:F134,$G$1)=1,\"Boat 5\", IF(COUNTIF(Général!G128:G134,$G$1)=1,\"Boat 6\", IF(COUNTIF(Général!H128:H134,$G$1)=1,\"Boat 7\",IF(COUNTIF(Général!I38:I44,$G$1)=1,\"Boat 8\",\"Boat 9\"))))))))","v":"Boat 5"},{"$f":"IF(COUNTIF(Général!B138:B144,$G$1)=1,\"Boat 1\",IF(COUNTIF(Général!C138:C144,$G$1)=1,\"Boat 2\",IF(COUNTIF(Général!C138:D144,$G$1)=1,\"Boat 3\", IF(COUNTIF(Général!C138:E144,$G$1)=1,\"Boat 4\", IF(COUNTIF(Général!F138:F144,$G$1)=1,\"Boat 5\", IF(COUNTIF(Général!G138:G144,$G$1)=1,\"Boat 6\", IF(COUNTIF(Général!H138:H144,$G$1)=1,\"Boat 7\",IF(COUNTIF(Général!I38:I44,$G$1)=1,\"Boat 8\",\"Boat 9\"))))))))","v":"Boat 3"},{"$f":"IF(COUNTIF(Général!B148:B154,$G$1)=1,\"Boat 1\",IF(COUNTIF(Général!C148:C154,$G$1)=1,\"Boat 2\",IF(COUNTIF(Général!D148:D154,$G$1)=1,\"Boat 3\", IF(COUNTIF(Général!E148:E154,$G$1)=1,\"Boat 4\", IF(COUNTIF(Général!F148:F154,$G$1)=1,\"Boat 5\", IF(COUNTIF(Général!G148:G154,$G$1)=1,\"Boat 6\", IF(COUNTIF(Général!H148:H154,$G$1)=1,\"Boat 7\",IF(COUNTIF(Général!I38:I44,$G$1)=1,\"Boat 8\",\"Boat 9\"))))))))","v":"Boat 7"},{"$f":"IF(COUNTIF(Général!B158:B164,$G$1)=1,\"Boat 1\",IF(COUNTIF(Général!C158:C164,$G$1)=1,\"Boat 2\",IF(COUNTIF(Général!D160:D164,$G$1)=1,\"Boat 3\", IF(COUNTIF(Général!E158:E164,$G$1)=1,\"Boat 4\", IF(COUNTIF(Général!F158:F164,$G$1)=1,\"Boat 5\", IF(COUNTIF(Général!G158:G164,$G$1)=1,\"Boat 6\", IF(COUNTIF(Général!H158:H164,$G$1)=1,\"Boat 7\",IF(COUNTIF(Général!I38:I44,$G$1)=1,\"Boat 8\",\"Boat 9\"))))))))","v":"Boat 7"},{"$f":"IF(COUNTIF(Général!B168:B174,$G$1)=1,\"Boat 1\",IF(COUNTIF(Général!C168:C174,$G$1)=1,\"Boat 2\",IF(COUNTIF(Général!D168:D174,$G$1)=1,\"Boat 3\", IF(COUNTIF(Général!E168:E174,$G$1)=1,\"Boat 4\", IF(COUNTIF(Général!F178:F184,$G$1)=1,\"Boat 5\", IF(COUNTIF(Général!G178:G184,$G$1)=1,\"Boat 6\", IF(COUNTIF(Général!H178:H184,$G$1)=1,\"Boat 7\",IF(COUNTIF(Général!I38:I44,$G$1)=1,\"Boat 8\",\"Boat 9\"))))))))","v":"Boat 2"},{"$f":"IF(COUNTIF(Général!B178:B184,$G$1)=1,\"Boat 1\",IF(COUNTIF(Général!C178:C184,$G$1)=1,\"Boat 2\",IF(COUNTIF(Général!D178:D184,$G$1)=1,\"Boat 3\", IF(COUNTIF(Général!E178:E184,$G$1)=1,\"Boat 4\", IF(COUNTIF(Général!F178:F184,$G$1)=1,\"Boat 5\", IF(COUNTIF(Général!G178:G184,$G$1)=1,\"Boat 6\", IF(COUNTIF(Général!H178:H184,$G$1)=1,\"Boat 7\",IF(COUNTIF(Général!I38:I44,$G$1)=1,\"Boat 8\",\"Boat 9\"))))))))","v":"Boat 1"},{"$f":"IF(COUNTIF(Général!B188:B194,$G$1)=1,\"Boat 1\",IF(COUNTIF(Général!C188:C194,$G$1)=1,\"Boat 2\",IF(COUNTIF(Général!D188:D194,$G$1)=1,\"Boat 3\", IF(COUNTIF(Général!E188:E194,$G$1)=1,\"Boat 4\", IF(COUNTIF(Général!F188:F194,$G$1)=1,\"Boat 5\", IF(COUNTIF(Général!G188:G194,$G$1)=1,\"Boat 6\", IF(COUNTIF(Général!H188:H194,$G$1)=1,\"Boat 7\",IF(COUNTIF(Général!I38:I44,$G$1)=1,\"Boat 8\",\"Boat 9\"))))))))","v":"Boat 6"},{"$f":"IF(COUNTIF(Général!B198:B204,$G$1)=1,\"Boat 1\",IF(COUNTIF(Général!C198:C204,$G$1)=1,\"Boat 2\",IF(COUNTIF(Général!D198:D204,$G$1)=1,\"Boat 3\", IF(COUNTIF(Général!E198:E204,$G$1)=1,\"Boat 4\", IF(COUNTIF(Général!F198:F204,$G$1)=1,\"Boat 5\", IF(COUNTIF(Général!G198:G204,$G$1)=1,\"Boat 6\", IF(COUNTIF(Général!H198:H204,$G$1)=1,\"Boat 7\",IF(COUNTIF(Général!I38:I44,$G$1)=1,\"Boat 8\",\"Boat 9\"))))))))","v":"Boat 6"},{"$f":"IF(COUNTIF(Général!B208:B214,$G$1)=1,\"Boat 1\",IF(COUNTIF(Général!C208:C214,$G$1)=1,\"Boat 2\",IF(COUNTIF(Général!D208:D214,$G$1)=1,\"Boat 3\", IF(COUNTIF(Général!E208:E214,$G$1)=1,\"Boat 4\", IF(COUNTIF(Général!F208:F214,$G$1)=1,\"Boat 5\", IF(COUNTIF(Général!G208:G214,$G$1)=1,\"Boat 6\", IF(COUNTIF(Général!H208:H214,$G$1)=1,\"Boat 7\",IF(COUNTIF(Général!I38:I44,$G$1)=1,\"Boat 8\",\"Boat 9\"))))))))","v":"Boat 3"},null,{"$f":"Général!B8","v":"Plymouth"},9]
[null,null,null,null,null,null,null,null,null,null,null,null,null,null,null,null,null,null,null,null,null,{"$f":"Général!B9","v":"Unicaen 2"},6]
["1er Equipage",null,{"$f":"IF($C$5=\"Course 1\",Général!B38,IF($C$5=\"Course 2\",Général!B40,IF($C$5=\"Course 3\",Général!B42,Général!B44)))","v":"IMT Nantes"},{"$f":"IF($D$5=\"Course 1\",Général!B48,IF($D$5=\"Course 2\",Général!B50,IF($D$5=\"Course 3\",Général!B52,Général!B54)))","v":"UBO 1"},{"$f":"IF($E$5=\"Course 1\",Général!B58,IF($E$5=\"Course 2\",Général!B60,IF($E$5=\"Course 3\",Général!B62,Général!B64)))","v":"Orléans"},{"$f":"IF($F$5=\"Course 1\",Général!B$68,IF($F$5=\"Course 2\",Général!B$70,IF($F$5=\"Course 3\",Général!B$72,Général!B$74)))","v":"Univ Nantes 3"},{"$f":"IF($G$5=\"Course 1\",Général!B$78,IF($G$5=\"Course 2\",Général!B$80,IF($G$5=\"Course 3\",Général!B$82,Général!B$84)))","v":"Plymouth"},{"$f":"IF($H$5=\"Course 1\",Général!B$88,IF($H$5=\"Course 2\",Général!B$90,IF($H$5=\"Course 3\",Général!B$92,Général!B$94)))","v":"Univ Nantes 2"},{"$f":"IF($I$5=\"Course 1\",Général!B$98,IF($I$5=\"Course 2\",Général!B$100,IF($I$5=\"Course 3\",Général!B$102,Général!B$104)))","v":"La Rochelle 2"},{"$f":"IF($J$5=\"Course 1\",Général!B$108,IF($J$5=\"Course 2\",Général!B$110,IF($J$5=\"Course 3\",Général!B$112,Général!B$114)))","v":"La Rochelle 2"},{"$f":"IF($K$5=\"Course 1\",Général!B$118,IF($K$5=\"Course 2\",Général!B$120,IF($K$5=\"Course 3\",Général!B$122,Général!B$124)))","v":"Hannover"},{"$f":"IF($L$5=\"Course 1\",Général!B$128,IF($L$5=\"Course 2\",Général!B$130,IF($L$5=\"Course 3\",Général!B$132,Général!B$134)))","v":"Plymouth"},{"$f":"IF($M$5=\"Course 1\",Général!B$138,IF($M$5=\"Course 2\",Général!B$140,IF($M$5=\"Course 3\",Général!B$142,Général!B$144)))","v":"ENSTA 1"},{"$f":"IF($N$5=\"Course 1\",Général!B$148,IF($N$5=\"Course 2\",Général!B$150,IF($N$5=\"Course 3\",Général!B$152,Général!B$154)))","v":"La Rochelle 1"},{"$f":"IF($O$5=\"Course 1\",Général!B$158,IF($O$5=\"Course 2\",Général!B$160,IF($O$5=\"Course 3\",Général!B$162,Général!B$164)))","v":"La Rochelle 1"},{"$f":"IF($P$5=\"Course 1\",Général!B$168,IF($P$5=\"Course 2\",Général!B$170,IF($P$5=\"Course 3\",Général!B$172,Général!B$174)))","v":"Plymouth"},{"$f":"IF($Q$5=\"Course 1\",Général!B$178,IF($Q$5=\"Course 2\",Général!B$180,IF($Q$5=\"Course 3\",Général!B$182,Général!B$184)))","v":"La Rochelle 2"},{"$f":"IF($R$5=\"Course 1\",Général!B$188,IF($R$5=\"Course 2\",Général!B$190,IF($R$5=\"Course 3\",Général!B$192,Général!B$194)))","v":"ENSTA 1"},{"$f":"IF($S$5=\"Course 1\",Général!B$198,IF($S$5=\"Course 2\",Général!B$200,IF($S$5=\"Course 3\",Général!B$202,Général!B$204)))","v":"ENSTA 1"},{"$f":"IF($T$5=\"Course 1\",Général!B$208,IF($T$5=\"Course 2\",Général!B$210,IF($T$5=\"Course 3\",Général!B$212,Général!B$214)))","v":"IMT Brest 1"},null,{"$f":"Général!B10","v":"Univ Nantes 2"},4]
["2nd Equipage",null,{"$f":"IF($C$5=\"Course 1\",Général!C38,IF($C$5=\"Course 2\",Général!C40,IF($C$5=\"Course 3\",Général!C42,Général!C44)))","v":"Unicaen 1"},{"$f":"IF($D$5=\"Course 1\",Général!C48,IF($D$5=\"Course 2\",Général!C50,IF($D$5=\"Course 3\",Général!C52,Général!C54)))","v":"Centrale Nantes 2"},{"$f":"IF($E$5=\"Course 1\",Général!C58,IF($E$5=\"Course 2\",Général!C60,IF($E$5=\"Course 3\",Général!C62,Général!C64)))","v":"UBS Lorient 2"},{"$f":"IF($F$5=\"Course 1\",Général!C$68,IF($F$5=\"Course 2\",Général!C$70,IF($F$5=\"Course 3\",Général!C$72,Général!C$74)))","v":"Paris Cité"},{"$f":"IF($G$5=\"Course 1\",Général!C$78,IF($G$5=\"Course 2\",Général!C$80,IF($G$5=\"Course 3\",Général!C$82,Général!C$84)))","v":"Univ Nantes 3"},{"$f":"IF($H$5=\"Course 1\",Général!C$88,IF($H$5=\"Course 2\",Général!C$90,IF($H$5=\"Course 3\",Général!C$92,Général!C$94)))","v":"La Rochelle 2"},{"$f":"IF($I$5=\"Course 1\",Général!C$98,IF($I$5=\"Course 2\",Général!C$100,IF($I$5=\"Course 3\",Général!C$102,Général!C$104)))","v":"ENSTA 2"},{"$f":"IF($J$5=\"Course 1\",Général!C$108,IF($J$5=\"Course 2\",Général!C$110,IF($J$5=\"Course 3\",Général!C$112,Général!C$114)))","v":"ENSTA 2"},{"$f":"IF($K$5=\"Course 1\",Général!C$118,IF($K$5=\"Course 2\",Général!C$120,IF($K$5=\"Course 3\",Général!C$122,Général!C$124)))","v":"Paris Cité"},{"$f":"IF($L$5=\"Course 1\",Général!C$128,IF($L$5=\"Course 2\",Général!C$130,IF($L$5=\"Course 3\",Général!C$132,Général!C$134)))","v":"ENSMAC"},{"$f":"IF($M$5=\"Course 1\",Général!C$138,IF($M$5=\"Course 2\",Général!C$140,IF($M$5=\"Course 3\",Général!C$142,Général!C$144)))","v":"Intechmer"},{"$f":"IF($N$5=\"Course 1\",Général!C$148,IF($N$5=\"Course 2\",Général!C$150,IF($N$5=\"Course 3\",Général!C$152,Général!C$154)))","v":"Intechmer"},{"$f":"IF($O$5=\"Course 1\",Général!C$158,IF($O$5=\"Course 2\",Général!C$160,IF($O$5=\"Course 3\",Général!C$162,Général!C$164)))","v":"IMT Brest 1"},{"$f":"IF($P$5=\"Course 1\",Général!C$168,IF($P$5=\"Course 2\",Général!C$170,IF($P$5=\"Course 3\",Général!C$172,Général!C$174)))","v":"La Rochelle 2"},{"$f":"IF($Q$5=\"Course 1\",Général!C$178,IF($Q$5=\"Course 2\",Général!C$180,IF($Q$5=\"Course 3\",Général!C$182,Général!C$184)))","v":"Unicaen 2"},{"$f":"IF($R$5=\"Course 1\",Général!C$188,IF($R$5=\"Course 2\",Général!C$190,IF($R$5=\"Course 3\",Général!C$192,Général!C$194)))","v":"INSA Lyon"},{"$f":"IF($S$5=\"Course 1\",Général!C$198,IF($S$5=\"Course 2\",Général!C$200,IF($S$5=\"Course 3\",Général!C$202,Général!C$204)))","v":"INSA Lyon"},{"$f":"IF($T$5=\"Course 1\",Général!C$208,IF($T$5=\"Course 2\",Général!C$210,IF($T$5=\"Course 3\",Général!C$212,Général!C$214)))","v":"Hannover"},null,{"$f":"Général!B11","v":"Karlsruhe"},5]
["3ème Equipage",null,{"$f":"IF($C$5=\"Course 1\",Général!D38,IF($C$5=\"Course 2\",Général!D40,IF($C$5=\"Course 3\",Général!D42,Général!D44)))","v":"St Brieuc 1"},{"$f":"IF($D$5=\"Course 1\",Général!D48,IF($D$5=\"Course 2\",Général!D50,IF($D$5=\"Course 3\",Général!D52,Général!D54)))","v":"IMT Brest 2"},{"$f":"IF($E$5=\"Course 1\",Général!D58,IF($E$5=\"Course 2\",Général!D60,IF($E$5=\"Course 3\",Général!D62,Général!D64)))","v":"IMT Brest 2"},{"$f":"IF($F$5=\"Course 1\",Général!D$68,IF($F$5=\"Course 2\",Général!D$70,IF($F$5=\"Course 3\",Général!D$72,Général!D$74)))","v":"Unicaen 2"},{"$f":"IF($G$5=\"Course 1\",Général!D$78,IF($G$5=\"Course 2\",Général!D$80,IF($G$5=\"Course 3\",Général!D$82,Général!D$84)))","v":"Paris Sorbone"},{"$f":"IF($H$5=\"Course 1\",Général!D$88,IF($H$5=\"Course 2\",Général!D$90,IF($H$5=\"Course 3\",Général!D$92,Général!D$94)))","v":"UNIV Nantes 1"},{"$f":"IF($I$5=\"Course 1\",Général!D$98,IF($I$5=\"Course 2\",Général!D$100,IF($I$5=\"Course 3\",Général!D$102,Général!D$104)))","v":"Hannover"},{"$f":"IF($J$5=\"Course 1\",Général!D$108,IF($J$5=\"Course 2\",Général!D$110,IF($J$5=\"Course 3\",Général!D$112,Général!D$114)))","v":"UBO 2"},{"$f":"IF($K$5=\"Course 1\",Général!D$118,IF($K$5=\"Course 2\",Général!D$120,IF($K$5=\"Course 3\",Général!D$122,Général!D$124)))","v":"Unicaen 2"},{"$f":"IF($L$5=\"Course 1\",Général!D$128,IF($L$5=\"Course 2\",Général!D$130,IF($L$5=\"Course 3\",Général!D$132,Général!D$134)))","v":"ENSTA 1"},{"$f":"IF($M$5=\"Course 1\",Général!D$138,IF($M$5=\"Course 2\",Général!D$140,IF($M$5=\"Course 3\",Général!D$142,Général!D$144)))","v":"La Rochelle 2"},{"$f":"IF($N$5=\"Course 1\",Général!D$148,IF($N$5=\"Course 2\",Général!D$150,IF($N$5=\"Course 3\",Général!D$152,Général!D$154)))","v":"IMT Brest 2"},{"$f":"IF($O$5=\"Course 1\",Général!D$158,IF($O$5=\"Course 2\",Général!D$160,IF($O$5=\"Course 3\",Général!D$162,Général!D$164)))","v":"IMT Nantes"},{"$f":"IF($P$5=\"Course 1\",Général!D$168,IF($P$5=\"Course 2\",Général!D$170,IF($P$5=\"Course 3\",Général!D$172,Général!D$174)))","v":"Karlsruhe"},{"$f":"IF($Q$5=\"Course 1\",Général!D$178,IF($Q$5=\"Course 2\",Général!D$180,IF($Q$5=\"Course 3\",Général!D$182,Général!D$184)))","v":"UBS Lorient 1"},{"$f":"IF($R$5=\"Course 1\",Général!D$188,IF($R$5=\"Course 2\",Général!D$190,IF($R$5=\"Course 3\",Général!D$192,Général!D$194)))","v":"Intechmer"},{"$f":"IF($S$5=\"Course 1\",Général!D$198,IF($S$5=\"Course 2\",Général!D$200,IF($S$5=\"Course 3\",Général!D$202,Général!D$204)))","v":"Intechmer"},{"$f":"IF($T$5=\"Course 1\",Général!D$208,IF($T$5=\"Course 2\",Général!D$210,IF($T$5=\"Course 3\",Général!D$212,Général!D$214)))","v":"La Rochelle 2"},null,{"$f":"Général!B12","v":"IMT Brest 2"},5]
["4ème Equipage",null,{"$f":"IF($C$5=\"Course 1\",Général!E38,IF($C$5=\"Course 2\",Général!E40,IF($C$5=\"Course 3\",Général!E42,Général!E44)))","v":"La Rochelle 2"},{"$f":"IF($D$5=\"Course 1\",Général!E48,IF($D$5=\"Course 2\",Général!E50,IF($D$5=\"Course 3\",Général!E52,Général!E54)))","v":"Paris Cité"},{"$f":"IF($E$5=\"Course 1\",Général!E58,IF($E$5=\"Course 2\",Général!E60,IF($E$5=\"Course 3\",Général!E62,Général!E64)))","v":"Paris Sorbone"},{"$f":"IF($F$5=\"Course 1\",Général!E$68,IF($F$5=\"Course 2\",Général!E$70,IF($F$5=\"Course 3\",Général!E$72,Général!E$74)))","v":"Univ Nantes 2"},{"$f":"IF($G$5=\"Course 1\",Général!E$78,IF($G$5=\"Course 2\",Général!E$80,IF($G$5=\"Course 3\",Général!E$82,Général!E$84)))","v":"St Brieuc 1"},{"$f":"IF($H$5=\"Course 1\",Général!E$88,IF($H$5=\"Course 2\",Général!E$90,IF($H$5=\"Course 3\",Général!E$92,Général!E$94)))","v":"Karlsruhe"},{"$f":"IF($I$5=\"Course 1\",Général!E$98,IF($I$5=\"Course 2\",Général!E$100,IF($I$5=\"Course 3\",Général!E$102,Général!E$104)))","v":"Paris Sorbone"},{"$f":"IF($J$5=\"Course 1\",Général!E$108,IF($J$5=\"Course 2\",Général!E$110,IF($J$5=\"Course 3\",Général!E$112,Général!E$114)))","v":"Paris Sorbone"},{"$f":"IF($K$5=\"Course 1\",Général!E$118,IF($K$5=\"Course 2\",Général!E$120,IF($K$5=\"Course 3\",Général!E$122,Général!E$124)))","v":"UBO 1"},{"$f":"IF($L$5=\"Course 1\",Général!E$128,IF($L$5=\"Course 2\",Général!E$130,IF($L$5=\"Course 3\",Général!E$132,Général!E$134)))","v":"Paris Cité"},{"$f":"IF($M$5=\"Course 1\",Général!E$138,IF($M$5=\"Course 2\",Général!E$140,IF($M$5=\"Course 3\",Général!E$142,Général!E$144)))","v":"ENSMAC"},{"$f":"IF($N$5=\"Course 1\",Général!E$148,IF($N$5=\"Course 2\",Général!E$150,IF($N$5=\"Course 3\",Général!E$152,Général!E$154)))","v":"UBO 2"},{"$f":"IF($O$5=\"Course 1\",Général!E$158,IF($O$5=\"Course 2\",Général!E$160,IF($O$5=\"Course 3\",Général!E$162,Général!E$164)))","v":"ST Brieuc 2"},{"$f":"IF($P$5=\"Course 1\",Général!E$168,IF($P$5=\"Course 2\",Général!E$170,IF($P$5=\"Course 3\",Général!E$172,Général!E$174)))","v":"UBO 1"},{"$f":"IF($Q$5=\"Course 1\",Général!E$178,IF($Q$5=\"Course 2\",Général!E$180,IF($Q$5=\"Course 3\",Général!E$182,Général!E$184)))","v":"St Brieuc 1"},{"$f":"IF($R$5=\"Course 1\",Général!E$188,IF($R$5=\"Course 2\",Général!E$190,IF($R$5=\"Course 3\",Général!E$192,Général!E$194)))","v":"Univ Nantes 2"},{"$f":"IF($S$5=\"Course 1\",Général!E$198,IF($S$5=\"Course 2\",Général!E$200,IF($S$5=\"Course 3\",Général!E$202,Général!E$204)))","v":"St Brieuc 1"},{"$f":"IF($T$5=\"Course 1\",Général!E$208,IF($T$5=\"Course 2\",Général!E$210,IF($T$5=\"Course 3\",Général!E$212,Général!E$214)))","v":"Plymouth"},null,{"$f":"Général!B13","v":"Unicaen 1"},6]
["5ème Equipage",null,{"$f":"IF($C$5=\"Course 1\",Général!F38,IF($C$5=\"Course 2\",Général!F40,IF($C$5=\"Course 3\",Général!F42,Général!F44)))","v":"UBO 2"},{"$f":"IF($D$5=\"Course 1\",Général!F48,IF($D$5=\"Course 2\",Général!F50,IF($D$5=\"Course 3\",Général!F52,Général!F54)))","v":"UBO 2"},{"$f":"IF($E$5=\"Course 1\",Général!F58,IF($E$5=\"Course 2\",Général!F60,IF($E$5=\"Course 3\",Général!F62,Général!F64)))","v":"Univ Nantes 2"},{"$f":"IF($F$5=\"Course 1\",Général!F$68,IF($F$5=\"Course 2\",Général!F$70,IF($F$5=\"Course 3\",Général!F$72,Général!F$74)))","v":"La Rochelle 2"},{"$f":"IF($G$5=\"Course 1\",Général!F$78,IF($G$5=\"Course 2\",Général!F$80,IF($G$5=\"Course 3\",Général!F$82,Général!F$84)))","v":"INSA Lyon"},{"$f":"IF($H$5=\"Course 1\",Général!F$88,IF($H$5=\"Course 2\",Général!F$90,IF($H$5=\"Course 3\",Général!F$92,Général!F$94)))","v":"Plymouth"},{"$f":"IF($I$5=\"Course 1\",Général!F$98,IF($I$5=\"Course 2\",Général!F$100,IF($I$5=\"Course 3\",Général!F$102,Général!F$104)))","v":"Centrale Nantes 1"},{"$f":"IF($J$5=\"Course 1\",Général!F$108,IF($J$5=\"Course 2\",Général!F$110,IF($J$5=\"Course 3\",Général!F$112,Général!F$114)))","v":"ST Brieuc 2"},{"$f":"IF($K$5=\"Course 1\",Général!F$118,IF($K$5=\"Course 2\",Général!F$120,IF($K$5=\"Course 3\",Général!F$122,Général!F$124)))","v":"ENSTA 1"},{"$f":"IF($L$5=\"Course 1\",Général!F$128,IF($L$5=\"Course 2\",Général!$F130,IF($L$5=\"Course 3\",Général!F$132,Général!F$134)))","v":"La Rochelle 2"},{"$f":"IF($M$5=\"Course 1\",Général!F$138,IF($M$5=\"Course 2\",Général!F$140,IF($M$5=\"Course 3\",Général!F$142,Général!F$144)))","v":"UBO 1"},{"$f":"IF($N$5=\"Course 1\",Général!F$148,IF($N$5=\"Course 2\",Général!F$150,IF($N$5=\"Course 3\",Général!F$152,Général!F$154)))","v":"INSA Lyon"},{"$f":"IF($O$5=\"Course 1\",Général!F$158,IF($O$5=\"Course 2\",Général!F$160,IF($O$5=\"Course 3\",Général!F$162,Général!F$164)))","v":"Unicaen 1"},{"$f":"IF($P$5=\"Course 1\",Général!F$168,IF($P$5=\"Course 2\",Général!F$170,IF($P$5=\"Course 3\",Général!F$172,Général!F$174)))","v":"Hannover"},{"$f":"IF($Q$5=\"Course 1\",Général!F$178,IF($Q$5=\"Course 2\",Général!F$180,IF($Q$5=\"Course 3\",Général!F$182,Général!F$184)))","v":"ENSTA 2"},{"$f":"IF($R$5=\"Course 1\",Général!F$188,IF($R$5=\"Course 2\",Général!F$190,IF($R$5=\"Course 3\",Général!F$192,Général!F$194)))","v":"ENSTA 2"},{"$f":"IF($S$5=\"Course 1\",Général!F$198,IF($S$5=\"Course 2\",Général!F$200,IF($S$5=\"Course 3\",Général!F$202,Général!F$204)))","v":"IMT Nantes"},{"$f":"IF($T$5=\"Course 1\",Général!F$208,IF($T$5=\"Course 2\",Général!F$210,IF($T$5=\"Course 3\",Général!F$212,Général!F$214)))","v":"La Rochelle 1"},null,{"$f":"Général!B14","v":"ENSTA 1"},6]
["6ème Equipage",null,{"$f":"IF($C$5=\"Course 1\",Général!G38,IF($C$5=\"Course 2\",Général!G40,IF($C$5=\"Course 3\",Général!G42,Général!G44)))","v":"ENSTA 1"},{"$f":"IF($D$5=\"Course 1\",Général!G48,IF($D$5=\"Course 2\",Général!G50,IF($D$5=\"Course 3\",Général!G52,Général!G54)))","v":"La Rochelle 2"},{"$f":"IF($E$5=\"Course 1\",Général!G58,IF($E$5=\"Course 2\",Général!G60,IF($E$5=\"Course 3\",Général!G62,Général!G64)))","v":"La Rochelle 2"},{"$f":"IF($F$5=\"Course 1\",Général!G$68,IF($F$5=\"Course 2\",Général!G$70,IF($F$5=\"Course 3\",Général!G$72,Général!G$74)))","v":"ENSTA 2"},{"$f":"IF($G$5=\"Course 1\",Général!G$78,IF($G$5=\"Course 2\",Général!G$80,IF($G$5=\"Course 3\",Général!G$82,Général!G$84)))","v":"Centrale Nantes 1"},{"$f":"IF($H$5=\"Course 1\",Général!G$88,IF($H$5=\"Course 2\",Général!G$90,IF($H$5=\"Course 3\",Général!G$92,Général!G$94)))","v":"ENSMAC"},{"$f":"IF($I$5=\"Course 1\",Général!G$98,IF($I$5=\"Course 2\",Général!G$100,IF($I$5=\"Course 3\",Général!G$102,Général!G$104)))","v":"Unicaen 2"},{"$f":"IF($J$5=\"Course 1\",Général!G$108,IF($J$5=\"Course 2\",Général!G$110,IF($J$5=\"Course 3\",Général!G$112,Général!G$114)))","v":"Centrale Nantes 2"},{"$f":"IF($K$5=\"Course 1\",Général!G$118,IF($K$5=\"Course 2\",Général!G$120,IF($K$5=\"Course 3\",Général!G$122,Général!G$124)))","v":"La Rochelle 2"},{"$f":"IF($L$5=\"Course 1\",Général!G$128,IF($L$5=\"Course 2\",Général!G$130,IF($L$5=\"Course 3\",Général!G$132,Général!G$134)))","v":"Intechmer"},{"$f":"IF($M$5=\"Course 1\",Général!G$138,IF($M$5=\"Course 2\",Général!G$140,IF($M$5=\"Course 3\",Général!G$142,Général!G$144)))","v":"Southampton"},{"$f":"IF($N$5=\"Course 1\",Général!G$148,IF($N$5=\"Course 2\",Général!G$150,IF($N$5=\"Course 3\",Général!G$152,Général!G$154)))","v":"Hannover"},{"$f":"IF($O$5=\"Course 1\",Général!G$158,IF($O$5=\"Course 2\",Général!G$160,IF($O$5=\"Course 3\",Général!G$162,Général!G$164)))","v":"Hannover"},{"$f":"IF($P$5=\"Course 1\",Général!G$168,IF($P$5=\"Course 2\",Général!G$170,IF($P$5=\"Course 3\",Général!G$172,Général!G$174)))","v":"UBS Lorient 2"},{"$f":"IF($Q$5=\"Course 1\",Général!G$178,IF($Q$5=\"Course 2\",Général!G$180,IF($Q$5=\"Course 3\",Général!G$182,Général!G$184)))","v":"ENSMAC"},{"$f":"IF($R$5=\"Course 1\",Général!G$188,IF($R$5=\"Course 2\",Général!G$190,IF($R$5=\"Course 3\",Général!G$192,Général!G$194)))","v":"La Rochelle 2"},{"$f":"IF($S$5=\"Course 1\",Général!G$198,IF($S$5=\"Course 2\",Général!G$200,IF($S$5=\"Course 3\",Général!G$202,Général!G$204)))","v":"La Rochelle 2"},{"$f":"IF($T$5=\"Course 1\",Général!G$208,IF($T$5=\"Course 2\",Général!G$210,IF($T$5=\"Course 3\",Général!G$212,Général!G$214)))","v":"Southampton"},null,{"$f":"Général!B15","v":"Orléans"},3]
["7ème Equipage",null,{"$f":"IF($C$5=\"Course 1\",Général!H38,IF($C$5=\"Course 2\",Général!H40,IF($C$5=\"Course 3\",Général!H42,Général!H44)))","v":"IMT Brest 1"},{"$f":"IF($D$5=\"Course 1\",Général!H48,IF($D$5=\"Course 2\",Général!H50,IF($D$5=\"Course 3\",Général!H52,Général!H54)))","v":"Karlsruhe"},{"$f":"IF($E$5=\"Course 1\",Général!H58,IF($E$5=\"Course 2\",Général!H60,IF($E$5=\"Course 3\",Général!H62,Général!H64)))","v":"Intechmer"},{"$f":"IF($F$5=\"Course 1\",Général!H$68,IF($F$5=\"Course 2\",Général!H$70,IF($F$5=\"Course 3\",Général!H$72,Général!H$74)))","v":"UBS Lorient 2"},{"$f":"IF($G$5=\"Course 1\",Général!H$78,IF($G$5=\"Course 2\",Général!H$80,IF($G$5=\"Course 3\",Général!H$82,Général!H$84)))","v":"La Rochelle 2"},{"$f":"IF($H$5=\"Course 1\",Général!H$88,IF($H$5=\"Course 2\",Général!H$90,IF($H$5=\"Course 3\",Général!H$92,Général!H$94)))","v":"Intechmer"},{"$f":"IF($I$5=\"Course 1\",Général!H$98,IF($I$5=\"Course 2\",Général!H$100,IF($I$5=\"Course 3\",Général!H$102,Général!H$104)))","v":"IMT Brest 2"},{"$f":"IF($J$5=\"Course 1\",Général!H$108,IF($J$5=\"Course 2\",Général!H$110,IF($J$5=\"Course 3\",Général!H$112,Général!H$114)))","v":"St Brieuc 1"},{"$f":"IF($K$5=\"Course 1\",Général!H$118,IF($K$5=\"Course 2\",Général!H$120,IF($K$5=\"Course 3\",Général!H$122,Général!H$124)))","v":"IMT Nantes"},{"$f":"IF($L$5=\"Course 1\",Général!H$128,IF($L$5=\"Course 2\",Général!H$130,IF($L$5=\"Course 3\",Général!H$132,Général!H$134)))","v":"IMT Nantes"},{"$f":"IF($M$5=\"Course 1\",Général!H$138,IF($M$5=\"Course 2\",Général!H$140,IF($M$5=\"Course 3\",Général!H$142,Général!H$144)))","v":"Centrale Nantes 2"},{"$f":"IF($N$5=\"Course 1\",Général!H$148,IF($N$5=\"Course 2\",Général!H$150,IF($N$5=\"Course 3\",Général!H$152,Général!H$154)))","v":"La Rochelle 2"},{"$f":"IF($O$5=\"Course 1\",Général!H$158,IF($O$5=\"Course 2\",Général!H$160,IF($O$5=\"Course 3\",Général!H$162,Général!H$164)))","v":"La Rochelle 2"},{"$f":"IF($P$5=\"Course 1\",Général!H$168,IF($P$5=\"Course 2\",Général!H$170,IF($P$5=\"Course 3\",Général!H$172,Général!H$174)))","v":"UBS Lorient 1"},{"$f":"IF($Q$5=\"Course 1\",Général!H$178,IF($Q$5=\"Course 2\",Général!H$180,IF($Q$5=\"Course 3\",Général!H$182,Général!H$184)))","v":"Karlsruhe"},{"$f":"IF($R$5=\"Course 1\",Général!H$188,IF($R$5=\"Course 2\",Général!H$190,IF($R$5=\"Course 3\",Général!H$192,Général!H$194)))","v":"UBO 2"},{"$f":"IF($S$5=\"Course 1\",Général!H$198,IF($S$5=\"Course 2\",Général!H$200,IF($S$5=\"Course 3\",Général!H$202,Général!H$204)))","v":"Unicaen 1"},{"$f":"IF($T$5=\"Course 1\",Général!H$208,IF($T$5=\"Course 2\",Général!H$210,IF($T$5=\"Course 3\",Général!H$212,Général!H$214)))","v":"Unicaen 1"},null,{"$f":"Général!B16","v":"IMT Brest 1"},3]
["8ème Equipage",null,{"$f":"IF($C$5=\"Course 1\",Général!I38,IF($C$5=\"Course 2\",Général!I40,IF($C$5=\"Course 3\",Général!I42,Général!I44)))","v":"Univ Nantes 3"},{"$f":"IF($D$5=\"Course 1\",Général!I48,IF($D$5=\"Course 2\",Général!I50,IF($D$5=\"Course 3\",Général!I52,Général!I54)))","v":"Centrale Nantes 1"},{"$f":"IF($E$5=\"Course 1\",Général!I58,IF($E$5=\"Course 2\",Général!I60,IF($E$5=\"Course 3\",Général!I62,Général!I64)))","v":"Centrale Nantes 1"},{"$f":"IF($F$5=\"Course 1\",Général!I$68,IF($F$5=\"Course 2\",Général!I$70,IF($F$5=\"Course 3\",Général!I$72,Général!I$74)))","v":"INSA Lyon"},{"$f":"IF($G$5=\"Course 1\",Général!I$78,IF($G$5=\"Course 2\",Général!I$80,IF($G$5=\"Course 3\",Général!I$82,Général!I$84)))","v":"Centrale Nantes 2"},{"$f":"IF($H$5=\"Course 1\",Général!I$88,IF($H$5=\"Course 2\",Général!I$90,IF($H$5=\"Course 3\",Général!I$92,Général!I$94)))","v":"Unicaen 1"},{"$f":"IF($I$5=\"Course 1\",Général!I$98,IF($I$5=\"Course 2\",Général!I$100,IF($I$5=\"Course 3\",Général!I$102,Général!I$104)))","v":"INSA Lyon"},{"$f":"IF($J$5=\"Course 1\",Général!I$108,IF($J$5=\"Course 2\",Général!I$110,IF($J$5=\"Course 3\",Général!I$112,Général!I$114)))","v":"Paris Cité"},{"$f":"IF($K$5=\"Course 1\",Général!I$118,IF($K$5=\"Course 2\",Général!I$120,IF($K$5=\"Course 3\",Général!I$122,Général!I$124)))","v":"Plymouth"},{"$f":"IF($L$5=\"Course 1\",Général!I$128,IF($L$5=\"Course 2\",Général!I$130,IF($L$5=\"Course 3\",Général!I$132,Général!I$134)))","v":"UBS Lorient 2"},{"$f":"IF($M$5=\"Course 1\",Général!I$138,IF($M$5=\"Course 2\",Général!I$140,IF($M$5=\"Course 3\",Général!I$142,Général!I$144)))","v":"Unicaen 2"},{"$f":"IF($N$5=\"Course 1\",Général!I$148,IF($N$5=\"Course 2\",Général!I$150,IF($N$5=\"Course 3\",Général!I$152,Général!I$154)))","v":"UNIV Nantes 1"},{"$f":"IF($O$5=\"Course 1\",Général!I$158,IF($O$5=\"Course 2\",Général!I$160,IF($O$5=\"Course 3\",Général!I$162,Général!I$164)))","v":"Orléans"},{"$f":"IF($P$5=\"Course 1\",Général!I$168,IF($P$5=\"Course 2\",Général!I$170,IF($P$5=\"Course 3\",Général!I$172,Général!I$174)))","v":"Unicaen 2"},{"$f":"IF($Q$5=\"Course 1\",Général!I$178,IF($Q$5=\"Course 2\",Général!I$180,IF($Q$5=\"Course 3\",Général!I$182,Général!I$184)))","v":"Orléans"},{"$f":"IF($R$5=\"Course 1\",Général!I$188,IF($R$5=\"Course 2\",Général!I$190,IF($R$5=\"Course 3\",Général!I$192,Général!I$194)))","v":"Plymouth"},{"$f":"IF($S$5=\"Course 1\",Général!I$198,IF($S$5=\"Course 2\",Général!I$200,IF($S$5=\"Course 3\",Général!I$202,Général!I$204)))","v":"Plymouth"},{"$f":"IF($T$5=\"Course 1\",Général!I$208,IF($T$5=\"Course 2\",Général!I$210,IF($T$5=\"Course 3\",Général!I$212,Général!I$214)))","v":"Centrale Nantes 1"},null,{"$f":"Général!B17","v":"ENSMAC"},4]
["9ème Equipage",null,{"$f":"IF($C$5=\"Course 1\",Général!J38,IF($C$5=\"Course 2\",Général!J40,IF($C$5=\"Course 3\",Général!J42,Général!J44)))","v":"Karlsruhe"},{"$f":"IF($D$5=\"Course 1\",Général!J48,IF($D$5=\"Course 2\",Général!J50,IF($D$5=\"Course 3\",Général!J52,Général!J54)))","v":"INSA Lyon"},{"$f":"IF($E$5=\"Course 1\",Général!J58,IF($E$5=\"Course 2\",Général!J60,IF($E$5=\"Course 3\",Général!J62,Général!J64)))","v":"INSA Lyon"},{"$f":"IF($F$5=\"Course 1\",Général!J$68,IF($F$5=\"Course 2\",Général!J$70,IF($F$5=\"Course 3\",Général!J$72,Général!J$74)))","v":"Unicaen 1"},{"$f":"IF($G$5=\"Course 1\",Général!J$78,IF($G$5=\"Course 2\",Général!J$80,IF($G$5=\"Course 3\",Général!J$82,Général!J$84)))","v":"UBS Lorient 2"},{"$f":"IF($H$5=\"Course 1\",Général!J$88,IF($H$5=\"Course 2\",Général!J$90,IF($H$5=\"Course 3\",Général!$J92,Général!J$94)))","v":"Centrale Nantes 2"},{"$f":"IF($I$5=\"Course 1\",Général!J$98,IF($I$5=\"Course 2\",Général!J$100,IF($I$5=\"Course 3\",Général!J$102,Général!J$104)))","v":"UBO 1"},{"$f":"IF($J$5=\"Course 1\",Général!J$108,IF($J$5=\"Course 2\",Général!J$110,IF($J$5=\"Course 3\",Général!J$112,Général!J$114)))","v":"UBO 1"},{"$f":"IF($K$5=\"Course 1\",Général!J$118,IF($K$5=\"Course 2\",Général!J$120,IF($K$5=\"Course 3\",Général!J$122,Général!J$124)))","v":"Paris Sorbone"},{"$f":"IF($L$5=\"Course 1\",Général!J$128,IF($L$5=\"Course 2\",Général!J$130,IF($L$5=\"Course 3\",Général!J$132,Général!J$134)))","v":"ST Brieuc 2"},{"$f":"IF($M$5=\"Course 1\",Général!J$138,IF($M$5=\"Course 2\",Général!J$140,IF($M$5=\"Course 3\",Général!J$142,Général!J$144)))","v":"IMT Nantes"},{"$f":"IF($N$5=\"Course 1\",Général!J$148,IF($N$5=\"Course 2\",Général!J$150,IF($N$5=\"Course 3\",Général!J$152,Général!J$154)))","v":"Plymouth"},{"$f":"IF($O$5=\"Course 1\",Général!J$158,IF($O$5=\"Course 2\",Général!J$160,IF($O$5=\"Course 3\",Général!J$162,Général!J$164)))","v":"UBS Lorient 1"},{"$f":"IF($P$5=\"Course 1\",Général!J$168,IF($P$5=\"Course 2\",Général!J$170,IF($P$5=\"Course 3\",Général!J$172,Général!J$174)))","v":"IMT Brest 2"},{"$f":"IF($Q$5=\"Course 1\",Général!J$178,IF($Q$5=\"Course 2\",Général!J$180,IF($Q$5=\"Course 3\",Général!J$182,Général!J$184)))","v":"IMT Nantes"},{"$f":"IF($R$5=\"Course 1\",Général!J$188,IF($R$5=\"Course 2\",Général!J$190,IF($R$5=\"Course 3\",Général!J$192,Général!J$194)))","v":"UNIV Nantes 1"},{"$f":"IF($S$5=\"Course 1\",Général!J$198,IF($S$5=\"Course 2\",Général!J$200,IF($S$5=\"Course 3\",Général!J$202,Général!J$204)))","v":"UNIV Nantes 1"},{"$f":"IF($T$5=\"Course 1\",Général!J$208,IF($T$5=\"Course 2\",Général!J$210,IF($T$5=\"Course 3\",Général!J$212,Général!J$214)))","v":"Intechmer"},null,{"$f":"Général!B18","v":"St Brieuc 1"},5]
["10ème Equipage",null,{"$f":"IF($C$5=\"Course 1\",Général!K38,IF($C$5=\"Course 2\",Général!K40,IF($C$5=\"Course 3\",Général!K42,Général!K44)))","v":"Intechmer"},{"$f":"IF($D$5=\"Course 1\",Général!K48,IF($D$5=\"Course 2\",Général!K50,IF($D$5=\"Course 3\",Général!K52,Général!K54)))","v":"Unicaen 1"},{"$f":"IF($E$5=\"Course 1\",Général!K58,IF($E$5=\"Course 2\",Général!K60,IF($E$5=\"Course 3\",Général!K62,Général!K64)))","v":"UNIV Nantes 1"},{"$f":"IF($F$5=\"Course 1\",Général!K$68,IF($F$5=\"Course 2\",Général!K$70,IF($F$5=\"Course 3\",Général!K$72,Général!K$74)))","v":"Hannover"},{"$f":"IF($G$5=\"Course 1\",Général!K$78,IF($G$5=\"Course 2\",Général!K$80,IF($G$5=\"Course 3\",Général!K$82,Général!K$84)))","v":"UBS Lorient 1"},{"$f":"IF($H$5=\"Course 1\",Général!K$88,IF($H$5=\"Course 2\",Général!K$90,IF($H$5=\"Course 3\",Général!$K92,Général!K$94)))","v":"Univ Nantes 3"},{"$f":"IF($I$5=\"Course 1\",Général!K$98,IF($I$5=\"Course 2\",Général!K$100,IF($I$5=\"Course 3\",Général!K$102,Général!K$104)))","v":"ENSMAC"},{"$f":"IF($J$5=\"Course 1\",Général!K$108,IF($J$5=\"Course 2\",Général!K$110,IF($J$5=\"Course 3\",Général!K$112,Général!K$114)))","v":"Univ Nantes 3"},{"$f":"IF($K$5=\"Course 1\",Général!K$118,IF($K$5=\"Course 2\",Général!K$120,IF($K$5=\"Course 3\",Général!K$122,Général!K$124)))","v":"UBO 2"},{"$f":"IF($L$5=\"Course 1\",Général!K$128,IF($L$5=\"Course 2\",Général!K$130,IF($L$5=\"Course 3\",Général!K$132,Général!K$134)))","v":"Southampton"},{"$f":"IF($M$5=\"Course 1\",Général!K$138,IF($M$5=\"Course 2\",Général!K$140,IF($M$5=\"Course 3\",Général!K$142,Général!K$144)))","v":"INSA Lyon"},{"$f":"IF($N$5=\"Course 1\",Général!K$148,IF($N$5=\"Course 2\",Général!K$150,IF($N$5=\"Course 3\",Général!K$152,Général!K$154)))","v":"Karlsruhe"},{"$f":"IF($O$5=\"Course 1\",Général!K$158,IF($O$5=\"Course 2\",Général!K$160,IF($O$5=\"Course 3\",Général!K$162,Général!K$164)))","v":"Paris Sorbone"},{"$f":"IF($P$5=\"Course 1\",Général!K$168,IF($P$5=\"Course 2\",Général!K$170,IF($P$5=\"Course 3\",Général!K$172,Général!K$174)))","v":"Centrale Nantes 1"},{"$f":"IF($Q$5=\"Course 1\",Général!K$178,IF($Q$5=\"Course 2\",Général!K$180,IF($Q$5=\"Course 3\",Général!K$182,Général!K$184)))","v":"Paris Sorbone"},{"$f":"IF($R$5=\"Course 1\",Général!K$188,IF($R$5=\"Course 2\",Général!K$190,IF($R$5=\"Course 3\",Général!K$192,Général!K$194)))","v":"Centrale Nantes 2"},{"$f":"IF($S$5=\"Course 1\",Général!K$198,IF($S$5=\"Course 2\",Général!K$200,IF($S$5=\"Course 3\",Général!K$202,Général!K$204)))","v":"ST Brieuc 2"},{"$f":"IF($T$5=\"Course 1\",Général!K$208,IF($T$5=\"Course 2\",Général!K$210,IF($T$5=\"Course 3\",Général!K$212,Général!K$214)))","v":"ENSTA 2"},null,{"$f":"Général!B19","v":"Hannover"},6]
[null,null,null,null,null,null,null,null,null,null,null,null,null,null,null,null,null,null,null,null,null,{"$f":"Général!B20","v":"ENSTA 2"},5]
[null,null,null,null,null,null,null,null,null,null,null,null,null,null,null,null,null,null,null,null,null,{"$f":"Général!B21","v":"Southampton"},2]
[null,null,null,null,null,null,null,null,null,null,null,null,null,null,null,null,null,null,null,null,null,{"$f":"Général!B22","v":"La Rochelle 1"},3]
[null,null,null,null,null,null,null,null,null,null,null,null,null,null,null,null,null,null,null,null,null,{"$f":"Général!B23","v":"Centrale Nantes 1"},5]
[null,null,null,null,null,null,null,null,null,null,null,null,null,null,null,null,null,null,null,null,null,{"$f":"Général!B24","v":"ST Brieuc 2"},3]
[null,null,null,null,null,null,null,null,null,null,null,null,null,null,null,null,null,null,null,null,null,{"$f":"Général!B25","v":"UNIV Nantes 1"},4]
[null,null,null,null,null,null,null,null,null,null,null,null,null,null,null,null,null,null,null,null,null,{"$f":"Général!B26","v":"Intechmer"},8]
[null,null,null,null,null,null,null,null,null,null,null,null,null,null,null,null,null,null,null,null,null,{"$f":"Général!B27","v":"IMT Nantes"},7]
[null,null,null,null,null,null,null,null,null,null,null,null,null,null,null,null,null,null,null,null,null,{"$f":"Général!B28","v":"INSA Lyon"},8]
[null,null,null,null,null,null,null,null,null,null,null,null,null,null,null,null,null,null,null,null,null,{"$f":"Général!B29","v":"Centrale Nantes 2"},5]
[null,null,null,null,null,null,null,null,null,null,null,null,null,null,null,null,null,null,null,null,null,{"$f":"Général!B30","v":"UBS Lorient 2"},5]
[null,null,null,null,null,null,null,null,null,null,null,null,null,null,null,null,null,null,null,null,null,{"$f":"Général!B31","v":"La Rochelle 2"},18]
[null,null,null,null,null,null,null,null,null,null,null,null,null,null,null,null,null,null,null,null,null,{"$f":"Général!B32","v":"UBO 1"},6]
[null,null,null,null,null,null,null,null,null,null,null,null,null,null,null,null,null,null,null,null,null,{"$f":"Général!B33","v":"Eq.31"},0]
[null,null,null,null,null,null,null,null,null,null,null,null,null,null,null,null,null,null,null,null,null,{"$f":"Général!B34","v":"Eq.32"},0]

{"sheet":"Eq.30","index":35,"n_rows":32,"n_cols":23,"rows_kept":32,"cut":false,"hidden":false,"merged":[[7,0,7,1],[0,0,1,5],[0,6,1,10],[3,0,3,1],[4,0,4,1],[5,0,5,1],[14,0,14,1],[15,0,15,1],[16,0,16,1],[8,0,8,1],[9,0,9,1],[10,0,10,1],[11,0,11,1],[12,0,12,1],[13,0,13,1]]}
["Equipage ",null,null,null,null,null,{"$f":"Général!B32","v":"UBO 1"},null,null,null,null,null,null,null,null,null,null,null,null,null,null,{"$f":"Général!B3","v":"UBO 2"},{"$f":"COUNTIF(C$8:T$16,V1)","v":6}]
[null,null,null,null,null,null,null,null,null,null,null,null,null,null,null,null,null,null,null,null,null,{"$f":"Général!B4","v":"Paris Sorbone"},{"$f":"COUNTIF($C$8:$T$16,V2)","v":4}]
[null,null,null,null,null,null,null,null,null,null,null,null,null,null,null,null,null,null,null,null,null,{"$f":"Général!B5","v":"UBS Lorient 1"},{"$f":"COUNTIF($C$8:$T$16,V3)","v":7}]
[null,null,"FLIGHT 1","FLIGHT 2","FLIGHT 3","FLIGHT 4","FLIGHT 5","FLIGHT 6","FLIGHT 7","FLIGHT 8","FLIGHT 9","FLIGHT 10","FLIGHT 11","FLIGHT 12","FLIGHT 13","FLIGHT 14","FLIGHT 15","FLIGHT 16","FLIGHT 17","FLIGHT 18",null,{"$f":"Général!B6","v":"Univ Nantes 3"},4]
["N° de course",null,{"$f":"IF(COUNTIF(Général!B38:K38,$G$1)=1,\"Course 1\",IF(COUNTIF(Général!B40:K40,$G$1)=1,\"Course 2\",IF(COUNTIF(Général!B42:K42,$G$1)=1,\"Course 3\",\"Course 4\")))","v":"Course 3"},{"$f":"IF(COUNTIF(Général!B48:K48,$G$1)=1,\"Course 1\",IF(COUNTIF(Général!B50:K50,$G$1)=1,\"Course 2\",IF(COUNTIF(Général!B52:K52,$G$1)=1,\"Course 3\",\"Course 4\")))","v":"Course 3"},{"$f":"IF(COUNTIF(Général!B58:K58,$G$1)=1,\"Course 1\",IF(COUNTIF(Général!B60:K60,$G$1)=1,\"Course 2\",IF(COUNTIF(Général!B62:K62,$G$1)=1,\"Course 3\",\"Course 4\")))","v":"Course 2"},{"$f":"IF(COUNTIF(Général!B68:K68,$G$1)=1,\"Course 1\",IF(COUNTIF(Général!B70:K70,$G$1)=1,\"Course 2\",IF(COUNTIF(Général!B72:K72,$G$1)=1,\"Course 3\",\"Course 4\")))","v":"Course 1"},{"$f":"IF(COUNTIF(Général!B78:K78,$G$1)=1,\"Course 1\",IF(COUNTIF(Général!B80:K80,$G$1)=1,\"Course 2\",IF(COUNTIF(Général!B82:K82,$G$1)=1,\"Course 3\",\"Course 4\")))","v":"Course 1"},{"$f":"IF(COUNTIF(Général!B88:K88,$G$1)=1,\"Course 1\",IF(COUNTIF(Général!B90:K90,$G$1)=1,\"Course 2\",IF(COUNTIF(Général!B92:K92,$G$1)=1,\"Course 3\",\"Course 4\")))","v":"Course 1"},{"$f":"IF(COUNTIF(Général!B98:K98,$G$1)=1,\"Course 1\",IF(COUNTIF(Général!B100:K100,$G$1)=1,\"Course 2\",IF(COUNTIF(Général!B102:K102,$G$1)=1,\"Course 3\",\"Course 4\")))","v":"Course 3"},{"$f":"IF(COUNTIF(Général!B108:K108,$G$1)=1,\"Course 1\",IF(COUNTIF(Général!B110:K110,$G$1)=1,\"Course 2\",IF(COUNTIF(Général!B112:K112,$G$1)=1,\"Course 3\",\"Course 4\")))","v":"Course 1"},{"$f":"IF(COUNTIF(Général!B118:K118,$G$1)=1,\"Course 1\",IF(COUNTIF(Général!B120:K120,$G$1)=1,\"Course 2\",IF(COUNTIF(Général!B122:K122,$G$1)=1,\"Course 3\",\"Course 4\")))","v":"Course 2"},{"$f":"IF(COUNTIF(Général!B128:K128,$G$1)=1,\"Course 1\",IF(COUNTIF(Général!B130:K130,$G$1)=1,\"Course 2\",IF(COUNTIF(Général!B132:K132,$G$1)=1,\"Course 3\",\"Course 4\")))","v":"Course 1"},{"$f":"IF(COUNTIF(Général!B138:K138,$G$1)=1,\"Course 1\",IF(COUNTIF(Général!B140:K140,$G$1)=1,\"Course 2\",IF(COUNTIF(Général!B142:K142,$G$1)=1,\"Course 3\",\"Course 4\")))","v":"Course 3"},{"$f":"IF(COUNTIF(Général!B148:K148,$G$1)=1,\"Course 1\",IF(COUNTIF(Général!B150:K150,$G$1)=1,\"Course 2\",IF(COUNTIF(Général!B152:K152,$G$1)=1,\"Course 3\",\"Course 4\")))","v":"Course 2"},{"$f":"IF(COUNTIF(Général!B158:K158,$G$1)=1,\"Course 1\",IF(COUNTIF(Général!B160:K160,$G$1)=1,\"Course 2\",IF(COUNTIF(Général!B162:K162,$G$1)=1,\"Course 3\",\"Course 4\")))","v":"Course 2"},{"$f":"IF(COUNTIF(Général!B168:K168,$G$1)=1,\"Course 1\",IF(COUNTIF(Général!B170:K170,$G$1)=1,\"Course 2\",IF(COUNTIF(Général!B172:K172,$G$1)=1,\"Course 3\",\"Course 4\")))","v":"Course 3"},{"$f":"IF(COUNTIF(Général!B178:K178,$G$1)=1,\"Course 1\",IF(COUNTIF(Général!B180:K180,$G$1)=1,\"Course 2\",IF(COUNTIF(Général!B182:K182,$G$1)=1,\"Course 3\",\"Course 4\")))","v":"Course 1"},{"$f":"IF(COUNTIF(Général!B188:K188,$G$1)=1,\"Course 1\",IF(COUNTIF(Général!B190:K190,$G$1)=1,\"Course 2\",IF(COUNTIF(Général!B192:K192,$G$1)=1,\"Course 3\",\"Course 4\")))","v":"Course 2"},{"$f":"IF(COUNTIF(Général!B198:K198,$G$1)=1,\"Course 1\",IF(COUNTIF(Général!B200:K200,$G$1)=1,\"Course 2\",IF(COUNTIF(Général!B202:K202,$G$1)=1,\"Course 3\",\"Course 4\")))","v":"Course 2"},{"$f":"IF(COUNTIF(Général!B208:K208,$G$1)=1,\"Course 1\",IF(COUNTIF(Général!B210:K210,$G$1)=1,\"Course 2\",IF(COUNTIF(Général!B212:K212,$G$1)=1,\"Course 3\",\"Course 4\")))","v":"Course 2"},null,{"$f":"Général!B7","v":"Paris Cité"},8]
["Bateau",null,{"$f":"IF(COUNTIF(Général!B38:B44,$G$1)=1,\"Boat 1\",IF(COUNTIF(Général!C38:C44,$G$1)=1,\"Boat 2\",IF(COUNTIF(Général!D38:D44,$G$1)=1,\"Boat 3\", IF(COUNTIF(Général!E38:E44,$G$1)=1,\"Boat 4\", IF(COUNTIF(Général!F38:F44,$G$1)=1,\"Boat 5\", IF(COUNTIF(Général!G38:G44,$G$1)=1,\"Boat 6\", IF(COUNTIF(Général!H38:H44,$G$1)=1,\"Boat 7\",IF(COUNTIF(Général!I38:I44,$G$1)=1,\"Boat 8\",\"Boat 9\"))))))))","v":"Boat 3"},{"$f":"IF(COUNTIF(Général!B48:B54,$G$1)=1,\"Boat 1\",IF(COUNTIF(Général!C48:C54,$G$1)=1,\"Boat 2\",IF(COUNTIF(Général!D48:D54,$G$1)=1,\"Boat 3\", IF(COUNTIF(Général!E48:E54,$G$1)=1,\"Boat 4\", IF(COUNTIF(Général!F48:F54,$G$1)=1,\"Boat 5\", IF(COUNTIF(Général!G48:G54,$G$1)=1,\"Boat 6\", IF(COUNTIF(Général!H48:H54,$G$1)=1,\"Boat 7\",IF(COUNTIF(Général!I38:I44,$G$1)=1,\"Boat 8\",\"Boat 9\"))))))))","v":"Boat 1"},{"$f":"IF(COUNTIF(Général!B58:B64,$G$1)=1,\"Boat 1\",IF(COUNTIF(Général!C58:C64,$G$1)=1,\"Boat 2\",IF(COUNTIF(Général!D58:D64,$G$1)=1,\"Boat 3\", IF(COUNTIF(Général!E58:E64,$G$1)=1,\"Boat 4\", IF(COUNTIF(Général!F58:F64,$G$1)=1,\"Boat 5\", IF(COUNTIF(Général!G58:G64,$G$1)=1,\"Boat 6\", IF(COUNTIF(Général!H58:H64,$G$1)=1,\"Boat 7\",IF(COUNTIF(Général!I38:I44,$G$1)=1,\"Boat 8\",\"Boat 9\"))))))))","v":"Boat 9"},{"$f":"IF(COUNTIF(Général!B68:B74,$G$1)=1,\"Boat 1\",IF(COUNTIF(Général!C68:C74,$G$1)=1,\"Boat 2\",IF(COUNTIF(Général!D68:D74,$G$1)=1,\"Boat 3\", IF(COUNTIF(Général!E68:E74,$G$1)=1,\"Boat 4\", IF(COUNTIF(Général!F68:F74,$G$1)=1,\"Boat 5\", IF(COUNTIF(Général!G68:G74,$G$1)=1,\"Boat 6\", IF(COUNTIF(Général!H68:H74,$G$1)=1,\"Boat 7\",IF(COUNTIF(Général!I38:I44,$G$1)=1,\"Boat 8\",\"Boat 9\"))))))))","v":"Boat 9"},{"$f":"IF(COUNTIF(Général!B78:B84,$G$1)=1,\"Boat 1\",IF(COUNTIF(Général!C78:C84,$G$1)=1,\"Boat 2\",IF(COUNTIF(Général!D78:D84,$G$1)=1,\"Boat 3\", IF(COUNTIF(Général!E78:E84,$G$1)=1,\"Boat 4\", IF(COUNTIF(Général!F78:F84,$G$1)=1,\"Boat 5\", IF(COUNTIF(Général!G78:G84,$G$1)=1,\"Boat 6\", IF(COUNTIF(Général!H78:H84,$G$1)=1,\"Boat 7\",IF(COUNTIF(Général!I38:I44,$G$1)=1,\"Boat 8\",\"Boat 9\"))))))))","v":"Boat 6"},{"$f":"IF(COUNTIF(Général!B88:B94,$G$1)=1,\"Boat 1\",IF(COUNTIF(Général!C88:C94,$G$1)=1,\"Boat 2\",IF(COUNTIF(Général!D88:D94,$G$1)=1,\"Boat 3\", IF(COUNTIF(Général!E88:E94,$G$1)=1,\"Boat 4\", IF(COUNTIF(Général!F88:F94,$G$1)=1,\"Boat 5\", IF(COUNTIF(Général!G88:G94,$G$1)=1,\"Boat 6\", IF(COUNTIF(Général!H88:H94,$G$1)=1,\"Boat 7\",IF(COUNTIF(Général!I38:I44,$G$1)=1,\"Boat 8\",\"Boat 9\"))))))))","v":"Boat 3"},{"$f":"IF(COUNTIF(Général!B98:B104,$G$1)=1,\"Boat 1\",IF(COUNTIF(Général!C98:C104,$G$1)=1,\"Boat 2\",IF(COUNTIF(Général!D98:D104,$G$1)=1,\"Boat 3\", IF(COUNTIF(Général!E98:E104,$G$1)=1,\"Boat 4\", IF(COUNTIF(Général!F98:F104,$G$1)=1,\"Boat 5\", IF(COUNTIF(Général!G98:G104,$G$1)=1,\"Boat 6\", IF(COUNTIF(Général!H98:H104,$G$1)=1,\"Boat 7\",IF(COUNTIF(Général!I38:I44,$G$1)=1,\"Boat 8\",\"Boat 9\"))))))))","v":"Boat 9"},{"$f":"IF(COUNTIF(Général!B108:B114,$G$1)=1,\"Boat 1\",IF(COUNTIF(Général!C108:C114,$G$1)=1,\"Boat 2\",IF(COUNTIF(Général!D108:D114,$G$1)=1,\"Boat 3\", IF(COUNTIF(Général!E108:E114,$G$1)=1,\"Boat 4\", IF(COUNTIF(Général!F108:F114,$G$1)=1,\"Boat 5\", IF(COUNTIF(Général!G108:G114,$G$1)=1,\"Boat 6\", IF(COUNTIF(Général!H108:H114,$G$1)=1,\"Boat 7\",IF(COUNTIF(Général!I38:I44,$G$1)=1,\"Boat 8\",\"Boat 9\"))))))))","v":"Boat 9"},{"$f":"IF(COUNTIF(Général!B118:B124,$G$1)=1,\"Boat 1\",IF(COUNTIF(Général!C118:C124,$G$1)=1,\"Boat 2\",IF(COUNTIF(Général!D118:D124,$G$1)=1,\"Boat 3\", IF(COUNTIF(Général!E118:E124,$G$1)=1,\"Boat 4\", IF(COUNTIF(Général!F118:F124,$G$1)=1,\"Boat 5\", IF(COUNTIF(Général!G118:G124,$G$1)=1,\"Boat 6\", IF(COUNTIF(Général!H118:H124,$G$1)=1,\"Boat 7\",IF(COUNTIF(Général!I38:I44,$G$1)=1,\"Boat 8\",\"Boat 9\"))))))))","v":"Boat 4"},{"$f":"IF(COUNTIF(Général!B128:B134,$G$1)=1,\"Boat 1\",IF(COUNTIF(Général!C128:C134,$G$1)=1,\"Boat 2\",IF(COUNTIF(Général!D128:D134,$G$1)=1,\"Boat 3\", IF(COUNTIF(Général!E128:E134,$G$1)=1,\"Boat 4\", IF(COUNTIF(Général!F128:F134,$G$1)=1,\"Boat 5\", IF(COUNTIF(Général!G128:G134,$G$1)=1,\"Boat 6\", IF(COUNTIF(Général!H128:H134,$G$1)=1,\"Boat 7\",IF(COUNTIF(Général!I38:I44,$G$1)=1,\"Boat 8\",\"Boat 9\"))))))))","v":"Boat 7"},{"$f":"IF(COUNTIF(Général!B138:B144,$G$1)=1,\"Boat 1\",IF(COUNTIF(Général!C138:C144,$G$1)=1,\"Boat 2\",IF(COUNTIF(Général!C138:D144,$G$1)=1,\"Boat 3\", IF(COUNTIF(Général!C138:E144,$G$1)=1,\"Boat 4\", IF(COUNTIF(Général!F138:F144,$G$1)=1,\"Boat 5\", IF(COUNTIF(Général!G138:G144,$G$1)=1,\"Boat 6\", IF(COUNTIF(Général!H138:H144,$G$1)=1,\"Boat 7\",IF(COUNTIF(Général!I38:I44,$G$1)=1,\"Boat 8\",\"Boat 9\"))))))))","v":"Boat 5"},{"$f":"IF(COUNTIF(Général!B148:B154,$G$1)=1,\"Boat 1\",IF(COUNTIF(Général!C148:C154,$G$1)=1,\"Boat 2\",IF(COUNTIF(Général!D148:D154,$G$1)=1,\"Boat 3\", IF(COUNTIF(Général!E148:E154,$G$1)=1,\"Boat 4\", IF(COUNTIF(Général!F148:F154,$G$1)=1,\"Boat 5\", IF(COUNTIF(Général!G148:G154,$G$1)=1,\"Boat 6\", IF(COUNTIF(Général!H148:H154,$G$1)=1,\"Boat 7\",IF(COUNTIF(Général!I38:I44,$G$1)=1,\"Boat 8\",\"Boat 9\"))))))))","v":"Boat 2"},{"$f":"IF(COUNTIF(Général!B158:B164,$G$1)=1,\"Boat 1\",IF(COUNTIF(Général!C158:C164,$G$1)=1,\"Boat 2\",IF(COUNTIF(Général!D160:D164,$G$1)=1,\"Boat 3\", IF(COUNTIF(Général!E158:E164,$G$1)=1,\"Boat 4\", IF(COUNTIF(Général!F158:F164,$G$1)=1,\"Boat 5\", IF(COUNTIF(Général!G158:G164,$G$1)=1,\"Boat 6\", IF(COUNTIF(Général!H158:H164,$G$1)=1,\"Boat 7\",IF(COUNTIF(Général!I38:I44,$G$1)=1,\"Boat 8\",\"Boat 9\"))))))))","v":"Boat 4"},{"$f":"IF(COUNTIF(Général!B168:B174,$G$1)=1,\"Boat 1\",IF(COUNTIF(Général!C168:C174,$G$1)=1,\"Boat 2\",IF(COUNTIF(Général!D168:D174,$G$1)=1,\"Boat 3\", IF(COUNTIF(Général!E168:E174,$G$1)=1,\"Boat 4\", IF(COUNTIF(Général!F178:F184,$G$1)=1,\"Boat 5\", IF(COUNTIF(Général!G178:G184,$G$1)=1,\"Boat 6\", IF(COUNTIF(Général!H178:H184,$G$1)=1,\"Boat 7\",IF(COUNTIF(Général!I38:I44,$G$1)=1,\"Boat 8\",\"Boat 9\"))))))))","v":"Boat 4"},{"$f":"IF(COUNTIF(Général!B178:B184,$G$1)=1,\"Boat 1\",IF(COUNTIF(Général!C178:C184,$G$1)=1,\"Boat 2\",IF(COUNTIF(Général!D178:D184,$G$1)=1,\"Boat 3\", IF(COUNTIF(Général!E178:E184,$G$1)=1,\"Boat 4\", IF(COUNTIF(Général!F178:F184,$G$1)=1,\"Boat 5\", IF(COUNTIF(Général!G178:G184,$G$1)=1,\"Boat 6\", IF(COUNTIF(Général!H178:H184,$G$1)=1,\"Boat 7\",IF(COUNTIF(Général!I38:I44,$G$1)=1,\"Boat 8\",\"Boat 9\"))))))))","v":"Boat 4"},{"$f":"IF(COUNTIF(Général!B188:B194,$G$1)=1,\"Boat 1\",IF(COUNTIF(Général!C188:C194,$G$1)=1,\"Boat 2\",IF(COUNTIF(Général!D188:D194,$G$1)=1,\"Boat 3\", IF(COUNTIF(Général!E188:E194,$G$1)=1,\"Boat 4\", IF(COUNTIF(Général!F188:F194,$G$1)=1,\"Boat 5\", IF(COUNTIF(Général!G188:G194,$G$1)=1,\"Boat 6\", IF(COUNTIF(Général!H188:H194,$G$1)=1,\"Boat 7\",IF(COUNTIF(Général!I38:I44,$G$1)=1,\"Boat 8\",\"Boat 9\"))))))))","v":"Boat 9"},{"$f":"IF(COUNTIF(Général!B198:B204,$G$1)=1,\"Boat 1\",IF(COUNTIF(Général!C198:C204,$G$1)=1,\"Boat 2\",IF(COUNTIF(Général!D198:D204,$G$1)=1,\"Boat 3\", IF(COUNTIF(Général!E198:E204,$G$1)=1,\"Boat 4\", IF(COUNTIF(Général!F198:F204,$G$1)=1,\"Boat 5\", IF(COUNTIF(Général!G198:G204,$G$1)=1,\"Boat 6\", IF(COUNTIF(Général!H198:H204,$G$1)=1,\"Boat 7\",IF(COUNTIF(Général!I38:I44,$G$1)=1,\"Boat 8\",\"Boat 9\"))))))))","v":"Boat 7"},{"$f":"IF(COUNTIF(Général!B208:B214,$G$1)=1,\"Boat 1\",IF(COUNTIF(Général!C208:C214,$G$1)=1,\"Boat 2\",IF(COUNTIF(Général!D208:D214,$G$1)=1,\"Boat 3\", IF(COUNTIF(Général!E208:E214,$G$1)=1,\"Boat 4\", IF(COUNTIF(Général!F208:F214,$G$1)=1,\"Boat 5\", IF(COUNTIF(Général!G208:G214,$G$1)=1,\"Boat 6\", IF(COUNTIF(Général!H208:H214,$G$1)=1,\"Boat 7\",IF(COUNTIF(Général!I38:I44,$G$1)=1,\"Boat 8\",\"Boat 9\"))))))))","v":"Boat 1"},null,{"$f":"Général!B8","v":"Plymouth"},6]
[null,null,null,null,null,null,null,null,null,null,null,null,null,null,null,null,null,null,null,null,null,{"$f":"Général!B9","v":"Unicaen 2"},6]
["1er Equipage",null,{"$f":"IF($C$5=\"Course 1\",Général!B38,IF($C$5=\"Course 2\",Général!B40,IF($C$5=\"Course 3\",Général!B42,Général!B44)))","v":"La Rochelle 1"},{"$f":"IF($D$5=\"Course 1\",Général!B48,IF($D$5=\"Course 2\",Général!B50,IF($D$5=\"Course 3\",Général!B52,Général!B54)))","v":"UBO 1"},{"$f":"IF($E$5=\"Course 1\",Général!B58,IF($E$5=\"Course 2\",Général!B60,IF($E$5=\"Course 3\",Général!B62,Général!B64)))","v":"Univ Nantes 3"},{"$f":"IF($F$5=\"Course 1\",Général!B$68,IF($F$5=\"Course 2\",Général!B$70,IF($F$5=\"Course 3\",Général!B$72,Général!B$74)))","v":"ST Brieuc 2"},{"$f":"IF($G$5=\"Course 1\",Général!B$78,IF($G$5=\"Course 2\",Général!B$80,IF($G$5=\"Course 3\",Général!B$82,Général!B$84)))","v":"ENSMAC"},{"$f":"IF($H$5=\"Course 1\",Général!B$88,IF($H$5=\"Course 2\",Général!B$90,IF($H$5=\"Course 3\",Général!B$92,Général!B$94)))","v":"ENSTA 2"},{"$f":"IF($I$5=\"Course 1\",Général!B$98,IF($I$5=\"Course 2\",Général!B$100,IF($I$5=\"Course 3\",Général!B$102,Général!B$104)))","v":"La Rochelle 2"},{"$f":"IF($J$5=\"Course 1\",Général!B$108,IF($J$5=\"Course 2\",Général!B$110,IF($J$5=\"Course 3\",Général!B$112,Général!B$114)))","v":"La Rochelle 2"},{"$f":"IF($K$5=\"Course 1\",Général!B$118,IF($K$5=\"Course 2\",Général!B$120,IF($K$5=\"Course 3\",Général!B$122,Général!B$124)))","v":"Hannover"},{"$f":"IF($L$5=\"Course 1\",Général!B$128,IF($L$5=\"Course 2\",Général!B$130,IF($L$5=\"Course 3\",Général!B$132,Général!B$134)))","v":"UBO 2"},{"$f":"IF($M$5=\"Course 1\",Général!B$138,IF($M$5=\"Course 2\",Général!B$140,IF($M$5=\"Course 3\",Général!B$142,Général!B$144)))","v":"ENSTA 1"},{"$f":"IF($N$5=\"Course 1\",Général!B$148,IF($N$5=\"Course 2\",Général!B$150,IF($N$5=\"Course 3\",Général!B$152,Général!B$154)))","v":"UBS Lorient 2"},{"$f":"IF($O$5=\"Course 1\",Général!B$158,IF($O$5=\"Course 2\",Général!B$160,IF($O$5=\"Course 3\",Général!B$162,Général!B$164)))","v":"ENSMAC"},{"$f":"IF($P$5=\"Course 1\",Général!B$168,IF($P$5=\"Course 2\",Général!B$170,IF($P$5=\"Course 3\",Général!B$172,Général!B$174)))","v":"Plymouth"},{"$f":"IF($Q$5=\"Course 1\",Général!B$178,IF($Q$5=\"Course 2\",Général!B$180,IF($Q$5=\"Course 3\",Général!B$182,Général!B$184)))","v":"Plymouth"},{"$f":"IF($R$5=\"Course 1\",Général!B$188,IF($R$5=\"Course 2\",Général!B$190,IF($R$5=\"Course 3\",Général!B$192,Général!B$194)))","v":"Karlsruhe"},{"$f":"IF($S$5=\"Course 1\",Général!B$198,IF($S$5=\"Course 2\",Général!B$200,IF($S$5=\"Course 3\",Général!B$202,Général!B$204)))","v":"ENSTA 2"},{"$f":"IF($T$5=\"Course 1\",Général!B$208,IF($T$5=\"Course 2\",Général!B$210,IF($T$5=\"Course 3\",Général!B$212,Général!B$214)))","v":"UBO 1"},null,{"$f":"Général!B10","v":"Univ Nantes 2"},5]
["2nd Equipage",null,{"$f":"IF($C$5=\"Course 1\",Général!C38,IF($C$5=\"Course 2\",Général!C40,IF($C$5=\"Course 3\",Général!C42,Général!C44)))","v":"UBS Lorient 1"},{"$f":"IF($D$5=\"Course 1\",Général!C48,IF($D$5=\"Course 2\",Général!C50,IF($D$5=\"Course 3\",Général!C52,Général!C54)))","v":"Centrale Nantes 2"},{"$f":"IF($E$5=\"Course 1\",Général!C58,IF($E$5=\"Course 2\",Général!C60,IF($E$5=\"Course 3\",Général!C62,Général!C64)))","v":"IMT Nantes"},{"$f":"IF($F$5=\"Course 1\",Général!C$68,IF($F$5=\"Course 2\",Général!C$70,IF($F$5=\"Course 3\",Général!C$72,Général!C$74)))","v":"La Rochelle 1"},{"$f":"IF($G$5=\"Course 1\",Général!C$78,IF($G$5=\"Course 2\",Général!C$80,IF($G$5=\"Course 3\",Général!C$82,Général!C$84)))","v":"Hannover"},{"$f":"IF($H$5=\"Course 1\",Général!C$88,IF($H$5=\"Course 2\",Général!C$90,IF($H$5=\"Course 3\",Général!C$92,Général!C$94)))","v":"Southampton"},{"$f":"IF($I$5=\"Course 1\",Général!C$98,IF($I$5=\"Course 2\",Général!C$100,IF($I$5=\"Course 3\",Général!C$102,Général!C$104)))","v":"ENSTA 2"},{"$f":"IF($J$5=\"Course 1\",Général!C$108,IF($J$5=\"Course 2\",Général!C$110,IF($J$5=\"Course 3\",Général!C$112,Général!C$114)))","v":"ENSTA 2"},{"$f":"IF($K$5=\"Course 1\",Général!C$118,IF($K$5=\"Course 2\",Général!C$120,IF($K$5=\"Course 3\",Général!C$122,Général!C$124)))","v":"Paris Cité"},{"$f":"IF($L$5=\"Course 1\",Général!C$128,IF($L$5=\"Course 2\",Général!C$130,IF($L$5=\"Course 3\",Général!C$132,Général!C$134)))","v":"Univ Nantes 3"},{"$f":"IF($M$5=\"Course 1\",Général!C$138,IF($M$5=\"Course 2\",Général!C$140,IF($M$5=\"Course 3\",Général!C$142,Général!C$144)))","v":"Intechmer"},{"$f":"IF($N$5=\"Course 1\",Général!C$148,IF($N$5=\"Course 2\",Général!C$150,IF($N$5=\"Course 3\",Général!C$152,Général!C$154)))","v":"UBO 1"},{"$f":"IF($O$5=\"Course 1\",Général!C$158,IF($O$5=\"Course 2\",Général!C$160,IF($O$5=\"Course 3\",Général!C$162,Général!C$164)))","v":"UBO 2"},{"$f":"IF($P$5=\"Course 1\",Général!C$168,IF($P$5=\"Course 2\",Général!C$170,IF($P$5=\"Course 3\",Général!C$172,Général!C$174)))","v":"La Rochelle 2"},{"$f":"IF($Q$5=\"Course 1\",Général!C$178,IF($Q$5=\"Course 2\",Général!C$180,IF($Q$5=\"Course 3\",Général!C$182,Général!C$184)))","v":"UNIV Nantes 1"},{"$f":"IF($R$5=\"Course 1\",Général!C$188,IF($R$5=\"Course 2\",Général!C$190,IF($R$5=\"Course 3\",Général!C$192,Général!C$194)))","v":"ST Brieuc 2"},{"$f":"IF($S$5=\"Course 1\",Général!C$198,IF($S$5=\"Course 2\",Général!C$200,IF($S$5=\"Course 3\",Général!C$202,Général!C$204)))","v":"Southampton"},{"$f":"IF($T$5=\"Course 1\",Général!C$208,IF($T$5=\"Course 2\",Général!C$210,IF($T$5=\"Course 3\",Général!C$212,Général!C$214)))","v":"Paris Sorbone"},null,{"$f":"Général!B11","v":"Karlsruhe"},4]
["3ème Equipage",null,{"$f":"IF($C$5=\"Course 1\",Général!D38,IF($C$5=\"Course 2\",Général!D40,IF($C$5=\"Course 3\",Général!D42,Général!D44)))","v":"UBO 1"},{"$f":"IF($D$5=\"Course 1\",Général!D48,IF($D$5=\"Course 2\",Général!D50,IF($D$5=\"Course 3\",Général!D52,Général!D54)))","v":"IMT Brest 2"},{"$f":"IF($E$5=\"Course 1\",Général!D58,IF($E$5=\"Course 2\",Général!D60,IF($E$5=\"Course 3\",Général!D62,Général!D64)))","v":"ENSTA 2"},{"$f":"IF($F$5=\"Course 1\",Général!D$68,IF($F$5=\"Course 2\",Général!D$70,IF($F$5=\"Course 3\",Général!D$72,Général!D$74)))","v":"Centrale Nantes 1"},{"$f":"IF($G$5=\"Course 1\",Général!D$78,IF($G$5=\"Course 2\",Général!D$80,IF($G$5=\"Course 3\",Général!D$82,Général!D$84)))","v":"Karlsruhe"},{"$f":"IF($H$5=\"Course 1\",Général!D$88,IF($H$5=\"Course 2\",Général!D$90,IF($H$5=\"Course 3\",Général!D$92,Général!D$94)))","v":"UBO 1"},{"$f":"IF($I$5=\"Course 1\",Général!D$98,IF($I$5=\"Course 2\",Général!D$100,IF($I$5=\"Course 3\",Général!D$102,Général!D$104)))","v":"Hannover"},{"$f":"IF($J$5=\"Course 1\",Général!D$108,IF($J$5=\"Course 2\",Général!D$110,IF($J$5=\"Course 3\",Général!D$112,Général!D$114)))","v":"UBO 2"},{"$f":"IF($K$5=\"Course 1\",Général!D$118,IF($K$5=\"Course 2\",Général!D$120,IF($K$5=\"Course 3\",Général!D$122,Général!D$124)))","v":"Unicaen 2"},{"$f":"IF($L$5=\"Course 1\",Général!D$128,IF($L$5=\"Course 2\",Général!D$130,IF($L$5=\"Course 3\",Général!D$132,Général!D$134)))","v":"Orléans"},{"$f":"IF($M$5=\"Course 1\",Général!D$138,IF($M$5=\"Course 2\",Général!D$140,IF($M$5=\"Course 3\",Général!D$142,Général!D$144)))","v":"La Rochelle 2"},{"$f":"IF($N$5=\"Course 1\",Général!D$148,IF($N$5=\"Course 2\",Général!D$150,IF($N$5=\"Course 3\",Général!D$152,Général!D$154)))","v":"Centrale Nantes 2"},{"$f":"IF($O$5=\"Course 1\",Général!D$158,IF($O$5=\"Course 2\",Général!D$160,IF($O$5=\"Course 3\",Général!D$162,Général!D$164)))","v":"ENSTA 2"},{"$f":"IF($P$5=\"Course 1\",Général!D$168,IF($P$5=\"Course 2\",Général!D$170,IF($P$5=\"Course 3\",Général!D$172,Général!D$174)))","v":"Karlsruhe"},{"$f":"IF($Q$5=\"Course 1\",Général!D$178,IF($Q$5=\"Course 2\",Général!D$180,IF($Q$5=\"Course 3\",Général!D$182,Général!D$184)))","v":"Univ Nantes 2"},{"$f":"IF($R$5=\"Course 1\",Général!D$188,IF($R$5=\"Course 2\",Général!D$190,IF($R$5=\"Course 3\",Général!D$192,Général!D$194)))","v":"Orléans"},{"$f":"IF($S$5=\"Course 1\",Général!D$198,IF($S$5=\"Course 2\",Général!D$200,IF($S$5=\"Course 3\",Général!D$202,Général!D$204)))","v":"Paris Cité"},{"$f":"IF($T$5=\"Course 1\",Général!D$208,IF($T$5=\"Course 2\",Général!D$210,IF($T$5=\"Course 3\",Général!D$212,Général!D$214)))","v":"ENSMAC"},null,{"$f":"Général!B12","v":"IMT Brest 2"},5]
["4ème Equipage",null,{"$f":"IF($C$5=\"Course 1\",Général!E38,IF($C$5=\"Course 2\",Général!E40,IF($C$5=\"Course 3\",Général!E42,Général!E44)))","v":"Southampton"},{"$f":"IF($D$5=\"Course 1\",Général!E48,IF($D$5=\"Course 2\",Général!E50,IF($D$5=\"Course 3\",Général!E52,Général!E54)))","v":"Paris Cité"},{"$f":"IF($E$5=\"Course 1\",Général!E58,IF($E$5=\"Course 2\",Général!E60,IF($E$5=\"Course 3\",Général!E62,Général!E64)))","v":"Paris Cité"},{"$f":"IF($F$5=\"Course 1\",Général!E$68,IF($F$5=\"Course 2\",Général!E$70,IF($F$5=\"Course 3\",Général!E$72,Général!E$74)))","v":"Plymouth"},{"$f":"IF($G$5=\"Course 1\",Général!E$78,IF($G$5=\"Course 2\",Général!E$80,IF($G$5=\"Course 3\",Général!E$82,Général!E$84)))","v":"UNIV Nantes 1"},{"$f":"IF($H$5=\"Course 1\",Général!E$88,IF($H$5=\"Course 2\",Général!E$90,IF($H$5=\"Course 3\",Général!E$92,Général!E$94)))","v":"La Rochelle 1"},{"$f":"IF($I$5=\"Course 1\",Général!E$98,IF($I$5=\"Course 2\",Général!E$100,IF($I$5=\"Course 3\",Général!E$102,Général!E$104)))","v":"Paris Sorbone"},{"$f":"IF($J$5=\"Course 1\",Général!E$108,IF($J$5=\"Course 2\",Général!E$110,IF($J$5=\"Course 3\",Général!E$112,Général!E$114)))","v":"Paris Sorbone"},{"$f":"IF($K$5=\"Course 1\",Général!E$118,IF($K$5=\"Course 2\",Général!E$120,IF($K$5=\"Course 3\",Général!E$122,Général!E$124)))","v":"UBO 1"},{"$f":"IF($L$5=\"Course 1\",Général!E$128,IF($L$5=\"Course 2\",Général!E$130,IF($L$5=\"Course 3\",Général!E$132,Général!E$134)))","v":"IMT Brest 1"},{"$f":"IF($M$5=\"Course 1\",Général!E$138,IF($M$5=\"Course 2\",Général!E$140,IF($M$5=\"Course 3\",Général!E$142,Général!E$144)))","v":"ENSMAC"},{"$f":"IF($N$5=\"Course 1\",Général!E$148,IF($N$5=\"Course 2\",Général!E$150,IF($N$5=\"Course 3\",Général!E$152,Général!E$154)))","v":"UBS Lorient 1"},{"$f":"IF($O$5=\"Course 1\",Général!E$158,IF($O$5=\"Course 2\",Général!E$160,IF($O$5=\"Course 3\",Général!E$162,Général!E$164)))","v":"UBO 1"},{"$f":"IF($P$5=\"Course 1\",Général!E$168,IF($P$5=\"Course 2\",Général!E$170,IF($P$5=\"Course 3\",Général!E$172,Général!E$174)))","v":"UBO 1"},{"$f":"IF($Q$5=\"Course 1\",Général!E$178,IF($Q$5=\"Course 2\",Général!E$180,IF($Q$5=\"Course 3\",Général!E$182,Général!E$184)))","v":"UBO 1"},{"$f":"IF($R$5=\"Course 1\",Général!E$188,IF($R$5=\"Course 2\",Général!E$190,IF($R$5=\"Course 3\",Général!E$192,Général!E$194)))","v":"Paris Cité"},{"$f":"IF($S$5=\"Course 1\",Général!E$198,IF($S$5=\"Course 2\",Général!E$200,IF($S$5=\"Course 3\",Général!E$202,Général!E$204)))","v":"ENSMAC"},{"$f":"IF($T$5=\"Course 1\",Général!E$208,IF($T$5=\"Course 2\",Général!E$210,IF($T$5=\"Course 3\",Général!E$212,Général!E$214)))","v":"Univ Nantes 3"},null,{"$f":"Général!B13","v":"Unicaen 1"},2]
["5ème Equipage",null,{"$f":"IF($C$5=\"Course 1\",Général!F38,IF($C$5=\"Course 2\",Général!F40,IF($C$5=\"Course 3\",Général!F42,Général!F44)))","v":"ENSTA 2"},{"$f":"IF($D$5=\"Course 1\",Général!F48,IF($D$5=\"Course 2\",Général!F50,IF($D$5=\"Course 3\",Général!F52,Général!F54)))","v":"UBO 2"},{"$f":"IF($E$5=\"Course 1\",Général!F58,IF($E$5=\"Course 2\",Général!F60,IF($E$5=\"Course 3\",Général!F62,Général!F64)))","v":"UBO 2"},{"$f":"IF($F$5=\"Course 1\",Général!F$68,IF($F$5=\"Course 2\",Général!F$70,IF($F$5=\"Course 3\",Général!F$72,Général!F$74)))","v":"UBS Lorient 1"},{"$f":"IF($G$5=\"Course 1\",Général!F$78,IF($G$5=\"Course 2\",Général!F$80,IF($G$5=\"Course 3\",Général!F$82,Général!F$84)))","v":"ST Brieuc 2"},{"$f":"IF($H$5=\"Course 1\",Général!F$88,IF($H$5=\"Course 2\",Général!F$90,IF($H$5=\"Course 3\",Général!F$92,Général!F$94)))","v":"Orléans"},{"$f":"IF($I$5=\"Course 1\",Général!F$98,IF($I$5=\"Course 2\",Général!F$100,IF($I$5=\"Course 3\",Général!F$102,Général!F$104)))","v":"Centrale Nantes 1"},{"$f":"IF($J$5=\"Course 1\",Général!F$108,IF($J$5=\"Course 2\",Général!F$110,IF($J$5=\"Course 3\",Général!F$112,Général!F$114)))","v":"ST Brieuc 2"},{"$f":"IF($K$5=\"Course 1\",Général!F$118,IF($K$5=\"Course 2\",Général!F$120,IF($K$5=\"Course 3\",Général!F$122,Général!F$124)))","v":"ENSTA 1"},{"$f":"IF($L$5=\"Course 1\",Général!F$128,IF($L$5=\"Course 2\",Général!$F130,IF($L$5=\"Course 3\",Général!F$132,Général!F$134)))","v":"Univ Nantes 2"},{"$f":"IF($M$5=\"Course 1\",Général!F$138,IF($M$5=\"Course 2\",Général!F$140,IF($M$5=\"Course 3\",Général!F$142,Général!F$144)))","v":"UBO 1"},{"$f":"IF($N$5=\"Course 1\",Général!F$148,IF($N$5=\"Course 2\",Général!F$150,IF($N$5=\"Course 3\",Général!F$152,Général!F$154)))","v":"ST Brieuc 2"},{"$f":"IF($O$5=\"Course 1\",Général!F$158,IF($O$5=\"Course 2\",Général!F$160,IF($O$5=\"Course 3\",Général!F$162,Général!F$164)))","v":"INSA Lyon"},{"$f":"IF($P$5=\"Course 1\",Général!F$168,IF($P$5=\"Course 2\",Général!F$170,IF($P$5=\"Course 3\",Général!F$172,Général!F$174)))","v":"Hannover"},{"$f":"IF($Q$5=\"Course 1\",Général!F$178,IF($Q$5=\"Course 2\",Général!F$180,IF($Q$5=\"Course 3\",Général!F$182,Général!F$184)))","v":"INSA Lyon"},{"$f":"IF($R$5=\"Course 1\",Général!F$188,IF($R$5=\"Course 2\",Général!F$190,IF($R$5=\"Course 3\",Général!F$192,Général!F$194)))","v":"ENSMAC"},{"$f":"IF($S$5=\"Course 1\",Général!F$198,IF($S$5=\"Course 2\",Général!F$200,IF($S$5=\"Course 3\",Général!F$202,Général!F$204)))","v":"Unicaen 2"},{"$f":"IF($T$5=\"Course 1\",Général!F$208,IF($T$5=\"Course 2\",Général!F$210,IF($T$5=\"Course 3\",Général!F$212,Général!F$214)))","v":"UBS Lorient 1"},null,{"$f":"Général!B14","v":"ENSTA 1"},4]
["6ème Equipage",null,{"$f":"IF($C$5=\"Course 1\",Général!G38,IF($C$5=\"Course 2\",Général!G40,IF($C$5=\"Course 3\",Général!G42,Général!G44)))","v":"Plymouth"},{"$f":"IF($D$5=\"Course 1\",Général!G48,IF($D$5=\"Course 2\",Général!G50,IF($D$5=\"Course 3\",Général!G52,Général!G54)))","v":"La Rochelle 2"},{"$f":"IF($E$5=\"Course 1\",Général!G58,IF($E$5=\"Course 2\",Général!G60,IF($E$5=\"Course 3\",Général!G62,Général!G64)))","v":"ENSMAC"},{"$f":"IF($F$5=\"Course 1\",Général!G$68,IF($F$5=\"Course 2\",Général!G$70,IF($F$5=\"Course 3\",Général!G$72,Général!G$74)))","v":"IMT Brest 1"},{"$f":"IF($G$5=\"Course 1\",Général!G$78,IF($G$5=\"Course 2\",Général!G$80,IF($G$5=\"Course 3\",Général!G$82,Général!G$84)))","v":"UBO 1"},{"$f":"IF($H$5=\"Course 1\",Général!G$88,IF($H$5=\"Course 2\",Général!G$90,IF($H$5=\"Course 3\",Général!G$92,Général!G$94)))","v":"Paris Cité"},{"$f":"IF($I$5=\"Course 1\",Général!G$98,IF($I$5=\"Course 2\",Général!G$100,IF($I$5=\"Course 3\",Général!G$102,Général!G$104)))","v":"Unicaen 2"},{"$f":"IF($J$5=\"Course 1\",Général!G$108,IF($J$5=\"Course 2\",Général!G$110,IF($J$5=\"Course 3\",Général!G$112,Général!G$114)))","v":"Centrale Nantes 2"},{"$f":"IF($K$5=\"Course 1\",Général!G$118,IF($K$5=\"Course 2\",Général!G$120,IF($K$5=\"Course 3\",Général!G$122,Général!G$124)))","v":"La Rochelle 2"},{"$f":"IF($L$5=\"Course 1\",Général!G$128,IF($L$5=\"Course 2\",Général!G$130,IF($L$5=\"Course 3\",Général!G$132,Général!G$134)))","v":"Unicaen 1"},{"$f":"IF($M$5=\"Course 1\",Général!G$138,IF($M$5=\"Course 2\",Général!G$140,IF($M$5=\"Course 3\",Général!G$142,Général!G$144)))","v":"Southampton"},{"$f":"IF($N$5=\"Course 1\",Général!G$148,IF($N$5=\"Course 2\",Général!G$150,IF($N$5=\"Course 3\",Général!G$152,Général!G$154)))","v":"Univ Nantes 2"},{"$f":"IF($O$5=\"Course 1\",Général!G$158,IF($O$5=\"Course 2\",Général!G$160,IF($O$5=\"Course 3\",Général!G$162,Général!G$164)))","v":"Plymouth"},{"$f":"IF($P$5=\"Course 1\",Général!G$168,IF($P$5=\"Course 2\",Général!G$170,IF($P$5=\"Course 3\",Général!G$172,Général!G$174)))","v":"UBS Lorient 2"},{"$f":"IF($Q$5=\"Course 1\",Général!G$178,IF($Q$5=\"Course 2\",Général!G$180,IF($Q$5=\"Course 3\",Général!G$182,Général!G$184)))","v":"UBS Lorient 2"},{"$f":"IF($R$5=\"Course 1\",Général!G$188,IF($R$5=\"Course 2\",Général!G$190,IF($R$5=\"Course 3\",Général!G$192,Général!G$194)))","v":"IMT Brest 1"},{"$f":"IF($S$5=\"Course 1\",Général!G$198,IF($S$5=\"Course 2\",Général!G$200,IF($S$5=\"Course 3\",Général!G$202,Général!G$204)))","v":"UBS Lorient 1"},{"$f":"IF($T$5=\"Course 1\",Général!G$208,IF($T$5=\"Course 2\",Général!G$210,IF($T$5=\"Course 3\",Général!G$212,Général!G$214)))","v":"INSA Lyon"},null,{"$f":"Général!B15","v":"Orléans"},3]
["7ème Equipage",null,{"$f":"IF($C$5=\"Course 1\",Général!H38,IF($C$5=\"Course 2\",Général!H40,IF($C$5=\"Course 3\",Général!H42,Général!H44)))","v":"Univ Nantes 2"},{"$f":"IF($D$5=\"Course 1\",Général!H48,IF($D$5=\"Course 2\",Général!H50,IF($D$5=\"Course 3\",Général!H52,Général!H54)))","v":"Karlsruhe"},{"$f":"IF($E$5=\"Course 1\",Général!H58,IF($E$5=\"Course 2\",Général!H60,IF($E$5=\"Course 3\",Général!H62,Général!H64)))","v":"Hannover"},{"$f":"IF($F$5=\"Course 1\",Général!H$68,IF($F$5=\"Course 2\",Général!H$70,IF($F$5=\"Course 3\",Général!H$72,Général!H$74)))","v":"IMT Brest 2"},{"$f":"IF($G$5=\"Course 1\",Général!H$78,IF($G$5=\"Course 2\",Général!H$80,IF($G$5=\"Course 3\",Général!H$82,Général!H$84)))","v":"IMT Brest 1"},{"$f":"IF($H$5=\"Course 1\",Général!H$88,IF($H$5=\"Course 2\",Général!H$90,IF($H$5=\"Course 3\",Général!H$92,Général!H$94)))","v":"Hannover"},{"$f":"IF($I$5=\"Course 1\",Général!H$98,IF($I$5=\"Course 2\",Général!H$100,IF($I$5=\"Course 3\",Général!H$102,Général!H$104)))","v":"IMT Brest 2"},{"$f":"IF($J$5=\"Course 1\",Général!H$108,IF($J$5=\"Course 2\",Général!H$110,IF($J$5=\"Course 3\",Général!H$112,Général!H$114)))","v":"St Brieuc 1"},{"$f":"IF($K$5=\"Course 1\",Général!H$118,IF($K$5=\"Course 2\",Général!H$120,IF($K$5=\"Course 3\",Général!H$122,Général!H$124)))","v":"IMT Nantes"},{"$f":"IF($L$5=\"Course 1\",Général!H$128,IF($L$5=\"Course 2\",Général!H$130,IF($L$5=\"Course 3\",Général!H$132,Général!H$134)))","v":"UBO 1"},{"$f":"IF($M$5=\"Course 1\",Général!H$138,IF($M$5=\"Course 2\",Général!H$140,IF($M$5=\"Course 3\",Général!H$142,Général!H$144)))","v":"Centrale Nantes 2"},{"$f":"IF($N$5=\"Course 1\",Général!H$148,IF($N$5=\"Course 2\",Général!H$150,IF($N$5=\"Course 3\",Général!H$152,Général!H$154)))","v":"ENSMAC"},{"$f":"IF($O$5=\"Course 1\",Général!H$158,IF($O$5=\"Course 2\",Général!H$160,IF($O$5=\"Course 3\",Général!H$162,Général!H$164)))","v":"Paris Cité"},{"$f":"IF($P$5=\"Course 1\",Général!H$168,IF($P$5=\"Course 2\",Général!H$170,IF($P$5=\"Course 3\",Général!H$172,Général!H$174)))","v":"UBS Lorient 1"},{"$f":"IF($Q$5=\"Course 1\",Général!H$178,IF($Q$5=\"Course 2\",Général!H$180,IF($Q$5=\"Course 3\",Général!H$182,Général!H$184)))","v":"UBO 2"},{"$f":"IF($R$5=\"Course 1\",Général!H$188,IF($R$5=\"Course 2\",Général!H$190,IF($R$5=\"Course 3\",Général!H$192,Général!H$194)))","v":"Centrale Nantes 1"},{"$f":"IF($S$5=\"Course 1\",Général!H$198,IF($S$5=\"Course 2\",Général!H$200,IF($S$5=\"Course 3\",Général!H$202,Général!H$204)))","v":"UBO 1"},{"$f":"IF($T$5=\"Course 1\",Général!H$208,IF($T$5=\"Course 2\",Général!H$210,IF($T$5=\"Course 3\",Général!H$212,Général!H$214)))","v":"Univ Nantes 2"},null,{"$f":"Général!B16","v":"IMT Brest 1"},5]
["8ème Equipage",null,{"$f":"IF($C$5=\"Course 1\",Général!I38,IF($C$5=\"Course 2\",Général!I40,IF($C$5=\"Course 3\",Général!I42,Général!I44)))","v":"INSA Lyon"},{"$f":"IF($D$5=\"Course 1\",Général!I48,IF($D$5=\"Course 2\",Général!I50,IF($D$5=\"Course 3\",Général!I52,Général!I54)))","v":"Centrale Nantes 1"},{"$f":"IF($E$5=\"Course 1\",Général!I58,IF($E$5=\"Course 2\",Général!I60,IF($E$5=\"Course 3\",Général!I62,Général!I64)))","v":"Unicaen 1"},{"$f":"IF($F$5=\"Course 1\",Général!I$68,IF($F$5=\"Course 2\",Général!I$70,IF($F$5=\"Course 3\",Général!I$72,Général!I$74)))","v":"UBO 1"},{"$f":"IF($G$5=\"Course 1\",Général!I$78,IF($G$5=\"Course 2\",Général!I$80,IF($G$5=\"Course 3\",Général!I$82,Général!I$84)))","v":"Southampton"},{"$f":"IF($H$5=\"Course 1\",Général!I$88,IF($H$5=\"Course 2\",Général!I$90,IF($H$5=\"Course 3\",Général!I$92,Général!I$94)))","v":"IMT Nantes"},{"$f":"IF($I$5=\"Course 1\",Général!I$98,IF($I$5=\"Course 2\",Général!I$100,IF($I$5=\"Course 3\",Général!I$102,Général!I$104)))","v":"INSA Lyon"},{"$f":"IF($J$5=\"Course 1\",Général!I$108,IF($J$5=\"Course 2\",Général!I$110,IF($J$5=\"Course 3\",Général!I$112,Général!I$114)))","v":"Paris Cité"},{"$f":"IF($K$5=\"Course 1\",Général!I$118,IF($K$5=\"Course 2\",Général!I$120,IF($K$5=\"Course 3\",Général!I$122,Général!I$124)))","v":"Plymouth"},{"$f":"IF($L$5=\"Course 1\",Général!I$128,IF($L$5=\"Course 2\",Général!I$130,IF($L$5=\"Course 3\",Général!I$132,Général!I$134)))","v":"Unicaen 2"},{"$f":"IF($M$5=\"Course 1\",Général!I$138,IF($M$5=\"Course 2\",Général!I$140,IF($M$5=\"Course 3\",Général!I$142,Général!I$144)))","v":"Unicaen 2"},{"$f":"IF($N$5=\"Course 1\",Général!I$148,IF($N$5=\"Course 2\",Général!I$150,IF($N$5=\"Course 3\",Général!I$152,Général!I$154)))","v":"Univ Nantes 3"},{"$f":"IF($O$5=\"Course 1\",Général!I$158,IF($O$5=\"Course 2\",Général!I$160,IF($O$5=\"Course 3\",Général!I$162,Général!I$164)))","v":"Centrale Nantes 2"},{"$f":"IF($P$5=\"Course 1\",Général!I$168,IF($P$5=\"Course 2\",Général!I$170,IF($P$5=\"Course 3\",Général!I$172,Général!I$174)))","v":"Unicaen 2"},{"$f":"IF($Q$5=\"Course 1\",Général!I$178,IF($Q$5=\"Course 2\",Général!I$180,IF($Q$5=\"Course 3\",Général!I$182,Général!I$184)))","v":"Southampton"},{"$f":"IF($R$5=\"Course 1\",Général!I$188,IF($R$5=\"Course 2\",Général!I$190,IF($R$5=\"Course 3\",Général!I$192,Général!I$194)))","v":"UBS Lorient 2"},{"$f":"IF($S$5=\"Course 1\",Général!I$198,IF($S$5=\"Course 2\",Général!I$200,IF($S$5=\"Course 3\",Général!I$202,Général!I$204)))","v":"IMT Brest 1"},{"$f":"IF($T$5=\"Course 1\",Général!I$208,IF($T$5=\"Course 2\",Général!I$210,IF($T$5=\"Course 3\",Général!I$212,Général!I$214)))","v":"UNIV Nantes 1"},null,{"$f":"Général!B17","v":"ENSMAC"},8]
["9ème Equipage",null,{"$f":"IF($C$5=\"Course 1\",Général!J38,IF($C$5=\"Course 2\",Général!J40,IF($C$5=\"Course 3\",Général!J42,Général!J44)))","v":"Centrale Nantes 1"},{"$f":"IF($D$5=\"Course 1\",Général!J48,IF($D$5=\"Course 2\",Général!J50,IF($D$5=\"Course 3\",Général!J52,Général!J54)))","v":"INSA Lyon"},{"$f":"IF($E$5=\"Course 1\",Général!J58,IF($E$5=\"Course 2\",Général!J60,IF($E$5=\"Course 3\",Général!J62,Général!J64)))","v":"Southampton"},{"$f":"IF($F$5=\"Course 1\",Général!J$68,IF($F$5=\"Course 2\",Général!J$70,IF($F$5=\"Course 3\",Général!J$72,Général!J$74)))","v":"ENSTA 1"},{"$f":"IF($G$5=\"Course 1\",Général!J$78,IF($G$5=\"Course 2\",Général!J$80,IF($G$5=\"Course 3\",Général!J$82,Général!J$84)))","v":"ENSTA 1"},{"$f":"IF($H$5=\"Course 1\",Général!J$88,IF($H$5=\"Course 2\",Général!J$90,IF($H$5=\"Course 3\",Général!$J92,Général!J$94)))","v":"Centrale Nantes 1"},{"$f":"IF($I$5=\"Course 1\",Général!J$98,IF($I$5=\"Course 2\",Général!J$100,IF($I$5=\"Course 3\",Général!J$102,Général!J$104)))","v":"UBO 1"},{"$f":"IF($J$5=\"Course 1\",Général!J$108,IF($J$5=\"Course 2\",Général!J$110,IF($J$5=\"Course 3\",Général!J$112,Général!J$114)))","v":"UBO 1"},{"$f":"IF($K$5=\"Course 1\",Général!J$118,IF($K$5=\"Course 2\",Général!J$120,IF($K$5=\"Course 3\",Général!J$122,Général!J$124)))","v":"Paris Sorbone"},{"$f":"IF($L$5=\"Course 1\",Général!J$128,IF($L$5=\"Course 2\",Général!J$130,IF($L$5=\"Course 3\",Général!J$132,Général!J$134)))","v":"Centrale Nantes 2"},{"$f":"IF($M$5=\"Course 1\",Général!J$138,IF($M$5=\"Course 2\",Général!J$140,IF($M$5=\"Course 3\",Général!J$142,Général!J$144)))","v":"IMT Nantes"},{"$f":"IF($N$5=\"Course 1\",Général!J$148,IF($N$5=\"Course 2\",Général!J$150,IF($N$5=\"Course 3\",Général!J$152,Général!J$154)))","v":"ENSTA 2"},{"$f":"IF($O$5=\"Course 1\",Général!J$158,IF($O$5=\"Course 2\",Général!J$160,IF($O$5=\"Course 3\",Général!J$162,Général!J$164)))","v":"Intechmer"},{"$f":"IF($P$5=\"Course 1\",Général!J$168,IF($P$5=\"Course 2\",Général!J$170,IF($P$5=\"Course 3\",Général!J$172,Général!J$174)))","v":"IMT Brest 2"},{"$f":"IF($Q$5=\"Course 1\",Général!J$178,IF($Q$5=\"Course 2\",Général!J$180,IF($Q$5=\"Course 3\",Général!J$182,Général!J$184)))","v":"IMT Brest 2"},{"$f":"IF($R$5=\"Course 1\",Général!J$188,IF($R$5=\"Course 2\",Général!J$190,IF($R$5=\"Course 3\",Général!J$192,Général!J$194)))","v":"UBS Lorient 1"},{"$f":"IF($S$5=\"Course 1\",Général!J$198,IF($S$5=\"Course 2\",Général!J$200,IF($S$5=\"Course 3\",Général!J$202,Général!J$204)))","v":"Hannover"},{"$f":"IF($T$5=\"Course 1\",Général!J$208,IF($T$5=\"Course 2\",Général!J$210,IF($T$5=\"Course 3\",Général!J$212,Général!J$214)))","v":"Centrale Nantes 2"},null,{"$f":"Général!B18","v":"St Brieuc 1"},1]
["10ème Equipage",null,{"$f":"IF($C$5=\"Course 1\",Général!K38,IF($C$5=\"Course 2\",Général!K40,IF($C$5=\"Course 3\",Général!K42,Général!K44)))","v":"Centrale Nantes 2"},{"$f":"IF($D$5=\"Course 1\",Général!K48,IF($D$5=\"Course 2\",Général!K50,IF($D$5=\"Course 3\",Général!K52,Général!K54)))","v":"Unicaen 1"},{"$f":"IF($E$5=\"Course 1\",Général!K58,IF($E$5=\"Course 2\",Général!K60,IF($E$5=\"Course 3\",Général!K62,Général!K64)))","v":"UBO 1"},{"$f":"IF($F$5=\"Course 1\",Général!K$68,IF($F$5=\"Course 2\",Général!K$70,IF($F$5=\"Course 3\",Général!K$72,Général!K$74)))","v":"Orléans"},{"$f":"IF($G$5=\"Course 1\",Général!K$78,IF($G$5=\"Course 2\",Général!K$80,IF($G$5=\"Course 3\",Général!K$82,Général!K$84)))","v":"UBO 2"},{"$f":"IF($H$5=\"Course 1\",Général!K$88,IF($H$5=\"Course 2\",Général!K$90,IF($H$5=\"Course 3\",Général!$K92,Général!K$94)))","v":"ENSTA 1"},{"$f":"IF($I$5=\"Course 1\",Général!K$98,IF($I$5=\"Course 2\",Général!K$100,IF($I$5=\"Course 3\",Général!K$102,Général!K$104)))","v":"ENSMAC"},{"$f":"IF($J$5=\"Course 1\",Général!K$108,IF($J$5=\"Course 2\",Général!K$110,IF($J$5=\"Course 3\",Général!K$112,Général!K$114)))","v":"Univ Nantes 3"},{"$f":"IF($K$5=\"Course 1\",Général!K$118,IF($K$5=\"Course 2\",Général!K$120,IF($K$5=\"Course 3\",Général!K$122,Général!K$124)))","v":"UBO 2"},{"$f":"IF($L$5=\"Course 1\",Général!K$128,IF($L$5=\"Course 2\",Général!K$130,IF($L$5=\"Course 3\",Général!K$132,Général!K$134)))","v":"La Rochelle 1"},{"$f":"IF($M$5=\"Course 1\",Général!K$138,IF($M$5=\"Course 2\",Général!K$140,IF($M$5=\"Course 3\",Général!K$142,Général!K$144)))","v":"INSA Lyon"},{"$f":"IF($N$5=\"Course 1\",Général!K$148,IF($N$5=\"Course 2\",Général!K$150,IF($N$5=\"Course 3\",Général!K$152,Général!K$154)))","v":"ENSTA 1"},{"$f":"IF($O$5=\"Course 1\",Général!K$158,IF($O$5=\"Course 2\",Général!K$160,IF($O$5=\"Course 3\",Général!K$162,Général!K$164)))","v":"IMT Brest 2"},{"$f":"IF($P$5=\"Course 1\",Général!K$168,IF($P$5=\"Course 2\",Général!K$170,IF($P$5=\"Course 3\",Général!K$172,Général!K$174)))","v":"Centrale Nantes 1"},{"$f":"IF($Q$5=\"Course 1\",Général!K$178,IF($Q$5=\"Course 2\",Général!K$180,IF($Q$5=\"Course 3\",Général!K$182,Général!K$184)))","v":"Unicaen 1"},{"$f":"IF($R$5=\"Course 1\",Général!K$188,IF($R$5=\"Course 2\",Général!K$190,IF($R$5=\"Course 3\",Général!K$192,Général!K$194)))","v":"UBO 1"},{"$f":"IF($S$5=\"Course 1\",Général!K$198,IF($S$5=\"Course 2\",Général!K$200,IF($S$5=\"Course 3\",Général!K$202,Général!K$204)))","v":"Univ Nantes 3"},{"$f":"IF($T$5=\"Course 1\",Général!K$208,IF($T$5=\"Course 2\",Général!K$210,IF($T$5=\"Course 3\",Général!K$212,Général!K$214)))","v":"Paris Cité"},null,{"$f":"Général!B19","v":"Hannover"},7]
[null,null,null,null,null,null,null,null,null,null,null,null,null,null,null,null,null,null,null,null,null,{"$f":"Général!B20","v":"ENSTA 2"},8]
[null,null,null,null,null,null,null,null,null,null,null,null,null,null,null,null,null,null,null,null,null,{"$f":"Général!B21","v":"Southampton"},7]
[null,null,null,null,null,null,null,null,null,null,null,null,null,null,null,null,null,null,null,null,null,{"$f":"Général!B22","v":"La Rochelle 1"},3]
[null,null,null,null,null,null,null,null,null,null,null,null,null,null,null,null,null,null,null,null,null,{"$f":"Général!B23","v":"Centrale Nantes 1"},6]
[null,null,null,null,null,null,null,null,null,null,null,null,null,null,null,null,null,null,null,null,null,{"$f":"Général!B24","v":"ST Brieuc 2"},5]
[null,null,null,null,null,null,null,null,null,null,null,null,null,null,null,null,null,null,null,null,null,{"$f":"Général!B25","v":"UNIV Nantes 1"},3]
[null,null,null,null,null,null,null,null,null,null,null,null,null,null,null,null,null,null,null,null,null,{"$f":"Général!B26","v":"Intechmer"},2]
[null,null,null,null,null,null,null,null,null,null,null,null,null,null,null,null,null,null,null,null,null,{"$f":"Général!B27","v":"IMT Nantes"},4]
[null,null,null,null,null,null,null,null,null,null,null,null,null,null,null,null,null,null,null,null,null,{"$f":"Général!B28","v":"INSA Lyon"},6]
[null,null,null,null,null,null,null,null,null,null,null,null,null,null,null,null,null,null,null,null,null,{"$f":"Général!B29","v":"Centrale Nantes 2"},7]
[null,null,null,null,null,null,null,null,null,null,null,null,null,null,null,null,null,null,null,null,null,{"$f":"Général!B30","v":"UBS Lorient 2"},4]
[null,null,null,null,null,null,null,null,null,null,null,null,null,null,null,null,null,null,null,null,null,{"$f":"Général!B31","v":"La Rochelle 2"},6]
[null,null,null,null,null,null,null,null,null,null,null,null,null,null,null,null,null,null,null,null,null,{"$f":"Général!B32","v":"UBO 1"},16]
[null,null,null,null,null,null,null,null,null,null,null,null,null,null,null,null,null,null,null,null,null,{"$f":"Général!B33","v":"Eq.31"},0]
[null,null,null,null,null,null,null,null,null,null,null,null,null,null,null,null,null,null,null,null,null,{"$f":"Général!B34","v":"Eq.32"},0]

{"sheet":"Eq.31","index":36,"n_rows":32,"n_cols":23,"rows_kept":32,"cut":false,"hidden":false,"merged":[[7,0,7,1],[0,0,1,5],[0,6,1,10],[3,0,3,1],[4,0,4,1],[5,0,5,1],[14,0,14,1],[15,0,15,1],[16,0,16,1],[8,0,8,1],[9,0,9,1],[10,0,10,1],[11,0,11,1],[12,0,12,1],[13,0,13,1]]}
["Equipage ",null,null,null,null,null,{"$f":"Général!B33","v":"Eq.31"},null,null,null,null,null,null,null,null,null,null,null,null,null,null,{"$f":"Général!B3","v":"UBO 2"},{"$f":"COUNTIF(C$8:T$16,V1)","v":0}]
[null,null,null,null,null,null,null,null,null,null,null,null,null,null,null,null,null,null,null,null,null,{"$f":"Général!B4","v":"Paris Sorbone"},{"$f":"COUNTIF($C$8:$T$16,V2)","v":0}]
[null,null,null,null,null,null,null,null,null,null,null,null,null,null,null,null,null,null,null,null,null,{"$f":"Général!B5","v":"UBS Lorient 1"},{"$f":"COUNTIF($C$8:$T$16,V3)","v":0}]
[null,null,"FLIGHT 1","FLIGHT 2","FLIGHT 3","FLIGHT 4","FLIGHT 5","FLIGHT 6","FLIGHT 7","FLIGHT 8","FLIGHT 9","FLIGHT 10","FLIGHT 11","FLIGHT 12","FLIGHT 13","FLIGHT 14","FLIGHT 15","FLIGHT 16","FLIGHT 17","FLIGHT 18",null,{"$f":"Général!B6","v":"Univ Nantes 3"},0]
["N° de course",null,{"$f":"IF(COUNTIF(Général!B38:K38,$G$1)=1,\"Course 1\",IF(COUNTIF(Général!B40:K40,$G$1)=1,\"Course 2\",IF(COUNTIF(Général!B42:K42,$G$1)=1,\"Course 3\",\"Course 4\")))","v":"Course 4"},{"$f":"IF(COUNTIF(Général!B48:K48,$G$1)=1,\"Course 1\",IF(COUNTIF(Général!B50:K50,$G$1)=1,\"Course 2\",IF(COUNTIF(Général!B52:K52,$G$1)=1,\"Course 3\",\"Course 4\")))","v":"Course 4"},{"$f":"IF(COUNTIF(Général!B58:K58,$G$1)=1,\"Course 1\",IF(COUNTIF(Général!B60:K60,$G$1)=1,\"Course 2\",IF(COUNTIF(Général!B62:K62,$G$1)=1,\"Course 3\",\"Course 4\")))","v":"Course 4"},{"$f":"IF(COUNTIF(Général!B68:K68,$G$1)=1,\"Course 1\",IF(COUNTIF(Général!B70:K70,$G$1)=1,\"Course 2\",IF(COUNTIF(Général!B72:K72,$G$1)=1,\"Course 3\",\"Course 4\")))","v":"Course 4"},{"$f":"IF(COUNTIF(Général!B78:K78,$G$1)=1,\"Course 1\",IF(COUNTIF(Général!B80:K80,$G$1)=1,\"Course 2\",IF(COUNTIF(Général!B82:K82,$G$1)=1,\"Course 3\",\"Course 4\")))","v":"Course 4"},{"$f":"IF(COUNTIF(Général!B88:K88,$G$1)=1,\"Course 1\",IF(COUNTIF(Général!B90:K90,$G$1)=1,\"Course 2\",IF(COUNTIF(Général!B92:K92,$G$1)=1,\"Course 3\",\"Course 4\")))","v":"Course 4"},{"$f":"IF(COUNTIF(Général!B98:K98,$G$1)=1,\"Course 1\",IF(COUNTIF(Général!B100:K100,$G$1)=1,\"Course 2\",IF(COUNTIF(Général!B102:K102,$G$1)=1,\"Course 3\",\"Course 4\")))","v":"Course 4"},{"$f":"IF(COUNTIF(Général!B108:K108,$G$1)=1,\"Course 1\",IF(COUNTIF(Général!B110:K110,$G$1)=1,\"Course 2\",IF(COUNTIF(Général!B112:K112,$G$1)=1,\"Course 3\",\"Course 4\")))","v":"Course 4"},{"$f":"IF(COUNTIF(Général!B118:K118,$G$1)=1,\"Course 1\",IF(COUNTIF(Général!B120:K120,$G$1)=1,\"Course 2\",IF(COUNTIF(Général!B122:K122,$G$1)=1,\"Course 3\",\"Course 4\")))","v":"Course 4"},{"$f":"IF(COUNTIF(Général!B128:K128,$G$1)=1,\"Course 1\",IF(COUNTIF(Général!B130:K130,$G$1)=1,\"Course 2\",IF(COUNTIF(Général!B132:K132,$G$1)=1,\"Course 3\",\"Course 4\")))","v":"Course 4"},{"$f":"IF(COUNTIF(Général!B138:K138,$G$1)=1,\"Course 1\",IF(COUNTIF(Général!B140:K140,$G$1)=1,\"Course 2\",IF(COUNTIF(Général!B142:K142,$G$1)=1,\"Course 3\",\"Course 4\")))","v":"Course 4"},{"$f":"IF(COUNTIF(Général!B148:K148,$G$1)=1,\"Course 1\",IF(COUNTIF(Général!B150:K150,$G$1)=1,\"Course 2\",IF(COUNTIF(Général!B152:K152,$G$1)=1,\"Course 3\",\"Course 4\")))","v":"Course 4"},{"$f":"IF(COUNTIF(Général!B158:K158,$G$1)=1,\"Course 1\",IF(COUNTIF(Général!B160:K160,$G$1)=1,\"Course 2\",IF(COUNTIF(Général!B162:K162,$G$1)=1,\"Course 3\",\"Course 4\")))","v":"Course 4"},{"$f":"IF(COUNTIF(Général!B168:K168,$G$1)=1,\"Course 1\",IF(COUNTIF(Général!B170:K170,$G$1)=1,\"Course 2\",IF(COUNTIF(Général!B172:K172,$G$1)=1,\"Course 3\",\"Course 4\")))","v":"Course 4"},{"$f":"IF(COUNTIF(Général!B178:K178,$G$1)=1,\"Course 1\",IF(COUNTIF(Général!B180:K180,$G$1)=1,\"Course 2\",IF(COUNTIF(Général!B182:K182,$G$1)=1,\"Course 3\",\"Course 4\")))","v":"Course 4"},{"$f":"IF(COUNTIF(Général!B188:K188,$G$1)=1,\"Course 1\",IF(COUNTIF(Général!B190:K190,$G$1)=1,\"Course 2\",IF(COUNTIF(Général!B192:K192,$G$1)=1,\"Course 3\",\"Course 4\")))","v":"Course 4"},{"$f":"IF(COUNTIF(Général!B198:K198,$G$1)=1,\"Course 1\",IF(COUNTIF(Général!B200:K200,$G$1)=1,\"Course 2\",IF(COUNTIF(Général!B202:K202,$G$1)=1,\"Course 3\",\"Course 4\")))","v":"Course 4"},{"$f":"IF(COUNTIF(Général!B208:K208,$G$1)=1,\"Course 1\",IF(COUNTIF(Général!B210:K210,$G$1)=1,\"Course 2\",IF(COUNTIF(Général!B212:K212,$G$1)=1,\"Course 3\",\"Course 4\")))","v":"Course 4"},null,{"$f":"Général!B7","v":"Paris Cité"},0]
["Bateau",null,{"$f":"IF(COUNTIF(Général!B38:B44,$G$1)=1,\"Boat 1\",IF(COUNTIF(Général!C38:C44,$G$1)=1,\"Boat 2\",IF(COUNTIF(Général!D38:D44,$G$1)=1,\"Boat 3\", IF(COUNTIF(Général!E38:E44,$G$1)=1,\"Boat 4\", IF(COUNTIF(Général!F38:F44,$G$1)=1,\"Boat 5\", IF(COUNTIF(Général!G38:G44,$G$1)=1,\"Boat 6\", IF(COUNTIF(Général!H38:H44,$G$1)=1,\"Boat 7\",IF(COUNTIF(Général!I38:I44,$G$1)=1,\"Boat 8\",\"Boat 9\"))))))))","v":"Boat 9"},{"$f":"IF(COUNTIF(Général!B48:B54,$G$1)=1,\"Boat 1\",IF(COUNTIF(Général!C48:C54,$G$1)=1,\"Boat 2\",IF(COUNTIF(Général!D48:D54,$G$1)=1,\"Boat 3\", IF(COUNTIF(Général!E48:E54,$G$1)=1,\"Boat 4\", IF(COUNTIF(Général!F48:F54,$G$1)=1,\"Boat 5\", IF(COUNTIF(Général!G48:G54,$G$1)=1,\"Boat 6\", IF(COUNTIF(Général!H48:H54,$G$1)=1,\"Boat 7\",IF(COUNTIF(Général!I38:I44,$G$1)=1,\"Boat 8\",\"Boat 9\"))))))))","v":"Boat 9"},{"$f":"IF(COUNTIF(Général!B58:B64,$G$1)=1,\"Boat 1\",IF(COUNTIF(Général!C58:C64,$G$1)=1,\"Boat 2\",IF(COUNTIF(Général!D58:D64,$G$1)=1,\"Boat 3\", IF(COUNTIF(Général!E58:E64,$G$1)=1,\"Boat 4\", IF(COUNTIF(Général!F58:F64,$G$1)=1,\"Boat 5\", IF(COUNTIF(Général!G58:G64,$G$1)=1,\"Boat 6\", IF(COUNTIF(Général!H58:H64,$G$1)=1,\"Boat 7\",IF(COUNTIF(Général!I38:I44,$G$1)=1,\"Boat 8\",\"Boat 9\"))))))))","v":"Boat 9"},{"$f":"IF(COUNTIF(Général!B68:B74,$G$1)=1,\"Boat 1\",IF(COUNTIF(Général!C68:C74,$G$1)=1,\"Boat 2\",IF(COUNTIF(Général!D68:D74,$G$1)=1,\"Boat 3\", IF(COUNTIF(Général!E68:E74,$G$1)=1,\"Boat 4\", IF(COUNTIF(Général!F68:F74,$G$1)=1,\"Boat 5\", IF(COUNTIF(Général!G68:G74,$G$1)=1,\"Boat 6\", IF(COUNTIF(Général!H68:H74,$G$1)=1,\"Boat 7\",IF(COUNTIF(Général!I38:I44,$G$1)=1,\"Boat 8\",\"Boat 9\"))))))))","v":"Boat 9"},{"$f":"IF(COUNTIF(Général!B78:B84,$G$1)=1,\"Boat 1\",IF(COUNTIF(Général!C78:C84,$G$1)=1,\"Boat 2\",IF(COUNTIF(Général!D78:D84,$G$1)=1,\"Boat 3\", IF(COUNTIF(Général!E78:E84,$G$1)=1,\"Boat 4\", IF(COUNTIF(Général!F78:F84,$G$1)=1,\"Boat 5\", IF(COUNTIF(Général!G78:G84,$G$1)=1,\"Boat 6\", IF(COUNTIF(Général!H78:H84,$G$1)=1,\"Boat 7\",IF(COUNTIF(Général!I38:I44,$G$1)=1,\"Boat 8\",\"Boat 9\"))))))))","v":"Boat 9"},{"$f":"IF(COUNTIF(Général!B88:B94,$G$1)=1,\"Boat 1\",IF(COUNTIF(Général!C88:C94,$G$1)=1,\"Boat 2\",IF(COUNTIF(Général!D88:D94,$G$1)=1,\"Boat 3\", IF(COUNTIF(Général!E88:E94,$G$1)=1,\"Boat 4\", IF(COUNTIF(Général!F88:F94,$G$1)=1,\"Boat 5\", IF(COUNTIF(Général!G88:G94,$G$1)=1,\"Boat 6\", IF(COUNTIF(Général!H88:H94,$G$1)=1,\"Boat 7\",IF(COUNTIF(Général!I38:I44,$G$1)=1,\"Boat 8\",\"Boat 9\"))))))))","v":"Boat 9"},{"$f":"IF(COUNTIF(Général!B98:B104,$G$1)=1,\"Boat 1\",IF(COUNTIF(Général!C98:C104,$G$1)=1,\"Boat 2\",IF(COUNTIF(Général!D98:D104,$G$1)=1,\"Boat 3\", IF(COUNTIF(Général!E98:E104,$G$1)=1,\"Boat 4\", IF(COUNTIF(Général!F98:F104,$G$1)=1,\"Boat 5\", IF(COUNTIF(Général!G98:G104,$G$1)=1,\"Boat 6\", IF(COUNTIF(Général!H98:H104,$G$1)=1,\"Boat 7\",IF(COUNTIF(Général!I38:I44,$G$1)=1,\"Boat 8\",\"Boat 9\"))))))))","v":"Boat 9"},{"$f":"IF(COUNTIF(Général!B108:B114,$G$1)=1,\"Boat 1\",IF(COUNTIF(Général!C108:C114,$G$1)=1,\"Boat 2\",IF(COUNTIF(Général!D108:D114,$G$1)=1,\"Boat 3\", IF(COUNTIF(Général!E108:E114,$G$1)=1,\"Boat 4\", IF(COUNTIF(Général!F108:F114,$G$1)=1,\"Boat 5\", IF(COUNTIF(Général!G108:G114,$G$1)=1,\"Boat 6\", IF(COUNTIF(Général!H108:H114,$G$1)=1,\"Boat 7\",IF(COUNTIF(Général!I38:I44,$G$1)=1,\"Boat 8\",\"Boat 9\"))))))))","v":"Boat 9"},{"$f":"IF(COUNTIF(Général!B118:B124,$G$1)=1,\"Boat 1\",IF(COUNTIF(Général!C118:C124,$G$1)=1,\"Boat 2\",IF(COUNTIF(Général!D118:D124,$G$1)=1,\"Boat 3\", IF(COUNTIF(Général!E118:E124,$G$1)=1,\"Boat 4\", IF(COUNTIF(Général!F118:F124,$G$1)=1,\"Boat 5\", IF(COUNTIF(Général!G118:G124,$G$1)=1,\"Boat 6\", IF(COUNTIF(Général!H118:H124,$G$1)=1,\"Boat 7\",IF(COUNTIF(Général!I38:I44,$G$1)=1,\"Boat 8\",\"Boat 9\"))))))))","v":"Boat 9"},{"$f":"IF(COUNTIF(Général!B128:B134,$G$1)=1,\"Boat 1\",IF(COUNTIF(Général!C128:C134,$G$1)=1,\"Boat 2\",IF(COUNTIF(Général!D128:D134,$G$1)=1,\"Boat 3\", IF(COUNTIF(Général!E128:E134,$G$1)=1,\"Boat 4\", IF(COUNTIF(Général!F128:F134,$G$1)=1,\"Boat 5\", IF(COUNTIF(Général!G128:G134,$G$1)=1,\"Boat 6\", IF(COUNTIF(Général!H128:H134,$G$1)=1,\"Boat 7\",IF(COUNTIF(Général!I38:I44,$G$1)=1,\"Boat 8\",\"Boat 9\"))))))))","v":"Boat 9"},{"$f":"IF(COUNTIF(Général!B138:B144,$G$1)=1,\"Boat 1\",IF(COUNTIF(Général!C138:C144,$G$1)=1,\"Boat 2\",IF(COUNTIF(Général!C138:D144,$G$1)=1,\"Boat 3\", IF(COUNTIF(Général!C138:E144,$G$1)=1,\"Boat 4\", IF(COUNTIF(Général!F138:F144,$G$1)=1,\"Boat 5\", IF(COUNTIF(Général!G138:G144,$G$1)=1,\"Boat 6\", IF(COUNTIF(Général!H138:H144,$G$1)=1,\"Boat 7\",IF(COUNTIF(Général!I38:I44,$G$1)=1,\"Boat 8\",\"Boat 9\"))))))))","v":"Boat 9"},{"$f":"IF(COUNTIF(Général!B148:B154,$G$1)=1,\"Boat 1\",IF(COUNTIF(Général!C148:C154,$G$1)=1,\"Boat 2\",IF(COUNTIF(Général!D148:D154,$G$1)=1,\"Boat 3\", IF(COUNTIF(Général!E148:E154,$G$1)=1,\"Boat 4\", IF(COUNTIF(Général!F148:F154,$G$1)=1,\"Boat 5\", IF(COUNTIF(Général!G148:G154,$G$1)=1,\"Boat 6\", IF(COUNTIF(Général!H148:H154,$G$1)=1,\"Boat 7\",IF(COUNTIF(Général!I38:I44,$G$1)=1,\"Boat 8\",\"Boat 9\"))))))))","v":"Boat 9"},{"$f":"IF(COUNTIF(Général!B158:B164,$G$1)=1,\"Boat 1\",IF(COUNTIF(Général!C158:C164,$G$1)=1,\"Boat 2\",IF(COUNTIF(Général!D160:D164,$G$1)=1,\"Boat 3\", IF(COUNTIF(Général!E158:E164,$G$1)=1,\"Boat 4\", IF(COUNTIF(Général!F158:F164,$G$1)=1,\"Boat 5\", IF(COUNTIF(Général!G158:G164,$G$1)=1,\"Boat 6\", IF(COUNTIF(Général!H158:H164,$G$1)=1,\"Boat 7\",IF(COUNTIF(Général!I38:I44,$G$1)=1,\"Boat 8\",\"Boat 9\"))))))))","v":"Boat 9"},{"$f":"IF(COUNTIF(Général!B168:B174,$G$1)=1,\"Boat 1\",IF(COUNTIF(Général!C168:C174,$G$1)=1,\"Boat 2\",IF(COUNTIF(Général!D168:D174,$G$1)=1,\"Boat 3\", IF(COUNTIF(Général!E168:E174,$G$1)=1,\"Boat 4\", IF(COUNTIF(Général!F178:F184,$G$1)=1,\"Boat 5\", IF(COUNTIF(Général!G178:G184,$G$1)=1,\"Boat 6\", IF(COUNTIF(Général!H178:H184,$G$1)=1,\"Boat 7\",IF(COUNTIF(Général!I38:I44,$G$1)=1,\"Boat 8\",\"Boat 9\"))))))))","v":"Boat 9"},{"$f":"IF(COUNTIF(Général!B178:B184,$G$1)=1,\"Boat 1\",IF(COUNTIF(Général!C178:C184,$G$1)=1,\"Boat 2\",IF(COUNTIF(Général!D178:D184,$G$1)=1,\"Boat 3\", IF(COUNTIF(Général!E178:E184,$G$1)=1,\"Boat 4\", IF(COUNTIF(Général!F178:F184,$G$1)=1,\"Boat 5\", IF(COUNTIF(Général!G178:G184,$G$1)=1,\"Boat 6\", IF(COUNTIF(Général!H178:H184,$G$1)=1,\"Boat 7\",IF(COUNTIF(Général!I38:I44,$G$1)=1,\"Boat 8\",\"Boat 9\"))))))))","v":"Boat 9"},{"$f":"IF(COUNTIF(Général!B188:B194,$G$1)=1,\"Boat 1\",IF(COUNTIF(Général!C188:C194,$G$1)=1,\"Boat 2\",IF(COUNTIF(Général!D188:D194,$G$1)=1,\"Boat 3\", IF(COUNTIF(Général!E188:E194,$G$1)=1,\"Boat 4\", IF(COUNTIF(Général!F188:F194,$G$1)=1,\"Boat 5\", IF(COUNTIF(Général!G188:G194,$G$1)=1,\"Boat 6\", IF(COUNTIF(Général!H188:H194,$G$1)=1,\"Boat 7\",IF(COUNTIF(Général!I38:I44,$G$1)=1,\"Boat 8\",\"Boat 9\"))))))))","v":"Boat 9"},{"$f":"IF(COUNTIF(Général!B198:B204,$G$1)=1,\"Boat 1\",IF(COUNTIF(Général!C198:C204,$G$1)=1,\"Boat 2\",IF(COUNTIF(Général!D198:D204,$G$1)=1,\"Boat 3\", IF(COUNTIF(Général!E198:E204,$G$1)=1,\"Boat 4\", IF(COUNTIF(Général!F198:F204,$G$1)=1,\"Boat 5\", IF(COUNTIF(Général!G198:G204,$G$1)=1,\"Boat 6\", IF(COUNTIF(Général!H198:H204,$G$1)=1,\"Boat 7\",IF(COUNTIF(Général!I38:I44,$G$1)=1,\"Boat 8\",\"Boat 9\"))))))))","v":"Boat 9"},{"$f":"IF(COUNTIF(Général!B208:B214,$G$1)=1,\"Boat 1\",IF(COUNTIF(Général!C208:C214,$G$1)=1,\"Boat 2\",IF(COUNTIF(Général!D208:D214,$G$1)=1,\"Boat 3\", IF(COUNTIF(Général!E208:E214,$G$1)=1,\"Boat 4\", IF(COUNTIF(Général!F208:F214,$G$1)=1,\"Boat 5\", IF(COUNTIF(Général!G208:G214,$G$1)=1,\"Boat 6\", IF(COUNTIF(Général!H208:H214,$G$1)=1,\"Boat 7\",IF(COUNTIF(Général!I38:I44,$G$1)=1,\"Boat 8\",\"Boat 9\"))))))))","v":"Boat 9"},null,{"$f":"Général!B8","v":"Plymouth"},0]
[null,null,null,null,null,null,null,null,null,null,null,null,null,null,null,null,null,null,null,null,null,{"$f":"Général!B9","v":"Unicaen 2"},0]
["1er Equipage",null,{"$f":"IF($C$5=\"Course 1\",Général!B38,IF($C$5=\"Course 2\",Général!B40,IF($C$5=\"Course 3\",Général!B42,Général!B44)))","v":{"$error":"#N/A"}},{"$f":"IF($D$5=\"Course 1\",Général!B48,IF($D$5=\"Course 2\",Général!B50,IF($D$5=\"Course 3\",Général!B52,Général!B54)))","v":{"$error":"#N/A"}},{"$f":"IF($E$5=\"Course 1\",Général!B58,IF($E$5=\"Course 2\",Général!B60,IF($E$5=\"Course 3\",Général!B62,Général!B64)))","v":{"$error":"#N/A"}},{"$f":"IF($F$5=\"Course 1\",Général!B$68,IF($F$5=\"Course 2\",Général!B$70,IF($F$5=\"Course 3\",Général!B$72,Général!B$74)))","v":{"$error":"#N/A"}},{"$f":"IF($G$5=\"Course 1\",Général!B$78,IF($G$5=\"Course 2\",Général!B$80,IF($G$5=\"Course 3\",Général!B$82,Général!B$84)))","v":{"$error":"#N/A"}},{"$f":"IF($H$5=\"Course 1\",Général!B$88,IF($H$5=\"Course 2\",Général!B$90,IF($H$5=\"Course 3\",Général!B$92,Général!B$94)))","v":{"$error":"#N/A"}},{"$f":"IF($I$5=\"Course 1\",Général!B$98,IF($I$5=\"Course 2\",Général!B$100,IF($I$5=\"Course 3\",Général!B$102,Général!B$104)))","v":{"$error":"#N/A"}},{"$f":"IF($J$5=\"Course 1\",Général!B$108,IF($J$5=\"Course 2\",Général!B$110,IF($J$5=\"Course 3\",Général!B$112,Général!B$114)))","v":{"$error":"#N/A"}},{"$f":"IF($K$5=\"Course 1\",Général!B$118,IF($K$5=\"Course 2\",Général!B$120,IF($K$5=\"Course 3\",Général!B$122,Général!B$124)))","v":{"$error":"#N/A"}},{"$f":"IF($L$5=\"Course 1\",Général!B$128,IF($L$5=\"Course 2\",Général!B$130,IF($L$5=\"Course 3\",Général!B$132,Général!B$134)))","v":{"$error":"#N/A"}},{"$f":"IF($M$5=\"Course 1\",Général!B$138,IF($M$5=\"Course 2\",Général!B$140,IF($M$5=\"Course 3\",Général!B$142,Général!B$144)))","v":{"$error":"#N/A"}},{"$f":"IF($N$5=\"Course 1\",Général!B$148,IF($N$5=\"Course 2\",Général!B$150,IF($N$5=\"Course 3\",Général!B$152,Général!B$154)))","v":{"$error":"#N/A"}},{"$f":"IF($O$5=\"Course 1\",Général!B$158,IF($O$5=\"Course 2\",Général!B$160,IF($O$5=\"Course 3\",Général!B$162,Général!B$164)))","v":{"$error":"#N/A"}},{"$f":"IF($P$5=\"Course 1\",Général!B$168,IF($P$5=\"Course 2\",Général!B$170,IF($P$5=\"Course 3\",Général!B$172,Général!B$174)))","v":{"$error":"#N/A"}},{"$f":"IF($Q$5=\"Course 1\",Général!B$178,IF($Q$5=\"Course 2\",Général!B$180,IF($Q$5=\"Course 3\",Général!B$182,Général!B$184)))","v":{"$error":"#N/A"}},{"$f":"IF($R$5=\"Course 1\",Général!B$188,IF($R$5=\"Course 2\",Général!B$190,IF($R$5=\"Course 3\",Général!B$192,Général!B$194)))","v":{"$error":"#N/A"}},{"$f":"IF($S$5=\"Course 1\",Général!B$198,IF($S$5=\"Course 2\",Général!B$200,IF($S$5=\"Course 3\",Général!B$202,Général!B$204)))","v":{"$error":"#N/A"}},{"$f":"IF($T$5=\"Course 1\",Général!B$208,IF($T$5=\"Course 2\",Général!B$210,IF($T$5=\"Course 3\",Général!B$212,Général!B$214)))","v":{"$error":"#N/A"}},null,{"$f":"Général!B10","v":"Univ Nantes 2"},0]
["2nd Equipage",null,{"$f":"IF($C$5=\"Course 1\",Général!C38,IF($C$5=\"Course 2\",Général!C40,IF($C$5=\"Course 3\",Général!C42,Général!C44)))","v":{"$error":"#N/A"}},{"$f":"IF($D$5=\"Course 1\",Général!C48,IF($D$5=\"Course 2\",Général!C50,IF($D$5=\"Course 3\",Général!C52,Général!C54)))","v":{"$error":"#N/A"}},{"$f":"IF($E$5=\"Course 1\",Général!C58,IF($E$5=\"Course 2\",Général!C60,IF($E$5=\"Course 3\",Général!C62,Général!C64)))","v":{"$error":"#N/A"}},{"$f":"IF($F$5=\"Course 1\",Général!C$68,IF($F$5=\"Course 2\",Général!C$70,IF($F$5=\"Course 3\",Général!C$72,Général!C$74)))","v":{"$error":"#N/A"}},{"$f":"IF($G$5=\"Course 1\",Général!C$78,IF($G$5=\"Course 2\",Général!C$80,IF($G$5=\"Course 3\",Général!C$82,Général!C$84)))","v":{"$error":"#N/A"}},{"$f":"IF($H$5=\"Course 1\",Général!C$88,IF($H$5=\"Course 2\",Général!C$90,IF($H$5=\"Course 3\",Général!C$92,Général!C$94)))","v":{"$error":"#N/A"}},{"$f":"IF($I$5=\"Course 1\",Général!C$98,IF($I$5=\"Course 2\",Général!C$100,IF($I$5=\"Course 3\",Général!C$102,Général!C$104)))","v":{"$error":"#N/A"}},{"$f":"IF($J$5=\"Course 1\",Général!C$108,IF($J$5=\"Course 2\",Général!C$110,IF($J$5=\"Course 3\",Général!C$112,Général!C$114)))","v":{"$error":"#N/A"}},{"$f":"IF($K$5=\"Course 1\",Général!C$118,IF($K$5=\"Course 2\",Général!C$120,IF($K$5=\"Course 3\",Général!C$122,Général!C$124)))","v":{"$error":"#N/A"}},{"$f":"IF($L$5=\"Course 1\",Général!C$128,IF($L$5=\"Course 2\",Général!C$130,IF($L$5=\"Course 3\",Général!C$132,Général!C$134)))","v":{"$error":"#N/A"}},{"$f":"IF($M$5=\"Course 1\",Général!C$138,IF($M$5=\"Course 2\",Général!C$140,IF($M$5=\"Course 3\",Général!C$142,Général!C$144)))","v":{"$error":"#N/A"}},{"$f":"IF($N$5=\"Course 1\",Général!C$148,IF($N$5=\"Course 2\",Général!C$150,IF($N$5=\"Course 3\",Général!C$152,Général!C$154)))","v":{"$error":"#N/A"}},{"$f":"IF($O$5=\"Course 1\",Général!C$158,IF($O$5=\"Course 2\",Général!C$160,IF($O$5=\"Course 3\",Général!C$162,Général!C$164)))","v":{"$error":"#N/A"}},{"$f":"IF($P$5=\"Course 1\",Général!C$168,IF($P$5=\"Course 2\",Général!C$170,IF($P$5=\"Course 3\",Général!C$172,Général!C$174)))","v":{"$error":"#N/A"}},{"$f":"IF($Q$5=\"Course 1\",Général!C$178,IF($Q$5=\"Course 2\",Général!C$180,IF($Q$5=\"Course 3\",Général!C$182,Général!C$184)))","v":{"$error":"#N/A"}},{"$f":"IF($R$5=\"Course 1\",Général!C$188,IF($R$5=\"Course 2\",Général!C$190,IF($R$5=\"Course 3\",Général!C$192,Général!C$194)))","v":{"$error":"#N/A"}},{"$f":"IF($S$5=\"Course 1\",Général!C$198,IF($S$5=\"Course 2\",Général!C$200,IF($S$5=\"Course 3\",Général!C$202,Général!C$204)))","v":{"$error":"#N/A"}},{"$f":"IF($T$5=\"Course 1\",Général!C$208,IF($T$5=\"Course 2\",Général!C$210,IF($T$5=\"Course 3\",Général!C$212,Général!C$214)))","v":{"$error":"#N/A"}},null,{"$f":"Général!B11","v":"Karlsruhe"},0]
["3ème Equipage",null,{"$f":"IF($C$5=\"Course 1\",Général!D38,IF($C$5=\"Course 2\",Général!D40,IF($C$5=\"Course 3\",Général!D42,Général!D44)))","v":{"$error":"#N/A"}},{"$f":"IF($D$5=\"Course 1\",Général!D48,IF($D$5=\"Course 2\",Général!D50,IF($D$5=\"Course 3\",Général!D52,Général!D54)))","v":{"$error":"#N/A"}},{"$f":"IF($E$5=\"Course 1\",Général!D58,IF($E$5=\"Course 2\",Général!D60,IF($E$5=\"Course 3\",Général!D62,Général!D64)))","v":{"$error":"#N/A"}},{"$f":"IF($F$5=\"Course 1\",Général!D$68,IF($F$5=\"Course 2\",Général!D$70,IF($F$5=\"Course 3\",Général!D$72,Général!D$74)))","v":{"$error":"#N/A"}},{"$f":"IF($G$5=\"Course 1\",Général!D$78,IF($G$5=\"Course 2\",Général!D$80,IF($G$5=\"Course 3\",Général!D$82,Général!D$84)))","v":{"$error":"#N/A"}},{"$f":"IF($H$5=\"Course 1\",Général!D$88,IF($H$5=\"Course 2\",Général!D$90,IF($H$5=\"Course 3\",Général!D$92,Général!D$94)))","v":{"$error":"#N/A"}},{"$f":"IF($I$5=\"Course 1\",Général!D$98,IF($I$5=\"Course 2\",Général!D$100,IF($I$5=\"Course 3\",Général!D$102,Général!D$104)))","v":{"$error":"#N/A"}},{"$f":"IF($J$5=\"Course 1\",Général!D$108,IF($J$5=\"Course 2\",Général!D$110,IF($J$5=\"Course 3\",Général!D$112,Général!D$114)))","v":{"$error":"#N/A"}},{"$f":"IF($K$5=\"Course 1\",Général!D$118,IF($K$5=\"Course 2\",Général!D$120,IF($K$5=\"Course 3\",Général!D$122,Général!D$124)))","v":{"$error":"#N/A"}},{"$f":"IF($L$5=\"Course 1\",Général!D$128,IF($L$5=\"Course 2\",Général!D$130,IF($L$5=\"Course 3\",Général!D$132,Général!D$134)))","v":{"$error":"#N/A"}},{"$f":"IF($M$5=\"Course 1\",Général!D$138,IF($M$5=\"Course 2\",Général!D$140,IF($M$5=\"Course 3\",Général!D$142,Général!D$144)))","v":{"$error":"#N/A"}},{"$f":"IF($N$5=\"Course 1\",Général!D$148,IF($N$5=\"Course 2\",Général!D$150,IF($N$5=\"Course 3\",Général!D$152,Général!D$154)))","v":{"$error":"#N/A"}},{"$f":"IF($O$5=\"Course 1\",Général!D$158,IF($O$5=\"Course 2\",Général!D$160,IF($O$5=\"Course 3\",Général!D$162,Général!D$164)))","v":{"$error":"#N/A"}},{"$f":"IF($P$5=\"Course 1\",Général!D$168,IF($P$5=\"Course 2\",Général!D$170,IF($P$5=\"Course 3\",Général!D$172,Général!D$174)))","v":{"$error":"#N/A"}},{"$f":"IF($Q$5=\"Course 1\",Général!D$178,IF($Q$5=\"Course 2\",Général!D$180,IF($Q$5=\"Course 3\",Général!D$182,Général!D$184)))","v":{"$error":"#N/A"}},{"$f":"IF($R$5=\"Course 1\",Général!D$188,IF($R$5=\"Course 2\",Général!D$190,IF($R$5=\"Course 3\",Général!D$192,Général!D$194)))","v":{"$error":"#N/A"}},{"$f":"IF($S$5=\"Course 1\",Général!D$198,IF($S$5=\"Course 2\",Général!D$200,IF($S$5=\"Course 3\",Général!D$202,Général!D$204)))","v":{"$error":"#N/A"}},{"$f":"IF($T$5=\"Course 1\",Général!D$208,IF($T$5=\"Course 2\",Général!D$210,IF($T$5=\"Course 3\",Général!D$212,Général!D$214)))","v":{"$error":"#N/A"}},null,{"$f":"Général!B12","v":"IMT Brest 2"},0]
["4ème Equipage",null,{"$f":"IF($C$5=\"Course 1\",Général!E38,IF($C$5=\"Course 2\",Général!E40,IF($C$5=\"Course 3\",Général!E42,Général!E44)))","v":{"$error":"#N/A"}},{"$f":"IF($D$5=\"Course 1\",Général!E48,IF($D$5=\"Course 2\",Général!E50,IF($D$5=\"Course 3\",Général!E52,Général!E54)))","v":{"$error":"#N/A"}},{"$f":"IF($E$5=\"Course 1\",Général!E58,IF($E$5=\"Course 2\",Général!E60,IF($E$5=\"Course 3\",Général!E62,Général!E64)))","v":{"$error":"#N/A"}},{"$f":"IF($F$5=\"Course 1\",Général!E$68,IF($F$5=\"Course 2\",Général!E$70,IF($F$5=\"Course 3\",Général!E$72,Général!E$74)))","v":{"$error":"#N/A"}},{"$f":"IF($G$5=\"Course 1\",Général!E$78,IF($G$5=\"Course 2\",Général!E$80,IF($G$5=\"Course 3\",Général!E$82,Général!E$84)))","v":{"$error":"#N/A"}},{"$f":"IF($H$5=\"Course 1\",Général!E$88,IF($H$5=\"Course 2\",Général!E$90,IF($H$5=\"Course 3\",Général!E$92,Général!E$94)))","v":{"$error":"#N/A"}},{"$f":"IF($I$5=\"Course 1\",Général!E$98,IF($I$5=\"Course 2\",Général!E$100,IF($I$5=\"Course 3\",Général!E$102,Général!E$104)))","v":{"$error":"#N/A"}},{"$f":"IF($J$5=\"Course 1\",Général!E$108,IF($J$5=\"Course 2\",Général!E$110,IF($J$5=\"Course 3\",Général!E$112,Général!E$114)))","v":{"$error":"#N/A"}},{"$f":"IF($K$5=\"Course 1\",Général!E$118,IF($K$5=\"Course 2\",Général!E$120,IF($K$5=\"Course 3\",Général!E$122,Général!E$124)))","v":{"$error":"#N/A"}},{"$f":"IF($L$5=\"Course 1\",Général!E$128,IF($L$5=\"Course 2\",Général!E$130,IF($L$5=\"Course 3\",Général!E$132,Général!E$134)))","v":{"$error":"#N/A"}},{"$f":"IF($M$5=\"Course 1\",Général!E$138,IF($M$5=\"Course 2\",Général!E$140,IF($M$5=\"Course 3\",Général!E$142,Général!E$144)))","v":{"$error":"#N/A"}},{"$f":"IF($N$5=\"Course 1\",Général!E$148,IF($N$5=\"Course 2\",Général!E$150,IF($N$5=\"Course 3\",Général!E$152,Général!E$154)))","v":{"$error":"#N/A"}},{"$f":"IF($O$5=\"Course 1\",Général!E$158,IF($O$5=\"Course 2\",Général!E$160,IF($O$5=\"Course 3\",Général!E$162,Général!E$164)))","v":{"$error":"#N/A"}},{"$f":"IF($P$5=\"Course 1\",Général!E$168,IF($P$5=\"Course 2\",Général!E$170,IF($P$5=\"Course 3\",Général!E$172,Général!E$174)))","v":{"$error":"#N/A"}},{"$f":"IF($Q$5=\"Course 1\",Général!E$178,IF($Q$5=\"Course 2\",Général!E$180,IF($Q$5=\"Course 3\",Général!E$182,Général!E$184)))","v":{"$error":"#N/A"}},{"$f":"IF($R$5=\"Course 1\",Général!E$188,IF($R$5=\"Course 2\",Général!E$190,IF($R$5=\"Course 3\",Général!E$192,Général!E$194)))","v":{"$error":"#N/A"}},{"$f":"IF($S$5=\"Course 1\",Général!E$198,IF($S$5=\"Course 2\",Général!E$200,IF($S$5=\"Course 3\",Général!E$202,Général!E$204)))","v":{"$error":"#N/A"}},{"$f":"IF($T$5=\"Course 1\",Général!E$208,IF($T$5=\"Course 2\",Général!E$210,IF($T$5=\"Course 3\",Général!E$212,Général!E$214)))","v":{"$error":"#N/A"}},null,{"$f":"Général!B13","v":"Unicaen 1"},0]
["5ème Equipage",null,{"$f":"IF($C$5=\"Course 1\",Général!F38,IF($C$5=\"Course 2\",Général!F40,IF($C$5=\"Course 3\",Général!F42,Général!F44)))","v":{"$error":"#N/A"}},{"$f":"IF($D$5=\"Course 1\",Général!F48,IF($D$5=\"Course 2\",Général!F50,IF($D$5=\"Course 3\",Général!F52,Général!F54)))","v":{"$error":"#N/A"}},{"$f":"IF($E$5=\"Course 1\",Général!F58,IF($E$5=\"Course 2\",Général!F60,IF($E$5=\"Course 3\",Général!F62,Général!F64)))","v":{"$error":"#N/A"}},{"$f":"IF($F$5=\"Course 1\",Général!F$68,IF($F$5=\"Course 2\",Général!F$70,IF($F$5=\"Course 3\",Général!F$72,Général!F$74)))","v":{"$error":"#N/A"}},{"$f":"IF($G$5=\"Course 1\",Général!F$78,IF($G$5=\"Course 2\",Général!F$80,IF($G$5=\"Course 3\",Général!F$82,Général!F$84)))","v":{"$error":"#N/A"}},{"$f":"IF($H$5=\"Course 1\",Général!F$88,IF($H$5=\"Course 2\",Général!F$90,IF($H$5=\"Course 3\",Général!F$92,Général!F$94)))","v":{"$error":"#N/A"}},{"$f":"IF($I$5=\"Course 1\",Général!F$98,IF($I$5=\"Course 2\",Général!F$100,IF($I$5=\"Course 3\",Général!F$102,Général!F$104)))","v":{"$error":"#N/A"}},{"$f":"IF($J$5=\"Course 1\",Général!F$108,IF($J$5=\"Course 2\",Général!F$110,IF($J$5=\"Course 3\",Général!F$112,Général!F$114)))","v":{"$error":"#N/A"}},{"$f":"IF($K$5=\"Course 1\",Général!F$118,IF($K$5=\"Course 2\",Général!F$120,IF($K$5=\"Course 3\",Général!F$122,Général!F$124)))","v":{"$error":"#N/A"}},{"$f":"IF($L$5=\"Course 1\",Général!F$128,IF($L$5=\"Course 2\",Général!$F130,IF($L$5=\"Course 3\",Général!F$132,Général!F$134)))","v":{"$error":"#N/A"}},{"$f":"IF($M$5=\"Course 1\",Général!F$138,IF($M$5=\"Course 2\",Général!F$140,IF($M$5=\"Course 3\",Général!F$142,Général!F$144)))","v":{"$error":"#N/A"}},{"$f":"IF($N$5=\"Course 1\",Général!F$148,IF($N$5=\"Course 2\",Général!F$150,IF($N$5=\"Course 3\",Général!F$152,Général!F$154)))","v":{"$error":"#N/A"}},{"$f":"IF($O$5=\"Course 1\",Général!F$158,IF($O$5=\"Course 2\",Général!F$160,IF($O$5=\"Course 3\",Général!F$162,Général!F$164)))","v":{"$error":"#N/A"}},{"$f":"IF($P$5=\"Course 1\",Général!F$168,IF($P$5=\"Course 2\",Général!F$170,IF($P$5=\"Course 3\",Général!F$172,Général!F$174)))","v":{"$error":"#N/A"}},{"$f":"IF($Q$5=\"Course 1\",Général!F$178,IF($Q$5=\"Course 2\",Général!F$180,IF($Q$5=\"Course 3\",Général!F$182,Général!F$184)))","v":{"$error":"#N/A"}},{"$f":"IF($R$5=\"Course 1\",Général!F$188,IF($R$5=\"Course 2\",Général!F$190,IF($R$5=\"Course 3\",Général!F$192,Général!F$194)))","v":{"$error":"#N/A"}},{"$f":"IF($S$5=\"Course 1\",Général!F$198,IF($S$5=\"Course 2\",Général!F$200,IF($S$5=\"Course 3\",Général!F$202,Général!F$204)))","v":{"$error":"#N/A"}},{"$f":"IF($T$5=\"Course 1\",Général!F$208,IF($T$5=\"Course 2\",Général!F$210,IF($T$5=\"Course 3\",Général!F$212,Général!F$214)))","v":{"$error":"#N/A"}},null,{"$f":"Général!B14","v":"ENSTA 1"},0]
["6ème Equipage",null,{"$f":"IF($C$5=\"Course 1\",Général!G38,IF($C$5=\"Course 2\",Général!G40,IF($C$5=\"Course 3\",Général!G42,Général!G44)))","v":{"$error":"#N/A"}},{"$f":"IF($D$5=\"Course 1\",Général!G48,IF($D$5=\"Course 2\",Général!G50,IF($D$5=\"Course 3\",Général!G52,Général!G54)))","v":{"$error":"#N/A"}},{"$f":"IF($E$5=\"Course 1\",Général!G58,IF($E$5=\"Course 2\",Général!G60,IF($E$5=\"Course 3\",Général!G62,Général!G64)))","v":{"$error":"#N/A"}},{"$f":"IF($F$5=\"Course 1\",Général!G$68,IF($F$5=\"Course 2\",Général!G$70,IF($F$5=\"Course 3\",Général!G$72,Général!G$74)))","v":{"$error":"#N/A"}},{"$f":"IF($G$5=\"Course 1\",Général!G$78,IF($G$5=\"Course 2\",Général!G$80,IF($G$5=\"Course 3\",Général!G$82,Général!G$84)))","v":{"$error":"#N/A"}},{"$f":"IF($H$5=\"Course 1\",Général!G$88,IF($H$5=\"Course 2\",Général!G$90,IF($H$5=\"Course 3\",Général!G$92,Général!G$94)))","v":{"$error":"#N/A"}},{"$f":"IF($I$5=\"Course 1\",Général!G$98,IF($I$5=\"Course 2\",Général!G$100,IF($I$5=\"Course 3\",Général!G$102,Général!G$104)))","v":{"$error":"#N/A"}},{"$f":"IF($J$5=\"Course 1\",Général!G$108,IF($J$5=\"Course 2\",Général!G$110,IF($J$5=\"Course 3\",Général!G$112,Général!G$114)))","v":{"$error":"#N/A"}},{"$f":"IF($K$5=\"Course 1\",Général!G$118,IF($K$5=\"Course 2\",Général!G$120,IF($K$5=\"Course 3\",Général!G$122,Général!G$124)))","v":{"$error":"#N/A"}},{"$f":"IF($L$5=\"Course 1\",Général!G$128,IF($L$5=\"Course 2\",Général!G$130,IF($L$5=\"Course 3\",Général!G$132,Général!G$134)))","v":{"$error":"#N/A"}},{"$f":"IF($M$5=\"Course 1\",Général!G$138,IF($M$5=\"Course 2\",Général!G$140,IF($M$5=\"Course 3\",Général!G$142,Général!G$144)))","v":{"$error":"#N/A"}},{"$f":"IF($N$5=\"Course 1\",Général!G$148,IF($N$5=\"Course 2\",Général!G$150,IF($N$5=\"Course 3\",Général!G$152,Général!G$154)))","v":{"$error":"#N/A"}},{"$f":"IF($O$5=\"Course 1\",Général!G$158,IF($O$5=\"Course 2\",Général!G$160,IF($O$5=\"Course 3\",Général!G$162,Général!G$164)))","v":{"$error":"#N/A"}},{"$f":"IF($P$5=\"Course 1\",Général!G$168,IF($P$5=\"Course 2\",Général!G$170,IF($P$5=\"Course 3\",Général!G$172,Général!G$174)))","v":{"$error":"#N/A"}},{"$f":"IF($Q$5=\"Course 1\",Général!G$178,IF($Q$5=\"Course 2\",Général!G$180,IF($Q$5=\"Course 3\",Général!G$182,Général!G$184)))","v":{"$error":"#N/A"}},{"$f":"IF($R$5=\"Course 1\",Général!G$188,IF($R$5=\"Course 2\",Général!G$190,IF($R$5=\"Course 3\",Général!G$192,Général!G$194)))","v":{"$error":"#N/A"}},{"$f":"IF($S$5=\"Course 1\",Général!G$198,IF($S$5=\"Course 2\",Général!G$200,IF($S$5=\"Course 3\",Général!G$202,Général!G$204)))","v":{"$error":"#N/A"}},{"$f":"IF($T$5=\"Course 1\",Général!G$208,IF($T$5=\"Course 2\",Général!G$210,IF($T$5=\"Course 3\",Général!G$212,Général!G$214)))","v":{"$error":"#N/A"}},null,{"$f":"Général!B15","v":"Orléans"},0]
["7ème Equipage",null,{"$f":"IF($C$5=\"Course 1\",Général!H38,IF($C$5=\"Course 2\",Général!H40,IF($C$5=\"Course 3\",Général!H42,Général!H44)))","v":{"$error":"#N/A"}},{"$f":"IF($D$5=\"Course 1\",Général!H48,IF($D$5=\"Course 2\",Général!H50,IF($D$5=\"Course 3\",Général!H52,Général!H54)))","v":{"$error":"#N/A"}},{"$f":"IF($E$5=\"Course 1\",Général!H58,IF($E$5=\"Course 2\",Général!H60,IF($E$5=\"Course 3\",Général!H62,Général!H64)))","v":{"$error":"#N/A"}},{"$f":"IF($F$5=\"Course 1\",Général!H$68,IF($F$5=\"Course 2\",Général!H$70,IF($F$5=\"Course 3\",Général!H$72,Général!H$74)))","v":{"$error":"#N/A"}},{"$f":"IF($G$5=\"Course 1\",Général!H$78,IF($G$5=\"Course 2\",Général!H$80,IF($G$5=\"Course 3\",Général!H$82,Général!H$84)))","v":{"$error":"#N/A"}},{"$f":"IF($H$5=\"Course 1\",Général!H$88,IF($H$5=\"Course 2\",Général!H$90,IF($H$5=\"Course 3\",Général!H$92,Général!H$94)))","v":{"$error":"#N/A"}},{"$f":"IF($I$5=\"Course 1\",Général!H$98,IF($I$5=\"Course 2\",Général!H$100,IF($I$5=\"Course 3\",Général!H$102,Général!H$104)))","v":{"$error":"#N/A"}},{"$f":"IF($J$5=\"Course 1\",Général!H$108,IF($J$5=\"Course 2\",Général!H$110,IF($J$5=\"Course 3\",Général!H$112,Général!H$114)))","v":{"$error":"#N/A"}},{"$f":"IF($K$5=\"Course 1\",Général!H$118,IF($K$5=\"Course 2\",Général!H$120,IF($K$5=\"Course 3\",Général!H$122,Général!H$124)))","v":{"$error":"#N/A"}},{"$f":"IF($L$5=\"Course 1\",Général!H$128,IF($L$5=\"Course 2\",Général!H$130,IF($L$5=\"Course 3\",Général!H$132,Général!H$134)))","v":{"$error":"#N/A"}},{"$f":"IF($M$5=\"Course 1\",Général!H$138,IF($M$5=\"Course 2\",Général!H$140,IF($M$5=\"Course 3\",Général!H$142,Général!H$144)))","v":{"$error":"#N/A"}},{"$f":"IF($N$5=\"Course 1\",Général!H$148,IF($N$5=\"Course 2\",Général!H$150,IF($N$5=\"Course 3\",Général!H$152,Général!H$154)))","v":{"$error":"#N/A"}},{"$f":"IF($O$5=\"Course 1\",Général!H$158,IF($O$5=\"Course 2\",Général!H$160,IF($O$5=\"Course 3\",Général!H$162,Général!H$164)))","v":{"$error":"#N/A"}},{"$f":"IF($P$5=\"Course 1\",Général!H$168,IF($P$5=\"Course 2\",Général!H$170,IF($P$5=\"Course 3\",Général!H$172,Général!H$174)))","v":{"$error":"#N/A"}},{"$f":"IF($Q$5=\"Course 1\",Général!H$178,IF($Q$5=\"Course 2\",Général!H$180,IF($Q$5=\"Course 3\",Général!H$182,Général!H$184)))","v":{"$error":"#N/A"}},{"$f":"IF($R$5=\"Course 1\",Général!H$188,IF($R$5=\"Course 2\",Général!H$190,IF($R$5=\"Course 3\",Général!H$192,Général!H$194)))","v":{"$error":"#N/A"}},{"$f":"IF($S$5=\"Course 1\",Général!H$198,IF($S$5=\"Course 2\",Général!H$200,IF($S$5=\"Course 3\",Général!H$202,Général!H$204)))","v":{"$error":"#N/A"}},{"$f":"IF($T$5=\"Course 1\",Général!H$208,IF($T$5=\"Course 2\",Général!H$210,IF($T$5=\"Course 3\",Général!H$212,Général!H$214)))","v":{"$error":"#N/A"}},null,{"$f":"Général!B16","v":"IMT Brest 1"},0]
["8ème Equipage",null,{"$f":"IF($C$5=\"Course 1\",Général!I38,IF($C$5=\"Course 2\",Général!I40,IF($C$5=\"Course 3\",Général!I42,Général!I44)))","v":{"$error":"#N/A"}},{"$f":"IF($D$5=\"Course 1\",Général!I48,IF($D$5=\"Course 2\",Général!I50,IF($D$5=\"Course 3\",Général!I52,Général!I54)))","v":{"$error":"#N/A"}},{"$f":"IF($E$5=\"Course 1\",Général!I58,IF($E$5=\"Course 2\",Général!I60,IF($E$5=\"Course 3\",Général!I62,Général!I64)))","v":{"$error":"#N/A"}},{"$f":"IF($F$5=\"Course 1\",Général!I$68,IF($F$5=\"Course 2\",Général!I$70,IF($F$5=\"Course 3\",Général!I$72,Général!I$74)))","v":{"$error":"#N/A"}},{"$f":"IF($G$5=\"Course 1\",Général!I$78,IF($G$5=\"Course 2\",Général!I$80,IF($G$5=\"Course 3\",Général!I$82,Général!I$84)))","v":{"$error":"#N/A"}},{"$f":"IF($H$5=\"Course 1\",Général!I$88,IF($H$5=\"Course 2\",Général!I$90,IF($H$5=\"Course 3\",Général!I$92,Général!I$94)))","v":{"$error":"#N/A"}},{"$f":"IF($I$5=\"Course 1\",Général!I$98,IF($I$5=\"Course 2\",Général!I$100,IF($I$5=\"Course 3\",Général!I$102,Général!I$104)))","v":{"$error":"#N/A"}},{"$f":"IF($J$5=\"Course 1\",Général!I$108,IF($J$5=\"Course 2\",Général!I$110,IF($J$5=\"Course 3\",Général!I$112,Général!I$114)))","v":{"$error":"#N/A"}},{"$f":"IF($K$5=\"Course 1\",Général!I$118,IF($K$5=\"Course 2\",Général!I$120,IF($K$5=\"Course 3\",Général!I$122,Général!I$124)))","v":{"$error":"#N/A"}},{"$f":"IF($L$5=\"Course 1\",Général!I$128,IF($L$5=\"Course 2\",Général!I$130,IF($L$5=\"Course 3\",Général!I$132,Général!I$134)))","v":{"$error":"#N/A"}},{"$f":"IF($M$5=\"Course 1\",Général!I$138,IF($M$5=\"Course 2\",Général!I$140,IF($M$5=\"Course 3\",Général!I$142,Général!I$144)))","v":{"$error":"#N/A"}},{"$f":"IF($N$5=\"Course 1\",Général!I$148,IF($N$5=\"Course 2\",Général!I$150,IF($N$5=\"Course 3\",Général!I$152,Général!I$154)))","v":{"$error":"#N/A"}},{"$f":"IF($O$5=\"Course 1\",Général!I$158,IF($O$5=\"Course 2\",Général!I$160,IF($O$5=\"Course 3\",Général!I$162,Général!I$164)))","v":{"$error":"#N/A"}},{"$f":"IF($P$5=\"Course 1\",Général!I$168,IF($P$5=\"Course 2\",Général!I$170,IF($P$5=\"Course 3\",Général!I$172,Général!I$174)))","v":{"$error":"#N/A"}},{"$f":"IF($Q$5=\"Course 1\",Général!I$178,IF($Q$5=\"Course 2\",Général!I$180,IF($Q$5=\"Course 3\",Général!I$182,Général!I$184)))","v":{"$error":"#N/A"}},{"$f":"IF($R$5=\"Course 1\",Général!I$188,IF($R$5=\"Course 2\",Général!I$190,IF($R$5=\"Course 3\",Général!I$192,Général!I$194)))","v":{"$error":"#N/A"}},{"$f":"IF($S$5=\"Course 1\",Général!I$198,IF($S$5=\"Course 2\",Général!I$200,IF($S$5=\"Course 3\",Général!I$202,Général!I$204)))","v":{"$error":"#N/A"}},{"$f":"IF($T$5=\"Course 1\",Général!I$208,IF($T$5=\"Course 2\",Général!I$210,IF($T$5=\"Course 3\",Général!I$212,Général!I$214)))","v":{"$error":"#N/A"}},null,{"$f":"Général!B17","v":"ENSMAC"},0]
["9ème Equipage",null,{"$f":"IF($C$5=\"Course 1\",Général!J38,IF($C$5=\"Course 2\",Général!J40,IF($C$5=\"Course 3\",Général!J42,Général!J44)))","v":{"$error":"#N/A"}},{"$f":"IF($D$5=\"Course 1\",Général!J48,IF($D$5=\"Course 2\",Général!J50,IF($D$5=\"Course 3\",Général!J52,Général!J54)))","v":{"$error":"#N/A"}},{"$f":"IF($E$5=\"Course 1\",Général!J58,IF($E$5=\"Course 2\",Général!J60,IF($E$5=\"Course 3\",Général!J62,Général!J64)))","v":{"$error":"#N/A"}},{"$f":"IF($F$5=\"Course 1\",Général!J$68,IF($F$5=\"Course 2\",Général!J$70,IF($F$5=\"Course 3\",Général!J$72,Général!J$74)))","v":{"$error":"#N/A"}},{"$f":"IF($G$5=\"Course 1\",Général!J$78,IF($G$5=\"Course 2\",Général!J$80,IF($G$5=\"Course 3\",Général!J$82,Général!J$84)))","v":{"$error":"#N/A"}},{"$f":"IF($H$5=\"Course 1\",Général!J$88,IF($H$5=\"Course 2\",Général!J$90,IF($H$5=\"Course 3\",Général!$J92,Général!J$94)))","v":{"$error":"#N/A"}},{"$f":"IF($I$5=\"Course 1\",Général!J$98,IF($I$5=\"Course 2\",Général!J$100,IF($I$5=\"Course 3\",Général!J$102,Général!J$104)))","v":{"$error":"#N/A"}},{"$f":"IF($J$5=\"Course 1\",Général!J$108,IF($J$5=\"Course 2\",Général!J$110,IF($J$5=\"Course 3\",Général!J$112,Général!J$114)))","v":{"$error":"#N/A"}},{"$f":"IF($K$5=\"Course 1\",Général!J$118,IF($K$5=\"Course 2\",Général!J$120,IF($K$5=\"Course 3\",Général!J$122,Général!J$124)))","v":{"$error":"#N/A"}},{"$f":"IF($L$5=\"Course 1\",Général!J$128,IF($L$5=\"Course 2\",Général!J$130,IF($L$5=\"Course 3\",Général!J$132,Général!J$134)))","v":{"$error":"#N/A"}},{"$f":"IF($M$5=\"Course 1\",Général!J$138,IF($M$5=\"Course 2\",Général!J$140,IF($M$5=\"Course 3\",Général!J$142,Général!J$144)))","v":{"$error":"#N/A"}},{"$f":"IF($N$5=\"Course 1\",Général!J$148,IF($N$5=\"Course 2\",Général!J$150,IF($N$5=\"Course 3\",Général!J$152,Général!J$154)))","v":{"$error":"#N/A"}},{"$f":"IF($O$5=\"Course 1\",Général!J$158,IF($O$5=\"Course 2\",Général!J$160,IF($O$5=\"Course 3\",Général!J$162,Général!J$164)))","v":{"$error":"#N/A"}},{"$f":"IF($P$5=\"Course 1\",Général!J$168,IF($P$5=\"Course 2\",Général!J$170,IF($P$5=\"Course 3\",Général!J$172,Général!J$174)))","v":{"$error":"#N/A"}},{"$f":"IF($Q$5=\"Course 1\",Général!J$178,IF($Q$5=\"Course 2\",Général!J$180,IF($Q$5=\"Course 3\",Général!J$182,Général!J$184)))","v":{"$error":"#N/A"}},{"$f":"IF($R$5=\"Course 1\",Général!J$188,IF($R$5=\"Course 2\",Général!J$190,IF($R$5=\"Course 3\",Général!J$192,Général!J$194)))","v":{"$error":"#N/A"}},{"$f":"IF($S$5=\"Course 1\",Général!J$198,IF($S$5=\"Course 2\",Général!J$200,IF($S$5=\"Course 3\",Général!J$202,Général!J$204)))","v":{"$error":"#N/A"}},{"$f":"IF($T$5=\"Course 1\",Général!J$208,IF($T$5=\"Course 2\",Général!J$210,IF($T$5=\"Course 3\",Général!J$212,Général!J$214)))","v":{"$error":"#N/A"}},null,{"$f":"Général!B18","v":"St Brieuc 1"},0]
["10ème Equipage",null,{"$f":"IF($C$5=\"Course 1\",Général!K38,IF($C$5=\"Course 2\",Général!K40,IF($C$5=\"Course 3\",Général!K42,Général!K44)))","v":{"$error":"#N/A"}},{"$f":"IF($D$5=\"Course 1\",Général!K48,IF($D$5=\"Course 2\",Général!K50,IF($D$5=\"Course 3\",Général!K52,Général!K54)))","v":{"$error":"#N/A"}},{"$f":"IF($E$5=\"Course 1\",Général!K58,IF($E$5=\"Course 2\",Général!K60,IF($E$5=\"Course 3\",Général!K62,Général!K64)))","v":{"$error":"#N/A"}},{"$f":"IF($F$5=\"Course 1\",Général!K$68,IF($F$5=\"Course 2\",Général!K$70,IF($F$5=\"Course 3\",Général!K$72,Général!K$74)))","v":{"$error":"#N/A"}},{"$f":"IF($G$5=\"Course 1\",Général!K$78,IF($G$5=\"Course 2\",Général!K$80,IF($G$5=\"Course 3\",Général!K$82,Général!K$84)))","v":{"$error":"#N/A"}},{"$f":"IF($H$5=\"Course 1\",Général!K$88,IF($H$5=\"Course 2\",Général!K$90,IF($H$5=\"Course 3\",Général!$K92,Général!K$94)))","v":{"$error":"#N/A"}},{"$f":"IF($I$5=\"Course 1\",Général!K$98,IF($I$5=\"Course 2\",Général!K$100,IF($I$5=\"Course 3\",Général!K$102,Général!K$104)))","v":{"$error":"#N/A"}},{"$f":"IF($J$5=\"Course 1\",Général!K$108,IF($J$5=\"Course 2\",Général!K$110,IF($J$5=\"Course 3\",Général!K$112,Général!K$114)))","v":{"$error":"#N/A"}},{"$f":"IF($K$5=\"Course 1\",Général!K$118,IF($K$5=\"Course 2\",Général!K$120,IF($K$5=\"Course 3\",Général!K$122,Général!K$124)))","v":{"$error":"#N/A"}},{"$f":"IF($L$5=\"Course 1\",Général!K$128,IF($L$5=\"Course 2\",Général!K$130,IF($L$5=\"Course 3\",Général!K$132,Général!K$134)))","v":{"$error":"#N/A"}},{"$f":"IF($M$5=\"Course 1\",Général!K$138,IF($M$5=\"Course 2\",Général!K$140,IF($M$5=\"Course 3\",Général!K$142,Général!K$144)))","v":{"$error":"#N/A"}},{"$f":"IF($N$5=\"Course 1\",Général!K$148,IF($N$5=\"Course 2\",Général!K$150,IF($N$5=\"Course 3\",Général!K$152,Général!K$154)))","v":{"$error":"#N/A"}},{"$f":"IF($O$5=\"Course 1\",Général!K$158,IF($O$5=\"Course 2\",Général!K$160,IF($O$5=\"Course 3\",Général!K$162,Général!K$164)))","v":{"$error":"#N/A"}},{"$f":"IF($P$5=\"Course 1\",Général!K$168,IF($P$5=\"Course 2\",Général!K$170,IF($P$5=\"Course 3\",Général!K$172,Général!K$174)))","v":{"$error":"#N/A"}},{"$f":"IF($Q$5=\"Course 1\",Général!K$178,IF($Q$5=\"Course 2\",Général!K$180,IF($Q$5=\"Course 3\",Général!K$182,Général!K$184)))","v":{"$error":"#N/A"}},{"$f":"IF($R$5=\"Course 1\",Général!K$188,IF($R$5=\"Course 2\",Général!K$190,IF($R$5=\"Course 3\",Général!K$192,Général!K$194)))","v":{"$error":"#N/A"}},{"$f":"IF($S$5=\"Course 1\",Général!K$198,IF($S$5=\"Course 2\",Général!K$200,IF($S$5=\"Course 3\",Général!K$202,Général!K$204)))","v":{"$error":"#N/A"}},{"$f":"IF($T$5=\"Course 1\",Général!K$208,IF($T$5=\"Course 2\",Général!K$210,IF($T$5=\"Course 3\",Général!K$212,Général!K$214)))","v":{"$error":"#N/A"}},null,{"$f":"Général!B19","v":"Hannover"},0]
[null,null,null,null,null,null,null,null,null,null,null,null,null,null,null,null,null,null,null,null,null,{"$f":"Général!B20","v":"ENSTA 2"},0]
[null,null,null,null,null,null,null,null,null,null,null,null,null,null,null,null,null,null,null,null,null,{"$f":"Général!B21","v":"Southampton"},0]
[null,null,null,null,null,null,null,null,null,null,null,null,null,null,null,null,null,null,null,null,null,{"$f":"Général!B22","v":"La Rochelle 1"},0]
[null,null,null,null,null,null,null,null,null,null,null,null,null,null,null,null,null,null,null,null,null,{"$f":"Général!B23","v":"Centrale Nantes 1"},0]
[null,null,null,null,null,null,null,null,null,null,null,null,null,null,null,null,null,null,null,null,null,{"$f":"Général!B24","v":"ST Brieuc 2"},0]
[null,null,null,null,null,null,null,null,null,null,null,null,null,null,null,null,null,null,null,null,null,{"$f":"Général!B25","v":"UNIV Nantes 1"},0]
[null,null,null,null,null,null,null,null,null,null,null,null,null,null,null,null,null,null,null,null,null,{"$f":"Général!B26","v":"Intechmer"},0]
[null,null,null,null,null,null,null,null,null,null,null,null,null,null,null,null,null,null,null,null,null,{"$f":"Général!B27","v":"IMT Nantes"},0]
[null,null,null,null,null,null,null,null,null,null,null,null,null,null,null,null,null,null,null,null,null,{"$f":"Général!B28","v":"INSA Lyon"},0]
[null,null,null,null,null,null,null,null,null,null,null,null,null,null,null,null,null,null,null,null,null,{"$f":"Général!B29","v":"Centrale Nantes 2"},0]
[null,null,null,null,null,null,null,null,null,null,null,null,null,null,null,null,null,null,null,null,null,{"$f":"Général!B30","v":"UBS Lorient 2"},0]
[null,null,null,null,null,null,null,null,null,null,null,null,null,null,null,null,null,null,null,null,null,{"$f":"Général!B31","v":"La Rochelle 2"},0]
[null,null,null,null,null,null,null,null,null,null,null,null,null,null,null,null,null,null,null,null,null,{"$f":"Général!B32","v":"UBO 1"},0]
[null,null,null,null,null,null,null,null,null,null,null,null,null,null,null,null,null,null,null,null,null,{"$f":"Général!B33","v":"Eq.31"},0]
[null,null,null,null,null,null,null,null,null,null,null,null,null,null,null,null,null,null,null,null,null,{"$f":"Général!B34","v":"Eq.32"},0]

{"sheet":"Eq.32","index":37,"n_rows":32,"n_cols":23,"rows_kept":32,"cut":false,"hidden":false,"merged":[[7,0,7,1],[0,0,1,5],[0,6,1,10],[3,0,3,1],[4,0,4,1],[5,0,5,1],[14,0,14,1],[15,0,15,1],[16,0,16,1],[8,0,8,1],[9,0,9,1],[10,0,10,1],[11,0,11,1],[12,0,12,1],[13,0,13,1]]}
["Equipage ",null,null,null,null,null,{"$f":"Général!B34","v":"Eq.32"},null,null,null,null,null,null,null,null,null,null,null,null,null,null,{"$f":"Général!B3","v":"UBO 2"},{"$f":"COUNTIF(C$8:T$16,V1)","v":0}]
[null,null,null,null,null,null,null,null,null,null,null,null,null,null,null,null,null,null,null,null,null,{"$f":"Général!B4","v":"Paris Sorbone"},{"$f":"COUNTIF($C$8:$T$16,V2)","v":0}]
[null,null,null,null,null,null,null,null,null,null,null,null,null,null,null,null,null,null,null,null,null,{"$f":"Général!B5","v":"UBS Lorient 1"},{"$f":"COUNTIF($C$8:$T$16,V3)","v":0}]
[null,null,"FLIGHT 1","FLIGHT 2","FLIGHT 3","FLIGHT 4","FLIGHT 5","FLIGHT 6","FLIGHT 7","FLIGHT 8","FLIGHT 9","FLIGHT 10","FLIGHT 11","FLIGHT 12","FLIGHT 13","FLIGHT 14","FLIGHT 15","FLIGHT 16","FLIGHT 17","FLIGHT 18",null,{"$f":"Général!B6","v":"Univ Nantes 3"},0]
["N° de course",null,{"$f":"IF(COUNTIF(Général!B38:K38,$G$1)=1,\"Course 1\",IF(COUNTIF(Général!B40:K40,$G$1)=1,\"Course 2\",IF(COUNTIF(Général!B42:K42,$G$1)=1,\"Course 3\",\"Course 4\")))","v":"Course 4"},{"$f":"IF(COUNTIF(Général!B48:K48,$G$1)=1,\"Course 1\",IF(COUNTIF(Général!B50:K50,$G$1)=1,\"Course 2\",IF(COUNTIF(Général!B52:K52,$G$1)=1,\"Course 3\",\"Course 4\")))","v":"Course 4"},{"$f":"IF(COUNTIF(Général!B58:K58,$G$1)=1,\"Course 1\",IF(COUNTIF(Général!B60:K60,$G$1)=1,\"Course 2\",IF(COUNTIF(Général!B62:K62,$G$1)=1,\"Course 3\",\"Course 4\")))","v":"Course 4"},{"$f":"IF(COUNTIF(Général!B68:K68,$G$1)=1,\"Course 1\",IF(COUNTIF(Général!B70:K70,$G$1)=1,\"Course 2\",IF(COUNTIF(Général!B72:K72,$G$1)=1,\"Course 3\",\"Course 4\")))","v":"Course 4"},{"$f":"IF(COUNTIF(Général!B78:K78,$G$1)=1,\"Course 1\",IF(COUNTIF(Général!B80:K80,$G$1)=1,\"Course 2\",IF(COUNTIF(Général!B82:K82,$G$1)=1,\"Course 3\",\"Course 4\")))","v":"Course 4"},{"$f":"IF(COUNTIF(Général!B88:K88,$G$1)=1,\"Course 1\",IF(COUNTIF(Général!B90:K90,$G$1)=1,\"Course 2\",IF(COUNTIF(Général!B92:K92,$G$1)=1,\"Course 3\",\"Course 4\")))","v":"Course 4"},{"$f":"IF(COUNTIF(Général!B98:K98,$G$1)=1,\"Course 1\",IF(COUNTIF(Général!B100:K100,$G$1)=1,\"Course 2\",IF(COUNTIF(Général!B102:K102,$G$1)=1,\"Course 3\",\"Course 4\")))","v":"Course 4"},{"$f":"IF(COUNTIF(Général!B108:K108,$G$1)=1,\"Course 1\",IF(COUNTIF(Général!B110:K110,$G$1)=1,\"Course 2\",IF(COUNTIF(Général!B112:K112,$G$1)=1,\"Course 3\",\"Course 4\")))","v":"Course 4"},{"$f":"IF(COUNTIF(Général!B118:K118,$G$1)=1,\"Course 1\",IF(COUNTIF(Général!B120:K120,$G$1)=1,\"Course 2\",IF(COUNTIF(Général!B122:K122,$G$1)=1,\"Course 3\",\"Course 4\")))","v":"Course 4"},{"$f":"IF(COUNTIF(Général!B128:K128,$G$1)=1,\"Course 1\",IF(COUNTIF(Général!B130:K130,$G$1)=1,\"Course 2\",IF(COUNTIF(Général!B132:K132,$G$1)=1,\"Course 3\",\"Course 4\")))","v":"Course 4"},{"$f":"IF(COUNTIF(Général!B138:K138,$G$1)=1,\"Course 1\",IF(COUNTIF(Général!B140:K140,$G$1)=1,\"Course 2\",IF(COUNTIF(Général!B142:K142,$G$1)=1,\"Course 3\",\"Course 4\")))","v":"Course 4"},{"$f":"IF(COUNTIF(Général!B148:K148,$G$1)=1,\"Course 1\",IF(COUNTIF(Général!B150:K150,$G$1)=1,\"Course 2\",IF(COUNTIF(Général!B152:K152,$G$1)=1,\"Course 3\",\"Course 4\")))","v":"Course 4"},{"$f":"IF(COUNTIF(Général!B158:K158,$G$1)=1,\"Course 1\",IF(COUNTIF(Général!B160:K160,$G$1)=1,\"Course 2\",IF(COUNTIF(Général!B162:K162,$G$1)=1,\"Course 3\",\"Course 4\")))","v":"Course 4"},{"$f":"IF(COUNTIF(Général!B168:K168,$G$1)=1,\"Course 1\",IF(COUNTIF(Général!B170:K170,$G$1)=1,\"Course 2\",IF(COUNTIF(Général!B172:K172,$G$1)=1,\"Course 3\",\"Course 4\")))","v":"Course 4"},{"$f":"IF(COUNTIF(Général!B178:K178,$G$1)=1,\"Course 1\",IF(COUNTIF(Général!B180:K180,$G$1)=1,\"Course 2\",IF(COUNTIF(Général!B182:K182,$G$1)=1,\"Course 3\",\"Course 4\")))","v":"Course 4"},{"$f":"IF(COUNTIF(Général!B188:K188,$G$1)=1,\"Course 1\",IF(COUNTIF(Général!B190:K190,$G$1)=1,\"Course 2\",IF(COUNTIF(Général!B192:K192,$G$1)=1,\"Course 3\",\"Course 4\")))","v":"Course 4"},{"$f":"IF(COUNTIF(Général!B198:K198,$G$1)=1,\"Course 1\",IF(COUNTIF(Général!B200:K200,$G$1)=1,\"Course 2\",IF(COUNTIF(Général!B202:K202,$G$1)=1,\"Course 3\",\"Course 4\")))","v":"Course 4"},{"$f":"IF(COUNTIF(Général!B208:K208,$G$1)=1,\"Course 1\",IF(COUNTIF(Général!B210:K210,$G$1)=1,\"Course 2\",IF(COUNTIF(Général!B212:K212,$G$1)=1,\"Course 3\",\"Course 4\")))","v":"Course 4"},null,{"$f":"Général!B7","v":"Paris Cité"},0]
["Bateau",null,{"$f":"IF(COUNTIF(Général!B38:B44,$G$1)=1,\"Boat 1\",IF(COUNTIF(Général!C38:C44,$G$1)=1,\"Boat 2\",IF(COUNTIF(Général!D38:D44,$G$1)=1,\"Boat 3\", IF(COUNTIF(Général!E38:E44,$G$1)=1,\"Boat 4\", IF(COUNTIF(Général!F38:F44,$G$1)=1,\"Boat 5\", IF(COUNTIF(Général!G38:G44,$G$1)=1,\"Boat 6\", IF(COUNTIF(Général!H38:H44,$G$1)=1,\"Boat 7\",IF(COUNTIF(Général!I38:I44,$G$1)=1,\"Boat 8\",\"Boat 9\"))))))))","v":"Boat 9"},{"$f":"IF(COUNTIF(Général!B48:B54,$G$1)=1,\"Boat 1\",IF(COUNTIF(Général!C48:C54,$G$1)=1,\"Boat 2\",IF(COUNTIF(Général!D48:D54,$G$1)=1,\"Boat 3\", IF(COUNTIF(Général!E48:E54,$G$1)=1,\"Boat 4\", IF(COUNTIF(Général!F48:F54,$G$1)=1,\"Boat 5\", IF(COUNTIF(Général!G48:G54,$G$1)=1,\"Boat 6\", IF(COUNTIF(Général!H48:H54,$G$1)=1,\"Boat 7\",IF(COUNTIF(Général!I38:I44,$G$1)=1,\"Boat 8\",\"Boat 9\"))))))))","v":"Boat 9"},{"$f":"IF(COUNTIF(Général!B58:B64,$G$1)=1,\"Boat 1\",IF(COUNTIF(Général!C58:C64,$G$1)=1,\"Boat 2\",IF(COUNTIF(Général!D58:D64,$G$1)=1,\"Boat 3\", IF(COUNTIF(Général!E58:E64,$G$1)=1,\"Boat 4\", IF(COUNTIF(Général!F58:F64,$G$1)=1,\"Boat 5\", IF(COUNTIF(Général!G58:G64,$G$1)=1,\"Boat 6\", IF(COUNTIF(Général!H58:H64,$G$1)=1,\"Boat 7\",IF(COUNTIF(Général!I38:I44,$G$1)=1,\"Boat 8\",\"Boat 9\"))))))))","v":"Boat 9"},{"$f":"IF(COUNTIF(Général!B68:B74,$G$1)=1,\"Boat 1\",IF(COUNTIF(Général!C68:C74,$G$1)=1,\"Boat 2\",IF(COUNTIF(Général!D68:D74,$G$1)=1,\"Boat 3\", IF(COUNTIF(Général!E68:E74,$G$1)=1,\"Boat 4\", IF(COUNTIF(Général!F68:F74,$G$1)=1,\"Boat 5\", IF(COUNTIF(Général!G68:G74,$G$1)=1,\"Boat 6\", IF(COUNTIF(Général!H68:H74,$G$1)=1,\"Boat 7\",IF(COUNTIF(Général!I38:I44,$G$1)=1,\"Boat 8\",\"Boat 9\"))))))))","v":"Boat 9"},{"$f":"IF(COUNTIF(Général!B78:B84,$G$1)=1,\"Boat 1\",IF(COUNTIF(Général!C78:C84,$G$1)=1,\"Boat 2\",IF(COUNTIF(Général!D78:D84,$G$1)=1,\"Boat 3\", IF(COUNTIF(Général!E78:E84,$G$1)=1,\"Boat 4\", IF(COUNTIF(Général!F78:F84,$G$1)=1,\"Boat 5\", IF(COUNTIF(Général!G78:G84,$G$1)=1,\"Boat 6\", IF(COUNTIF(Général!H78:H84,$G$1)=1,\"Boat 7\",IF(COUNTIF(Général!I38:I44,$G$1)=1,\"Boat 8\",\"Boat 9\"))))))))","v":"Boat 9"},{"$f":"IF(COUNTIF(Général!B88:B94,$G$1)=1,\"Boat 1\",IF(COUNTIF(Général!C88:C94,$G$1)=1,\"Boat 2\",IF(COUNTIF(Général!D88:D94,$G$1)=1,\"Boat 3\", IF(COUNTIF(Général!E88:E94,$G$1)=1,\"Boat 4\", IF(COUNTIF(Général!F88:F94,$G$1)=1,\"Boat 5\", IF(COUNTIF(Général!G88:G94,$G$1)=1,\"Boat 6\", IF(COUNTIF(Général!H88:H94,$G$1)=1,\"Boat 7\",IF(COUNTIF(Général!I38:I44,$G$1)=1,\"Boat 8\",\"Boat 9\"))))))))","v":"Boat 9"},{"$f":"IF(COUNTIF(Général!B98:B104,$G$1)=1,\"Boat 1\",IF(COUNTIF(Général!C98:C104,$G$1)=1,\"Boat 2\",IF(COUNTIF(Général!D98:D104,$G$1)=1,\"Boat 3\", IF(COUNTIF(Général!E98:E104,$G$1)=1,\"Boat 4\", IF(COUNTIF(Général!F98:F104,$G$1)=1,\"Boat 5\", IF(COUNTIF(Général!G98:G104,$G$1)=1,\"Boat 6\", IF(COUNTIF(Général!H98:H104,$G$1)=1,\"Boat 7\",IF(COUNTIF(Général!I38:I44,$G$1)=1,\"Boat 8\",\"Boat 9\"))))))))","v":"Boat 9"},{"$f":"IF(COUNTIF(Général!B108:B114,$G$1)=1,\"Boat 1\",IF(COUNTIF(Général!C108:C114,$G$1)=1,\"Boat 2\",IF(COUNTIF(Général!D108:D114,$G$1)=1,\"Boat 3\", IF(COUNTIF(Général!E108:E114,$G$1)=1,\"Boat 4\", IF(COUNTIF(Général!F108:F114,$G$1)=1,\"Boat 5\", IF(COUNTIF(Général!G108:G114,$G$1)=1,\"Boat 6\", IF(COUNTIF(Général!H108:H114,$G$1)=1,\"Boat 7\",IF(COUNTIF(Général!I38:I44,$G$1)=1,\"Boat 8\",\"Boat 9\"))))))))","v":"Boat 9"},{"$f":"IF(COUNTIF(Général!B118:B124,$G$1)=1,\"Boat 1\",IF(COUNTIF(Général!C118:C124,$G$1)=1,\"Boat 2\",IF(COUNTIF(Général!D118:D124,$G$1)=1,\"Boat 3\", IF(COUNTIF(Général!E118:E124,$G$1)=1,\"Boat 4\", IF(COUNTIF(Général!F118:F124,$G$1)=1,\"Boat 5\", IF(COUNTIF(Général!G118:G124,$G$1)=1,\"Boat 6\", IF(COUNTIF(Général!H118:H124,$G$1)=1,\"Boat 7\",IF(COUNTIF(Général!I38:I44,$G$1)=1,\"Boat 8\",\"Boat 9\"))))))))","v":"Boat 9"},{"$f":"IF(COUNTIF(Général!B128:B134,$G$1)=1,\"Boat 1\",IF(COUNTIF(Général!C128:C134,$G$1)=1,\"Boat 2\",IF(COUNTIF(Général!D128:D134,$G$1)=1,\"Boat 3\", IF(COUNTIF(Général!E128:E134,$G$1)=1,\"Boat 4\", IF(COUNTIF(Général!F128:F134,$G$1)=1,\"Boat 5\", IF(COUNTIF(Général!G128:G134,$G$1)=1,\"Boat 6\", IF(COUNTIF(Général!H128:H134,$G$1)=1,\"Boat 7\",IF(COUNTIF(Général!I38:I44,$G$1)=1,\"Boat 8\",\"Boat 9\"))))))))","v":"Boat 9"},{"$f":"IF(COUNTIF(Général!B138:B144,$G$1)=1,\"Boat 1\",IF(COUNTIF(Général!C138:C144,$G$1)=1,\"Boat 2\",IF(COUNTIF(Général!C138:D144,$G$1)=1,\"Boat 3\", IF(COUNTIF(Général!C138:E144,$G$1)=1,\"Boat 4\", IF(COUNTIF(Général!F138:F144,$G$1)=1,\"Boat 5\", IF(COUNTIF(Général!G138:G144,$G$1)=1,\"Boat 6\", IF(COUNTIF(Général!H138:H144,$G$1)=1,\"Boat 7\",IF(COUNTIF(Général!I38:I44,$G$1)=1,\"Boat 8\",\"Boat 9\"))))))))","v":"Boat 9"},{"$f":"IF(COUNTIF(Général!B148:B154,$G$1)=1,\"Boat 1\",IF(COUNTIF(Général!C148:C154,$G$1)=1,\"Boat 2\",IF(COUNTIF(Général!D148:D154,$G$1)=1,\"Boat 3\", IF(COUNTIF(Général!E148:E154,$G$1)=1,\"Boat 4\", IF(COUNTIF(Général!F148:F154,$G$1)=1,\"Boat 5\", IF(COUNTIF(Général!G148:G154,$G$1)=1,\"Boat 6\", IF(COUNTIF(Général!H148:H154,$G$1)=1,\"Boat 7\",IF(COUNTIF(Général!I38:I44,$G$1)=1,\"Boat 8\",\"Boat 9\"))))))))","v":"Boat 9"},{"$f":"IF(COUNTIF(Général!B158:B164,$G$1)=1,\"Boat 1\",IF(COUNTIF(Général!C158:C164,$G$1)=1,\"Boat 2\",IF(COUNTIF(Général!D160:D164,$G$1)=1,\"Boat 3\", IF(COUNTIF(Général!E158:E164,$G$1)=1,\"Boat 4\", IF(COUNTIF(Général!F158:F164,$G$1)=1,\"Boat 5\", IF(COUNTIF(Général!G158:G164,$G$1)=1,\"Boat 6\", IF(COUNTIF(Général!H158:H164,$G$1)=1,\"Boat 7\",IF(COUNTIF(Général!I38:I44,$G$1)=1,\"Boat 8\",\"Boat 9\"))))))))","v":"Boat 9"},{"$f":"IF(COUNTIF(Général!B168:B174,$G$1)=1,\"Boat 1\",IF(COUNTIF(Général!C168:C174,$G$1)=1,\"Boat 2\",IF(COUNTIF(Général!D168:D174,$G$1)=1,\"Boat 3\", IF(COUNTIF(Général!E168:E174,$G$1)=1,\"Boat 4\", IF(COUNTIF(Général!F178:F184,$G$1)=1,\"Boat 5\", IF(COUNTIF(Général!G178:G184,$G$1)=1,\"Boat 6\", IF(COUNTIF(Général!H178:H184,$G$1)=1,\"Boat 7\",IF(COUNTIF(Général!I38:I44,$G$1)=1,\"Boat 8\",\"Boat 9\"))))))))","v":"Boat 9"},{"$f":"IF(COUNTIF(Général!B178:B184,$G$1)=1,\"Boat 1\",IF(COUNTIF(Général!C178:C184,$G$1)=1,\"Boat 2\",IF(COUNTIF(Général!D178:D184,$G$1)=1,\"Boat 3\", IF(COUNTIF(Général!E178:E184,$G$1)=1,\"Boat 4\", IF(COUNTIF(Général!F178:F184,$G$1)=1,\"Boat 5\", IF(COUNTIF(Général!G178:G184,$G$1)=1,\"Boat 6\", IF(COUNTIF(Général!H178:H184,$G$1)=1,\"Boat 7\",IF(COUNTIF(Général!I38:I44,$G$1)=1,\"Boat 8\",\"Boat 9\"))))))))","v":"Boat 9"},{"$f":"IF(COUNTIF(Général!B188:B194,$G$1)=1,\"Boat 1\",IF(COUNTIF(Général!C188:C194,$G$1)=1,\"Boat 2\",IF(COUNTIF(Général!D188:D194,$G$1)=1,\"Boat 3\", IF(COUNTIF(Général!E188:E194,$G$1)=1,\"Boat 4\", IF(COUNTIF(Général!F188:F194,$G$1)=1,\"Boat 5\", IF(COUNTIF(Général!G188:G194,$G$1)=1,\"Boat 6\", IF(COUNTIF(Général!H188:H194,$G$1)=1,\"Boat 7\",IF(COUNTIF(Général!I38:I44,$G$1)=1,\"Boat 8\",\"Boat 9\"))))))))","v":"Boat 9"},{"$f":"IF(COUNTIF(Général!B198:B204,$G$1)=1,\"Boat 1\",IF(COUNTIF(Général!C198:C204,$G$1)=1,\"Boat 2\",IF(COUNTIF(Général!D198:D204,$G$1)=1,\"Boat 3\", IF(COUNTIF(Général!E198:E204,$G$1)=1,\"Boat 4\", IF(COUNTIF(Général!F198:F204,$G$1)=1,\"Boat 5\", IF(COUNTIF(Général!G198:G204,$G$1)=1,\"Boat 6\", IF(COUNTIF(Général!H198:H204,$G$1)=1,\"Boat 7\",IF(COUNTIF(Général!I38:I44,$G$1)=1,\"Boat 8\",\"Boat 9\"))))))))","v":"Boat 9"},{"$f":"IF(COUNTIF(Général!B208:B214,$G$1)=1,\"Boat 1\",IF(COUNTIF(Général!C208:C214,$G$1)=1,\"Boat 2\",IF(COUNTIF(Général!D208:D214,$G$1)=1,\"Boat 3\", IF(COUNTIF(Général!E208:E214,$G$1)=1,\"Boat 4\", IF(COUNTIF(Général!F208:F214,$G$1)=1,\"Boat 5\", IF(COUNTIF(Général!G208:G214,$G$1)=1,\"Boat 6\", IF(COUNTIF(Général!H208:H214,$G$1)=1,\"Boat 7\",IF(COUNTIF(Général!I38:I44,$G$1)=1,\"Boat 8\",\"Boat 9\"))))))))","v":"Boat 9"},null,{"$f":"Général!B8","v":"Plymouth"},0]
[null,null,null,null,null,null,null,null,null,null,null,null,null,null,null,null,null,null,null,null,null,{"$f":"Général!B9","v":"Unicaen 2"},0]
["1er Equipage",null,{"$f":"IF($C$5=\"Course 1\",Général!B38,IF($C$5=\"Course 2\",Général!B40,IF($C$5=\"Course 3\",Général!B42,Général!B44)))","v":{"$error":"#N/A"}},{"$f":"IF($D$5=\"Course 1\",Général!B48,IF($D$5=\"Course 2\",Général!B50,IF($D$5=\"Course 3\",Général!B52,Général!B54)))","v":{"$error":"#N/A"}},{"$f":"IF($E$5=\"Course 1\",Général!B58,IF($E$5=\"Course 2\",Général!B60,IF($E$5=\"Course 3\",Général!B62,Général!B64)))","v":{"$error":"#N/A"}},{"$f":"IF($F$5=\"Course 1\",Général!B$68,IF($F$5=\"Course 2\",Général!B$70,IF($F$5=\"Course 3\",Général!B$72,Général!B$74)))","v":{"$error":"#N/A"}},{"$f":"IF($G$5=\"Course 1\",Général!B$78,IF($G$5=\"Course 2\",Général!B$80,IF($G$5=\"Course 3\",Général!B$82,Général!B$84)))","v":{"$error":"#N/A"}},{"$f":"IF($H$5=\"Course 1\",Général!B$88,IF($H$5=\"Course 2\",Général!B$90,IF($H$5=\"Course 3\",Général!B$92,Général!B$94)))","v":{"$error":"#N/A"}},{"$f":"IF($I$5=\"Course 1\",Général!B$98,IF($I$5=\"Course 2\",Général!B$100,IF($I$5=\"Course 3\",Général!B$102,Général!B$104)))","v":{"$error":"#N/A"}},{"$f":"IF($J$5=\"Course 1\",Général!B$108,IF($J$5=\"Course 2\",Général!B$110,IF($J$5=\"Course 3\",Général!B$112,Général!B$114)))","v":{"$error":"#N/A"}},{"$f":"IF($K$5=\"Course 1\",Général!B$118,IF($K$5=\"Course 2\",Général!B$120,IF($K$5=\"Course 3\",Général!B$122,Général!B$124)))","v":{"$error":"#N/A"}},{"$f":"IF($L$5=\"Course 1\",Général!B$128,IF($L$5=\"Course 2\",Général!B$130,IF($L$5=\"Course 3\",Général!B$132,Général!B$134)))","v":{"$error":"#N/A"}},{"$f":"IF($M$5=\"Course 1\",Général!B$138,IF($M$5=\"Course 2\",Général!B$140,IF($M$5=\"Course 3\",Général!B$142,Général!B$144)))","v":{"$error":"#N/A"}},{"$f":"IF($N$5=\"Course 1\",Général!B$148,IF($N$5=\"Course 2\",Général!B$150,IF($N$5=\"Course 3\",Général!B$152,Général!B$154)))","v":{"$error":"#N/A"}},{"$f":"IF($O$5=\"Course 1\",Général!B$158,IF($O$5=\"Course 2\",Général!B$160,IF($O$5=\"Course 3\",Général!B$162,Général!B$164)))","v":{"$error":"#N/A"}},{"$f":"IF($P$5=\"Course 1\",Général!B$168,IF($P$5=\"Course 2\",Général!B$170,IF($P$5=\"Course 3\",Général!B$172,Général!B$174)))","v":{"$error":"#N/A"}},{"$f":"IF($Q$5=\"Course 1\",Général!B$178,IF($Q$5=\"Course 2\",Général!B$180,IF($Q$5=\"Course 3\",Général!B$182,Général!B$184)))","v":{"$error":"#N/A"}},{"$f":"IF($R$5=\"Course 1\",Général!B$188,IF($R$5=\"Course 2\",Général!B$190,IF($R$5=\"Course 3\",Général!B$192,Général!B$194)))","v":{"$error":"#N/A"}},{"$f":"IF($S$5=\"Course 1\",Général!B$198,IF($S$5=\"Course 2\",Général!B$200,IF($S$5=\"Course 3\",Général!B$202,Général!B$204)))","v":{"$error":"#N/A"}},{"$f":"IF($T$5=\"Course 1\",Général!B$208,IF($T$5=\"Course 2\",Général!B$210,IF($T$5=\"Course 3\",Général!B$212,Général!B$214)))","v":{"$error":"#N/A"}},null,{"$f":"Général!B10","v":"Univ Nantes 2"},0]
["2nd Equipage",null,{"$f":"IF($C$5=\"Course 1\",Général!C38,IF($C$5=\"Course 2\",Général!C40,IF($C$5=\"Course 3\",Général!C42,Général!C44)))","v":{"$error":"#N/A"}},{"$f":"IF($D$5=\"Course 1\",Général!C48,IF($D$5=\"Course 2\",Général!C50,IF($D$5=\"Course 3\",Général!C52,Général!C54)))","v":{"$error":"#N/A"}},{"$f":"IF($E$5=\"Course 1\",Général!C58,IF($E$5=\"Course 2\",Général!C60,IF($E$5=\"Course 3\",Général!C62,Général!C64)))","v":{"$error":"#N/A"}},{"$f":"IF($F$5=\"Course 1\",Général!C$68,IF($F$5=\"Course 2\",Général!C$70,IF($F$5=\"Course 3\",Général!C$72,Général!C$74)))","v":{"$error":"#N/A"}},{"$f":"IF($G$5=\"Course 1\",Général!C$78,IF($G$5=\"Course 2\",Général!C$80,IF($G$5=\"Course 3\",Général!C$82,Général!C$84)))","v":{"$error":"#N/A"}},{"$f":"IF($H$5=\"Course 1\",Général!C$88,IF($H$5=\"Course 2\",Général!C$90,IF($H$5=\"Course 3\",Général!C$92,Général!C$94)))","v":{"$error":"#N/A"}},{"$f":"IF($I$5=\"Course 1\",Général!C$98,IF($I$5=\"Course 2\",Général!C$100,IF($I$5=\"Course 3\",Général!C$102,Général!C$104)))","v":{"$error":"#N/A"}},{"$f":"IF($J$5=\"Course 1\",Général!C$108,IF($J$5=\"Course 2\",Général!C$110,IF($J$5=\"Course 3\",Général!C$112,Général!C$114)))","v":{"$error":"#N/A"}},{"$f":"IF($K$5=\"Course 1\",Général!C$118,IF($K$5=\"Course 2\",Général!C$120,IF($K$5=\"Course 3\",Général!C$122,Général!C$124)))","v":{"$error":"#N/A"}},{"$f":"IF($L$5=\"Course 1\",Général!C$128,IF($L$5=\"Course 2\",Général!C$130,IF($L$5=\"Course 3\",Général!C$132,Général!C$134)))","v":{"$error":"#N/A"}},{"$f":"IF($M$5=\"Course 1\",Général!C$138,IF($M$5=\"Course 2\",Général!C$140,IF($M$5=\"Course 3\",Général!C$142,Général!C$144)))","v":{"$error":"#N/A"}},{"$f":"IF($N$5=\"Course 1\",Général!C$148,IF($N$5=\"Course 2\",Général!C$150,IF($N$5=\"Course 3\",Général!C$152,Général!C$154)))","v":{"$error":"#N/A"}},{"$f":"IF($O$5=\"Course 1\",Général!C$158,IF($O$5=\"Course 2\",Général!C$160,IF($O$5=\"Course 3\",Général!C$162,Général!C$164)))","v":{"$error":"#N/A"}},{"$f":"IF($P$5=\"Course 1\",Général!C$168,IF($P$5=\"Course 2\",Général!C$170,IF($P$5=\"Course 3\",Général!C$172,Général!C$174)))","v":{"$error":"#N/A"}},{"$f":"IF($Q$5=\"Course 1\",Général!C$178,IF($Q$5=\"Course 2\",Général!C$180,IF($Q$5=\"Course 3\",Général!C$182,Général!C$184)))","v":{"$error":"#N/A"}},{"$f":"IF($R$5=\"Course 1\",Général!C$188,IF($R$5=\"Course 2\",Général!C$190,IF($R$5=\"Course 3\",Général!C$192,Général!C$194)))","v":{"$error":"#N/A"}},{"$f":"IF($S$5=\"Course 1\",Général!C$198,IF($S$5=\"Course 2\",Général!C$200,IF($S$5=\"Course 3\",Général!C$202,Général!C$204)))","v":{"$error":"#N/A"}},{"$f":"IF($T$5=\"Course 1\",Général!C$208,IF($T$5=\"Course 2\",Général!C$210,IF($T$5=\"Course 3\",Général!C$212,Général!C$214)))","v":{"$error":"#N/A"}},null,{"$f":"Général!B11","v":"Karlsruhe"},0]
["3ème Equipage",null,{"$f":"IF($C$5=\"Course 1\",Général!D38,IF($C$5=\"Course 2\",Général!D40,IF($C$5=\"Course 3\",Général!D42,Général!D44)))","v":{"$error":"#N/A"}},{"$f":"IF($D$5=\"Course 1\",Général!D48,IF($D$5=\"Course 2\",Général!D50,IF($D$5=\"Course 3\",Général!D52,Général!D54)))","v":{"$error":"#N/A"}},{"$f":"IF($E$5=\"Course 1\",Général!D58,IF($E$5=\"Course 2\",Général!D60,IF($E$5=\"Course 3\",Général!D62,Général!D64)))","v":{"$error":"#N/A"}},{"$f":"IF($F$5=\"Course 1\",Général!D$68,IF($F$5=\"Course 2\",Général!D$70,IF($F$5=\"Course 3\",Général!D$72,Général!D$74)))","v":{"$error":"#N/A"}},{"$f":"IF($G$5=\"Course 1\",Général!D$78,IF($G$5=\"Course 2\",Général!D$80,IF($G$5=\"Course 3\",Général!D$82,Général!D$84)))","v":{"$error":"#N/A"}},{"$f":"IF($H$5=\"Course 1\",Général!D$88,IF($H$5=\"Course 2\",Général!D$90,IF($H$5=\"Course 3\",Général!D$92,Général!D$94)))","v":{"$error":"#N/A"}},{"$f":"IF($I$5=\"Course 1\",Général!D$98,IF($I$5=\"Course 2\",Général!D$100,IF($I$5=\"Course 3\",Général!D$102,Général!D$104)))","v":{"$error":"#N/A"}},{"$f":"IF($J$5=\"Course 1\",Général!D$108,IF($J$5=\"Course 2\",Général!D$110,IF($J$5=\"Course 3\",Général!D$112,Général!D$114)))","v":{"$error":"#N/A"}},{"$f":"IF($K$5=\"Course 1\",Général!D$118,IF($K$5=\"Course 2\",Général!D$120,IF($K$5=\"Course 3\",Général!D$122,Général!D$124)))","v":{"$error":"#N/A"}},{"$f":"IF($L$5=\"Course 1\",Général!D$128,IF($L$5=\"Course 2\",Général!D$130,IF($L$5=\"Course 3\",Général!D$132,Général!D$134)))","v":{"$error":"#N/A"}},{"$f":"IF($M$5=\"Course 1\",Général!D$138,IF($M$5=\"Course 2\",Général!D$140,IF($M$5=\"Course 3\",Général!D$142,Général!D$144)))","v":{"$error":"#N/A"}},{"$f":"IF($N$5=\"Course 1\",Général!D$148,IF($N$5=\"Course 2\",Général!D$150,IF($N$5=\"Course 3\",Général!D$152,Général!D$154)))","v":{"$error":"#N/A"}},{"$f":"IF($O$5=\"Course 1\",Général!D$158,IF($O$5=\"Course 2\",Général!D$160,IF($O$5=\"Course 3\",Général!D$162,Général!D$164)))","v":{"$error":"#N/A"}},{"$f":"IF($P$5=\"Course 1\",Général!D$168,IF($P$5=\"Course 2\",Général!D$170,IF($P$5=\"Course 3\",Général!D$172,Général!D$174)))","v":{"$error":"#N/A"}},{"$f":"IF($Q$5=\"Course 1\",Général!D$178,IF($Q$5=\"Course 2\",Général!D$180,IF($Q$5=\"Course 3\",Général!D$182,Général!D$184)))","v":{"$error":"#N/A"}},{"$f":"IF($R$5=\"Course 1\",Général!D$188,IF($R$5=\"Course 2\",Général!D$190,IF($R$5=\"Course 3\",Général!D$192,Général!D$194)))","v":{"$error":"#N/A"}},{"$f":"IF($S$5=\"Course 1\",Général!D$198,IF($S$5=\"Course 2\",Général!D$200,IF($S$5=\"Course 3\",Général!D$202,Général!D$204)))","v":{"$error":"#N/A"}},{"$f":"IF($T$5=\"Course 1\",Général!D$208,IF($T$5=\"Course 2\",Général!D$210,IF($T$5=\"Course 3\",Général!D$212,Général!D$214)))","v":{"$error":"#N/A"}},null,{"$f":"Général!B12","v":"IMT Brest 2"},0]
["4ème Equipage",null,{"$f":"IF($C$5=\"Course 1\",Général!E38,IF($C$5=\"Course 2\",Général!E40,IF($C$5=\"Course 3\",Général!E42,Général!E44)))","v":{"$error":"#N/A"}},{"$f":"IF($D$5=\"Course 1\",Général!E48,IF($D$5=\"Course 2\",Général!E50,IF($D$5=\"Course 3\",Général!E52,Général!E54)))","v":{"$error":"#N/A"}},{"$f":"IF($E$5=\"Course 1\",Général!E58,IF($E$5=\"Course 2\",Général!E60,IF($E$5=\"Course 3\",Général!E62,Général!E64)))","v":{"$error":"#N/A"}},{"$f":"IF($F$5=\"Course 1\",Général!E$68,IF($F$5=\"Course 2\",Général!E$70,IF($F$5=\"Course 3\",Général!E$72,Général!E$74)))","v":{"$error":"#N/A"}},{"$f":"IF($G$5=\"Course 1\",Général!E$78,IF($G$5=\"Course 2\",Général!E$80,IF($G$5=\"Course 3\",Général!E$82,Général!E$84)))","v":{"$error":"#N/A"}},{"$f":"IF($H$5=\"Course 1\",Général!E$88,IF($H$5=\"Course 2\",Général!E$90,IF($H$5=\"Course 3\",Général!E$92,Général!E$94)))","v":{"$error":"#N/A"}},{"$f":"IF($I$5=\"Course 1\",Général!E$98,IF($I$5=\"Course 2\",Général!E$100,IF($I$5=\"Course 3\",Général!E$102,Général!E$104)))","v":{"$error":"#N/A"}},{"$f":"IF($J$5=\"Course 1\",Général!E$108,IF($J$5=\"Course 2\",Général!E$110,IF($J$5=\"Course 3\",Général!E$112,Général!E$114)))","v":{"$error":"#N/A"}},{"$f":"IF($K$5=\"Course 1\",Général!E$118,IF($K$5=\"Course 2\",Général!E$120,IF($K$5=\"Course 3\",Général!E$122,Général!E$124)))","v":{"$error":"#N/A"}},{"$f":"IF($L$5=\"Course 1\",Général!E$128,IF($L$5=\"Course 2\",Général!E$130,IF($L$5=\"Course 3\",Général!E$132,Général!E$134)))","v":{"$error":"#N/A"}},{"$f":"IF($M$5=\"Course 1\",Général!E$138,IF($M$5=\"Course 2\",Général!E$140,IF($M$5=\"Course 3\",Général!E$142,Général!E$144)))","v":{"$error":"#N/A"}},{"$f":"IF($N$5=\"Course 1\",Général!E$148,IF($N$5=\"Course 2\",Général!E$150,IF($N$5=\"Course 3\",Général!E$152,Général!E$154)))","v":{"$error":"#N/A"}},{"$f":"IF($O$5=\"Course 1\",Général!E$158,IF($O$5=\"Course 2\",Général!E$160,IF($O$5=\"Course 3\",Général!E$162,Général!E$164)))","v":{"$error":"#N/A"}},{"$f":"IF($P$5=\"Course 1\",Général!E$168,IF($P$5=\"Course 2\",Général!E$170,IF($P$5=\"Course 3\",Général!E$172,Général!E$174)))","v":{"$error":"#N/A"}},{"$f":"IF($Q$5=\"Course 1\",Général!E$178,IF($Q$5=\"Course 2\",Général!E$180,IF($Q$5=\"Course 3\",Général!E$182,Général!E$184)))","v":{"$error":"#N/A"}},{"$f":"IF($R$5=\"Course 1\",Général!E$188,IF($R$5=\"Course 2\",Général!E$190,IF($R$5=\"Course 3\",Général!E$192,Général!E$194)))","v":{"$error":"#N/A"}},{"$f":"IF($S$5=\"Course 1\",Général!E$198,IF($S$5=\"Course 2\",Général!E$200,IF($S$5=\"Course 3\",Général!E$202,Général!E$204)))","v":{"$error":"#N/A"}},{"$f":"IF($T$5=\"Course 1\",Général!E$208,IF($T$5=\"Course 2\",Général!E$210,IF($T$5=\"Course 3\",Général!E$212,Général!E$214)))","v":{"$error":"#N/A"}},null,{"$f":"Général!B13","v":"Unicaen 1"},0]
["5ème Equipage",null,{"$f":"IF($C$5=\"Course 1\",Général!F38,IF($C$5=\"Course 2\",Général!F40,IF($C$5=\"Course 3\",Général!F42,Général!F44)))","v":{"$error":"#N/A"}},{"$f":"IF($D$5=\"Course 1\",Général!F48,IF($D$5=\"Course 2\",Général!F50,IF($D$5=\"Course 3\",Général!F52,Général!F54)))","v":{"$error":"#N/A"}},{"$f":"IF($E$5=\"Course 1\",Général!F58,IF($E$5=\"Course 2\",Général!F60,IF($E$5=\"Course 3\",Général!F62,Général!F64)))","v":{"$error":"#N/A"}},{"$f":"IF($F$5=\"Course 1\",Général!F$68,IF($F$5=\"Course 2\",Général!F$70,IF($F$5=\"Course 3\",Général!F$72,Général!F$74)))","v":{"$error":"#N/A"}},{"$f":"IF($G$5=\"Course 1\",Général!F$78,IF($G$5=\"Course 2\",Général!F$80,IF($G$5=\"Course 3\",Général!F$82,Général!F$84)))","v":{"$error":"#N/A"}},{"$f":"IF($H$5=\"Course 1\",Général!F$88,IF($H$5=\"Course 2\",Général!F$90,IF($H$5=\"Course 3\",Général!F$92,Général!F$94)))","v":{"$error":"#N/A"}},{"$f":"IF($I$5=\"Course 1\",Général!F$98,IF($I$5=\"Course 2\",Général!F$100,IF($I$5=\"Course 3\",Général!F$102,Général!F$104)))","v":{"$error":"#N/A"}},{"$f":"IF($J$5=\"Course 1\",Général!F$108,IF($J$5=\"Course 2\",Général!F$110,IF($J$5=\"Course 3\",Général!F$112,Général!F$114)))","v":{"$error":"#N/A"}},{"$f":"IF($K$5=\"Course 1\",Général!F$118,IF($K$5=\"Course 2\",Général!F$120,IF($K$5=\"Course 3\",Général!F$122,Général!F$124)))","v":{"$error":"#N/A"}},{"$f":"IF($L$5=\"Course 1\",Général!F$128,IF($L$5=\"Course 2\",Général!$F130,IF($L$5=\"Course 3\",Général!F$132,Général!F$134)))","v":{"$error":"#N/A"}},{"$f":"IF($M$5=\"Course 1\",Général!F$138,IF($M$5=\"Course 2\",Général!F$140,IF($M$5=\"Course 3\",Général!F$142,Général!F$144)))","v":{"$error":"#N/A"}},{"$f":"IF($N$5=\"Course 1\",Général!F$148,IF($N$5=\"Course 2\",Général!F$150,IF($N$5=\"Course 3\",Général!F$152,Général!F$154)))","v":{"$error":"#N/A"}},{"$f":"IF($O$5=\"Course 1\",Général!F$158,IF($O$5=\"Course 2\",Général!F$160,IF($O$5=\"Course 3\",Général!F$162,Général!F$164)))","v":{"$error":"#N/A"}},{"$f":"IF($P$5=\"Course 1\",Général!F$168,IF($P$5=\"Course 2\",Général!F$170,IF($P$5=\"Course 3\",Général!F$172,Général!F$174)))","v":{"$error":"#N/A"}},{"$f":"IF($Q$5=\"Course 1\",Général!F$178,IF($Q$5=\"Course 2\",Général!F$180,IF($Q$5=\"Course 3\",Général!F$182,Général!F$184)))","v":{"$error":"#N/A"}},{"$f":"IF($R$5=\"Course 1\",Général!F$188,IF($R$5=\"Course 2\",Général!F$190,IF($R$5=\"Course 3\",Général!F$192,Général!F$194)))","v":{"$error":"#N/A"}},{"$f":"IF($S$5=\"Course 1\",Général!F$198,IF($S$5=\"Course 2\",Général!F$200,IF($S$5=\"Course 3\",Général!F$202,Général!F$204)))","v":{"$error":"#N/A"}},{"$f":"IF($T$5=\"Course 1\",Général!F$208,IF($T$5=\"Course 2\",Général!F$210,IF($T$5=\"Course 3\",Général!F$212,Général!F$214)))","v":{"$error":"#N/A"}},null,{"$f":"Général!B14","v":"ENSTA 1"},0]
["6ème Equipage",null,{"$f":"IF($C$5=\"Course 1\",Général!G38,IF($C$5=\"Course 2\",Général!G40,IF($C$5=\"Course 3\",Général!G42,Général!G44)))","v":{"$error":"#N/A"}},{"$f":"IF($D$5=\"Course 1\",Général!G48,IF($D$5=\"Course 2\",Général!G50,IF($D$5=\"Course 3\",Général!G52,Général!G54)))","v":{"$error":"#N/A"}},{"$f":"IF($E$5=\"Course 1\",Général!G58,IF($E$5=\"Course 2\",Général!G60,IF($E$5=\"Course 3\",Général!G62,Général!G64)))","v":{"$error":"#N/A"}},{"$f":"IF($F$5=\"Course 1\",Général!G$68,IF($F$5=\"Course 2\",Général!G$70,IF($F$5=\"Course 3\",Général!G$72,Général!G$74)))","v":{"$error":"#N/A"}},{"$f":"IF($G$5=\"Course 1\",Général!G$78,IF($G$5=\"Course 2\",Général!G$80,IF($G$5=\"Course 3\",Général!G$82,Général!G$84)))","v":{"$error":"#N/A"}},{"$f":"IF($H$5=\"Course 1\",Général!G$88,IF($H$5=\"Course 2\",Général!G$90,IF($H$5=\"Course 3\",Général!G$92,Général!G$94)))","v":{"$error":"#N/A"}},{"$f":"IF($I$5=\"Course 1\",Général!G$98,IF($I$5=\"Course 2\",Général!G$100,IF($I$5=\"Course 3\",Général!G$102,Général!G$104)))","v":{"$error":"#N/A"}},{"$f":"IF($J$5=\"Course 1\",Général!G$108,IF($J$5=\"Course 2\",Général!G$110,IF($J$5=\"Course 3\",Général!G$112,Général!G$114)))","v":{"$error":"#N/A"}},{"$f":"IF($K$5=\"Course 1\",Général!G$118,IF($K$5=\"Course 2\",Général!G$120,IF($K$5=\"Course 3\",Général!G$122,Général!G$124)))","v":{"$error":"#N/A"}},{"$f":"IF($L$5=\"Course 1\",Général!G$128,IF($L$5=\"Course 2\",Général!G$130,IF($L$5=\"Course 3\",Général!G$132,Général!G$134)))","v":{"$error":"#N/A"}},{"$f":"IF($M$5=\"Course 1\",Général!G$138,IF($M$5=\"Course 2\",Général!G$140,IF($M$5=\"Course 3\",Général!G$142,Général!G$144)))","v":{"$error":"#N/A"}},{"$f":"IF($N$5=\"Course 1\",Général!G$148,IF($N$5=\"Course 2\",Général!G$150,IF($N$5=\"Course 3\",Général!G$152,Général!G$154)))","v":{"$error":"#N/A"}},{"$f":"IF($O$5=\"Course 1\",Général!G$158,IF($O$5=\"Course 2\",Général!G$160,IF($O$5=\"Course 3\",Général!G$162,Général!G$164)))","v":{"$error":"#N/A"}},{"$f":"IF($P$5=\"Course 1\",Général!G$168,IF($P$5=\"Course 2\",Général!G$170,IF($P$5=\"Course 3\",Général!G$172,Général!G$174)))","v":{"$error":"#N/A"}},{"$f":"IF($Q$5=\"Course 1\",Général!G$178,IF($Q$5=\"Course 2\",Général!G$180,IF($Q$5=\"Course 3\",Général!G$182,Général!G$184)))","v":{"$error":"#N/A"}},{"$f":"IF($R$5=\"Course 1\",Général!G$188,IF($R$5=\"Course 2\",Général!G$190,IF($R$5=\"Course 3\",Général!G$192,Général!G$194)))","v":{"$error":"#N/A"}},{"$f":"IF($S$5=\"Course 1\",Général!G$198,IF($S$5=\"Course 2\",Général!G$200,IF($S$5=\"Course 3\",Général!G$202,Général!G$204)))","v":{"$error":"#N/A"}},{"$f":"IF($T$5=\"Course 1\",Général!G$208,IF($T$5=\"Course 2\",Général!G$210,IF($T$5=\"Course 3\",Général!G$212,Général!G$214)))","v":{"$error":"#N/A"}},null,{"$f":"Général!B15","v":"Orléans"},0]
["7ème Equipage",null,{"$f":"IF($C$5=\"Course 1\",Général!H38,IF($C$5=\"Course 2\",Général!H40,IF($C$5=\"Course 3\",Général!H42,Général!H44)))","v":{"$error":"#N/A"}},{"$f":"IF($D$5=\"Course 1\",Général!H48,IF($D$5=\"Course 2\",Général!H50,IF($D$5=\"Course 3\",Général!H52,Général!H54)))","v":{"$error":"#N/A"}},{"$f":"IF($E$5=\"Course 1\",Général!H58,IF($E$5=\"Course 2\",Général!H60,IF($E$5=\"Course 3\",Général!H62,Général!H64)))","v":{"$error":"#N/A"}},{"$f":"IF($F$5=\"Course 1\",Général!H$68,IF($F$5=\"Course 2\",Général!H$70,IF($F$5=\"Course 3\",Général!H$72,Général!H$74)))","v":{"$error":"#N/A"}},{"$f":"IF($G$5=\"Course 1\",Général!H$78,IF($G$5=\"Course 2\",Général!H$80,IF($G$5=\"Course 3\",Général!H$82,Général!H$84)))","v":{"$error":"#N/A"}},{"$f":"IF($H$5=\"Course 1\",Général!H$88,IF($H$5=\"Course 2\",Général!H$90,IF($H$5=\"Course 3\",Général!H$92,Général!H$94)))","v":{"$error":"#N/A"}},{"$f":"IF($I$5=\"Course 1\",Général!H$98,IF($I$5=\"Course 2\",Général!H$100,IF($I$5=\"Course 3\",Général!H$102,Général!H$104)))","v":{"$error":"#N/A"}},{"$f":"IF($J$5=\"Course 1\",Général!H$108,IF($J$5=\"Course 2\",Général!H$110,IF($J$5=\"Course 3\",Général!H$112,Général!H$114)))","v":{"$error":"#N/A"}},{"$f":"IF($K$5=\"Course 1\",Général!H$118,IF($K$5=\"Course 2\",Général!H$120,IF($K$5=\"Course 3\",Général!H$122,Général!H$124)))","v":{"$error":"#N/A"}},{"$f":"IF($L$5=\"Course 1\",Général!H$128,IF($L$5=\"Course 2\",Général!H$130,IF($L$5=\"Course 3\",Général!H$132,Général!H$134)))","v":{"$error":"#N/A"}},{"$f":"IF($M$5=\"Course 1\",Général!H$138,IF($M$5=\"Course 2\",Général!H$140,IF($M$5=\"Course 3\",Général!H$142,Général!H$144)))","v":{"$error":"#N/A"}},{"$f":"IF($N$5=\"Course 1\",Général!H$148,IF($N$5=\"Course 2\",Général!H$150,IF($N$5=\"Course 3\",Général!H$152,Général!H$154)))","v":{"$error":"#N/A"}},{"$f":"IF($O$5=\"Course 1\",Général!H$158,IF($O$5=\"Course 2\",Général!H$160,IF($O$5=\"Course 3\",Général!H$162,Général!H$164)))","v":{"$error":"#N/A"}},{"$f":"IF($P$5=\"Course 1\",Général!H$168,IF($P$5=\"Course 2\",Général!H$170,IF($P$5=\"Course 3\",Général!H$172,Général!H$174)))","v":{"$error":"#N/A"}},{"$f":"IF($Q$5=\"Course 1\",Général!H$178,IF($Q$5=\"Course 2\",Général!H$180,IF($Q$5=\"Course 3\",Général!H$182,Général!H$184)))","v":{"$error":"#N/A"}},{"$f":"IF($R$5=\"Course 1\",Général!H$188,IF($R$5=\"Course 2\",Général!H$190,IF($R$5=\"Course 3\",Général!H$192,Général!H$194)))","v":{"$error":"#N/A"}},{"$f":"IF($S$5=\"Course 1\",Général!H$198,IF($S$5=\"Course 2\",Général!H$200,IF($S$5=\"Course 3\",Général!H$202,Général!H$204)))","v":{"$error":"#N/A"}},{"$f":"IF($T$5=\"Course 1\",Général!H$208,IF($T$5=\"Course 2\",Général!H$210,IF($T$5=\"Course 3\",Général!H$212,Général!H$214)))","v":{"$error":"#N/A"}},null,{"$f":"Général!B16","v":"IMT Brest 1"},0]
["8ème Equipage",null,{"$f":"IF($C$5=\"Course 1\",Général!I38,IF($C$5=\"Course 2\",Général!I40,IF($C$5=\"Course 3\",Général!I42,Général!I44)))","v":{"$error":"#N/A"}},{"$f":"IF($D$5=\"Course 1\",Général!I48,IF($D$5=\"Course 2\",Général!I50,IF($D$5=\"Course 3\",Général!I52,Général!I54)))","v":{"$error":"#N/A"}},{"$f":"IF($E$5=\"Course 1\",Général!I58,IF($E$5=\"Course 2\",Général!I60,IF($E$5=\"Course 3\",Général!I62,Général!I64)))","v":{"$error":"#N/A"}},{"$f":"IF($F$5=\"Course 1\",Général!I$68,IF($F$5=\"Course 2\",Général!I$70,IF($F$5=\"Course 3\",Général!I$72,Général!I$74)))","v":{"$error":"#N/A"}},{"$f":"IF($G$5=\"Course 1\",Général!I$78,IF($G$5=\"Course 2\",Général!I$80,IF($G$5=\"Course 3\",Général!I$82,Général!I$84)))","v":{"$error":"#N/A"}},{"$f":"IF($H$5=\"Course 1\",Général!I$88,IF($H$5=\"Course 2\",Général!I$90,IF($H$5=\"Course 3\",Général!I$92,Général!I$94)))","v":{"$error":"#N/A"}},{"$f":"IF($I$5=\"Course 1\",Général!I$98,IF($I$5=\"Course 2\",Général!I$100,IF($I$5=\"Course 3\",Général!I$102,Général!I$104)))","v":{"$error":"#N/A"}},{"$f":"IF($J$5=\"Course 1\",Général!I$108,IF($J$5=\"Course 2\",Général!I$110,IF($J$5=\"Course 3\",Général!I$112,Général!I$114)))","v":{"$error":"#N/A"}},{"$f":"IF($K$5=\"Course 1\",Général!I$118,IF($K$5=\"Course 2\",Général!I$120,IF($K$5=\"Course 3\",Général!I$122,Général!I$124)))","v":{"$error":"#N/A"}},{"$f":"IF($L$5=\"Course 1\",Général!I$128,IF($L$5=\"Course 2\",Général!I$130,IF($L$5=\"Course 3\",Général!I$132,Général!I$134)))","v":{"$error":"#N/A"}},{"$f":"IF($M$5=\"Course 1\",Général!I$138,IF($M$5=\"Course 2\",Général!I$140,IF($M$5=\"Course 3\",Général!I$142,Général!I$144)))","v":{"$error":"#N/A"}},{"$f":"IF($N$5=\"Course 1\",Général!I$148,IF($N$5=\"Course 2\",Général!I$150,IF($N$5=\"Course 3\",Général!I$152,Général!I$154)))","v":{"$error":"#N/A"}},{"$f":"IF($O$5=\"Course 1\",Général!I$158,IF($O$5=\"Course 2\",Général!I$160,IF($O$5=\"Course 3\",Général!I$162,Général!I$164)))","v":{"$error":"#N/A"}},{"$f":"IF($P$5=\"Course 1\",Général!I$168,IF($P$5=\"Course 2\",Général!I$170,IF($P$5=\"Course 3\",Général!I$172,Général!I$174)))","v":{"$error":"#N/A"}},{"$f":"IF($Q$5=\"Course 1\",Général!I$178,IF($Q$5=\"Course 2\",Général!I$180,IF($Q$5=\"Course 3\",Général!I$182,Général!I$184)))","v":{"$error":"#N/A"}},{"$f":"IF($R$5=\"Course 1\",Général!I$188,IF($R$5=\"Course 2\",Général!I$190,IF($R$5=\"Course 3\",Général!I$192,Général!I$194)))","v":{"$error":"#N/A"}},{"$f":"IF($S$5=\"Course 1\",Général!I$198,IF($S$5=\"Course 2\",Général!I$200,IF($S$5=\"Course 3\",Général!I$202,Général!I$204)))","v":{"$error":"#N/A"}},{"$f":"IF($T$5=\"Course 1\",Général!I$208,IF($T$5=\"Course 2\",Général!I$210,IF($T$5=\"Course 3\",Général!I$212,Général!I$214)))","v":{"$error":"#N/A"}},null,{"$f":"Général!B17","v":"ENSMAC"},0]
["9ème Equipage",null,{"$f":"IF($C$5=\"Course 1\",Général!J38,IF($C$5=\"Course 2\",Général!J40,IF($C$5=\"Course 3\",Général!J42,Général!J44)))","v":{"$error":"#N/A"}},{"$f":"IF($D$5=\"Course 1\",Général!J48,IF($D$5=\"Course 2\",Général!J50,IF($D$5=\"Course 3\",Général!J52,Général!J54)))","v":{"$error":"#N/A"}},{"$f":"IF($E$5=\"Course 1\",Général!J58,IF($E$5=\"Course 2\",Général!J60,IF($E$5=\"Course 3\",Général!J62,Général!J64)))","v":{"$error":"#N/A"}},{"$f":"IF($F$5=\"Course 1\",Général!J$68,IF($F$5=\"Course 2\",Général!J$70,IF($F$5=\"Course 3\",Général!J$72,Général!J$74)))","v":{"$error":"#N/A"}},{"$f":"IF($G$5=\"Course 1\",Général!J$78,IF($G$5=\"Course 2\",Général!J$80,IF($G$5=\"Course 3\",Général!J$82,Général!J$84)))","v":{"$error":"#N/A"}},{"$f":"IF($H$5=\"Course 1\",Général!J$88,IF($H$5=\"Course 2\",Général!J$90,IF($H$5=\"Course 3\",Général!$J92,Général!J$94)))","v":{"$error":"#N/A"}},{"$f":"IF($I$5=\"Course 1\",Général!J$98,IF($I$5=\"Course 2\",Général!J$100,IF($I$5=\"Course 3\",Général!J$102,Général!J$104)))","v":{"$error":"#N/A"}},{"$f":"IF($J$5=\"Course 1\",Général!J$108,IF($J$5=\"Course 2\",Général!J$110,IF($J$5=\"Course 3\",Général!J$112,Général!J$114)))","v":{"$error":"#N/A"}},{"$f":"IF($K$5=\"Course 1\",Général!J$118,IF($K$5=\"Course 2\",Général!J$120,IF($K$5=\"Course 3\",Général!J$122,Général!J$124)))","v":{"$error":"#N/A"}},{"$f":"IF($L$5=\"Course 1\",Général!J$128,IF($L$5=\"Course 2\",Général!J$130,IF($L$5=\"Course 3\",Général!J$132,Général!J$134)))","v":{"$error":"#N/A"}},{"$f":"IF($M$5=\"Course 1\",Général!J$138,IF($M$5=\"Course 2\",Général!J$140,IF($M$5=\"Course 3\",Général!J$142,Général!J$144)))","v":{"$error":"#N/A"}},{"$f":"IF($N$5=\"Course 1\",Général!J$148,IF($N$5=\"Course 2\",Général!J$150,IF($N$5=\"Course 3\",Général!J$152,Général!J$154)))","v":{"$error":"#N/A"}},{"$f":"IF($O$5=\"Course 1\",Général!J$158,IF($O$5=\"Course 2\",Général!J$160,IF($O$5=\"Course 3\",Général!J$162,Général!J$164)))","v":{"$error":"#N/A"}},{"$f":"IF($P$5=\"Course 1\",Général!J$168,IF($P$5=\"Course 2\",Général!J$170,IF($P$5=\"Course 3\",Général!J$172,Général!J$174)))","v":{"$error":"#N/A"}},{"$f":"IF($Q$5=\"Course 1\",Général!J$178,IF($Q$5=\"Course 2\",Général!J$180,IF($Q$5=\"Course 3\",Général!J$182,Général!J$184)))","v":{"$error":"#N/A"}},{"$f":"IF($R$5=\"Course 1\",Général!J$188,IF($R$5=\"Course 2\",Général!J$190,IF($R$5=\"Course 3\",Général!J$192,Général!J$194)))","v":{"$error":"#N/A"}},{"$f":"IF($S$5=\"Course 1\",Général!J$198,IF($S$5=\"Course 2\",Général!J$200,IF($S$5=\"Course 3\",Général!J$202,Général!J$204)))","v":{"$error":"#N/A"}},{"$f":"IF($T$5=\"Course 1\",Général!J$208,IF($T$5=\"Course 2\",Général!J$210,IF($T$5=\"Course 3\",Général!J$212,Général!J$214)))","v":{"$error":"#N/A"}},null,{"$f":"Général!B18","v":"St Brieuc 1"},0]
["10ème Equipage",null,{"$f":"IF($C$5=\"Course 1\",Général!K38,IF($C$5=\"Course 2\",Général!K40,IF($C$5=\"Course 3\",Général!K42,Général!K44)))","v":{"$error":"#N/A"}},{"$f":"IF($D$5=\"Course 1\",Général!K48,IF($D$5=\"Course 2\",Général!K50,IF($D$5=\"Course 3\",Général!K52,Général!K54)))","v":{"$error":"#N/A"}},{"$f":"IF($E$5=\"Course 1\",Général!K58,IF($E$5=\"Course 2\",Général!K60,IF($E$5=\"Course 3\",Général!K62,Général!K64)))","v":{"$error":"#N/A"}},{"$f":"IF($F$5=\"Course 1\",Général!K$68,IF($F$5=\"Course 2\",Général!K$70,IF($F$5=\"Course 3\",Général!K$72,Général!K$74)))","v":{"$error":"#N/A"}},{"$f":"IF($G$5=\"Course 1\",Général!K$78,IF($G$5=\"Course 2\",Général!K$80,IF($G$5=\"Course 3\",Général!K$82,Général!K$84)))","v":{"$error":"#N/A"}},{"$f":"IF($H$5=\"Course 1\",Général!K$88,IF($H$5=\"Course 2\",Général!K$90,IF($H$5=\"Course 3\",Général!$K92,Général!K$94)))","v":{"$error":"#N/A"}},{"$f":"IF($I$5=\"Course 1\",Général!K$98,IF($I$5=\"Course 2\",Général!K$100,IF($I$5=\"Course 3\",Général!K$102,Général!K$104)))","v":{"$error":"#N/A"}},{"$f":"IF($J$5=\"Course 1\",Général!K$108,IF($J$5=\"Course 2\",Général!K$110,IF($J$5=\"Course 3\",Général!K$112,Général!K$114)))","v":{"$error":"#N/A"}},{"$f":"IF($K$5=\"Course 1\",Général!K$118,IF($K$5=\"Course 2\",Général!K$120,IF($K$5=\"Course 3\",Général!K$122,Général!K$124)))","v":{"$error":"#N/A"}},{"$f":"IF($L$5=\"Course 1\",Général!K$128,IF($L$5=\"Course 2\",Général!K$130,IF($L$5=\"Course 3\",Général!K$132,Général!K$134)))","v":{"$error":"#N/A"}},{"$f":"IF($M$5=\"Course 1\",Général!K$138,IF($M$5=\"Course 2\",Général!K$140,IF($M$5=\"Course 3\",Général!K$142,Général!K$144)))","v":{"$error":"#N/A"}},{"$f":"IF($N$5=\"Course 1\",Général!K$148,IF($N$5=\"Course 2\",Général!K$150,IF($N$5=\"Course 3\",Général!K$152,Général!K$154)))","v":{"$error":"#N/A"}},{"$f":"IF($O$5=\"Course 1\",Général!K$158,IF($O$5=\"Course 2\",Général!K$160,IF($O$5=\"Course 3\",Général!K$162,Général!K$164)))","v":{"$error":"#N/A"}},{"$f":"IF($P$5=\"Course 1\",Général!K$168,IF($P$5=\"Course 2\",Général!K$170,IF($P$5=\"Course 3\",Général!K$172,Général!K$174)))","v":{"$error":"#N/A"}},{"$f":"IF($Q$5=\"Course 1\",Général!K$178,IF($Q$5=\"Course 2\",Général!K$180,IF($Q$5=\"Course 3\",Général!K$182,Général!K$184)))","v":{"$error":"#N/A"}},{"$f":"IF($R$5=\"Course 1\",Général!K$188,IF($R$5=\"Course 2\",Général!K$190,IF($R$5=\"Course 3\",Général!K$192,Général!K$194)))","v":{"$error":"#N/A"}},{"$f":"IF($S$5=\"Course 1\",Général!K$198,IF($S$5=\"Course 2\",Général!K$200,IF($S$5=\"Course 3\",Général!K$202,Général!K$204)))","v":{"$error":"#N/A"}},{"$f":"IF($T$5=\"Course 1\",Général!K$208,IF($T$5=\"Course 2\",Général!K$210,IF($T$5=\"Course 3\",Général!K$212,Général!K$214)))","v":{"$error":"#N/A"}},null,{"$f":"Général!B19","v":"Hannover"},0]
[null,null,null,null,null,null,null,null,null,null,null,null,null,null,null,null,null,null,null,null,null,{"$f":"Général!B20","v":"ENSTA 2"},0]
[null,null,null,null,null,null,null,null,null,null,null,null,null,null,null,null,null,null,null,null,null,{"$f":"Général!B21","v":"Southampton"},0]
[null,null,null,null,null,null,null,null,null,null,null,null,null,null,null,null,null,null,null,null,null,{"$f":"Général!B22","v":"La Rochelle 1"},0]
[null,null,null,null,null,null,null,null,null,null,null,null,null,null,null,null,null,null,null,null,null,{"$f":"Général!B23","v":"Centrale Nantes 1"},0]
[null,null,null,null,null,null,null,null,null,null,null,null,null,null,null,null,null,null,null,null,null,{"$f":"Général!B24","v":"ST Brieuc 2"},0]
[null,null,null,null,null,null,null,null,null,null,null,null,null,null,null,null,null,null,null,null,null,{"$f":"Général!B25","v":"UNIV Nantes 1"},0]
[null,null,null,null,null,null,null,null,null,null,null,null,null,null,null,null,null,null,null,null,null,{"$f":"Général!B26","v":"Intechmer"},0]
[null,null,null,null,null,null,null,null,null,null,null,null,null,null,null,null,null,null,null,null,null,{"$f":"Général!B27","v":"IMT Nantes"},0]
[null,null,null,null,null,null,null,null,null,null,null,null,null,null,null,null,null,null,null,null,null,{"$f":"Général!B28","v":"INSA Lyon"},0]
[null,null,null,null,null,null,null,null,null,null,null,null,null,null,null,null,null,null,null,null,null,{"$f":"Général!B29","v":"Centrale Nantes 2"},0]
[null,null,null,null,null,null,null,null,null,null,null,null,null,null,null,null,null,null,null,null,null,{"$f":"Général!B30","v":"UBS Lorient 2"},0]
[null,null,null,null,null,null,null,null,null,null,null,null,null,null,null,null,null,null,null,null,null,{"$f":"Général!B31","v":"La Rochelle 2"},0]
[null,null,null,null,null,null,null,null,null,null,null,null,null,null,null,null,null,null,null,null,null,{"$f":"Général!B32","v":"UBO 1"},0]
[null,null,null,null,null,null,null,null,null,null,null,null,null,null,null,null,null,null,null,null,null,{"$f":"Général!B33","v":"Eq.31"},0]
[null,null,null,null,null,null,null,null,null,null,null,null,null,null,null,null,null,null,null,null,null,{"$f":"Général!B34","v":"Eq.32"},0]